Workbook

Sheet 基础数据
E1: 附件：
A2: 赫章县2019年面向全县公办学校公开考调城区部分易地扶贫搬迁子女就读学校教师面试成绩、总成绩及进入考核人员名单
A3: 笔试准考证打印序号 | B3: 面试准考证打印序号 | C3: 报名序号 | D3: 姓名 | E3: 报考单位 | F3: 报考学段 | G3: 报考学科 | H3: 加分类别562 | I3: 加分分值 | J3: 笔试成绩 | K3: 笔试加分 | L3: 笔试总成绩 | M3: 是否进入面试 | N3: 面试考场号 | O3: 面试候考室号 | P3: 面试编号 | Q3: 面试顺序号 | R3: 所在面试考场的平均成绩 | S3: 面试成绩 | T3: 总成绩 | U3: 是否进入考核 | V3: 备注
A4: 950 | B4: 170 | C4: 141 | D4: 王洪永 | E4: 白果镇二小 | F4: 小学 | G4: 数学 | H4: 村校教师 | I4: 3 | J4: 97 | K4: =I4 -> 3 | L4: =J4+K4 -> 100 | M4: 是 | N4: 第04面试室 | O4: 第04候考室 | P4: MS123 | Q4: 12 | S4: 81.42 | T4: =L4*0.5+S4*0.5 -> 90.71 | U4: 是
A5: 948 | B5: 169 | C5: 139 | D5: 徐茂 | E5: 白果镇二小 | F5: 小学 | G5: 数学 | H5: 乡镇教师 | I5: 2 | J5: 98 | K5: =I5 -> 2 | L5: =J5+K5 -> 100 | M5: 是 | N5: 第04面试室 | O5: 第04候考室 | P5: MS122 | Q5: 19 | S5: 80.23 | T5: =L5*0.5+S5*0.5 -> 90.115 | U5: 是
A6: 912 | B6: 160 | C6: 103 | D6: 丁锐丽 | E6: 白果镇二小 | F6: 小学 | G6: 数学 | H6: 乡镇教师 | I6: 2 | J6: 96 | K6: =I6 -> 2 | L6: =J6+K6 -> 98 | M6: 是 | N6: 第04面试室 | O6: 第04候考室 | P6: MS125 | Q6: 20 | S6: 81.47 | T6: =L6*0.5+S6*0.5 -> 89.735 | U6: 是
A7: 910 | B7: 159 | C7: 101 | D7: 晏大臣 | E7: 白果镇二小 | F7: 小学 | G7: 数学 | H7: 村校教师 | I7: 3 | J7: 94 | K7: =I7 -> 3 | L7: =J7+K7 -> 97 | M7: 是 | N7: 第04面试室 | O7: 第04候考室 | P7: MS127 | Q7: 18 | S7: 80.17 | T7: =L7*0.5+S7*0.5 -> 88.585 | U7: 是
A8: 947 | B8: 168 | C8: 138 | D8: 陈健 | E8: 白果镇二小 | F8: 小学 | G8: 数学 | H8: 乡镇班主任 | I8: 3 | J8: 95 | K8: =I8 -> 3 | L8: =J8+K8 -> 98 | M8: 是 | N8: 第04面试室 | O8: 第04候考室 | P8: MS126 | Q8: 16 | S8: 78.79 | T8: =L8*0.5+S8*0.5 -> 88.395 | U8: 是
A9: 1137 | B9: 200 | C9: 329 | D9: 韩宇 | E9: 白果镇二小 | F9: 小学 | G9: 数学 | H9: 村校班主任 | I9: 4 | J9: 92 | K9: =I9 -> 4 | L9: =J9+K9 -> 96 | M9: 是 | N9: 第04面试室 | O9: 第04候考室 | P9: MS128 | Q9: 22 | S9: 79.85 | T9: =L9*0.5+S9*0.5 -> 87.925 | U9: 是
A10: 944 | B10: 167 | C10: 135 | D10: 蒋胜 | E10: 白果镇二小 | F10: 小学 | G10: 数学 | H10: 村校教师 | I10: 3 | J10: 92 | K10: =I10 -> 3 | L10: =J10+K10 -> 95 | M10: 是 | N10: 第04面试室 | O10: 第04候考室 | P10: MS131 | Q10: 13 | S10: 80.61 | T10: =L10*0.5+S10*0.5 -> 87.805
A11: 1123 | B11: 196 | C11: 315 | D11: 施野 | E11: 白果镇二小 | F11: 小学 | G11: 数学 | H11: 村小任教 | I11: 4 | J11: 91 | K11: =I11 -> 4 | L11: =J11+K11 -> 95 | M11: 是 | N11: 第04面试室 | O11: 第04候考室 | P11: MS130 | Q11: 11 | S11: 78.92 | T11: =L11*0.5+S11*0.5 -> 86.96
A12: 1050 | B12: 184 | C12: 242 | D12: 黄启军 | E12: 白果镇二小 | F12: 小学 | G12: 数学 | H12: 村小班主任 | I12: 4 | J12: 95 | K12: =I12 -> 4 | L12: =J12+K12 -> 99 | M12: 是 | N12: 第04面试室 | O12: 第04候考室 | P12: MS124 | Q12: 21 | S12: 74.54 | T12: =L12*0.5+S12*0.5 -> 86.77
A13: 1136 | B13: 199 | C13: 328 | D13: 成虹 | E13: 白果镇二小 | F13: 小学 | G13: 数学 | H13: 乡镇教师 | I13: 2 | J13: 92 | K13: =I13 -> 2 | L13: =J13+K13 -> 94 | M13: 是 | N13: 第04面试室 | O13: 第04候考室 | P13: MS133 | Q13: 17 | S13: 79.32 | T13: =L13*0.5+S13*0.5 -> 86.66
A14: 1060 | B14: 185 | C14: 252 | D14: 李恩 | E14: 白果镇二小 | F14: 小学 | G14: 数学 | H14: 村小班主任 | I14: 4 | J14: 90 | K14: =I14 -> 4 | L14: =J14+K14 -> 94 | M14: 是 | N14: 第04面试室 | O14: 第04候考室 | P14: MS132 | Q14: 14 | S14: 78.8 | T14: =L14*0.5+S14*0.5 -> 86.4
A15: 860 | B15: 152 | C15: 051 | D15: 张哲 | E15: 白果镇二小 | F15: 小学 | G15: 数学 | H15: 村校教师 | I15: 3 | J15: 93 | K15: =I15 -> 3 | L15: =J15+K15 -> 96 | M15: 是 | N15: 第04面试室 | O15: 第04候考室 | P15: MS129 | Q15: 15 | S15: 75.7 | T15: =L15*0.5+S15*0.5 -> 85.85
A16: 811 | B16: 148 | C16: 002 | D16: 严成相 | E16: 白果镇二小 | F16: 小学 | G16: 体育 | H16: 乡镇教师 | I16: 2 | J16: 70 | K16: =I16 -> 2 | L16: =J16+K16 -> 72 | M16: 是 | N16: 第05面试室 | O16: 第05候考室 | P16: MS164 | Q16: 36 | S16: 81.27 | T16: =L16*0.5+S16*0.5 -> 76.635 | U16: 是
A17: 988 | B17: 175 | C17: 180 | D17: 吴道旭 | E17: 白果镇二小 | F17: 小学 | G17: 体育 | H17: 乡镇班主任 | I17: 3 | J17: 69 | K17: =I17 -> 3 | L17: =J17+K17 -> 72 | M17: 是 | N17: 第05面试室 | O17: 第05候考室 | P17: MS165 | Q17: 35 | S17: 79.46 | T17: =L17*0.5+S17*0.5 -> 75.73
A18: 866 | B18: 153 | C18: 057 | D18: 饶盼 | E18: 白果镇二小 | F18: 小学 | G18: 英语 | H18: 乡镇教师 | I18: 2 | J18: 88 | K18: =I18 -> 2 | L18: =J18+K18 -> 90 | M18: 是 | N18: 第05面试室 | O18: 第05候考室 | P18: MS167 | Q18: 19 | S18: 78.01 | T18: =L18*0.5+S18*0.5 -> 84.005 | U18: 是
A19: 901 | B19: 158 | C19: 092 | D19: 张宇馨 | E19: 白果镇二小 | F19: 小学 | G19: 英语 | H19: 乡镇教师 | I19: 2 | J19: 89 | K19: =I19 -> 2 | L19: =J19+K19 -> 91 | M19: 是 | N19: 第05面试室 | O19: 第05候考室 | P19: MS166 | Q19: 20 | S19: 72.95 | T19: =L19*0.5+S19*0.5 -> 81.975
A20: 1140 | B20: 201 | C20: 332 | D20: 马粉 | E20: 白果镇二小 | F20: 小学 | G20: 语文 | H20: 乡镇教师 | I20: 2 | J20: 81 | K20: =I20 -> 2 | L20: =J20+K20 -> 83 | M20: 是 | N20: 第02面试室 | O20: 第02候考室 | P20: MS041 | Q20: 21 | S20: 75.42 | T20: =L20*0.5+S20*0.5 -> 79.21 | U20: 是
A21: 832 | B21: 151 | C21: 023 | D21: 孙勤 | E21: 白果镇二小 | F21: 小学 | G21: 语文 | H21: 村校教师 | I21: 3 | J21: 77.5 | K21: =I21 -> 3 | L21: =J21+K21 -> 80.5 | M21: 是 | N21: 第02面试室 | O21: 第02候考室 | P21: MS045 | Q21: 17 | S21: 77.18 | T21: =L21*0.5+S21*0.5 -> 78.84 | U21: 是
A22: 867 | B22: 154 | C22: 058 | D22: 申艳 | E22: 白果镇二小 | F22: 小学 | G22: 语文 | H22: 无 | J22: 82 | K22: =I22 -> 0 | L22: =J22+K22 -> 82 | M22: 是 | N22: 第02面试室 | O22: 第02候考室 | P22: MS042 | Q22: 15 | S22: 74.99 | T22: =L22*0.5+S22*0.5 -> 78.495 | U22: 是
A23: 1107 | B23: 194 | C23: 299 | D23: 李丽娜 | E23: 白果镇二小 | F23: 小学 | G23: 语文 | H23: 乡镇教师 | I23: 2 | J23: 79.5 | K23: =I23 -> 2 | L23: =J23+K23 -> 81.5 | M23: 是 | N23: 第02面试室 | O23: 第02候考室 | P23: MS044 | Q23: 20 | S23: 75.29 | T23: =L23*0.5+S23*0.5 -> 78.395 | U23: 是
A24: 1078 | B24: 188 | C24: 270 | D24: 孙源江 | E24: 白果镇二小 | F24: 小学 | G24: 语文 | H24: 乡村教师 | I24: 3 | J24: 80.5 | K24: =I24 -> 3 | L24: =J24+K24 -> 83.5 | M24: 是 | N24: 第02面试室 | O24: 第02候考室 | P24: MS040 | Q24: 14 | S24: 72.57 | T24: =L24*0.5+S24*0.5 -> 78.035 | U24: 是
A25: 1041 | B25: 182 | C25: 233 | D25: 宫慧 | E25: 白果镇二小 | F25: 小学 | G25: 语文 | H25: 乡镇教师 | I25: 2 | J25: 76 | K25: =I25 -> 2 | L25: =J25+K25 -> 78 | M25: 是 | N25: 第02面试室 | O25: 第02候考室 | P25: MS050 | Q25: 19 | S25: 76.72 | T25: =L25*0.5+S25*0.5 -> 77.36 | U25: 是
A26: 989 | B26: 176 | C26: 181 | D26: 曹成 | E26: 白果镇二小 | F26: 小学 | G26: 语文 | H26: 乡镇班主任 | I26: 3 | J26: 79 | K26: =I26 -> 3 | L26: =J26+K26 -> 82 | M26: 是 | N26: 第02面试室 | O26: 第02候考室 | P26: MS043 | Q26: 18 | S26: 72.11 | T26: =L26*0.5+S26*0.5 -> 77.055 | U26: 是
A27: 1001 | B27: 178 | C27: 193 | D27: 管敏 | E27: 白果镇二小 | F27: 小学 | G27: 语文 | H27: 村校教师 | I27: 3 | J27: 77 | K27: =I27 -> 3 | L27: =J27+K27 -> 80 | M27: 是 | N27: 第02面试室 | O27: 第02候考室 | P27: MS047 | Q27: 13 | S27: 74.04 | T27: =L27*0.5+S27*0.5 -> 77.02
A28: 881 | B28: 156 | C28: 072 | D28: 焦忠怀 | E28: 白果镇二小 | F28: 小学 | G28: 语文 | H28: 乡镇教师 | I28: 2 | J28: 78 | K28: =I28 -> 2 | L28: =J28+K28 -> 80 | M28: 是 | N28: 第02面试室 | O28: 第02候考室 | P28: MS046 | Q28: 16 | S28: 73.91 | T28: =L28*0.5+S28*0.5 -> 76.955
A29: 1126 | B29: 198 | C29: 318 | D29: 周丽华 | E29: 白果镇二小 | F29: 小学 | G29: 语文 | H29: 村小任教 | I29: 4 | J29: 74 | K29: =I29 -> 4 | L29: =J29+K29 -> 78 | M29: 是 | N29: 第02面试室 | O29: 第02候考室 | P29: MS051 | Q29: 26 | S29: 75.74 | T29: =L29*0.5+S29*0.5 -> 76.87
A30: 1013 | B30: 180 | C30: 205 | D30: 许定术 | E30: 白果镇二小 | F30: 小学 | G30: 语文 | H30: 学校行政班子成员 | I30: 3 | J30: 75 | K30: =I30 -> 3 | L30: =J30+K30 -> 78 | M30: 是 | N30: 第02面试室 | O30: 第02候考室 | P30: MS049 | Q30: 23 | S30: 75.55 | T30: =L30*0.5+S30*0.5 -> 76.775
A31: 993 | B31: 177 | C31: 185 | D31: 孙伟 | E31: 白果镇二小 | F31: 小学 | G31: 语文 | H31: 乡镇教师 | I31: 2 | J31: 76 | K31: =I31 -> 2 | L31: =J31+K31 -> 78 | M31: 是 | N31: 第02面试室 | O31: 第02候考室 | P31: MS052 | Q31: 25 | S31: 71.56 | T31: =L31*0.5+S31*0.5 -> 74.78
A32: 1095 | B32: 191 | C32: 287 | D32: 叶国春 | E32: 白果镇二小 | F32: 小学 | G32: 语文 | J32: 78.5 | K32: =I32 -> 0 | L32: =J32+K32 -> 78.5 | M32: 是 | N32: 第02面试室 | O32: 第02候考室 | P32: MS048 | Q32: 22 | S32: 69.93 | T32: =L32*0.5+S32*0.5 -> 74.215
A33: 913 | B33: 161 | C33: 104 | D33: 唐鹏 | E33: 白果镇二小 | F33: 小学 | G33: 语文 | H33: 村校教师 | I33: 3 | J33: 74.5 | K33: =I33 -> 3 | L33: =J33+K33 -> 77.5 | M33: 是 | N33: 第02面试室 | O33: 第02候考室 | P33: MS053 | Q33: 24 | S33: 60 | T33: =L33*0.5+S33*0.5 -> 68.75
A34: 1009 | B34: 179 | C34: 201 | D34: 陈强 | E34: 白果镇三小 | F34: 小学 | G34: 美术 | H34: 村校教师 | I34: 3 | J34: 75 | K34: =I34 -> 3 | L34: =J34+K34 -> 78 | M34: 是 | N34: 第04面试室 | O34: 第04候考室 | P34: MS134 | Q34: 1 | S34: 80.15 | T34: =L34*0.5+S34*0.5 -> 79.075 | U34: 是
A35: 1063 | B35: 187 | C35: 255 | D35: 陈享洋 | E35: 白果镇三小 | F35: 小学 | G35: 美术 | H35: 乡镇教师 | I35: 2 | J35: 74 | K35: =I35 -> 2 | L35: =J35+K35 -> 76 | M35: 是 | N35: 第04面试室 | O35: 第04候考室 | P35: MS135 | Q35: 2 | S35: 80.03 | T35: =L35*0.5+S35*0.5 -> 78.015
A36: 1125 | B36: 197 | C36: 317 | D36: 孙丽丽 | E36: 白果镇三小 | F36: 小学 | G36: 数学 | J36: 99 | K36: =I36 -> 0 | L36: =J36+K36 -> 99 | M36: 是 | N36: 第04面试室 | O36: 第04候考室 | P36: MS138 | Q36: 38 | S36: 81.93 | T36: =L36*0.5+S36*0.5 -> 90.465 | U36: 是
A37: 960 | B37: 172 | C37: 151 | D37: 姚艳 | E37: 白果镇三小 | F37: 小学 | G37: 数学 | H37: 乡镇教师 | I37: 2 | J37: 98 | K37: =I37 -> 2 | L37: =J37+K37 -> 100 | M37: 是 | N37: 第04面试室 | O37: 第04候考室 | P37: MS136 | Q37: 41 | S37: 79.73 | T37: =L37*0.5+S37*0.5 -> 89.865 | U37: 是
A38: 968 | B38: 173 | C38: 159 | D38: 刘廷元 | E38: 白果镇三小 | F38: 小学 | G38: 数学 | H38: 乡镇班主任 | I38: 3 | J38: 97 | K38: =I38 -> 3 | L38: =J38+K38 -> 100 | M38: 是 | N38: 第04面试室 | O38: 第04候考室 | P38: MS137 | Q38: 35 | S38: 78.27 | T38: =L38*0.5+S38*0.5 -> 89.135 | U38: 是
A39: 927 | B39: 164 | C39: 118 | D39: 张璐 | E39: 白果镇三小 | F39: 小学 | G39: 数学 | H39: 乡镇教师 | I39: 2 | J39: 93 | K39: =I39 -> 2 | L39: =J39+K39 -> 95 | M39: 是 | N39: 第04面试室 | O39: 第04候考室 | P39: MS143 | Q39: 37 | S39: 82.14 | T39: =L39*0.5+S39*0.5 -> 88.57 | U39: 是
A40: 924 | B40: 163 | C40: 115 | D40: 王喜 | E40: 白果镇三小 | F40: 小学 | G40: 数学 | J40: 97 | K40: =I40 -> 0 | L40: =J40+K40 -> 97 | M40: 是 | N40: 第04面试室 | O40: 第04候考室 | P40: MS139 | Q40: 34 | S40: 78.77 | T40: =L40*0.5+S40*0.5 -> 87.885 | U40: 是
...

Sheet 笔试准考证打印
B2: 打印第 | C2: 94 | D2: 页至 | E2: 10 | G2: 页 | L2: 请使用A4纸打印
B4: 赫章县2019年面向全县公办学校公开考调城区 部分易地扶贫搬迁子女就读学校教师 | K4: =B4 -> 赫章县2019年面向全县公办学校公开考调城区 部分易地扶贫搬迁子女就读学校教师
K5: =B5
B6: 笔试准考证（存根） | K6: 笔试准考证
B7: 报名序号： | C7: =IF(ISERROR(VLOOKUP($H$8,基础数据!A:U,3,FALSE)),"",VLOOKUP($H$8,基础数据!A:U,3,FALSE)) | G7: 本考生签字：
B8: 考 场 号 | C8: =IF(ISERROR(VLOOKUP($H$8,基础数据!A:U,37,FALSE)),"",VLOOKUP($H$8,基础数据!A:U,37,FALSE)) | D8: 座位号 | E8: =IF(ISERROR(VLOOKUP($H$8,基础数据!A:U,38,FALSE)),"",VLOOKUP($H$8,基础数据!A:U,38,FALSE)) | F8: 准考证号 | G8: =IF(ISERROR(VLOOKUP($H$8,基础数据!A:U,35,FALSE)),"",VLOOKUP($H$8,基础数据!A:U,35,FALSE)) | H8: =C2 -> 94 | K8: =B8 -> 考 场 号 | L8: =C8 | M8: 座位号 | N8: =E8 | O8: 准考证号 | P8: =G8 | Q8: 照 片
B9: 姓 名 | C9: =IF(ISERROR(VLOOKUP($H$8,基础数据!A:U,4,FALSE)),"",VLOOKUP($H$8,基础数据!A:U,4,FALSE)) | F9: 性 别 | G9: =IF(ISERROR(VLOOKUP($H$8,基础数据!A:U,5,FALSE)),"",VLOOKUP($H$8,基础数据!A:U,5,FALSE)) | K9: 姓 名 | L9: =C9 | O9: 性 别 | P9: =G9
B10: 身份证号 | C10: =IF(ISERROR(VLOOKUP($H$8,基础数据!A:U,13,FALSE)),"",VLOOKUP($H$8,基础数据!A:U,13,FALSE)) | K10: 身份证号 | L10: =C10
B11: 报考学校学段学科 | C11: =IF(ISERROR(VLOOKUP($H$8,基础数据!A:U,22,FALSE)),"",VLOOKUP($H$8,基础数据!A:U,22,FALSE))&IF(ISERROR(VLOOKUP($H$8,基础数据!A:U,23,FALSE)),"",VLOOKUP($H$8,基础数据!A:U,23,FALSE))&IF(ISERROR(VLOOKUP($H$8,基础数据!A:U,24,FALSE)),"",VLOOKUP($H$8,基础数据!A:U,24,FALSE)) | K11: =B11 -> 报考学校学段学科 | L11: =C11
B12: 考点名称（笔试地点） | C12: =IF(ISERROR(VLOOKUP($H$8,基础数据!A:U,36,FALSE)),"",VLOOKUP($H$8,基础数据!A:U,36,FALSE)) | K12: 考点名称（笔试地点） | L12: =C12
B13: 笔试时间 | C13: =IF(ISERROR(VLOOKUP($H$8,基础数据!A:U,34,FALSE)),"",VLOOKUP($H$8,基础数据!A:U,34,FALSE)) | K13: 笔试时间 | L13: =C13
B14: 笔试科目 | C14: =IF(ISERROR(VLOOKUP($H$8,基础数据!A:U,39,FALSE)),"",VLOOKUP($H$8,基础数据!A:U,39,FALSE)) | K14: 笔试科目 | L14: =C14
B15: 注：1、附《考场规则》于背面，请认真阅读，以免影响考试。 2、请仔细核对本证各项内容，有疑问或错误，请及时核对，联系 电话：0857-3222369，0857-3232881 3、信息公示网址： http://rsj.gzhezhang.gov.cn/ 4、请妥善保管此证，不得遗失，笔试、面试等环节需出示 此证。 | K15: 注：1、附《考场规则》于背面，请认真阅读，以免影响考试。 2、请仔细核对本证各项内容，有疑问或错误，请及时核对，联系 电话：0857-3222369，0857-3232881 3、信息公示网址： http://rsj.gzhezhang.gov.cn/ 4、请妥善保管此证，不得遗失，笔试、面试等环节需出示 此证。
B17: =B4 -> 赫章县2019年面向全县公办学校公开考调城区 部分易地扶贫搬迁子女就读学校教师 | K17: =B17 -> 赫章县2019年面向全县公办学校公开考调城区 部分易地扶贫搬迁子女就读学校教师
B18: 笔试准考证（存根） | K18: 笔试准考证
B19: 报名序号： | C19: =IF(ISERROR(VLOOKUP($H$20,基础数据!A:U,3,FALSE)),"",VLOOKUP($H$20,基础数据!A:U,3,FALSE)) | G19: 本考生签字：
B20: 考 场 号 | C20: =IF(ISERROR(VLOOKUP($H$20,基础数据!A:U,37,FALSE)),"",VLOOKUP($H$20,基础数据!A:U,37,FALSE)) | D20: 座位号 | E20: =IF(ISERROR(VLOOKUP($H$20,基础数据!A:U,38,FALSE)),"",VLOOKUP($H$20,基础数据!A:U,38,FALSE)) | F20: 准考证号 | G20: =IF(ISERROR(VLOOKUP($H$20,基础数据!A:U,35,FALSE)),"",VLOOKUP($H$20,基础数据!A:U,35,FALSE)) | H20: =H8+1 -> 95 | K20: =B20 -> 考 场 号 | L20: =C20 | M20: =D20 -> 座位号 | N20: =E20 | O20: 准考证号 | P20: =G20 | Q20: 照 片
B21: 姓 名 | C21: =IF(ISERROR(VLOOKUP($H$20,基础数据!A:U,4,FALSE)),"",VLOOKUP($H$20,基础数据!A:U,4,FALSE)) | F21: 性 别 | G21: =IF(ISERROR(VLOOKUP($H$20,基础数据!A:U,5,FALSE)),"",VLOOKUP($H$20,基础数据!A:U,5,FALSE)) | K21: 姓 名 | L21: =C21 | O21: 性 别 | P21: =G21
B22: 身份证号 | C22: =IF(ISERROR(VLOOKUP($H$20,基础数据!A:U,13,FALSE)),"",VLOOKUP($H$20,基础数据!A:U,13,FALSE)) | K22: 身份证号 | L22: =C22
B23: =B11 -> 报考学校学段学科 | C23: =IF(ISERROR(VLOOKUP($H$20,基础数据!A:U,22,FALSE)),"",VLOOKUP($H$20,基础数据!A:U,22,FALSE))&IF(ISERROR(VLOOKUP($H$20,基础数据!A:U,23,FALSE)),"",VLOOKUP($H$20,基础数据!A:U,23,FALSE))&IF(ISERROR(VLOOKUP($H$20,基础数据!A:U,24,FALSE)),"",VLOOKUP($H$20,基础数据!A:U,24,FALSE)) | K23: =B23 -> 报考学校学段学科 | L23: =C23
B24: 考点名称（笔试地点） | C24: =IF(ISERROR(VLOOKUP($H$20,基础数据!A:U,36,FALSE)),"",VLOOKUP($H$20,基础数据!A:U,36,FALSE)) | K24: 考点名称（笔试地点） | L24: =C24
B25: 笔试时间 | C25: =IF(ISERROR(VLOOKUP($H$20,基础数据!A:U,34,FALSE)),"",VLOOKUP($H$20,基础数据!A:U,34,FALSE)) | K25: 笔试时间 | L25: =C25
B26: 笔试科目 | C26: =IF(ISERROR(VLOOKUP($H$20,基础数据!A:U,39,FALSE)),"",VLOOKUP($H$20,基础数据!A:U,39,FALSE)) | K26: 笔试科目 | L26: =C26
B27: 注：1、附《考场规则》于背面，请认真阅读，以免影响考试。 2、请仔细核对本证各项内容，有疑问或错误，请及时核对，联系 电话：0857-3222369，0857-3232881 3、信息公示网址： http://rsj.gzhezhang.gov.cn/ 4、请妥善保管此证，不得遗失，笔试、面试等环节需出示 此证。 | K27: 注：1、附《考场规则》于背面，请认真阅读，以免影响考试。 2、请仔细核对本证各项内容，有疑问或错误，请及时核对，联系 电话：0857-3222369，0857-3232881 3、信息公示网址： http://rsj.gzhezhang.gov.cn/ 4、请妥善保管此证，不得遗失，笔试、面试等环节需出示 此证。

Sheet 面试准考证打印
B2: 打印第 | C2: 97 | D2: 页至 | E2: 200 | G2: 页 | L2: 请使用A4纸打印
B3: 赫章县2019年面向全县公办学校公开考调城区部分易地扶贫搬迁子女就读学校教师 | K3: =B3 -> 赫章县2019年面向全县公办学校公开考调城区部分易地扶贫搬迁子女就读学校教师
B4: 面试准考证（存根） | K4: 面试准考证
B5: 报名序号： | C5: =IF(ISERROR(VLOOKUP($H$6,基础数据!B:U,2,FALSE)),"",VLOOKUP($H$6,基础数据!B:U,2,FALSE)) -> 13 | G5: 本考生签字：
B6: 面试编号 | C6: =IF(ISERROR(VLOOKUP($H$6,基础数据!B:U,51,FALSE)),"",VLOOKUP($H$6,基础数据!B:U,51,FALSE)) | F6: 准考证号 | G6: =IF(ISERROR(VLOOKUP($H$6,基础数据!B:U,34,FALSE)),"",VLOOKUP($H$6,基础数据!B:U,34,FALSE)) | H6: =C2 -> 97 | K6: =B6 -> 面试编号 | L6: =C6 | O6: =F6 -> 准考证号 | P6: =G6 | Q6: 照 片
B7: 姓 名 | C7: =IF(ISERROR(VLOOKUP($H$6,基础数据!B:U,3,FALSE)),"",VLOOKUP($H$6,基础数据!B:U,3,FALSE)) -> 赵斌 | F7: 性 别 | G7: =IF(ISERROR(VLOOKUP($H$6,基础数据!B:U,4,FALSE)),"",VLOOKUP($H$6,基础数据!B:U,4,FALSE)) -> 城关镇黄泥小学 | K7: 姓 名 | L7: =C7 -> 赵斌 | O7: 性 别 | P7: =G7 -> 城关镇黄泥小学
B8: 身份证号 | C8: =IF(ISERROR(VLOOKUP($H$6,基础数据!B:U,12,FALSE)),"",VLOOKUP($H$6,基础数据!B:U,12,FALSE)) -> 是 | K8: 身份证号 | L8: =C8 -> 是
B9: 报考单位学段学科 | C9: =IF(ISERROR(VLOOKUP($H$6,基础数据!B:U,21,FALSE)),"",VLOOKUP($H$6,基础数据!B:U,21,FALSE))&IF(ISERROR(VLOOKUP($H$6,基础数据!B:U,22,FALSE)),"",VLOOKUP($H$6,基础数据!B:U,22,FALSE))&IF(ISERROR(VLOOKUP($H$6,基础数据!B:U,23,FALSE)),"",VLOOKUP($H$6,基础数据!B:U,23,FALSE)) | K9: =B9 -> 报考单位学段学科 | L9: =C9
B10: 考点名称（面试地点） | C10: =IF(ISERROR(VLOOKUP($H$6,基础数据!B:U,46,FALSE)),"",VLOOKUP($H$6,基础数据!B:U,46,FALSE)) | K10: 考点名称（面试地点） | L10: =C10
B12: 面试室 | C12: =IF(ISERROR(VLOOKUP($H$6,基础数据!B:U,49,FALSE)),"",VLOOKUP($H$6,基础数据!B:U,49,FALSE)) | F12: 候考室 | G12: =IF(ISERROR(VLOOKUP($H$6,基础数据!B:U,50,FALSE)),"",VLOOKUP($H$6,基础数据!B:U,50,FALSE)) | K12: 面试室 | L12: =C12 | O12: 候考室 | P12: =G12
B14: 面试时间 | C14: =IF(ISERROR(VLOOKUP($H$6,基础数据!B:U,47,FALSE)),"",VLOOKUP($H$6,基础数据!B:U,47,FALSE)) | F14: 候考室报到时间 | G14: =IF(ISERROR(VLOOKUP($H$6,基础数据!B:U,48,FALSE)),"",VLOOKUP($H$6,基础数据!B:U,48,FALSE)) | K14: 面试时间 | L14: =C14 | O14: 候考室报到时间 | P14: =G14
B15: 注：1、面试考生须同时持有效《居民身份证》、《面试准考证》原件进入指定的面试考点，按规定报到时间进入相应候考室。 2、附《面试人员须知》于背面，请认真阅读，以免影响考试。 3、请仔细核对本证各项内容，有疑问或错误，请及时核对，联系电话：0857-3222369,0857-3232881 4、信息公示网址：http://rsj.gzhezhang.gov.cn/）和县教育系统政工QQ群（信息向当地教育管理中心索取） | K15: =B15 -> 注：1、面试考生须同时持有效《居民身份证》、《面试准考证》原件进入指定的面试考点，按规定报到时间进入相应候考室。 2、附《面试人员须知》于背面，请认真阅读，以免影响考试。 3、请仔细核对本证各项内容，有疑问或错误，请及时核对，联系电话：0857-3222369,0857-3232881 4、信息公示网址：http://rsj.gzhezhang.gov.cn/）和县教育系统政工QQ群（信息向当地教育管理中心索取）
B17: =B3 -> 赫章县2019年面向全县公办学校公开考调城区部分易地扶贫搬迁子女就读学校教师 | K17: =B17 -> 赫章县2019年面向全县公办学校公开考调城区部分易地扶贫搬迁子女就读学校教师
B18: 面试准考证（存根） | K18: 面试准考证
B19: 报名序号： | C19: =IF(ISERROR(VLOOKUP($H$20,基础数据!B:U,2,FALSE)),"",VLOOKUP($H$20,基础数据!B:U,2,FALSE)) -> 266 | G19: 本考生签字：
B20: 面试编号 | C20: =IF(ISERROR(VLOOKUP($H$20,基础数据!B:U,51,FALSE)),"",VLOOKUP($H$20,基础数据!B:U,51,FALSE)) | F20: 准考证号 | G20: =IF(ISERROR(VLOOKUP($H$20,基础数据!B:U,34,FALSE)),"",VLOOKUP($H$20,基础数据!B:U,34,FALSE)) | H20: =H6+1 -> 98 | K20: =B20 -> 面试编号 | L20: =C20 | O20: 准考证号 | P20: =G20 | Q20: 照 片
B21: 姓 名 | C21: =IF(ISERROR(VLOOKUP($H$20,基础数据!B:U,3,FALSE)),"",VLOOKUP($H$20,基础数据!B:U,3,FALSE)) -> 杨发国 | F21: 性 别 | G21: =IF(ISERROR(VLOOKUP($H$20,基础数据!B:U,4,FALSE)),"",VLOOKUP($H$20,基础数据!B:U,4,FALSE)) -> 城关镇卸旗小学 | K21: 姓 名 | L21: =C21 -> 杨发国 | O21: 性 别 | P21: =G21 -> 城关镇卸旗小学
B22: 身份证号 | C22: =IF(ISERROR(VLOOKUP($H$20,基础数据!B:U,12,FALSE)),"",VLOOKUP($H$20,基础数据!B:U,12,FALSE)) -> 是 | K22: 身份证号 | L22: =C22 -> 是
B23: =B9 -> 报考单位学段学科 | C23: =IF(ISERROR(VLOOKUP($H$20,基础数据!B:U,21,FALSE)),"",VLOOKUP($H$20,基础数据!B:U,21,FALSE))&IF(ISERROR(VLOOKUP($H$20,基础数据!B:U,22,FALSE)),"",VLOOKUP($H$20,基础数据!B:U,22,FALSE))&IF(ISERROR(VLOOKUP($H$20,基础数据!B:U,23,FALSE)),"",VLOOKUP($H$20,基础数据!B:U,23,FALSE)) | K23: =B9 -> 报考单位学段学科 | L23: =C23
B24: 考点名称（面试地点） | C24: =IF(ISERROR(VLOOKUP($H$20,基础数据!B:U,46,FALSE)),"",VLOOKUP($H$20,基础数据!B:U,46,FALSE)) | K24: 考点名称（面试地点） | L24: =C24
B26: 面试室 | C26: =IF(ISERROR(VLOOKUP($H$20,基础数据!B:U,49,FALSE)),"",VLOOKUP($H$20,基础数据!B:U,49,FALSE)) | F26: 候考室 | G26: =IF(ISERROR(VLOOKUP($H$20,基础数据!B:U,50,FALSE)),"",VLOOKUP($H$20,基础数据!B:U,50,FALSE)) | K26: =B26 -> 面试室 | L26: =C26 | O26: =F26 -> 候考室 | P26: =G26
B28: 面试时间 | C28: =IF(ISERROR(VLOOKUP($H$20,基础数据!B:U,47,FALSE)),"",VLOOKUP($H$20,基础数据!B:U,47,FALSE)) | F28: 候考室报到时间 | G28: =IF(ISERROR(VLOOKUP($H$20,基础数据!B:U,48,FALSE)),"",VLOOKUP($H$20,基础数据!B:U,48,FALSE)) | K28: =B28 -> 面试时间 | L28: =C28 | O28: =F28 -> 候考室报到时间 | P28: =G28
B29: =B15 -> 注：1、面试考生须同时持有效《居民身份证》、《面试准考证》原件进入指定的面试考点，按规定报到时间进入相应候考室。 2、附《面试人员须知》于背面，请认真阅读，以免影响考试。 3、请仔细核对本证各项内容，有疑问或错误，请及时核对，联系电话：0857-3222369,0857-3232881 4、信息公示网址：http://rsj.gzhezhang.gov.cn/）和县教育系统政工QQ群（信息向当地教育管理中心索取） | K29: =B29 -> 注：1、面试考生须同时持有效《居民身份证》、《面试准考证》原件进入指定的面试考点，按规定报到时间进入相应候考室。 2、附《面试人员须知》于背面，请认真阅读，以免影响考试。 3、请仔细核对本证各项内容，有疑问或错误，请及时核对，联系电话：0857-3222369,0857-3232881 4、信息公示网址：http://rsj.gzhezhang.gov.cn/）和县教育系统政工QQ群（信息向当地教育管理中心索取）

Sheet Sheet1
A1: 医学综合知识（药学类）
A2: 医学综合知识（药学类）
A3: 医学综合知识（药学类）
A4: 医学综合知识（药学类）
A5: 医学综合知识（药学类）
A6: 医学综合知识（药学类）
A7: 医学综合知识（药学类）
A8: 医学综合知识（药学类）
A9: 医学综合知识（临床类）
A10: 医学综合知识（药学类）
A11: 医学综合知识（药学类）
A12: 医学综合知识（临床类）
... A65: 医学综合知识（药学类）

Sheet Sheet2
