Workbook

Sheet 基础数据
E1: 附件：
A2: 赫章县2019年面向全县公办学校公开考调城区部分易地扶贫搬迁子女就读学校教师面试成绩、总成绩及进入考核人员名单
A3: 笔试准考证打印序号 | B3: 面试准考证打印序号 | C3: 报名序号 | D3: 姓名 | E3: 报考单位 | F3: 报考学段 | G3: 报考学科 | H3: 加分类别562 | I3: 加分分值 | J3: 笔试成绩 | K3: 笔试加分 | L3: 笔试总成绩 | M3: 是否进入面试 | N3: 面试考场号 | O3: 面试候考室号 | P3: 面试编号 | Q3: 面试顺序号 | R3: 所在面试考场的平均成绩 | S3: 面试成绩 | T3: 总成绩 | U3: 是否进入考核 | V3: 备注
A4: 950 | B4: 170 | C4: 141 | D4: 王洪永 | E4: 白果镇二小 | F4: 小学 | G4: 数学 | H4: 村校教师 | I4: 3 | J4: 97 | K4: =I4 -> 3 | L4: =J4+K4 -> 100 | M4: 是 | N4: 第04面试室 | O4: 第04候考室 | P4: MS123 | Q4: 12 | S4: 81.42 | T4: =L4*0.5+S4*0.5 -> 90.71 | U4: 是
A5: 948 | B5: 169 | C5: 139 | D5: 徐茂 | E5: 白果镇二小 | F5: 小学 | G5: 数学 | H5: 乡镇教师 | I5: 2 | J5: 98 | K5: =I5 -> 2 | L5: =J5+K5 -> 100 | M5: 是 | N5: 第04面试室 | O5: 第04候考室 | P5: MS122 | Q5: 19 | S5: 80.23 | T5: =L5*0.5+S5*0.5 -> 90.115 | U5: 是
A6: 912 | B6: 160 | C6: 103 | D6: 丁锐丽 | E6: 白果镇二小 | F6: 小学 | G6: 数学 | H6: 乡镇教师 | I6: 2 | J6: 96 | K6: =I6 -> 2 | L6: =J6+K6 -> 98 | M6: 是 | N6: 第04面试室 | O6: 第04候考室 | P6: MS125 | Q6: 20 | S6: 81.47 | T6: =L6*0.5+S6*0.5 -> 89.735 | U6: 是
A7: 910 | B7: 159 | C7: 101 | D7: 晏大臣 | E7: 白果镇二小 | F7: 小学 | G7: 数学 | H7: 村校教师 | I7: 3 | J7: 94 | K7: =I7 -> 3 | L7: =J7+K7 -> 97 | M7: 是 | N7: 第04面试室 | O7: 第04候考室 | P7: MS127 | Q7: 18 | S7: 80.17 | T7: =L7*0.5+S7*0.5 -> 88.585 | U7: 是
A8: 947 | B8: 168 | C8: 138 | D8: 陈健 | E8: 白果镇二小 | F8: 小学 | G8: 数学 | H8: 乡镇班主任 | I8: 3 | J8: 95 | K8: =I8 -> 3 | L8: =J8+K8 -> 98 | M8: 是 | N8: 第04面试室 | O8: 第04候考室 | P8: MS126 | Q8: 16 | S8: 78.79 | T8: =L8*0.5+S8*0.5 -> 88.395 | U8: 是
A9: 1137 | B9: 200 | C9: 329 | D9: 韩宇 | E9: 白果镇二小 | F9: 小学 | G9: 数学 | H9: 村校班主任 | I9: 4 | J9: 92 | K9: =I9 -> 4 | L9: =J9+K9 -> 96 | M9: 是 | N9: 第04面试室 | O9: 第04候考室 | P9: MS128 | Q9: 22 | S9: 79.85 | T9: =L9*0.5+S9*0.5 -> 87.925 | U9: 是
A10: 944 | B10: 167 | C10: 135 | D10: 蒋胜 | E10: 白果镇二小 | F10: 小学 | G10: 数学 | H10: 村校教师 | I10: 3 | J10: 92 | K10: =I10 -> 3 | L10: =J10+K10 -> 95 | M10: 是 | N10: 第04面试室 | O10: 第04候考室 | P10: MS131 | Q10: 13 | S10: 80.61 | T10: =L10*0.5+S10*0.5 -> 87.805
A11: 1123 | B11: 196 | C11: 315 | D11: 施野 | E11: 白果镇二小 | F11: 小学 | G11: 数学 | H11: 村小任教 | I11: 4 | J11: 91 | K11: =I11 -> 4 | L11: =J11+K11 -> 95 | M11: 是 | N11: 第04面试室 | O11: 第04候考室 | P11: MS130 | Q11: 11 | S11: 78.92 | T11: =L11*0.5+S11*0.5 -> 86.96
A12: 1050 | B12: 184 | C12: 242 | D12: 黄启军 | E12: 白果镇二小 | F12: 小学 | G12: 数学 | H12: 村小班主任 | I12: 4 | J12: 95 | K12: =I12 -> 4 | L12: =J12+K12 -> 99 | M12: 是 | N12: 第04面试室 | O12: 第04候考室 | P12: MS124 | Q12: 21 | S12: 74.54 | T12: =L12*0.5+S12*0.5 -> 86.77
A13: 1136 | B13: 199 | C13: 328 | D13: 成虹 | E13: 白果镇二小 | F13: 小学 | G13: 数学 | H13: 乡镇教师 | I13: 2 | J13: 92 | K13: =I13 -> 2 | L13: =J13+K13 -> 94 | M13: 是 | N13: 第04面试室 | O13: 第04候考室 | P13: MS133 | Q13: 17 | S13: 79.32 | T13: =L13*0.5+S13*0.5 -> 86.66
A14: 1060 | B14: 185 | C14: 252 | D14: 李恩 | E14: 白果镇二小 | F14: 小学 | G14: 数学 | H14: 村小班主任 | I14: 4 | J14: 90 | K14: =I14 -> 4 | L14: =J14+K14 -> 94 | M14: 是 | N14: 第04面试室 | O14: 第04候考室 | P14: MS132 | Q14: 14 | S14: 78.8 | T14: =L14*0.5+S14*0.5 -> 86.4
A15: 860 | B15: 152 | C15: 051 | D15: 张哲 | E15: 白果镇二小 | F15: 小学 | G15: 数学 | H15: 村校教师 | I15: 3 | J15: 93 | K15: =I15 -> 3 | L15: =J15+K15 -> 96 | M15: 是 | N15: 第04面试室 | O15: 第04候考室 | P15: MS129 | Q15: 15 | S15: 75.7 | T15: =L15*0.5+S15*0.5 -> 85.85
A16: 811 | B16: 148 | C16: 002 | D16: 严成相 | E16: 白果镇二小 | F16: 小学 | G16: 体育 | H16: 乡镇教师 | I16: 2 | J16: 70 | K16: =I16 -> 2 | L16: =J16+K16 -> 72 | M16: 是 | N16: 第05面试室 | O16: 第05候考室 | P16: MS164 | Q16: 36 | S16: 81.27 | T16: =L16*0.5+S16*0.5 -> 76.635 | U16: 是
A17: 988 | B17: 175 | C17: 180 | D17: 吴道旭 | E17: 白果镇二小 | F17: 小学 | G17: 体育 | H17: 乡镇班主任 | I17: 3 | J17: 69 | K17: =I17 -> 3 | L17: =J17+K17 -> 72 | M17: 是 | N17: 第05面试室 | O17: 第05候考室 | P17: MS165 | Q17: 35 | S17: 79.46 | T17: =L17*0.5+S17*0.5 -> 75.73
A18: 866 | B18: 153 | C18: 057 | D18: 饶盼 | E18: 白果镇二小 | F18: 小学 | G18: 英语 | H18: 乡镇教师 | I18: 2 | J18: 88 | K18: =I18 -> 2 | L18: =J18+K18 -> 90 | M18: 是 | N18: 第05面试室 | O18: 第05候考室 | P18: MS167 | Q18: 19 | S18: 78.01 | T18: =L18*0.5+S18*0.5 -> 84.005 | U18: 是
A19: 901 | B19: 158 | C19: 092 | D19: 张宇馨 | E19: 白果镇二小 | F19: 小学 | G19: 英语 | H19: 乡镇教师 | I19: 2 | J19: 89 | K19: =I19 -> 2 | L19: =J19+K19 -> 91 | M19: 是 | N19: 第05面试室 | O19: 第05候考室 | P19: MS166 | Q19: 20 | S19: 72.95 | T19: =L19*0.5+S19*0.5 -> 81.975
A20: 1140 | B20: 201 | C20: 332 | D20: 马粉 | E20: 白果镇二小 | F20: 小学 | G20: 语文 | H20: 乡镇教师 | I20: 2 | J20: 81 | K20: =I20 -> 2 | L20: =J20+K20 -> 83 | M20: 是 | N20: 第02面试室 | O20: 第02候考室 | P20: MS041 | Q20: 21 | S20: 75.42 | T20: =L20*0.5+S20*0.5 -> 79.21 | U20: 是
A21: 832 | B21: 151 | C21: 023 | D21: 孙勤 | E21: 白果镇二小 | F21: 小学 | G21: 语文 | H21: 村校教师 | I21: 3 | J21: 77.5 | K21: =I21 -> 3 | L21: =J21+K21 -> 80.5 | M21: 是 | N21: 第02面试室 | O21: 第02候考室 | P21: MS045 | Q21: 17 | S21: 77.18 | T21: =L21*0.5+S21*0.5 -> 78.84 | U21: 是
A22: 867 | B22: 154 | C22: 058 | D22: 申艳 | E22: 白果镇二小 | F22: 小学 | G22: 语文 | H22: 无 | J22: 82 | K22: =I22 -> 0 | L22: =J22+K22 -> 82 | M22: 是 | N22: 第02面试室 | O22: 第02候考室 | P22: MS042 | Q22: 15 | S22: 74.99 | T22: =L22*0.5+S22*0.5 -> 78.495 | U22: 是
A23: 1107 | B23: 194 | C23: 299 | D23: 李丽娜 | E23: 白果镇二小 | F23: 小学 | G23: 语文 | H23: 乡镇教师 | I23: 2 | J23: 79.5 | K23: =I23 -> 2 | L23: =J23+K23 -> 81.5 | M23: 是 | N23: 第02面试室 | O23: 第02候考室 | P23: MS044 | Q23: 20 | S23: 75.29 | T23: =L23*0.5+S23*0.5 -> 78.395 | U23: 是
A24: 1078 | B24: 188 | C24: 270 | D24: 孙源江 | E24: 白果镇二小 | F24: 小学 | G24: 语文 | H24: 乡村教师 | I24: 3 | J24: 80.5 | K24: =I24 -> 3 | L24: =J24+K24 -> 83.5 | M24: 是 | N24: 第02面试室 | O24: 第02候考室 | P24: MS040 | Q24: 14 | S24: 72.57 | T24: =L24*0.5+S24*0.5 -> 78.035 | U24: 是
A25: 1041 | B25: 182 | C25: 233 | D25: 宫慧 | E25: 白果镇二小 | F25: 小学 | G25: 语文 | H25: 乡镇教师 | I25: 2 | J25: 76 | K25: =I25 -> 2 | L25: =J25+K25 -> 78 | M25: 是 | N25: 第02面试室 | O25: 第02候考室 | P25: MS050 | Q25: 19 | S25: 76.72 | T25: =L25*0.5+S25*0.5 -> 77.36 | U25: 是
A26: 989 | B26: 176 | C26: 181 | D26: 曹成 | E26: 白果镇二小 | F26: 小学 | G26: 语文 | H26: 乡镇班主任 | I26: 3 | J26: 79 | K26: =I26 -> 3 | L26: =J26+K26 -> 82 | M26: 是 | N26: 第02面试室 | O26: 第02候考室 | P26: MS043 | Q26: 18 | S26: 72.11 | T26: =L26*0.5+S26*0.5 -> 77.055 | U26: 是
A27: 1001 | B27: 178 | C27: 193 | D27: 管敏 | E27: 白果镇二小 | F27: 小学 | G27: 语文 | H27: 村校教师 | I27: 3 | J27: 77 | K27: =I27 -> 3 | L27: =J27+K27 -> 80 | M27: 是 | N27: 第02面试室 | O27: 第02候考室 | P27: MS047 | Q27: 13 | S27: 74.04 | T27: =L27*0.5+S27*0.5 -> 77.02
A28: 881 | B28: 156 | C28: 072 | D28: 焦忠怀 | E28: 白果镇二小 | F28: 小学 | G28: 语文 | H28: 乡镇教师 | I28: 2 | J28: 78 | K28: =I28 -> 2 | L28: =J28+K28 -> 80 | M28: 是 | N28: 第02面试室 | O28: 第02候考室 | P28: MS046 | Q28: 16 | S28: 73.91 | T28: =L28*0.5+S28*0.5 -> 76.955
A29: 1126 | B29: 198 | C29: 318 | D29: 周丽华 | E29: 白果镇二小 | F29: 小学 | G29: 语文 | H29: 村小任教 | I29: 4 | J29: 74 | K29: =I29 -> 4 | L29: =J29+K29 -> 78 | M29: 是 | N29: 第02面试室 | O29: 第02候考室 | P29: MS051 | Q29: 26 | S29: 75.74 | T29: =L29*0.5+S29*0.5 -> 76.87
A30: 1013 | B30: 180 | C30: 205 | D30: 许定术 | E30: 白果镇二小 | F30: 小学 | G30: 语文 | H30: 学校行政班子成员 | I30: 3 | J30: 75 | K30: =I30 -> 3 | L30: =J30+K30 -> 78 | M30: 是 | N30: 第02面试室 | O30: 第02候考室 | P30: MS049 | Q30: 23 | S30: 75.55 | T30: =L30*0.5+S30*0.5 -> 76.775
A31: 993 | B31: 177 | C31: 185 | D31: 孙伟 | E31: 白果镇二小 | F31: 小学 | G31: 语文 | H31: 乡镇教师 | I31: 2 | J31: 76 | K31: =I31 -> 2 | L31: =J31+K31 -> 78 | M31: 是 | N31: 第02面试室 | O31: 第02候考室 | P31: MS052 | Q31: 25 | S31: 71.56 | T31: =L31*0.5+S31*0.5 -> 74.78
A32: 1095 | B32: 191 | C32: 287 | D32: 叶国春 | E32: 白果镇二小 | F32: 小学 | G32: 语文 | J32: 78.5 | K32: =I32 -> 0 | L32: =J32+K32 -> 78.5 | M32: 是 | N32: 第02面试室 | O32: 第02候考室 | P32: MS048 | Q32: 22 | S32: 69.93 | T32: =L32*0.5+S32*0.5 -> 74.215
A33: 913 | B33: 161 | C33: 104 | D33: 唐鹏 | E33: 白果镇二小 | F33: 小学 | G33: 语文 | H33: 村校教师 | I33: 3 | J33: 74.5 | K33: =I33 -> 3 | L33: =J33+K33 -> 77.5 | M33: 是 | N33: 第02面试室 | O33: 第02候考室 | P33: MS053 | Q33: 24 | S33: 60 | T33: =L33*0.5+S33*0.5 -> 68.75
A34: 1009 | B34: 179 | C34: 201 | D34: 陈强 | E34: 白果镇三小 | F34: 小学 | G34: 美术 | H34: 村校教师 | I34: 3 | J34: 75 | K34: =I34 -> 3 | L34: =J34+K34 -> 78 | M34: 是 | N34: 第04面试室 | O34: 第04候考室 | P34: MS134 | Q34: 1 | S34: 80.15 | T34: =L34*0.5+S34*0.5 -> 79.075 | U34: 是
A35: 1063 | B35: 187 | C35: 255 | D35: 陈享洋 | E35: 白果镇三小 | F35: 小学 | G35: 美术 | H35: 乡镇教师 | I35: 2 | J35: 74 | K35: =I35 -> 2 | L35: =J35+K35 -> 76 | M35: 是 | N35: 第04面试室 | O35: 第04候考室 | P35: MS135 | Q35: 2 | S35: 80.03 | T35: =L35*0.5+S35*0.5 -> 78.015
A36: 1125 | B36: 197 | C36: 317 | D36: 孙丽丽 | E36: 白果镇三小 | F36: 小学 | G36: 数学 | J36: 99 | K36: =I36 -> 0 | L36: =J36+K36 -> 99 | M36: 是 | N36: 第04面试室 | O36: 第04候考室 | P36: MS138 | Q36: 38 | S36: 81.93 | T36: =L36*0.5+S36*0.5 -> 90.465 | U36: 是
A37: 960 | B37: 172 | C37: 151 | D37: 姚艳 | E37: 白果镇三小 | F37: 小学 | G37: 数学 | H37: 乡镇教师 | I37: 2 | J37: 98 | K37: =I37 -> 2 | L37: =J37+K37 -> 100 | M37: 是 | N37: 第04面试室 | O37: 第04候考室 | P37: MS136 | Q37: 41 | S37: 79.73 | T37: =L37*0.5+S37*0.5 -> 89.865 | U37: 是
A38: 968 | B38: 173 | C38: 159 | D38: 刘廷元 | E38: 白果镇三小 | F38: 小学 | G38: 数学 | H38: 乡镇班主任 | I38: 3 | J38: 97 | K38: =I38 -> 3 | L38: =J38+K38 -> 100 | M38: 是 | N38: 第04面试室 | O38: 第04候考室 | P38: MS137 | Q38: 35 | S38: 78.27 | T38: =L38*0.5+S38*0.5 -> 89.135 | U38: 是
A39: 927 | B39: 164 | C39: 118 | D39: 张璐 | E39: 白果镇三小 | F39: 小学 | G39: 数学 | H39: 乡镇教师 | I39: 2 | J39: 93 | K39: =I39 -> 2 | L39: =J39+K39 -> 95 | M39: 是 | N39: 第04面试室 | O39: 第04候考室 | P39: MS143 | Q39: 37 | S39: 82.14 | T39: =L39*0.5+S39*0.5 -> 88.57 | U39: 是
A40: 924 | B40: 163 | C40: 115 | D40: 王喜 | E40: 白果镇三小 | F40: 小学 | G40: 数学 | J40: 97 | K40: =I40 -> 0 | L40: =J40+K40 -> 97 | M40: 是 | N40: 第04面试室 | O40: 第04候考室 | P40: MS139 | Q40: 34 | S40: 78.77 | T40: =L40*0.5+S40*0.5 -> 87.885 | U40: 是
A41: 875 | B41: 155 | C41: 066 | D41: 吕邦勇 | E41: 白果镇三小 | F41: 小学 | G41: 数学 | H41: 村校任班主任、校长 | I41: 4 | J41: 92 | K41: =I41 -> 4 | L41: =J41+K41 -> 96 | M41: 是 | N41: 第04面试室 | O41: 第04候考室 | P41: MS141 | Q41: 42 | S41: 77.65 | T41: =L41*0.5+S41*0.5 -> 86.825
A42: 1089 | B42: 190 | C42: 281 | D42: 曾永庆 | E42: 白果镇三小 | F42: 小学 | G42: 数学 | H42: 村小中层 | I42: 4 | J42: 90 | K42: =I42 -> 4 | L42: =J42+K42 -> 94 | M42: 是 | N42: 第04面试室 | O42: 第04候考室 | P42: MS145 | Q42: 33 | S42: 79.5 | T42: =L42*0.5+S42*0.5 -> 86.75
A43: 1047 | B43: 183 | C43: 239 | D43: 康赟 | E43: 白果镇三小 | F43: 小学 | G43: 数学 | H43: 乡镇教师加分 | I43: 2 | J43: 94 | K43: =I43 -> 2 | L43: =J43+K43 -> 96 | M43: 是 | N43: 第04面试室 | O43: 第04候考室 | P43: MS140 | Q43: 36 | S43: 76.4 | T43: =L43*0.5+S43*0.5 -> 86.2
A44: 1030 | B44: 181 | C44: 222 | D44: 徐明 | E44: 白果镇三小 | F44: 小学 | G44: 数学 | H44: 乡镇教师 | I44: 2 | J44: 92 | K44: =I44 -> 2 | L44: =J44+K44 -> 94 | M44: 是 | N44: 第04面试室 | O44: 第04候考室 | P44: MS144 | Q44: 40 | S44: 77.7 | T44: =L44*0.5+S44*0.5 -> 85.85
A45: 1098 | B45: 192 | C45: 290 | D45: 朱亮 | E45: 白果镇三小 | F45: 小学 | G45: 数学 | H45: 乡镇班主任 | I45: 3 | J45: 92 | K45: =I45 -> 3 | L45: =J45+K45 -> 95 | M45: 是 | N45: 第04面试室 | O45: 第04候考室 | P45: MS142 | Q45: 39 | S45: 75.09 | T45: =L45*0.5+S45*0.5 -> 85.045
A46: 1102 | B46: 193 | C46: 294 | D46: 陶欢 | E46: 白果镇三小 | F46: 小学 | G46: 体育 | H46: 村小教师 | I46: 3 | J46: 68 | K46: =I46 -> 3 | L46: =J46+K46 -> 71 | M46: 是 | N46: 第05面试室 | O46: 第05候考室 | P46: MS168 | Q46: 33 | S46: 83.08 | T46: =L46*0.5+S46*0.5 -> 77.04 | U46: 是
A47: 1150 | B47: 202 | C47: 343 | D47: 余锋 | E47: 白果镇三小 | F47: 小学 | G47: 体育 | H47: 乡镇教师 | I47: 3 | J47: 65 | K47: =I47 -> 3 | L47: =J47+K47 -> 68 | M47: 是 | N47: 第05面试室 | O47: 第05候考室 | P47: MS169 | Q47: 32 | S47: 82.81 | T47: =L47*0.5+S47*0.5 -> 75.405
A48: 816 | B48: 149 | C48: 007 | D48: 谢伟 | E48: 白果镇三小 | F48: 小学 | G48: 体育 | H48: 乡镇教师 | I48: 2 | J48: 66 | K48: =I48 -> 2 | L48: =J48+K48 -> 68 | M48: 是 | N48: 第05面试室 | O48: 第05候考室 | P48: MS170 | Q48: 34 | S48: 79.08 | T48: =L48*0.5+S48*0.5 -> 73.54
A49: 936 | B49: 166 | C49: 127 | D49: 苏雷 | E49: 白果镇三小 | F49: 小学 | G49: 信息技术 | J49: 60 | K49: =I49 -> 0 | L49: =J49+K49 -> 60 | M49: 是 | N49: 第03面试室 | O49: 第03候考室 | P49: MS081 | Q49: 6 | S49: 80.85 | T49: =L49*0.5+S49*0.5 -> 70.425 | U49: 是
A50: 953 | B50: 171 | C50: 144 | D50: 喻常勇 | E50: 白果镇三小 | F50: 小学 | G50: 信息技术 | H50: 村校教师 | I50: 3 | J50: 62 | K50: =I50 -> 3 | L50: =J50+K50 -> 65 | M50: 是 | N50: 第03面试室 | O50: 第03候考室 | P50: MS080 | Q50: 5 | S50: 75.37 | T50: =L50*0.5+S50*0.5 -> 70.185
A51: 1084 | B51: 189 | C51: 276 | D51: 李娟 | E51: 白果镇三小 | F51: 小学 | G51: 英语 | H51: 乡镇班主任 | I51: 3 | J51: 86 | K51: =I51 -> 3 | L51: =J51+K51 -> 89 | M51: 是 | N51: 第05面试室 | O51: 第05候考室 | P51: MS171 | Q51: 18 | S51: 82.46 | T51: =L51*0.5+S51*0.5 -> 85.73 | U51: 是
A52: 916 | B52: 162 | C52: 107 | D52: 韩霜 | E52: 白果镇三小 | F52: 小学 | G52: 英语 | H52: 乡镇教师 | I52: 2 | J52: 87 | K52: =I52 -> 2 | L52: =J52+K52 -> 89 | M52: 是 | N52: 第05面试室 | O52: 第05候考室 | P52: MS172 | Q52: 17 | S52: 77.1 | T52: =L52*0.5+S52*0.5 -> 83.05
A53: 984 | B53: 174 | C53: 176 | D53: 饶乃祝 | E53: 白果镇三小 | F53: 小学 | G53: 语文 | H53: 乡镇教师 | I53: 2 | J53: 81 | K53: =I53 -> 2 | L53: =J53+K53 -> 83 | M53: 是 | N53: 第01面试室 | O53: 第01候考室 | P53: MS002 | Q53: 3 | S53: 80.21 | T53: =L53*0.5+S53*0.5 -> 81.605 | U53: 是
A54: 1120 | B54: 195 | C54: 312 | D54: 张开琴 | E54: 白果镇三小 | F54: 小学 | G54: 语文 | H54: 乡镇教师 | I54: 2 | J54: 77.5 | K54: =I54 -> 2 | L54: =J54+K54 -> 79.5 | M54: 是 | N54: 第01面试室 | O54: 第01候考室 | P54: MS004 | Q54: 1 | S54: 77.6 | T54: =L54*0.5+S54*0.5 -> 78.55 | U54: 是
A55: 896 | B55: 157 | C55: 087 | D55: 王玮 | E55: 白果镇三小 | F55: 小学 | G55: 语文 | H55: 乡镇教师 | I55: 2 | J55: 74.5 | K55: =I55 -> 2 | L55: =J55+K55 -> 76.5 | M55: 是 | N55: 第01面试室 | O55: 第01候考室 | P55: MS006 | Q55: 4 | S55: 78.42 | T55: =L55*0.5+S55*0.5 -> 77.46 | U55: 是
A56: 1061 | B56: 186 | C56: 253 | D56: 易才先 | E56: 白果镇三小 | F56: 小学 | G56: 语文 | H56: 乡镇教师 | I56: 2 | J56: 77.5 | K56: =I56 -> 2 | L56: =J56+K56 -> 79.5 | M56: 是 | N56: 第01面试室 | O56: 第01候考室 | P56: MS003 | Q56: 2 | S56: 75.34 | T56: =L56*0.5+S56*0.5 -> 77.42
A57: 818 | B57: 150 | C57: 009 | D57: 成磊 | E57: 白果镇三小 | F57: 小学 | G57: 语文 | H57: 乡镇班主任 | I57: 3 | J57: 82 | K57: =I57 -> 3 | L57: =J57+K57 -> 85 | M57: 是 | N57: 第01面试室 | O57: 第01候考室 | P57: MS001 | Q57: 5 | T57: =L57*0.5+S57*0.5 -> 42.5 | V57: 面试缺考
A58: 930 | B58: 165 | C58: 121 | D58: 袁凌桂 | E58: 白果镇三小 | F58: 小学 | G58: 语文 | H58: 乡镇班主任 | I58: 3 | J58: 76 | K58: =I58 -> 3 | L58: =J58+K58 -> 79 | M58: 是 | N58: 第01面试室 | O58: 第01候考室 | P58: MS005 | Q58: 6 | T58: =L58*0.5+S58*0.5 -> 39.5 | V58: 面试缺考
A59: 757 | B59: 136 | C59: 202 | D59: 朱健芬 | E59: 城关二小 | F59: 小学 | G59: 数学 | H59: 乡镇班主任 | I59: 3 | J59: 99 | K59: =I59 -> 3 | L59: =J59+K59 -> 102 | M59: 是 | N59: 第03面试室 | O59: 第03候考室 | P59: MS082 | Q59: 19 | S59: 83.71 | T59: =L59*0.5+S59*0.5 -> 92.855 | U59: 是
A60: 635 | B60: 118 | C60: 080 | D60: 殷念 | E60: 城关二小 | F60: 小学 | G60: 数学 | H60: 乡镇班主任 | I60: 3 | J60: 97 | K60: =I60 -> 3 | L60: =J60+K60 -> 100 | M60: 是 | N60: 第03面试室 | O60: 第03候考室 | P60: MS083 | Q60: 27 | S60: 78.74 | T60: =L60*0.5+S60*0.5 -> 89.37 | U60: 是
A61: 664 | B61: 124 | C61: 109 | D61: 郭虎 | E61: 城关二小 | F61: 小学 | G61: 数学 | H61: 乡镇班主任 | I61: 3 | J61: 94 | K61: =I61 -> 3 | L61: =J61+K61 -> 97 | M61: 是 | N61: 第03面试室 | O61: 第03候考室 | P61: MS085 | Q61: 18 | S61: 81.17 | T61: =L61*0.5+S61*0.5 -> 89.085 | U61: 是
A62: 785 | B62: 141 | C62: 230 | D62: 林田廷 | E62: 城关二小 | F62: 小学 | G62: 数学 | H62: 乡镇教师 | I62: 2 | J62: 93 | K62: =I62 -> 2 | L62: =J62+K62 -> 95 | M62: 是 | N62: 第03面试室 | O62: 第03候考室 | P62: MS089 | Q62: 22 | S62: 82.53 | T62: =L62*0.5+S62*0.5 -> 88.765 | U62: 是
A63: 742 | B63: 133 | C63: 187 | D63: 尹虎 | E63: 城关二小 | F63: 小学 | G63: 数学 | H63: 村校教师 | I63: 4 | J63: 94 | K63: =I63 -> 4 | L63: =J63+K63 -> 98 | M63: 是 | N63: 第03面试室 | O63: 第03候考室 | P63: MS084 | Q63: 21 | S63: 79.14 | T63: =L63*0.5+S63*0.5 -> 88.57 | U63: 是
A64: 801 | B64: 145 | C64: 247 | D64: 龙娇 | E64: 城关二小 | F64: 小学 | G64: 数学 | H64: 村校教师 | I64: 3 | J64: 94 | K64: =I64 -> 3 | L64: =J64+K64 -> 97 | M64: 是 | N64: 第03面试室 | O64: 第03候考室 | P64: MS086 | Q64: 26 | S64: 79.24 | T64: =L64*0.5+S64*0.5 -> 88.12 | U64: 是
A65: 592 | B65: 114 | C65: 037 | D65: 蒋世斌 | E65: 城关二小 | F65: 小学 | G65: 数学 | H65: 乡镇教师 | I65: 2 | J65: 94 | K65: =I65 -> 2 | L65: =J65+K65 -> 96 | M65: 是 | N65: 第03面试室 | O65: 第03候考室 | P65: MS087 | Q65: 24 | S65: 79.94 | T65: =L65*0.5+S65*0.5 -> 87.97
A66: 754 | B66: 134 | C66: 199 | D66: 费明虎 | E66: 城关二小 | F66: 小学 | G66: 数学 | H66: 乡镇行政 | I66: 3 | J66: 92 | K66: =I66 -> 3 | L66: =J66+K66 -> 95 | M66: 是 | N66: 第03面试室 | O66: 第03候考室 | P66: MS088 | Q66: 28 | S66: 79.85 | T66: =L66*0.5+S66*0.5 -> 87.425
A67: 796 | B67: 143 | C67: 242 | D67: 张金 | E67: 城关二小 | F67: 小学 | G67: 数学 | J67: 93 | K67: =I67 -> 0 | L67: =J67+K67 -> 93 | M67: 是 | N67: 第03面试室 | O67: 第03候考室 | P67: MS092 | Q67: 29 | S67: 80.59 | T67: =L67*0.5+S67*0.5 -> 86.795
A68: 756 | B68: 135 | C68: 201 | D68: 骆丽 | E68: 城关二小 | F68: 小学 | G68: 数学 | J68: 93 | K68: =I68 -> 0 | L68: =J68+K68 -> 93 | M68: 是 | N68: 第03面试室 | O68: 第03候考室 | P68: MS090 | Q68: 23 | S68: 80.56 | T68: =L68*0.5+S68*0.5 -> 86.78
A69: 761 | B69: 137 | C69: 206 | D69: 施启炼 | E69: 城关二小 | F69: 小学 | G69: 数学 | H69: 村校教师 | I69: 3 | J69: 90 | K69: =I69 -> 3 | L69: =J69+K69 -> 93 | M69: 是 | N69: 第03面试室 | O69: 第03候考室 | P69: MS091 | Q69: 25 | S69: 80.26 | T69: =L69*0.5+S69*0.5 -> 86.63
A70: 615 | B70: 116 | C70: 060 | D70: 金鑫 | E70: 城关二小 | F70: 小学 | G70: 数学 | H70: 乡镇教师 | I70: 2 | J70: 90 | K70: =I70 -> 2 | L70: =J70+K70 -> 92 | M70: 是 | N70: 第03面试室 | O70: 第03候考室 | P70: MS093 | Q70: 30 | S70: 80.28 | T70: =L70*0.5+S70*0.5 -> 86.14
A71: 783 | B71: 140 | C71: 228 | D71: 周凌 | E71: 城关二小 | F71: 小学 | G71: 数学 | H71: 乡镇教师 | I71: 2 | J71: 90 | K71: =I71 -> 2 | L71: =J71+K71 -> 92 | M71: 是 | N71: 第03面试室 | O71: 第03候考室 | P71: MS094 | Q71: 20 | S71: 78.21 | T71: =L71*0.5+S71*0.5 -> 85.105
A72: 597 | B72: 115 | C72: 042 | D72: 徐玲艳 | E72: 城关二小 | F72: 小学 | G72: 体育 | H72: 乡镇教师 | I72: 2 | J72: 72 | K72: =I72 -> 2 | L72: =J72+K72 -> 74 | M72: 是 | N72: 第05面试室 | O72: 第05候考室 | P72: MS173 | Q72: 30 | S72: 80.46 | T72: =L72*0.5+S72*0.5 -> 77.23 | U72: 是
A73: 570 | B73: 110 | C73: 015 | D73: 周梅 | E73: 城关二小 | F73: 小学 | G73: 体育 | H73: 乡镇教师 | I73: 2 | J73: 67 | K73: =I73 -> 2 | L73: =J73+K73 -> 69 | M73: 是 | N73: 第05面试室 | O73: 第05候考室 | P73: MS174 | Q73: 31 | S73: 83.82 | T73: =L73*0.5+S73*0.5 -> 76.41
A74: 809 | B74: 147 | C74: 255 | D74: 徐伟 | E74: 城关二小 | F74: 小学 | G74: 信息技术 | H74: 村小教师 | I74: 2 | J74: 80 | K74: =I74 -> 2 | L74: =J74+K74 -> 82 | M74: 是 | N74: 第03面试室 | O74: 第03候考室 | P74: MS095 | Q74: 8 | S74: 74.42 | T74: =L74*0.5+S74*0.5 -> 78.21 | U74: 是
A75: 652 | B75: 122 | C75: 097 | D75: 刘国帅 | E75: 城关二小 | F75: 小学 | G75: 信息技术 | H75: 乡镇教师 | I75: 2 | J75: 69 | K75: =I75 -> 2 | L75: =J75+K75 -> 71 | M75: 是 | N75: 第03面试室 | O75: 第03候考室 | P75: MS096 | Q75: 7 | S75: 78.52 | T75: =L75*0.5+S75*0.5 -> 74.76
A76: 623 | B76: 117 | C76: 068 | D76: 陶忠成 | E76: 城关二小 | F76: 小学 | G76: 音乐 | J76: 92 | K76: =I76 -> 0 | L76: =J76+K76 -> 92 | M76: 是 | N76: 第05面试室 | O76: 第05候考室 | P76: MS175 | Q76: 23 | S76: 80.47 | T76: =L76*0.5+S76*0.5 -> 86.235 | U76: 是
A77: 683 | B77: 127 | C77: 128 | D77: 文学芹 | E77: 城关二小 | F77: 小学 | G77: 音乐 | H77: 乡镇教师 | I77: 2 | J77: 85 | K77: =I77 -> 2 | L77: =J77+K77 -> 87 | M77: 是 | N77: 第05面试室 | O77: 第05候考室 | P77: MS178 | Q77: 24 | S77: 78.94 | T77: =L77*0.5+S77*0.5 -> 82.97
A78: 663 | B78: 123 | C78: 108 | D78: 韩梅 | E78: 城关二小 | F78: 小学 | G78: 音乐 | H78: 村校教师 | I78: 3 | J78: 84 | K78: =I78 -> 3 | L78: =J78+K78 -> 87 | M78: 是 | N78: 第05面试室 | O78: 第05候考室 | P78: MS177 | Q78: 22 | S78: 77.38 | T78: =L78*0.5+S78*0.5 -> 82.19
A79: 587 | B79: 113 | C79: 032 | D79: 彭玲 | E79: 城关二小 | F79: 小学 | G79: 音乐 | J79: 87 | K79: =I79 -> 0 | L79: =J79+K79 -> 87 | M79: 是 | N79: 第05面试室 | O79: 第05候考室 | P79: MS176 | Q79: 21 | S79: 74.69 | T79: =L79*0.5+S79*0.5 -> 80.845
A80: 580 | B80: 111 | C80: 025 | D80: 石艳 | E80: 城关二小 | F80: 小学 | G80: 英语 | H80: 村校教师 | I80: 3 | J80: 94 | K80: =I80 -> 3 | L80: =J80+K80 -> 97 | M80: 是 | N80: 第05面试室 | O80: 第05候考室 | P80: MS179 | Q80: 9 | S80: 81.81 | T80: =L80*0.5+S80*0.5 -> 89.405 | U80: 是
A81: 763 | B81: 139 | C81: 208 | D81: 夏扬 | E81: 城关二小 | F81: 小学 | G81: 英语 | H81: 乡镇班主任 | I81: 3 | J81: 91 | K81: =I81 -> 3 | L81: =J81+K81 -> 94 | M81: 是 | N81: 第05面试室 | O81: 第05候考室 | P81: MS181 | Q81: 12 | S81: 77.4 | T81: =L81*0.5+S81*0.5 -> 85.7 | U81: 是
A82: 557 | B82: 107 | C82: 002 | D82: 韩琦 | E82: 城关二小 | F82: 小学 | G82: 英语 | H82: 乡镇教师 | I82: 2 | J82: 94 | K82: =I82 -> 2 | L82: =J82+K82 -> 96 | M82: 是 | N82: 第05面试室 | O82: 第05候考室 | P82: MS180 | Q82: 8 | S82: 73.18 | T82: =L82*0.5+S82*0.5 -> 84.59 | U82: 是
A83: 640 | B83: 119 | C83: 085 | D83: 潘蓉 | E83: 城关二小 | F83: 小学 | G83: 英语 | H83: 村校班主任 | I83: 4 | J83: 88 | K83: =I83 -> 4 | L83: =J83+K83 -> 92 | M83: 是 | N83: 第05面试室 | O83: 第05候考室 | P83: MS183 | Q83: 5 | S83: 76.78 | T83: =L83*0.5+S83*0.5 -> 84.39
A84: 670 | B84: 126 | C84: 115 | D84: 夏丽 | E84: 城关二小 | F84: 小学 | G84: 英语 | J84: 92 | K84: =I84 -> 0 | L84: =J84+K84 -> 92 | M84: 是 | N84: 第05面试室 | O84: 第05候考室 | P84: MS185 | Q84: 7 | S84: 76.4 | T84: =L84*0.5+S84*0.5 -> 84.2
A85: 581 | B85: 112 | C85: 026 | D85: 杨春 | E85: 城关二小 | F85: 小学 | G85: 英语 | H85: 村校教师 | I85: 3 | J85: 89 | K85: =I85 -> 3 | L85: =J85+K85 -> 92 | M85: 是 | N85: 第05面试室 | O85: 第05候考室 | P85: MS182 | Q85: 10 | S85: 75.44 | T85: =L85*0.5+S85*0.5 -> 83.72
A86: 667 | B86: 125 | C86: 112 | D86: 汤海 | E86: 城关二小 | F86: 小学 | G86: 英语 | J86: 92 | K86: =I86 -> 0 | L86: =J86+K86 -> 92 | M86: 是 | N86: 第05面试室 | O86: 第05候考室 | P86: MS184 | Q86: 11 | S86: 74.39 | T86: =L86*0.5+S86*0.5 -> 83.195
A87: 800 | B87: 144 | C87: 246 | D87: 潘静 | E87: 城关二小 | F87: 小学 | G87: 英语 | H87: 乡镇教师 | I87: 2 | J87: 90 | K87: =I87 -> 2 | L87: =J87+K87 -> 92 | M87: 是 | N87: 第05面试室 | O87: 第05候考室 | P87: MS186 | Q87: 6 | S87: 70.61 | T87: =L87*0.5+S87*0.5 -> 81.305
A88: 712 | B88: 128 | C88: 157 | D88: 陈坐银 | E88: 城关二小 | F88: 小学 | G88: 语文 | H88: 村级学校 | I88: 2 | J88: 81 | K88: =I88 -> 2 | L88: =J88+K88 -> 83 | M88: 是 | N88: 第02面试室 | O88: 第02候考室 | P88: MS056 | Q88: 8 | S88: 77.33 | T88: =L88*0.5+S88*0.5 -> 80.165 | U88: 是
A89: 741 | B89: 132 | C89: 186 | D89: 路梅 | E89: 城关二小 | F89: 小学 | G89: 语文 | H89: 乡镇教师 | I89: 2 | J89: 75.5 | K89: =I89 -> 2 | L89: =J89+K89 -> 77.5 | M89: 是 | N89: 第02面试室 | O89: 第02候考室 | P89: MS063 | Q89: 4 | S89: 80.7 | T89: =L89*0.5+S89*0.5 -> 79.1 | U89: 是
A90: 762 | B90: 138 | C90: 207 | D90: 徐玉春 | E90: 城关二小 | F90: 小学 | G90: 语文 | H90: 乡镇教师 | I90: 2 | J90: 82.5 | K90: =I90 -> 2 | L90: =J90+K90 -> 84.5 | M90: 是 | N90: 第02面试室 | O90: 第02候考室 | P90: MS055 | Q90: 6 | S90: 71.74 | T90: =L90*0.5+S90*0.5 -> 78.12 | U90: 是
A91: 808 | B91: 146 | C91: 254 | D91: 阳来凤 | E91: 城关二小 | F91: 小学 | G91: 语文 | H91: 村校班主任 | I91: 3 | J91: 75 | K91: =I91 -> 3 | L91: =J91+K91 -> 78 | M91: 是 | N91: 第02面试室 | O91: 第02候考室 | P91: MS062 | Q91: 10 | S91: 77.99 | T91: =L91*0.5+S91*0.5 -> 77.995 | U91: 是
A92: 718 | B92: 130 | C92: 163 | D92: 龚应 | E92: 城关二小 | F92: 小学 | G92: 语文 | H92: 乡镇教师 | I92: 2 | J92: 79.5 | K92: =I92 -> 2 | L92: =J92+K92 -> 81.5 | M92: 是 | N92: 第02面试室 | O92: 第02候考室 | P92: MS057 | Q92: 3 | S92: 73.3 | T92: =L92*0.5+S92*0.5 -> 77.4 | U92: 是
A93: 563 | B93: 109 | C93: 008 | D93: 蒋玉琴 | E93: 城关二小 | F93: 小学 | G93: 语文 | H93: 乡镇教师 | I93: 2 | J93: 76.5 | K93: =I93 -> 2 | L93: =J93+K93 -> 78.5 | M93: 是 | N93: 第02面试室 | O93: 第02候考室 | P93: MS058 | Q93: 12 | S93: 75.92 | T93: =L93*0.5+S93*0.5 -> 77.21 | U93: 是
A94: 649 | B94: 121 | C94: 094 | D94: 章燕 | E94: 城关二小 | F94: 小学 | G94: 语文 | J94: 78 | K94: =I94 -> 0 | L94: =J94+K94 -> 78 | M94: 是 | N94: 第02面试室 | O94: 第02候考室 | P94: MS060 | Q94: 5 | S94: 74.79 | T94: =L94*0.5+S94*0.5 -> 76.395
A95: 787 | B95: 142 | C95: 232 | D95: 郎晓 | E95: 城关二小 | F95: 小学 | G95: 语文 | H95: 乡镇教师 | I95: 2 | J95: 76 | K95: =I95 -> 2 | L95: =J95+K95 -> 78 | M95: 是 | N95: 第02面试室 | O95: 第02候考室 | P95: MS061 | Q95: 11 | S95: 72.73 | T95: =L95*0.5+S95*0.5 -> 75.365
A96: 560 | B96: 108 | C96: 005 | D96: 谭龙祥 | E96: 城关二小 | F96: 小学 | G96: 语文 | H96: 乡镇班主任 | I96: 3 | J96: 75 | K96: =I96 -> 3 | L96: =J96+K96 -> 78 | M96: 是 | N96: 第02面试室 | O96: 第02候考室 | P96: MS059 | Q96: 9 | S96: 72.52 | T96: =L96*0.5+S96*0.5 -> 75.26
A97: 714 | B97: 129 | C97: 159 | D97: 刘淑娟 | E97: 城关二小 | F97: 小学 | G97: 语文 | H97: 乡镇教师 | I97: 2 | J97: 75 | K97: =I97 -> 2 | L97: =J97+K97 -> 77 | M97: 是 | N97: 第02面试室 | O97: 第02候考室 | P97: MS064 | Q97: 7 | S97: 73.2 | T97: =L97*0.5+S97*0.5 -> 75.1
A98: 643 | B98: 120 | C98: 088 | D98: 潘明奎 | E98: 城关二小 | F98: 小学 | G98: 语文 | H98: 乡镇班主任 | I98: 3 | J98: 81.5 | K98: =I98 -> 3 | L98: =J98+K98 -> 84.5 | M98: 是 | N98: 第02面试室 | O98: 第02候考室 | P98: MS054 | T98: =L98*0.5+S98*0.5 -> 42.25 | V98: 面试缺考
A99: 740 | B99: 131 | C99: 185 | D99: 柳大江 | E99: 城关二小 | F99: 小学 | G99: 语文 | H99: 乡镇教师 | I99: 2 | J99: 75 | K99: =I99 -> 2 | L99: =J99+K99 -> 77 | M99: 是 | N99: 第02面试室 | O99: 第02候考室 | P99: MS065 | T99: =L99*0.5+S99*0.5 -> 38.5 | V99: 面试缺考
A100: 18 | B100: 4 | C100: 18 | D100: 董盼 | E100: 城关三小 | F100: 小学 | G100: 科学 | J100: 75 | K100: =I100 -> 0 | L100: =J100+K100 -> 75 | M100: 是 | N100: 第04面试室 | O100: 第04候考室 | P100: MS147 | Q100: 9 | S100: 82.87 | T100: =L100*0.5+S100*0.5 -> 78.935 | U100: 是
...

Sheet 笔试准考证打印
B2: 打印第 | C2: 94 | D2: 页至 | E2: 10 | G2: 页 | L2: 请使用A4纸打印
B4: 赫章县2019年面向全县公办学校公开考调城区 部分易地扶贫搬迁子女就读学校教师 | K4: =B4 -> 赫章县2019年面向全县公办学校公开考调城区 部分易地扶贫搬迁子女就读学校教师
K5: =B5
B6: 笔试准考证（存根） | K6: 笔试准考证
B7: 报名序号： | C7: =IF(ISERROR(VLOOKUP($H$8,基础数据!A:U,3,FALSE)),"",VLOOKUP($H$8,基础数据!A:U,3,FALSE)) | G7: 本考生签字：
B8: 考 场 号 | C8: =IF(ISERROR(VLOOKUP($H$8,基础数据!A:U,37,FALSE)),"",VLOOKUP($H$8,基础数据!A:U,37,FALSE)) | D8: 座位号 | E8: =IF(ISERROR(VLOOKUP($H$8,基础数据!A:U,38,FALSE)),"",VLOOKUP($H$8,基础数据!A:U,38,FALSE)) | F8: 准考证号 | G8: =IF(ISERROR(VLOOKUP($H$8,基础数据!A:U,35,FALSE)),"",VLOOKUP($H$8,基础数据!A:U,35,FALSE)) | H8: =C2 -> 94 | K8: =B8 -> 考 场 号 | L8: =C8 | M8: 座位号 | N8: =E8 | O8: 准考证号 | P8: =G8 | Q8: 照 片
B9: 姓 名 | C9: =IF(ISERROR(VLOOKUP($H$8,基础数据!A:U,4,FALSE)),"",VLOOKUP($H$8,基础数据!A:U,4,FALSE)) | F9: 性 别 | G9: =IF(ISERROR(VLOOKUP($H$8,基础数据!A:U,5,FALSE)),"",VLOOKUP($H$8,基础数据!A:U,5,FALSE)) | K9: 姓 名 | L9: =C9 | O9: 性 别 | P9: =G9
B10: 身份证号 | C10: =IF(ISERROR(VLOOKUP($H$8,基础数据!A:U,13,FALSE)),"",VLOOKUP($H$8,基础数据!A:U,13,FALSE)) | K10: 身份证号 | L10: =C10
B11: 报考学校学段学科 | C11: =IF(ISERROR(VLOOKUP($H$8,基础数据!A:U,22,FALSE)),"",VLOOKUP($H$8,基础数据!A:U,22,FALSE))&IF(ISERROR(VLOOKUP($H$8,基础数据!A:U,23,FALSE)),"",VLOOKUP($H$8,基础数据!A:U,23,FALSE))&IF(ISERROR(VLOOKUP($H$8,基础数据!A:U,24,FALSE)),"",VLOOKUP($H$8,基础数据!A:U,24,FALSE)) | K11: =B11 -> 报考学校学段学科 | L11: =C11
B12: 考点名称（笔试地点） | C12: =IF(ISERROR(VLOOKUP($H$8,基础数据!A:U,36,FALSE)),"",VLOOKUP($H$8,基础数据!A:U,36,FALSE)) | K12: 考点名称（笔试地点） | L12: =C12
B13: 笔试时间 | C13: =IF(ISERROR(VLOOKUP($H$8,基础数据!A:U,34,FALSE)),"",VLOOKUP($H$8,基础数据!A:U,34,FALSE)) | K13: 笔试时间 | L13: =C13
B14: 笔试科目 | C14: =IF(ISERROR(VLOOKUP($H$8,基础数据!A:U,39,FALSE)),"",VLOOKUP($H$8,基础数据!A:U,39,FALSE)) | K14: 笔试科目 | L14: =C14
B15: 注：1、附《考场规则》于背面，请认真阅读，以免影响考试。 2、请仔细核对本证各项内容，有疑问或错误，请及时核对，联系 电话：0857-3222369，0857-3232881 3、信息公示网址： http://rsj.gzhezhang.gov.cn/ 4、请妥善保管此证，不得遗失，笔试、面试等环节需出示 此证。 | K15: 注：1、附《考场规则》于背面，请认真阅读，以免影响考试。 2、请仔细核对本证各项内容，有疑问或错误，请及时核对，联系 电话：0857-3222369，0857-3232881 3、信息公示网址： http://rsj.gzhezhang.gov.cn/ 4、请妥善保管此证，不得遗失，笔试、面试等环节需出示 此证。
B17: =B4 -> 赫章县2019年面向全县公办学校公开考调城区 部分易地扶贫搬迁子女就读学校教师 | K17: =B17 -> 赫章县2019年面向全县公办学校公开考调城区 部分易地扶贫搬迁子女就读学校教师
B18: 笔试准考证（存根） | K18: 笔试准考证
B19: 报名序号： | C19: =IF(ISERROR(VLOOKUP($H$20,基础数据!A:U,3,FALSE)),"",VLOOKUP($H$20,基础数据!A:U,3,FALSE)) | G19: 本考生签字：
B20: 考 场 号 | C20: =IF(ISERROR(VLOOKUP($H$20,基础数据!A:U,37,FALSE)),"",VLOOKUP($H$20,基础数据!A:U,37,FALSE)) | D20: 座位号 | E20: =IF(ISERROR(VLOOKUP($H$20,基础数据!A:U,38,FALSE)),"",VLOOKUP($H$20,基础数据!A:U,38,FALSE)) | F20: 准考证号 | G20: =IF(ISERROR(VLOOKUP($H$20,基础数据!A:U,35,FALSE)),"",VLOOKUP($H$20,基础数据!A:U,35,FALSE)) | H20: =H8+1 -> 95 | K20: =B20 -> 考 场 号 | L20: =C20 | M20: =D20 -> 座位号 | N20: =E20 | O20: 准考证号 | P20: =G20 | Q20: 照 片
B21: 姓 名 | C21: =IF(ISERROR(VLOOKUP($H$20,基础数据!A:U,4,FALSE)),"",VLOOKUP($H$20,基础数据!A:U,4,FALSE)) | F21: 性 别 | G21: =IF(ISERROR(VLOOKUP($H$20,基础数据!A:U,5,FALSE)),"",VLOOKUP($H$20,基础数据!A:U,5,FALSE)) | K21: 姓 名 | L21: =C21 | O21: 性 别 | P21: =G21
B22: 身份证号 | C22: =IF(ISERROR(VLOOKUP($H$20,基础数据!A:U,13,FALSE)),"",VLOOKUP($H$20,基础数据!A:U,13,FALSE)) | K22: 身份证号 | L22: =C22
B23: =B11 -> 报考学校学段学科 | C23: =IF(ISERROR(VLOOKUP($H$20,基础数据!A:U,22,FALSE)),"",VLOOKUP($H$20,基础数据!A:U,22,FALSE))&IF(ISERROR(VLOOKUP($H$20,基础数据!A:U,23,FALSE)),"",VLOOKUP($H$20,基础数据!A:U,23,FALSE))&IF(ISERROR(VLOOKUP($H$20,基础数据!A:U,24,FALSE)),"",VLOOKUP($H$20,基础数据!A:U,24,FALSE)) | K23: =B23 -> 报考学校学段学科 | L23: =C23
B24: 考点名称（笔试地点） | C24: =IF(ISERROR(VLOOKUP($H$20,基础数据!A:U,36,FALSE)),"",VLOOKUP($H$20,基础数据!A:U,36,FALSE)) | K24: 考点名称（笔试地点） | L24: =C24
B25: 笔试时间 | C25: =IF(ISERROR(VLOOKUP($H$20,基础数据!A:U,34,FALSE)),"",VLOOKUP($H$20,基础数据!A:U,34,FALSE)) | K25: 笔试时间 | L25: =C25
B26: 笔试科目 | C26: =IF(ISERROR(VLOOKUP($H$20,基础数据!A:U,39,FALSE)),"",VLOOKUP($H$20,基础数据!A:U,39,FALSE)) | K26: 笔试科目 | L26: =C26
B27: 注：1、附《考场规则》于背面，请认真阅读，以免影响考试。 2、请仔细核对本证各项内容，有疑问或错误，请及时核对，联系 电话：0857-3222369，0857-3232881 3、信息公示网址： http://rsj.gzhezhang.gov.cn/ 4、请妥善保管此证，不得遗失，笔试、面试等环节需出示 此证。 | K27: 注：1、附《考场规则》于背面，请认真阅读，以免影响考试。 2、请仔细核对本证各项内容，有疑问或错误，请及时核对，联系 电话：0857-3222369，0857-3232881 3、信息公示网址： http://rsj.gzhezhang.gov.cn/ 4、请妥善保管此证，不得遗失，笔试、面试等环节需出示 此证。

Sheet 面试准考证打印
B2: 打印第 | C2: 97 | D2: 页至 | E2: 200 | G2: 页 | L2: 请使用A4纸打印
B3: 赫章县2019年面向全县公办学校公开考调城区部分易地扶贫搬迁子女就读学校教师 | K3: =B3 -> 赫章县2019年面向全县公办学校公开考调城区部分易地扶贫搬迁子女就读学校教师
B4: 面试准考证（存根） | K4: 面试准考证
B5: 报名序号： | C5: =IF(ISERROR(VLOOKUP($H$6,基础数据!B:U,2,FALSE)),"",VLOOKUP($H$6,基础数据!B:U,2,FALSE)) -> 13 | G5: 本考生签字：
B6: 面试编号 | C6: =IF(ISERROR(VLOOKUP($H$6,基础数据!B:U,51,FALSE)),"",VLOOKUP($H$6,基础数据!B:U,51,FALSE)) | F6: 准考证号 | G6: =IF(ISERROR(VLOOKUP($H$6,基础数据!B:U,34,FALSE)),"",VLOOKUP($H$6,基础数据!B:U,34,FALSE)) | H6: =C2 -> 97 | K6: =B6 -> 面试编号 | L6: =C6 | O6: =F6 -> 准考证号 | P6: =G6 | Q6: 照 片
B7: 姓 名 | C7: =IF(ISERROR(VLOOKUP($H$6,基础数据!B:U,3,FALSE)),"",VLOOKUP($H$6,基础数据!B:U,3,FALSE)) -> 赵斌 | F7: 性 别 | G7: =IF(ISERROR(VLOOKUP($H$6,基础数据!B:U,4,FALSE)),"",VLOOKUP($H$6,基础数据!B:U,4,FALSE)) -> 城关镇黄泥小学 | K7: 姓 名 | L7: =C7 -> 赵斌 | O7: 性 别 | P7: =G7 -> 城关镇黄泥小学
B8: 身份证号 | C8: =IF(ISERROR(VLOOKUP($H$6,基础数据!B:U,12,FALSE)),"",VLOOKUP($H$6,基础数据!B:U,12,FALSE)) -> 是 | K8: 身份证号 | L8: =C8 -> 是
B9: 报考单位学段学科 | C9: =IF(ISERROR(VLOOKUP($H$6,基础数据!B:U,21,FALSE)),"",VLOOKUP($H$6,基础数据!B:U,21,FALSE))&IF(ISERROR(VLOOKUP($H$6,基础数据!B:U,22,FALSE)),"",VLOOKUP($H$6,基础数据!B:U,22,FALSE))&IF(ISERROR(VLOOKUP($H$6,基础数据!B:U,23,FALSE)),"",VLOOKUP($H$6,基础数据!B:U,23,FALSE)) | K9: =B9 -> 报考单位学段学科 | L9: =C9
B10: 考点名称（面试地点） | C10: =IF(ISERROR(VLOOKUP($H$6,基础数据!B:U,46,FALSE)),"",VLOOKUP($H$6,基础数据!B:U,46,FALSE)) | K10: 考点名称（面试地点） | L10: =C10
B12: 面试室 | C12: =IF(ISERROR(VLOOKUP($H$6,基础数据!B:U,49,FALSE)),"",VLOOKUP($H$6,基础数据!B:U,49,FALSE)) | F12: 候考室 | G12: =IF(ISERROR(VLOOKUP($H$6,基础数据!B:U,50,FALSE)),"",VLOOKUP($H$6,基础数据!B:U,50,FALSE)) | K12: 面试室 | L12: =C12 | O12: 候考室 | P12: =G12
B14: 面试时间 | C14: =IF(ISERROR(VLOOKUP($H$6,基础数据!B:U,47,FALSE)),"",VLOOKUP($H$6,基础数据!B:U,47,FALSE)) | F14: 候考室报到时间 | G14: =IF(ISERROR(VLOOKUP($H$6,基础数据!B:U,48,FALSE)),"",VLOOKUP($H$6,基础数据!B:U,48,FALSE)) | K14: 面试时间 | L14: =C14 | O14: 候考室报到时间 | P14: =G14
B15: 注：1、面试考生须同时持有效《居民身份证》、《面试准考证》原件进入指定的面试考点，按规定报到时间进入相应候考室。 2、附《面试人员须知》于背面，请认真阅读，以免影响考试。 3、请仔细核对本证各项内容，有疑问或错误，请及时核对，联系电话：0857-3222369,0857-3232881 4、信息公示网址：http://rsj.gzhezhang.gov.cn/）和县教育系统政工QQ群（信息向当地教育管理中心索取） | K15: =B15 -> 注：1、面试考生须同时持有效《居民身份证》、《面试准考证》原件进入指定的面试考点，按规定报到时间进入相应候考室。 2、附《面试人员须知》于背面，请认真阅读，以免影响考试。 3、请仔细核对本证各项内容，有疑问或错误，请及时核对，联系电话：0857-3222369,0857-3232881 4、信息公示网址：http://rsj.gzhezhang.gov.cn/）和县教育系统政工QQ群（信息向当地教育管理中心索取）
B17: =B3 -> 赫章县2019年面向全县公办学校公开考调城区部分易地扶贫搬迁子女就读学校教师 | K17: =B17 -> 赫章县2019年面向全县公办学校公开考调城区部分易地扶贫搬迁子女就读学校教师
B18: 面试准考证（存根） | K18: 面试准考证
B19: 报名序号： | C19: =IF(ISERROR(VLOOKUP($H$20,基础数据!B:U,2,FALSE)),"",VLOOKUP($H$20,基础数据!B:U,2,FALSE)) -> 266 | G19: 本考生签字：
B20: 面试编号 | C20: =IF(ISERROR(VLOOKUP($H$20,基础数据!B:U,51,FALSE)),"",VLOOKUP($H$20,基础数据!B:U,51,FALSE)) | F20: 准考证号 | G20: =IF(ISERROR(VLOOKUP($H$20,基础数据!B:U,34,FALSE)),"",VLOOKUP($H$20,基础数据!B:U,34,FALSE)) | H20: =H6+1 -> 98 | K20: =B20 -> 面试编号 | L20: =C20 | O20: 准考证号 | P20: =G20 | Q20: 照 片
B21: 姓 名 | C21: =IF(ISERROR(VLOOKUP($H$20,基础数据!B:U,3,FALSE)),"",VLOOKUP($H$20,基础数据!B:U,3,FALSE)) -> 杨发国 | F21: 性 别 | G21: =IF(ISERROR(VLOOKUP($H$20,基础数据!B:U,4,FALSE)),"",VLOOKUP($H$20,基础数据!B:U,4,FALSE)) -> 城关镇卸旗小学 | K21: 姓 名 | L21: =C21 -> 杨发国 | O21: 性 别 | P21: =G21 -> 城关镇卸旗小学
B22: 身份证号 | C22: =IF(ISERROR(VLOOKUP($H$20,基础数据!B:U,12,FALSE)),"",VLOOKUP($H$20,基础数据!B:U,12,FALSE)) -> 是 | K22: 身份证号 | L22: =C22 -> 是
B23: =B9 -> 报考单位学段学科 | C23: =IF(ISERROR(VLOOKUP($H$20,基础数据!B:U,21,FALSE)),"",VLOOKUP($H$20,基础数据!B:U,21,FALSE))&IF(ISERROR(VLOOKUP($H$20,基础数据!B:U,22,FALSE)),"",VLOOKUP($H$20,基础数据!B:U,22,FALSE))&IF(ISERROR(VLOOKUP($H$20,基础数据!B:U,23,FALSE)),"",VLOOKUP($H$20,基础数据!B:U,23,FALSE)) | K23: =B9 -> 报考单位学段学科 | L23: =C23
B24: 考点名称（面试地点） | C24: =IF(ISERROR(VLOOKUP($H$20,基础数据!B:U,46,FALSE)),"",VLOOKUP($H$20,基础数据!B:U,46,FALSE)) | K24: 考点名称（面试地点） | L24: =C24
B26: 面试室 | C26: =IF(ISERROR(VLOOKUP($H$20,基础数据!B:U,49,FALSE)),"",VLOOKUP($H$20,基础数据!B:U,49,FALSE)) | F26: 候考室 | G26: =IF(ISERROR(VLOOKUP($H$20,基础数据!B:U,50,FALSE)),"",VLOOKUP($H$20,基础数据!B:U,50,FALSE)) | K26: =B26 -> 面试室 | L26: =C26 | O26: =F26 -> 候考室 | P26: =G26
B28: 面试时间 | C28: =IF(ISERROR(VLOOKUP($H$20,基础数据!B:U,47,FALSE)),"",VLOOKUP($H$20,基础数据!B:U,47,FALSE)) | F28: 候考室报到时间 | G28: =IF(ISERROR(VLOOKUP($H$20,基础数据!B:U,48,FALSE)),"",VLOOKUP($H$20,基础数据!B:U,48,FALSE)) | K28: =B28 -> 面试时间 | L28: =C28 | O28: =F28 -> 候考室报到时间 | P28: =G28
B29: =B15 -> 注：1、面试考生须同时持有效《居民身份证》、《面试准考证》原件进入指定的面试考点，按规定报到时间进入相应候考室。 2、附《面试人员须知》于背面，请认真阅读，以免影响考试。 3、请仔细核对本证各项内容，有疑问或错误，请及时核对，联系电话：0857-3222369,0857-3232881 4、信息公示网址：http://rsj.gzhezhang.gov.cn/）和县教育系统政工QQ群（信息向当地教育管理中心索取） | K29: =B29 -> 注：1、面试考生须同时持有效《居民身份证》、《面试准考证》原件进入指定的面试考点，按规定报到时间进入相应候考室。 2、附《面试人员须知》于背面，请认真阅读，以免影响考试。 3、请仔细核对本证各项内容，有疑问或错误，请及时核对，联系电话：0857-3222369,0857-3232881 4、信息公示网址：http://rsj.gzhezhang.gov.cn/）和县教育系统政工QQ群（信息向当地教育管理中心索取）

Sheet Sheet1
A1: 医学综合知识（药学类）
A2: 医学综合知识（药学类）
A3: 医学综合知识（药学类）
A4: 医学综合知识（药学类）
A5: 医学综合知识（药学类）
A6: 医学综合知识（药学类）
A7: 医学综合知识（药学类）
A8: 医学综合知识（药学类）
A9: 医学综合知识（临床类）
A10: 医学综合知识（药学类）
A11: 医学综合知识（药学类）
A12: 医学综合知识（临床类）
... A65: 医学综合知识（药学类）

Sheet Sheet2
