{"text_format":"3","workbook":"xlsx","n_sheets":1,"sheets":["Sheet1"],"not_rendered":{"external_links":1},"read":"whole","date_system":"1900"}

{"sheet":"Sheet1","index":0,"n_rows":297,"n_cols":14,"rows_kept":297,"merged":[[0,0,0,13]]}
["赫章县公安局2025年面向社会公开招聘\n警务辅助人员总成绩公示及拟进入体检人员名单"]
["序号","职位名称","招考单位","职位代码","姓名","准考证号","笔试成绩","笔试成绩\n折算为百分制","笔试成绩\n（40%）","面试分数","面试成绩\n（60%）","总成绩","是否进入\n体检","备注"]
[1,"勤务岗位01","赫章县公安局","01",{"$f":"VLOOKUP(F3,'[1]Worksheet (2)'!$A$1:$C$1340,2,FALSE)","v":"王杰"},2025010226,{"v":114.3,"d":"114.30"},{"$f":"ROUND(G3/1.5,2)","v":{"v":76.2,"d":"76.20"}},{"$f":"ROUND(H3*0.4,2)","v":30.48},80.57,{"$f":"ROUND(J3*0.6,2)","v":48.34},{"$f":"ROUND(I3+K3,2)","v":78.82},"是"]
[2,"勤务岗位01","赫章县公安局","01",{"$f":"VLOOKUP(F4,'[1]Worksheet (2)'!$A$1:$C$1340,2,FALSE)","v":"曹朗"},2025010106,{"v":114.3,"d":"114.30"},{"v":76.2,"d":"76.20"},30.48,{"v":80.2,"d":"80.20"},48.12,{"v":78.6,"d":"78.60"},"是"]
[3,"勤务岗位01","赫章县公安局","01",{"$f":"VLOOKUP(F5,'[1]Worksheet (2)'!$A$1:$C$1340,2,FALSE)","v":"饶海"},2025010218,109.78,73.19,29.28,80.97,48.58,77.86,"是"]
[4,"勤务岗位01","赫章县公安局","01",{"$f":"VLOOKUP(F6,'[1]Worksheet (2)'!$A$1:$C$1340,2,FALSE)","v":"李威"},2025010204,101.14,67.43,26.97,82.83,{"v":49.7,"d":"49.70"},76.67,"是"]
[5,"勤务岗位01","赫章县公安局","01",{"$f":"VLOOKUP(F7,'[1]Worksheet (2)'!$A$1:$C$1340,2,FALSE)","v":"颜佳伟"},2025010306,{"v":99.8,"d":"99.80"},66.53,26.61,81.81,49.09,{"v":75.7,"d":"75.70"},"是"]
[6,"勤务岗位01","赫章县公安局","01",{"$f":"VLOOKUP(F8,'[1]Worksheet (2)'!$A$1:$C$1340,2,FALSE)","v":"杜廷过"},2025010221,115.85,77.23,30.89,73.33,{"v":44,"d":"44.00"},74.89,"是"]
[7,"勤务岗位01","赫章县公安局","01",{"$f":"VLOOKUP(F9,'[1]Worksheet (2)'!$A$1:$C$1340,2,FALSE)","v":"喻永燊"},2025010210,98.88,65.92,26.37,80.87,48.52,74.89,"是"]
[8,"勤务岗位01","赫章县公安局","01",{"$f":"VLOOKUP(F10,'[1]Worksheet (2)'!$A$1:$C$1340,2,FALSE)","v":"张科"},2025010219,101.06,67.37,26.95,78.67,{"v":47.2,"d":"47.20"},74.15,"是"]
[9,"勤务岗位01","赫章县公安局","01",{"$f":"VLOOKUP(F11,'[1]Worksheet (2)'!$A$1:$C$1340,2,FALSE)","v":"汤雄"},2025010214,110.28,73.52,29.41,74.23,44.54,73.95,"是"]
[10,"勤务岗位01","赫章县公安局","01",{"$f":"VLOOKUP(F12,'[1]Worksheet (2)'!$A$1:$C$1340,2,FALSE)","v":"马贵雄"},2025010314,110.07,73.38,29.35,73.36,44.02,73.37,"是"]
[11,"勤务岗位01","赫章县公安局","01",{"$f":"VLOOKUP(F13,'[1]Worksheet (2)'!$A$1:$C$1340,2,FALSE)","v":"郑涛"},2025010119,92.47,61.65,24.66,80.51,48.31,72.97,"是"]
[12,"勤务岗位01","赫章县公安局","01",{"$f":"VLOOKUP(F14,'[1]Worksheet (2)'!$A$1:$C$1340,2,FALSE)","v":"朱涛"},2025010321,107.89,71.93,28.77,73.04,43.82,72.59,"是"]
[13,"勤务岗位01","赫章县公安局","01",{"$f":"VLOOKUP(F15,'[1]Worksheet (2)'!$A$1:$C$1340,2,FALSE)","v":"王林冲"},2025010312,104.87,69.91,27.96,{"v":73.5,"d":"73.50"},{"v":44.1,"d":"44.10"},72.06,"是"]
[14,"勤务岗位01","赫章县公安局","01",{"$f":"VLOOKUP(F16,'[1]Worksheet (2)'!$A$1:$C$1340,2,FALSE)","v":"管灿"},2025010115,88.03,58.69,23.48,79.63,47.78,71.26,"是"]
[15,"勤务岗位01","赫章县公安局","01",{"$f":"VLOOKUP(F17,'[1]Worksheet (2)'!$A$1:$C$1340,2,FALSE)","v":"王钱参"},2025010129,89.87,59.91,23.96,77.17,{"v":46.3,"d":"46.30"},70.26,"是"]
[16,"勤务岗位01","赫章县公安局","01",{"$f":"VLOOKUP(F18,'[1]Worksheet (2)'!$A$1:$C$1340,2,FALSE)","v":"陆季"},2025010128,83.25,{"v":55.5,"d":"55.50"},{"v":22.2,"d":"22.20"},79.54,47.72,69.92,"否"]
[17,"勤务岗位01","赫章县公安局","01",{"$f":"VLOOKUP(F19,'[1]Worksheet (2)'!$A$1:$C$1340,2,FALSE)","v":"张伦"},2025010125,86.56,57.71,23.08,77.77,46.66,69.74,"否"]
[18,"勤务岗位01","赫章县公安局","01",{"$f":"VLOOKUP(F20,'[1]Worksheet (2)'!$A$1:$C$1340,2,FALSE)","v":"黄家超"},2025010120,89.95,59.97,23.99,74.53,44.72,68.71,"否"]
[19,"勤务岗位01","赫章县公安局","01",{"$f":"VLOOKUP(F21,'[1]Worksheet (2)'!$A$1:$C$1340,2,FALSE)","v":"周礼庆"},2025010320,79.31,52.87,21.15,79.24,47.54,68.69,"否"]
[20,"勤务岗位01","赫章县公安局","01",{"$f":"VLOOKUP(F22,'[1]Worksheet (2)'!$A$1:$C$1340,2,FALSE)","v":"申贵明"},2025010101,{"v":98.8,"d":"98.80"},65.87,26.35,69.57,41.74,68.09,"否"]
[21,"勤务岗位01","赫章县公安局","01",{"$f":"VLOOKUP(F23,'[1]Worksheet (2)'!$A$1:$C$1340,2,FALSE)","v":"徐淼燚"},2025010110,91.63,61.09,24.44,71.64,42.98,67.42,"否"]
[22,"勤务岗位01","赫章县公安局","01",{"$f":"VLOOKUP(F24,'[1]Worksheet (2)'!$A$1:$C$1340,2,FALSE)","v":"肖正涵"},2025010208,83.25,{"v":55.5,"d":"55.50"},{"v":22.2,"d":"22.20"},73.87,44.32,66.52,"否"]
[23,"勤务岗位01","赫章县公安局","01",{"$f":"VLOOKUP(F25,'[1]Worksheet (2)'!$A$1:$C$1340,2,FALSE)","v":"刘宇"},2025010108,88.37,58.91,23.56,71.13,42.68,66.24,"否"]
[24,"勤务岗位01","赫章县公安局","01",{"$f":"VLOOKUP(F26,'[1]Worksheet (2)'!$A$1:$C$1340,2,FALSE)","v":"禹龙"},2025010311,91.42,60.95,24.38,69.43,41.66,66.04,"否"]
[25,"勤务岗位01","赫章县公安局","01",{"$f":"VLOOKUP(F27,'[1]Worksheet (2)'!$A$1:$C$1340,2,FALSE)","v":"李旭"},2025010102,83.67,55.78,22.31,71.54,42.92,65.23,"否"]
[26,"勤务岗位01","赫章县公安局","01",{"$f":"VLOOKUP(F28,'[1]Worksheet (2)'!$A$1:$C$1340,2,FALSE)","v":"付浪航"},2025010213,85.51,57.01,{"v":22.8,"d":"22.80"},68.77,41.26,64.06,"否"]
[27,"勤务岗位01","赫章县公安局","01",{"$f":"VLOOKUP(F29,'[1]Worksheet (2)'!$A$1:$C$1340,2,FALSE)","v":"马严杰"},2025010113,86.69,57.79,23.12,67.53,40.52,63.64,"否"]
[28,"勤务岗位01","赫章县公安局","01",{"$f":"VLOOKUP(F30,'[1]Worksheet (2)'!$A$1:$C$1340,2,FALSE)","v":"胡思涛"},2025010109,77.76,51.84,20.74,70.77,42.46,{"v":63.2,"d":"63.20"},"否"]
[29,"勤务岗位01","赫章县公安局","01",{"$f":"VLOOKUP(F31,'[1]Worksheet (2)'!$A$1:$C$1340,2,FALSE)","v":"龙峰"},2025010211,72.27,48.18,19.27,66.53,39.92,59.19,"否"]
[30,"勤务岗位01","赫章县公安局","01",{"$f":"VLOOKUP(F32,'[1]Worksheet (2)'!$A$1:$C$1340,2,FALSE)","v":"陈鸿"},2025010202,94.02,62.68,25.07,"缺考","缺考",25.07,"否"]
[31,"勤务岗位02","赫章县公安局","02",{"$f":"VLOOKUP(F33,'[1]Worksheet (2)'!$A$1:$C$1340,2,FALSE)","v":"吕玲宇"},2025020515,113.17,75.45,30.18,78.13,{"$f":"ROUND(J33*0.6,2)","v":46.88},{"$f":"ROUND(I33+K33,2)","v":77.06},"是"]
[32,"勤务岗位02","赫章县公安局","02",{"$f":"VLOOKUP(F34,'[1]Worksheet (2)'!$A$1:$C$1340,2,FALSE)","v":"陈玮"},2025020523,112.25,74.83,29.93,74.83,{"v":44.9,"d":"44.90"},74.83,"是"]
[33,"勤务岗位02","赫章县公安局","02",{"$f":"VLOOKUP(F35,'[1]Worksheet (2)'!$A$1:$C$1340,2,FALSE)","v":"钱伦"},2025020517,118.66,79.11,31.64,69.67,{"v":41.8,"d":"41.80"},73.44,"是"]
[34,"勤务岗位02","赫章县公安局","02",{"$f":"VLOOKUP(F36,'[1]Worksheet (2)'!$A$1:$C$1340,2,FALSE)","v":"李东"},2025020405,112.04,74.69,29.88,{"v":69.4,"d":"69.40"},41.64,71.52,"是"]
[35,"勤务岗位02","赫章县公安局","02",{"$f":"VLOOKUP(F37,'[1]Worksheet (2)'!$A$1:$C$1340,2,FALSE)","v":"孙成城"},2025020518,101.98,67.99,{"v":27.2,"d":"27.20"},73.87,44.32,71.52,"是"]
[36,"勤务岗位02","赫章县公安局","02",{"$f":"VLOOKUP(F38,'[1]Worksheet (2)'!$A$1:$C$1340,2,FALSE)","v":"陈佳伦"},2025020428,95.36,63.57,25.43,76.13,45.68,71.11,"是"]
[37,"勤务岗位02","赫章县公安局","02",{"$f":"VLOOKUP(F39,'[1]Worksheet (2)'!$A$1:$C$1340,2,FALSE)","v":"龙胜"},2025020406,98.17,65.45,26.18,{"v":74.7,"d":"74.70"},44.82,{"v":71,"d":"71.00"},"是"]
[38,"勤务岗位02","赫章县公安局","02",{"$f":"VLOOKUP(F40,'[1]Worksheet (2)'!$A$1:$C$1340,2,FALSE)","v":"赵胜"},2025020402,{"v":108.1,"d":"108.10"},72.07,28.83,70.13,42.08,70.91,"是"]
[39,"勤务岗位02","赫章县公安局","02",{"$f":"VLOOKUP(F41,'[1]Worksheet (2)'!$A$1:$C$1340,2,FALSE)","v":"韩德豪"},2025020529,98.25,{"v":65.5,"d":"65.50"},{"v":26.2,"d":"26.20"},73.43,44.06,70.26,"是"]
[40,"勤务岗位02","赫章县公安局","02",{"$f":"VLOOKUP(F42,'[1]Worksheet (2)'!$A$1:$C$1340,2,FALSE)","v":"闵聪"},2025020503,100.01,66.67,26.67,71.37,42.82,69.49,"是"]
[41,"勤务岗位02","赫章县公安局","02",{"$f":"VLOOKUP(F43,'[1]Worksheet (2)'!$A$1:$C$1340,2,FALSE)","v":"林磊"},2025020521,100.85,67.23,26.89,69.63,41.78,68.67,"是"]
[42,"勤务岗位02","赫章县公安局","02",{"$f":"VLOOKUP(F44,'[1]Worksheet (2)'!$A$1:$C$1340,2,FALSE)","v":"杨世垚"},2025020328,85.85,57.23,22.89,75.43,45.26,68.15,"是"]
[43,"勤务岗位02","赫章县公安局","02",{"$f":"VLOOKUP(F45,'[1]Worksheet (2)'!$A$1:$C$1340,2,FALSE)","v":"陈龙"},2025020401,85.85,57.23,22.89,74.88,44.93,67.82,"是"]
[44,"勤务岗位02","赫章县公安局","02",{"$f":"VLOOKUP(F46,'[1]Worksheet (2)'!$A$1:$C$1340,2,FALSE)","v":"张学洪"},2025020522,{"v":93.1,"d":"93.10"},62.07,24.83,71.03,42.62,67.45,"是"]
[45,"勤务岗位02","赫章县公安局","02",{"$f":"VLOOKUP(F47,'[1]Worksheet (2)'!$A$1:$C$1340,2,FALSE)","v":"梅杰"},2025020430,107.89,71.93,28.77,64.27,38.56,67.33,"是"]
[46,"勤务岗位02","赫章县公安局","02",{"$f":"VLOOKUP(F48,'[1]Worksheet (2)'!$A$1:$C$1340,2,FALSE)","v":"沈冲"},2025020512,89.37,59.58,23.83,72.33,{"v":43.4,"d":"43.40"},67.23,"否"]
[47,"勤务岗位02","赫章县公安局","02",{"$f":"VLOOKUP(F49,'[1]Worksheet (2)'!$A$1:$C$1340,2,FALSE)","v":"龙江"},2025020509,90.71,60.47,24.19,70.78,42.47,66.66,"否"]
[48,"勤务岗位02","赫章县公安局","02",{"$f":"VLOOKUP(F50,'[1]Worksheet (2)'!$A$1:$C$1340,2,FALSE)","v":"陈信"},2025020408,85.93,57.29,22.92,72.67,{"v":43.6,"d":"43.60"},66.52,"否"]
[49,"勤务岗位02","赫章县公安局","02",{"$f":"VLOOKUP(F51,'[1]Worksheet (2)'!$A$1:$C$1340,2,FALSE)","v":"徐钦"},2025020404,84.09,56.06,22.42,{"v":72.5,"d":"72.50"},{"v":43.5,"d":"43.50"},65.92,"否"]
[50,"勤务岗位02","赫章县公安局","02",{"$f":"VLOOKUP(F52,'[1]Worksheet (2)'!$A$1:$C$1340,2,FALSE)","v":"姜召"},2025020514,88.03,58.69,23.48,69.37,41.62,{"v":65.1,"d":"65.10"},"否"]
[51,"勤务岗位02","赫章县公安局","02",{"$f":"VLOOKUP(F53,'[1]Worksheet (2)'!$A$1:$C$1340,2,FALSE)","v":"许思健"},2025020327,92.55,{"v":61.7,"d":"61.70"},24.68,{"v":65.7,"d":"65.70"},39.42,{"v":64.1,"d":"64.10"},"否"]
[52,"勤务岗位02","赫章县公安局","02",{"$f":"VLOOKUP(F54,'[1]Worksheet (2)'!$A$1:$C$1340,2,FALSE)","v":"刘航"},2025020602,93.31,62.21,24.88,63.93,38.36,63.24,"否"]
[53,"勤务岗位02","赫章县公安局","02",{"$f":"VLOOKUP(F55,'[1]Worksheet (2)'!$A$1:$C$1340,2,FALSE)","v":"雷濡键"},2025020528,78.18,52.12,20.85,69.37,41.62,62.47,"否"]
[54,"勤务岗位02","赫章县公安局","02",{"$f":"VLOOKUP(F56,'[1]Worksheet (2)'!$A$1:$C$1340,2,FALSE)","v":"王宇"},2025020423,92.13,61.42,24.57,61.87,37.12,61.69,"否"]
[55,"勤务岗位02","赫章县公安局","02",{"$f":"VLOOKUP(F57,'[1]Worksheet (2)'!$A$1:$C$1340,2,FALSE)","v":"李远"},2025020516,77.63,51.75,{"v":20.7,"d":"20.70"},68.13,40.88,61.58,"否"]
[56,"勤务岗位02","赫章县公安局","02",{"$f":"VLOOKUP(F58,'[1]Worksheet (2)'!$A$1:$C$1340,2,FALSE)","v":"朱鹏飞"},2025020510,85.72,57.15,22.86,62.67,{"v":37.6,"d":"37.60"},60.46,"否"]
[57,"勤务岗位03","赫章县公安局","03",{"$f":"VLOOKUP(F59,'[1]Worksheet (2)'!$A$1:$C$1340,2,FALSE)","v":"李志省"},2025030712,{"v":114.3,"d":"114.30"},{"v":76.2,"d":"76.20"},30.48,80.93,48.56,79.04,"是"]
[58,"勤务岗位03","赫章县公安局","03",{"$f":"VLOOKUP(F60,'[1]Worksheet (2)'!$A$1:$C$1340,2,FALSE)","v":"胡茂"},2025030801,122.31,81.54,32.62,75.53,45.32,77.94,"是"]
[59,"勤务岗位03","赫章县公安局","03",{"$f":"VLOOKUP(F61,'[1]Worksheet (2)'!$A$1:$C$1340,2,FALSE)","v":"邓道鹏"},2025030818,119.37,79.58,31.83,76.53,45.92,77.75,"是"]
[60,"勤务岗位03","赫章县公安局","03",{"$f":"VLOOKUP(F62,'[1]Worksheet (2)'!$A$1:$C$1340,2,FALSE)","v":"龚伟"},2025030807,{"v":107.6,"d":"107.60"},71.73,28.69,{"v":77.3,"d":"77.30"},46.38,75.07,"是"]
[61,"勤务岗位03","赫章县公安局","03",{"$f":"VLOOKUP(F63,'[1]Worksheet (2)'!$A$1:$C$1340,2,FALSE)","v":"龙靖鑫"},2025030720,122.76,81.84,32.74,65.33,{"v":39.2,"d":"39.20"},71.94,"是"]
[62,"勤务岗位03","赫章县公安局","03",{"$f":"VLOOKUP(F64,'[1]Worksheet (2)'!$A$1:$C$1340,2,FALSE)","v":"陈滔"},2025030622,103.24,68.83,27.53,72.83,{"v":43.7,"d":"43.70"},71.23,"是"]
[63,"勤务岗位03","赫章县公安局","03",{"$f":"VLOOKUP(F65,'[1]Worksheet (2)'!$A$1:$C$1340,2,FALSE)","v":"王瞳"},2025030609,104.37,69.58,27.83,{"v":71.4,"d":"71.40"},42.84,70.67,"是"]
[64,"勤务岗位03","赫章县公安局","03",{"$f":"VLOOKUP(F66,'[1]Worksheet (2)'!$A$1:$C$1340,2,FALSE)","v":"郑胜"},2025030607,105.34,70.23,28.09,70.53,42.32,70.41,"是"]
[65,"勤务岗位03","赫章县公安局","03",{"$f":"VLOOKUP(F67,'[1]Worksheet (2)'!$A$1:$C$1340,2,FALSE)","v":"邓阳"},2025030727,92.76,{"$f":"ROUND(G67/1.5,2)","v":61.84},{"$f":"ROUND(H67*0.4,2)","v":24.74},{"v":73.9,"d":"73.90"},44.34,69.08,"是"]
[66,"勤务岗位03","赫章县公安局","03",{"$f":"VLOOKUP(F68,'[1]Worksheet (2)'!$A$1:$C$1340,2,FALSE)","v":"杨梦"},2025030711,94.44,62.96,25.18,72.33,{"v":43.4,"d":"43.40"},68.58,"是"]
[67,"勤务岗位03","赫章县公安局","03",{"$f":"VLOOKUP(F69,'[1]Worksheet (2)'!$A$1:$C$1340,2,FALSE)","v":"王世纪"},2025030702,91.84,61.23,24.49,{"v":71.6,"d":"71.60"},42.96,67.45,"是"]
[68,"勤务岗位03","赫章县公安局","03",{"$f":"VLOOKUP(F70,'[1]Worksheet (2)'!$A$1:$C$1340,2,FALSE)","v":"陈立山"},2025030608,{"v":96.7,"d":"96.70"},64.47,25.79,{"v":68.7,"d":"68.70"},41.22,67.01,"是"]
[69,"勤务岗位03","赫章县公安局","03",{"$f":"VLOOKUP(F71,'[1]Worksheet (2)'!$A$1:$C$1340,2,FALSE)","v":"汪皓"},2025030721,91.84,61.23,24.49,70.73,42.44,66.93,"是"]
[70,"勤务岗位03","赫章县公安局","03",{"$f":"VLOOKUP(F72,'[1]Worksheet (2)'!$A$1:$C$1340,2,FALSE)","v":"文剑龙"},2025030614,83.33,55.55,22.22,73.73,44.24,66.46,"是"]
[71,"勤务岗位03","赫章县公安局","03",{"$f":"VLOOKUP(F73,'[1]Worksheet (2)'!$A$1:$C$1340,2,FALSE)","v":"夏超"},2025030628,89.79,59.86,23.94,69.07,41.44,65.38,"是"]
[72,"勤务岗位03","赫章县公安局","03",{"$f":"VLOOKUP(F74,'[1]Worksheet (2)'!$A$1:$C$1340,2,FALSE)","v":"谢宗政"},2025030617,87.35,58.23,23.29,{"v":68.2,"d":"68.20"},40.92,64.21,"否"]
[73,"勤务岗位03","赫章县公安局","03",{"$f":"VLOOKUP(F75,'[1]Worksheet (2)'!$A$1:$C$1340,2,FALSE)","v":"周雷"},2025030810,84.88,56.59,22.64,{"v":69.1,"d":"69.10"},41.46,{"v":64.1,"d":"64.10"},"否"]
[74,"勤务岗位03","赫章县公安局","03",{"$f":"VLOOKUP(F76,'[1]Worksheet (2)'!$A$1:$C$1340,2,FALSE)","v":"顾康龙"},2025030806,89.87,59.91,23.96,65.43,39.26,63.22,"否"]
[75,"勤务岗位03","赫章县公安局","03",{"$f":"VLOOKUP(F77,'[1]Worksheet (2)'!$A$1:$C$1340,2,FALSE)","v":"刘国泽"},2025030804,94.23,62.82,25.13,63.43,38.06,63.19,"否"]
[76,"勤务岗位03","赫章县公安局","03",{"$f":"VLOOKUP(F78,'[1]Worksheet (2)'!$A$1:$C$1340,2,FALSE)","v":"李玮"},2025030625,78.39,52.26,{"v":20.9,"d":"20.90"},{"v":69.7,"d":"69.70"},41.82,62.72,"否"]
[77,"勤务岗位03","赫章县公安局","03",{"$f":"VLOOKUP(F79,'[1]Worksheet (2)'!$A$1:$C$1340,2,FALSE)","v":"安远迅"},2025030725,85.14,56.76,{"v":22.7,"d":"22.70"},{"v":66.4,"d":"66.40"},39.84,62.54,"否"]
[78,"勤务岗位03","赫章县公安局","03",{"$f":"VLOOKUP(F80,'[1]Worksheet (2)'!$A$1:$C$1340,2,FALSE)","v":"张健"},2025030627,76.92,51.28,20.51,63.67,{"v":38.2,"d":"38.20"},58.71,"否"]
[79,"勤务岗位03","赫章县公安局","03",{"$f":"VLOOKUP(F81,'[1]Worksheet (2)'!$A$1:$C$1340,2,FALSE)","v":"李晨傲"},2025030615,82.96,55.31,22.12,"缺考","缺考",22.12,"否"]
[80,"勤务岗位04","赫章县公安局","04",{"$f":"VLOOKUP(F82,'[1]Worksheet (2)'!$A$1:$C$1340,2,FALSE)","v":"刘祥熙"},2025041025,112.88,75.25,{"v":30.1,"d":"30.10"},77.33,{"$f":"ROUND(J82*0.6,2)","v":{"v":46.4,"d":"46.40"}},{"$f":"ROUND(I82+K82,2)","v":{"v":76.5,"d":"76.50"}},"是"]
[81,"勤务岗位04","赫章县公安局","04",{"$f":"VLOOKUP(F83,'[1]Worksheet (2)'!$A$1:$C$1340,2,FALSE)","v":"周海"},2025041005,113.88,75.92,30.37,75.33,{"v":45.2,"d":"45.20"},75.57,"是"]
[82,"勤务岗位04","赫章县公安局","04",{"$f":"VLOOKUP(F84,'[1]Worksheet (2)'!$A$1:$C$1340,2,FALSE)","v":"孙志雄"},2025041103,{"v":125.7,"d":"125.70"},{"v":83.8,"d":"83.80"},33.52,{"v":70,"d":"70.00"},{"v":42,"d":"42.00"},75.52,"是"]
[83,"勤务岗位04","赫章县公安局","04",{"$f":"VLOOKUP(F85,'[1]Worksheet (2)'!$A$1:$C$1340,2,FALSE)","v":"刘显江"},2025040921,111.41,74.27,29.71,75.33,{"v":45.2,"d":"45.20"},74.91,"是"]
[84,"勤务岗位04","赫章县公安局","04",{"$f":"VLOOKUP(F86,'[1]Worksheet (2)'!$A$1:$C$1340,2,FALSE)","v":"罗涛"},2025041013,{"v":116.9,"d":"116.90"},77.93,31.17,71.33,{"v":42.8,"d":"42.80"},73.97,"是"]
[85,"勤务岗位04","赫章县公安局","04",{"$f":"VLOOKUP(F87,'[1]Worksheet (2)'!$A$1:$C$1340,2,FALSE)","v":"徐顺然"},2025040917,100.14,66.76,{"v":26.7,"d":"26.70"},77.67,{"v":46.6,"d":"46.60"},{"v":73.3,"d":"73.30"},"是"]
[86,"勤务岗位04","赫章县公安局","04",{"$f":"VLOOKUP(F88,'[1]Worksheet (2)'!$A$1:$C$1340,2,FALSE)","v":"刘航"},2025041029,84.59,56.39,22.56,{"v":84,"d":"84.00"},{"v":50.4,"d":"50.40"},72.96,"是"]
[87,"勤务岗位04","赫章县公安局","04",{"$f":"VLOOKUP(F89,'[1]Worksheet (2)'!$A$1:$C$1340,2,FALSE)","v":"林威"},2025041008,105.92,70.61,28.24,74.33,{"v":44.6,"d":"44.60"},72.84,"是"]
[88,"勤务岗位04","赫章县公安局","04",{"$f":"VLOOKUP(F90,'[1]Worksheet (2)'!$A$1:$C$1340,2,FALSE)","v":"龙云卿"},2025040822,86.98,57.99,{"v":23.2,"d":"23.20"},{"v":82,"d":"82.00"},{"v":49.2,"d":"49.20"},{"v":72.4,"d":"72.40"},"是"]
[89,"勤务岗位04","赫章县公安局","04",{"$f":"VLOOKUP(F91,'[1]Worksheet (2)'!$A$1:$C$1340,2,FALSE)","v":"陈忠航"},2025041017,91.13,60.75,{"v":24.3,"d":"24.30"},79.33,{"v":47.6,"d":"47.60"},{"v":71.9,"d":"71.90"},"是"]
[90,"勤务岗位04","赫章县公安局","04",{"$f":"VLOOKUP(F92,'[1]Worksheet (2)'!$A$1:$C$1340,2,FALSE)","v":"龙俊"},2025040928,93.31,62.21,24.88,{"v":78,"d":"78.00"},{"v":46.8,"d":"46.80"},71.68,"是"]
[91,"勤务岗位04","赫章县公安局","04",{"$f":"VLOOKUP(F93,'[1]Worksheet (2)'!$A$1:$C$1340,2,FALSE)","v":"尹彧天"},2025040913,96.99,64.66,25.86,{"v":76,"d":"76.00"},{"v":45.6,"d":"45.60"},71.46,"是"]
[92,"勤务岗位04","赫章县公安局","04",{"$f":"VLOOKUP(F94,'[1]Worksheet (2)'!$A$1:$C$1340,2,FALSE)","v":"杨家茂"},2025040827,{"v":93.6,"d":"93.60"},{"v":62.4,"d":"62.40"},24.96,{"v":77,"d":"77.00"},{"v":46.2,"d":"46.20"},71.16,"是"]
[93,"勤务岗位04","赫章县公安局","04",{"$f":"VLOOKUP(F95,'[1]Worksheet (2)'!$A$1:$C$1340,2,FALSE)","v":"吴頔"},2025040910,107.31,71.54,28.62,70.33,{"v":42.2,"d":"42.20"},70.82,"是"]
[94,"勤务岗位04","赫章县公安局","04",{"$f":"VLOOKUP(F96,'[1]Worksheet (2)'!$A$1:$C$1340,2,FALSE)","v":"黄成龙"},2025041006,{"v":93.6,"d":"93.60"},{"v":62.4,"d":"62.40"},24.96,76.33,{"v":45.8,"d":"45.80"},70.76,"是"]
[95,"勤务岗位04","赫章县公安局","04",{"$f":"VLOOKUP(F97,'[1]Worksheet (2)'!$A$1:$C$1340,2,FALSE)","v":"唐喜"},2025040920,{"v":99.3,"d":"99.30"},{"v":66.2,"d":"66.20"},26.48,73.67,{"v":44.2,"d":"44.20"},70.68,"否"]
[96,"勤务岗位04","赫章县公安局","04",{"$f":"VLOOKUP(F98,'[1]Worksheet (2)'!$A$1:$C$1340,2,FALSE)","v":"穆洪"},2025040925,94.44,62.96,25.18,{"v":75,"d":"75.00"},{"v":45,"d":"45.00"},70.18,"否"]
[97,"勤务岗位04","赫章县公安局","04",{"$f":"VLOOKUP(F99,'[1]Worksheet (2)'!$A$1:$C$1340,2,FALSE)","v":"罗中伟"},2025040826,88.95,{"v":59.3,"d":"59.30"},23.72,75.67,{"v":45.4,"d":"45.40"},69.12,"否"]
[98,"勤务岗位04","赫章县公安局","04",{"$f":"VLOOKUP(F100,'[1]Worksheet (2)'!$A$1:$C$1340,2,FALSE)","v":"金锐"},2025041012,96.57,64.38,25.75,70.67,{"v":42.4,"d":"42.40"},68.15,"否"]
[99,"勤务岗位04","赫章县公安局","04",{"$f":"VLOOKUP(F101,'[1]Worksheet (2)'!$A$1:$C$1340,2,FALSE)","v":"陈阳"},2025040828,93.81,62.54,25.02,{"v":70,"d":"70.00"},{"v":42,"d":"42.00"},67.02,"否"]
[100,"勤务岗位04","赫章县公安局","04",{"$f":"VLOOKUP(F102,'[1]Worksheet (2)'!$A$1:$C$1340,2,FALSE)","v":"杨蓬"},2025041026,81.99,54.66,21.86,{"v":73,"d":"73.00"},{"v":43.8,"d":"43.80"},65.66,"否"]
[101,"勤务岗位04","赫章县公安局","04",{"$f":"VLOOKUP(F103,'[1]Worksheet (2)'!$A$1:$C$1340,2,FALSE)","v":"李建涛"},2025041014,83.25,{"v":55.5,"d":"55.50"},{"v":22.2,"d":"22.20"},71.67,{"v":43,"d":"43.00"},{"v":65.2,"d":"65.20"},"否"]
[102,"勤务岗位04","赫章县公安局","04",{"$f":"VLOOKUP(F104,'[1]Worksheet (2)'!$A$1:$C$1340,2,FALSE)","v":"郑杰"},2025041016,87.98,58.65,23.46,67.67,{"v":40.6,"d":"40.60"},64.06,"否"]
[103,"勤务岗位04","赫章县公安局","04",{"$f":"VLOOKUP(F105,'[1]Worksheet (2)'!$A$1:$C$1340,2,FALSE)","v":"邹洋"},2025040908,91.42,60.95,24.38,"缺考","缺考",24.38,"否"]
[104,"勤务岗位05","赫章县公安局","05",{"$f":"VLOOKUP(F106,'[1]Worksheet (2)'!$A$1:$C$1340,2,FALSE)","v":"郭帅"},2025051119,101.56,67.71,27.08,80.58,{"$f":"ROUND(J106*0.6,2)","v":48.35},{"$f":"ROUND(I106+K106,2)","v":75.43},"是"]
[105,"勤务岗位05","赫章县公安局","05",{"$f":"VLOOKUP(F107,'[1]Worksheet (2)'!$A$1:$C$1340,2,FALSE)","v":"张江辉"},2025051306,110.28,73.52,29.41,75.79,45.47,74.88,"是"]
[106,"勤务岗位05","赫章县公安局","05",{"$f":"VLOOKUP(F108,'[1]Worksheet (2)'!$A$1:$C$1340,2,FALSE)","v":"刘冲"},2025051308,98.04,65.36,26.14,80.64,48.38,74.52,"是"]
[107,"勤务岗位05","赫章县公安局","05",{"$f":"VLOOKUP(F109,'[1]Worksheet (2)'!$A$1:$C$1340,2,FALSE)","v":"梁松瑞"},2025051215,{"v":105.5,"d":"105.50"},70.33,28.13,75.26,45.16,73.29,"是"]
[108,"勤务岗位05","赫章县公安局","05",{"$f":"VLOOKUP(F110,'[1]Worksheet (2)'!$A$1:$C$1340,2,FALSE)","v":"彭东东"},2025051226,95.86,63.91,25.56,79.13,47.48,73.04,"是"]
[109,"勤务岗位05","赫章县公安局","05",{"$f":"VLOOKUP(F111,'[1]Worksheet (2)'!$A$1:$C$1340,2,FALSE)","v":"陈禾"},2025051117,108.02,72.01,{"v":28.8,"d":"28.80"},73.01,43.81,72.61,"是"]
[110,"勤务岗位05","赫章县公安局","05",{"$f":"VLOOKUP(F112,'[1]Worksheet (2)'!$A$1:$C$1340,2,FALSE)","v":"吴宏志"},2025051315,93.39,62.26,{"v":24.9,"d":"24.90"},78.93,47.36,72.26,"是"]
[111,"勤务岗位05","赫章县公安局","05",{"$f":"VLOOKUP(F113,'[1]Worksheet (2)'!$A$1:$C$1340,2,FALSE)","v":"陈林方"},2025051118,88.95,{"v":59.3,"d":"59.30"},23.72,80.89,48.53,72.25,"是"]
[112,"勤务岗位05","赫章县公安局","05",{"$f":"VLOOKUP(F114,'[1]Worksheet (2)'!$A$1:$C$1340,2,FALSE)","v":"范兴"},2025051228,112.12,74.75,{"v":29.9,"d":"29.90"},69.46,41.68,71.58,"是"]
[113,"勤务岗位05","赫章县公安局","05",{"$f":"VLOOKUP(F115,'[1]Worksheet (2)'!$A$1:$C$1340,2,FALSE)","v":"汪平"},2025051224,100.77,67.18,26.87,74.06,44.44,71.31,"是"]
[114,"勤务岗位05","赫章县公安局","05",{"$f":"VLOOKUP(F116,'[1]Worksheet (2)'!$A$1:$C$1340,2,FALSE)","v":"徐稳"},2025051201,88.74,59.16,23.66,{"v":79.2,"d":"79.20"},47.52,71.18,"是"]
[115,"勤务岗位05","赫章县公安局","05",{"$f":"VLOOKUP(F117,'[1]Worksheet (2)'!$A$1:$C$1340,2,FALSE)","v":"阮若伦"},2025051114,76.92,51.28,20.51,83.23,49.94,70.45,"是"]
[116,"勤务岗位05","赫章县公安局","05",{"$f":"VLOOKUP(F118,'[1]Worksheet (2)'!$A$1:$C$1340,2,FALSE)","v":"郎讯"},2025051216,{"v":86.9,"d":"86.90"},57.93,23.17,78.27,46.96,70.13,"是"]
[117,"勤务岗位05","赫章县公安局","05",{"$f":"VLOOKUP(F119,'[1]Worksheet (2)'!$A$1:$C$1340,2,FALSE)","v":"李湘羽"},2025051116,89.45,59.63,23.85,76.94,46.16,70.01,"是"]
[118,"勤务岗位05","赫章县公安局","05",{"$f":"VLOOKUP(F120,'[1]Worksheet (2)'!$A$1:$C$1340,2,FALSE)","v":"唐杰"},2025051318,100.85,67.23,26.89,70.82,42.49,69.38,"是"]
[119,"勤务岗位05","赫章县公安局","05",{"$f":"VLOOKUP(F121,'[1]Worksheet (2)'!$A$1:$C$1340,2,FALSE)","v":"杨浩宇"},2025051220,85.35,{"v":56.9,"d":"56.90"},22.76,74.25,44.55,67.31,"否"]
[120,"勤务岗位05","赫章县公安局","05",{"$f":"VLOOKUP(F122,'[1]Worksheet (2)'!$A$1:$C$1340,2,FALSE)","v":"彭福骥"},2025051212,88.32,58.88,23.55,69.08,41.45,{"v":65,"d":"65.00"},"否"]
[121,"勤务岗位05","赫章县公安局","05",{"$f":"VLOOKUP(F123,'[1]Worksheet (2)'!$A$1:$C$1340,2,FALSE)","v":"陆志杰"},2025051111,85.72,57.15,22.86,69.91,41.95,64.81,"否"]
[122,"勤务岗位05","赫章县公安局","05",{"$f":"VLOOKUP(F124,'[1]Worksheet (2)'!$A$1:$C$1340,2,FALSE)","v":"蒋威"},2025051106,83.04,55.36,22.14,70.56,42.34,64.48,"否"]
[123,"勤务岗位05","赫章县公安局","05",{"$f":"VLOOKUP(F125,'[1]Worksheet (2)'!$A$1:$C$1340,2,FALSE)","v":"杨伟"},2025051115,87.69,58.46,23.38,65.55,39.33,62.71,"否"]
[124,"勤务岗位06","赫章县公安局","06",{"$f":"VLOOKUP(F126,'[1]Worksheet (2)'!$A$1:$C$1340,2,FALSE)","v":"王阳"},2025061422,120.84,80.56,32.22,80.18,48.11,80.33,"是"]
[125,"勤务岗位06","赫章县公安局","06",{"$f":"VLOOKUP(F127,'[1]Worksheet (2)'!$A$1:$C$1340,2,FALSE)","v":"周杰"},2025061406,106.55,71.03,28.41,82.29,49.37,77.78,"是"]
[126,"勤务岗位06","赫章县公安局","06",{"$f":"VLOOKUP(F128,'[1]Worksheet (2)'!$A$1:$C$1340,2,FALSE)","v":"杨锦贵"},2025061523,110.15,73.43,29.37,78.07,46.84,76.21,"是"]
[127,"勤务岗位06","赫章县公安局","06",{"$f":"VLOOKUP(F129,'[1]Worksheet (2)'!$A$1:$C$1340,2,FALSE)","v":"左德海"},2025061528,110.78,73.85,29.54,75.69,45.41,74.95,"是"]
[128,"勤务岗位06","赫章县公安局","06",{"$f":"VLOOKUP(F130,'[1]Worksheet (2)'!$A$1:$C$1340,2,FALSE)","v":"康德顺"},2025061508,99.38,66.25,{"v":26.5,"d":"26.50"},79.39,47.63,74.13,"是"]
[129,"勤务岗位06","赫章县公安局","06",{"$f":"VLOOKUP(F131,'[1]Worksheet (2)'!$A$1:$C$1340,2,FALSE)","v":"苏宇"},2025061423,102.19,{"$f":"ROUND(G131/1.5,2)","v":68.13},{"$f":"ROUND(H131*0.4,2)","v":27.25},77.12,46.27,73.52,"是"]
[130,"勤务岗位06","赫章县公安局","06",{"$f":"VLOOKUP(F132,'[1]Worksheet (2)'!$A$1:$C$1340,2,FALSE)","v":"张佳俊"},2025061428,103.74,69.16,27.66,75.28,45.17,72.83,"是"]
[131,"勤务岗位06","赫章县公安局","06",{"$f":"VLOOKUP(F133,'[1]Worksheet (2)'!$A$1:$C$1340,2,FALSE)","v":"赵庆红"},2025061606,103.95,{"v":69.3,"d":"69.30"},27.72,74.25,44.55,72.27,"是"]
[132,"勤务岗位06","赫章县公安局","06",{"$f":"VLOOKUP(F134,'[1]Worksheet (2)'!$A$1:$C$1340,2,FALSE)","v":"蒋杰"},2025061407,114.09,76.06,30.42,69.66,{"v":41.8,"d":"41.80"},72.22,"是"]
[133,"勤务岗位06","赫章县公安局","06",{"$f":"VLOOKUP(F135,'[1]Worksheet (2)'!$A$1:$C$1340,2,FALSE)","v":"王训"},2025061426,94.31,62.87,25.15,{"v":77.5,"d":"77.50"},{"v":46.5,"d":"46.50"},71.65,"是"]
[134,"勤务岗位06","赫章县公安局","06",{"$f":"VLOOKUP(F136,'[1]Worksheet (2)'!$A$1:$C$1340,2,FALSE)","v":"吴道贤"},2025061518,100.64,67.09,26.84,74.51,44.71,71.55,"是"]
[135,"勤务岗位06","赫章县公安局","06",{"$f":"VLOOKUP(F137,'[1]Worksheet (2)'!$A$1:$C$1340,2,FALSE)","v":"柯夏"},2025061412,103.53,69.02,27.61,72.12,43.27,70.88,"是"]
[136,"勤务岗位06","赫章县公安局","06",{"$f":"VLOOKUP(F138,'[1]Worksheet (2)'!$A$1:$C$1340,2,FALSE)","v":"孙鹏"},2025061611,101.27,67.51,{"v":27,"d":"27.00"},{"v":72.1,"d":"72.10"},43.26,70.26,"是"]
[137,"勤务岗位06","赫章县公安局","06",{"$f":"VLOOKUP(F139,'[1]Worksheet (2)'!$A$1:$C$1340,2,FALSE)","v":"叶山山"},2025061516,92.76,61.84,24.74,74.74,44.84,69.58,"是"]
[138,"勤务岗位06","赫章县公安局","06",{"$f":"VLOOKUP(F140,'[1]Worksheet (2)'!$A$1:$C$1340,2,FALSE)","v":"赵李伟"},2025061327,103.45,68.97,27.59,69.02,41.41,{"v":69,"d":"69.00"},"是"]
[139,"勤务岗位06","赫章县公安局","06",{"$f":"VLOOKUP(F141,'[1]Worksheet (2)'!$A$1:$C$1340,2,FALSE)","v":"丁鸿伟"},2025061524,87.53,58.35,23.34,72.49,43.49,66.83,"否"]
[140,"勤务岗位06","赫章县公安局","06",{"$f":"VLOOKUP(F142,'[1]Worksheet (2)'!$A$1:$C$1340,2,FALSE)","v":"李明"},2025061325,{"v":81.7,"d":"81.70"},54.47,21.79,73.05,43.83,65.62,"否"]
[141,"勤务岗位06","赫章县公安局","06",{"$f":"VLOOKUP(F143,'[1]Worksheet (2)'!$A$1:$C$1340,2,FALSE)","v":"陈松涛"},2025061414,89.45,59.63,23.85,{"v":69,"d":"69.00"},{"v":41.4,"d":"41.40"},65.25,"否"]
[142,"勤务岗位06","赫章县公安局","06",{"$f":"VLOOKUP(F144,'[1]Worksheet (2)'!$A$1:$C$1340,2,FALSE)","v":"朱龙"},2025061603,90.37,60.25,{"v":24.1,"d":"24.10"},64.21,38.53,62.63,"否"]
[143,"勤务岗位06","赫章县公安局","06",{"$f":"VLOOKUP(F145,'[1]Worksheet (2)'!$A$1:$C$1340,2,FALSE)","v":"陈希"},2025061522,74.24,49.49,{"v":19.8,"d":"19.80"},64.87,38.92,58.72,"否"]
[144,"勤务岗位06","赫章县公安局","06",{"$f":"VLOOKUP(F146,'[1]Worksheet (2)'!$A$1:$C$1340,2,FALSE)","v":"郭明义"},2025061602,80.23,53.49,{"v":21.4,"d":"21.40"},"缺考","缺考",21.39,"否"]
[145,"勤务岗位07","赫章县公安局","07",{"$f":"VLOOKUP(F147,'[1]Worksheet (2)'!$A$1:$C$1340,2,FALSE)","v":"李旺"},2025071805,115.35,{"v":76.9,"d":"76.90"},30.76,84.49,{"$f":"ROUND(J147*0.6,2)","v":50.69},{"$f":"ROUND(I147+K147,2)","v":81.45},"是"]
[146,"勤务岗位07","赫章县公安局","07",{"$f":"VLOOKUP(F148,'[1]Worksheet (2)'!$A$1:$C$1340,2,FALSE)","v":"李富县"},2025071820,{"v":114.3,"d":"114.30"},{"v":76.2,"d":"76.20"},30.48,84.42,50.65,81.13,"是"]
[147,"勤务岗位07","赫章县公安局","07",{"$f":"VLOOKUP(F149,'[1]Worksheet (2)'!$A$1:$C$1340,2,FALSE)","v":"张董朝"},2025071817,105.08,70.05,28.02,77.42,46.45,74.47,"是"]
[148,"勤务岗位07","赫章县公安局","07",{"$f":"VLOOKUP(F150,'[1]Worksheet (2)'!$A$1:$C$1340,2,FALSE)","v":"黄将"},2025071808,102.32,68.21,27.28,77.97,46.78,74.06,"是"]
[149,"勤务岗位07","赫章县公安局","07",{"$f":"VLOOKUP(F151,'[1]Worksheet (2)'!$A$1:$C$1340,2,FALSE)","v":"邱志杰"},2025071703,96.07,64.05,25.62,80.06,48.04,73.66,"是"]
[150,"勤务岗位07","赫章县公安局","07",{"$f":"VLOOKUP(F152,'[1]Worksheet (2)'!$A$1:$C$1340,2,FALSE)","v":"陈旺"},2025071726,100.22,66.81,26.72,76.95,46.17,72.89,"是"]
[151,"勤务岗位07","赫章县公安局","07",{"$f":"VLOOKUP(F153,'[1]Worksheet (2)'!$A$1:$C$1340,2,FALSE)","v":"黄永康"},2025071622,90.63,60.42,24.17,80.71,48.43,{"v":72.6,"d":"72.60"},"是"]
[152,"勤务岗位07","赫章县公安局","07",{"$f":"VLOOKUP(F154,'[1]Worksheet (2)'!$A$1:$C$1340,2,FALSE)","v":"徐余"},2025071803,107.26,71.51,{"v":28.6,"d":"28.60"},72.61,43.57,72.17,"是"]
[153,"勤务岗位07","赫章县公安局","07",{"$f":"VLOOKUP(F155,'[1]Worksheet (2)'!$A$1:$C$1340,2,FALSE)","v":"赵迪"},2025071722,102.82,68.55,27.42,73.14,43.88,{"v":71.3,"d":"71.30"},"是"]
[154,"勤务岗位07","赫章县公安局","07",{"$f":"VLOOKUP(F156,'[1]Worksheet (2)'!$A$1:$C$1340,2,FALSE)","v":"苟庆"},2025071716,79.52,53.01,{"v":21.2,"d":"21.20"},{"v":82,"d":"82.00"},{"v":49.2,"d":"49.20"},{"v":70.4,"d":"70.40"},"是"]
[155,"勤务岗位07","赫章县公安局","07",{"$f":"VLOOKUP(F157,'[1]Worksheet (2)'!$A$1:$C$1340,2,FALSE)","v":"张茂乾"},2025071615,94.15,62.77,25.11,75.15,45.09,{"v":70.2,"d":"70.20"},"是"]
[156,"勤务岗位07","赫章县公安局","07",{"$f":"VLOOKUP(F158,'[1]Worksheet (2)'!$A$1:$C$1340,2,FALSE)","v":"朱宇航"},2025071721,86.77,57.85,23.14,77.79,46.67,69.81,"是"]
[157,"勤务岗位07","赫章县公安局","07",{"$f":"VLOOKUP(F159,'[1]Worksheet (2)'!$A$1:$C$1340,2,FALSE)","v":"李远奇"},2025071616,95.78,63.85,25.54,72.43,43.46,{"v":69,"d":"69.00"},"是"]
[158,"勤务岗位07","赫章县公安局","07",{"$f":"VLOOKUP(F160,'[1]Worksheet (2)'!$A$1:$C$1340,2,FALSE)","v":"安垚"},2025071614,96.78,64.52,25.81,71.44,42.86,68.67,"是"]
[159,"勤务岗位07","赫章县公安局","07",{"$f":"VLOOKUP(F161,'[1]Worksheet (2)'!$A$1:$C$1340,2,FALSE)","v":"游文广"},2025071813,95.15,63.43,25.37,72.14,43.28,68.65,"是"]
[160,"勤务岗位07","赫章县公安局","07",{"$f":"VLOOKUP(F162,'[1]Worksheet (2)'!$A$1:$C$1340,2,FALSE)","v":"刘涛"},2025071822,93.26,62.17,24.87,72.96,43.78,68.65,"否","根据公告要求，总成绩末位并列的，以笔试成绩高者进入下一环节。"]
[161,"勤务岗位07","赫章县公安局","07",{"$f":"VLOOKUP(F163,'[1]Worksheet (2)'!$A$1:$C$1340,2,FALSE)","v":"陈涵"},2025071701,{"v":84.3,"d":"84.30"},{"v":56.2,"d":"56.20"},22.48,75.06,45.04,67.52,"否"]
[162,"勤务岗位07","赫章县公安局","07",{"$f":"VLOOKUP(F164,'[1]Worksheet (2)'!$A$1:$C$1340,2,FALSE)","v":"殷杰"},2025071712,89.66,59.77,23.91,71.72,43.03,66.94,"否"]
[163,"勤务岗位07","赫章县公安局","07",{"$f":"VLOOKUP(F165,'[1]Worksheet (2)'!$A$1:$C$1340,2,FALSE)","v":"徐珑珑"},2025071714,87.69,58.46,23.38,71.83,{"v":43.1,"d":"43.10"},66.48,"否"]
[164,"勤务岗位07","赫章县公安局","07",{"$f":"VLOOKUP(F166,'[1]Worksheet (2)'!$A$1:$C$1340,2,FALSE)","v":"陈维仕"},2025071625,99.51,66.34,26.54,{"v":66,"d":"66.00"},{"v":39.6,"d":"39.60"},66.14,"否"]
[165,"勤务岗位07","赫章县公安局","07",{"$f":"VLOOKUP(F167,'[1]Worksheet (2)'!$A$1:$C$1340,2,FALSE)","v":"罗常应"},2025071630,87.19,58.13,23.25,70.85,42.51,65.76,"否"]
[166,"勤务岗位07","赫章县公安局","07",{"$f":"VLOOKUP(F168,'[1]Worksheet (2)'!$A$1:$C$1340,2,FALSE)","v":"黄涛"},2025071704,94.94,63.29,25.32,{"v":64.1,"d":"64.10"},38.46,63.78,"否"]
[167,"勤务岗位07","赫章县公安局","07",{"$f":"VLOOKUP(F169,'[1]Worksheet (2)'!$A$1:$C$1340,2,FALSE)","v":"徐维"},2025071812,89.87,59.91,23.96,65.63,39.38,63.34,"否"]
[168,"勤务岗位07","赫章县公安局","07",{"$f":"VLOOKUP(F170,'[1]Worksheet (2)'!$A$1:$C$1340,2,FALSE)","v":"余浪"},2025071619,92.89,61.93,24.77,61.67,{"v":37,"d":"37.00"},61.77,"否"]
[169,"勤务岗位07","赫章县公安局","07",{"$f":"VLOOKUP(F171,'[1]Worksheet (2)'!$A$1:$C$1340,2,FALSE)","v":"金泰山"},2025071810,{"v":72.9,"d":"72.90"},{"v":48.6,"d":"48.60"},19.44,68.66,{"v":41.2,"d":"41.20"},60.64,"否"]
[170,"勤务岗位07","赫章县公安局","07",{"$f":"VLOOKUP(F172,'[1]Worksheet (2)'!$A$1:$C$1340,2,FALSE)","v":"陈锐"},2025071621,83.25,{"v":55.5,"d":"55.50"},{"v":22.2,"d":"22.20"},62.18,37.31,59.51,"否"]
[171,"勤务岗位07","赫章县公安局","07",{"$f":"VLOOKUP(F173,'[1]Worksheet (2)'!$A$1:$C$1340,2,FALSE)","v":"罗恒多"},2025071814,105.37,70.25,{"v":28.1,"d":"28.10"},"缺考","缺考",{"v":28.1,"d":"28.10"},"否"]
[172,"勤务岗位07","赫章县公安局","07",{"$f":"VLOOKUP(F174,'[1]Worksheet (2)'!$A$1:$C$1340,2,FALSE)","v":"岳豪"},2025071727,85.09,56.73,22.69,"缺考","缺考",22.69,"否"]
[173,"勤务岗位08","赫章县公安局","08",{"$f":"VLOOKUP(F175,'[1]Worksheet (2)'!$A$1:$C$1340,2,FALSE)","v":"陈昕源"},2025082024,105.71,70.47,28.19,{"v":78,"d":"78.00"},{"$f":"ROUND(J175*0.6,2)","v":{"v":46.8,"d":"46.80"}},{"$f":"ROUND(I175+K175,2)","v":74.99},"是"]
[174,"勤务岗位08","赫章县公安局","08",{"$f":"VLOOKUP(F176,'[1]Worksheet (2)'!$A$1:$C$1340,2,FALSE)","v":"朱虎"},2025082017,99.93,66.62,26.65,77.67,{"v":46.6,"d":"46.60"},73.25,"是"]
[175,"勤务岗位08","赫章县公安局","08",{"$f":"VLOOKUP(F177,'[1]Worksheet (2)'!$A$1:$C$1340,2,FALSE)","v":"罗丹"},2025082025,100.14,66.76,{"v":26.7,"d":"26.70"},{"v":76,"d":"76.00"},{"v":45.6,"d":"45.60"},{"v":72.3,"d":"72.30"},"是"]
[176,"勤务岗位08","赫章县公安局","08",{"$f":"VLOOKUP(F178,'[1]Worksheet (2)'!$A$1:$C$1340,2,FALSE)","v":"黄智杰"},2025081903,102.82,68.55,27.42,74.33,{"v":44.6,"d":"44.60"},72.02,"是"]
[177,"勤务岗位08","赫章县公安局","08",{"$f":"VLOOKUP(F179,'[1]Worksheet (2)'!$A$1:$C$1340,2,FALSE)","v":"张涛"},2025082013,96.78,64.52,25.81,75.67,{"v":45.4,"d":"45.40"},71.21,"是"]
[178,"勤务岗位08","赫章县公安局","08",{"$f":"VLOOKUP(F180,'[1]Worksheet (2)'!$A$1:$C$1340,2,FALSE)","v":"黄仁吉"},2025081917,104.16,69.44,27.78,72.33,{"v":43.4,"d":"43.40"},71.18,"是"]
[179,"勤务岗位08","赫章县公安局","08",{"$f":"VLOOKUP(F181,'[1]Worksheet (2)'!$A$1:$C$1340,2,FALSE)","v":"赵龙"},2025082019,101.06,67.37,26.95,73.33,{"v":44,"d":"44.00"},70.95,"是"]
[180,"勤务岗位08","赫章县公安局","08",{"$f":"VLOOKUP(F182,'[1]Worksheet (2)'!$A$1:$C$1340,2,FALSE)","v":"李波浪"},2025081924,85.09,56.73,22.69,{"v":80,"d":"80.00"},{"v":48,"d":"48.00"},70.69,"是"]
[181,"勤务岗位08","赫章县公安局","08",{"$f":"VLOOKUP(F183,'[1]Worksheet (2)'!$A$1:$C$1340,2,FALSE)","v":"陈林"},2025081918,95.57,63.71,25.48,74.33,{"v":44.6,"d":"44.60"},70.08,"是"]
[182,"勤务岗位08","赫章县公安局","08",{"$f":"VLOOKUP(F184,'[1]Worksheet (2)'!$A$1:$C$1340,2,FALSE)","v":"汤天津"},2025081906,96.83,64.55,25.82,{"v":73,"d":"73.00"},{"v":43.8,"d":"43.80"},69.62,"是"]
[183,"勤务岗位08","赫章县公安局","08",{"$f":"VLOOKUP(F185,'[1]Worksheet (2)'!$A$1:$C$1340,2,FALSE)","v":"王合向"},2025081909,97.96,65.31,26.12,72.33,{"v":43.4,"d":"43.40"},69.52,"是"]
[184,"勤务岗位08","赫章县公安局","08",{"$f":"VLOOKUP(F186,'[1]Worksheet (2)'!$A$1:$C$1340,2,FALSE)","v":"张伟伟"},2025082104,100.77,67.18,26.87,{"v":71,"d":"71.00"},{"v":42.6,"d":"42.60"},69.47,"是"]
[185,"勤务岗位08","赫章县公安局","08",{"$f":"VLOOKUP(F187,'[1]Worksheet (2)'!$A$1:$C$1340,2,FALSE)","v":"王宇勤"},2025081829,109.65,{"v":73.1,"d":"73.10"},29.24,{"v":67,"d":"67.00"},{"v":40.2,"d":"40.20"},69.44,"是"]
[186,"勤务岗位08","赫章县公安局","08",{"$f":"VLOOKUP(F188,'[1]Worksheet (2)'!$A$1:$C$1340,2,FALSE)","v":"徐宇东"},2025082018,{"v":86.9,"d":"86.90"},57.93,23.17,{"v":76,"d":"76.00"},{"v":45.6,"d":"45.60"},68.77,"是"]
[187,"勤务岗位08","赫章县公安局","08",{"$f":"VLOOKUP(F189,'[1]Worksheet (2)'!$A$1:$C$1340,2,FALSE)","v":"侯记"},2025081907,105.08,70.05,28.02,67.67,{"v":40.6,"d":"40.60"},68.62,"是"]
[188,"勤务岗位08","赫章县公安局","08",{"$f":"VLOOKUP(F190,'[1]Worksheet (2)'!$A$1:$C$1340,2,FALSE)","v":"文曦"},2025081928,88.74,59.16,23.66,72.33,{"v":43.4,"d":"43.40"},67.06,"否"]
[189,"勤务岗位08","赫章县公安局","08",{"$f":"VLOOKUP(F191,'[1]Worksheet (2)'!$A$1:$C$1340,2,FALSE)","v":"王旺"},2025082005,89.66,59.77,23.91,{"v":71,"d":"71.00"},{"v":42.6,"d":"42.60"},66.51,"否"]
[190,"勤务岗位08","赫章县公安局","08",{"$f":"VLOOKUP(F192,'[1]Worksheet (2)'!$A$1:$C$1340,2,FALSE)","v":"季天雄"},2025082009,84.59,56.39,22.56,{"v":73,"d":"73.00"},{"v":43.8,"d":"43.80"},66.36,"否"]
[191,"勤务岗位08","赫章县公安局","08",{"$f":"VLOOKUP(F193,'[1]Worksheet (2)'!$A$1:$C$1340,2,FALSE)","v":"文平"},2025082007,91.76,61.17,24.47,68.67,{"v":41.2,"d":"41.20"},65.67,"否"]
[192,"勤务岗位08","赫章县公安局","08",{"$f":"VLOOKUP(F194,'[1]Worksheet (2)'!$A$1:$C$1340,2,FALSE)","v":"文豪"},2025082027,81.07,54.05,21.62,{"v":73,"d":"73.00"},{"v":43.8,"d":"43.80"},65.42,"否"]
[193,"勤务岗位08","赫章县公安局","08",{"$f":"VLOOKUP(F195,'[1]Worksheet (2)'!$A$1:$C$1340,2,FALSE)","v":"孙闵黔"},2025081919,88.61,{"$f":"ROUND(G195/1.5,2)","v":59.07},{"$f":"ROUND(H195*0.4,2)","v":23.63},68.67,{"v":41.2,"d":"41.20"},64.83,"否"]
[194,"勤务岗位08","赫章县公安局","08",{"$f":"VLOOKUP(F196,'[1]Worksheet (2)'!$A$1:$C$1340,2,FALSE)","v":"曾锐睿"},2025082102,87.61,58.41,23.36,64.67,{"v":38.8,"d":"38.80"},62.16,"否"]
[195,"勤务岗位08","赫章县公安局","08",{"$f":"VLOOKUP(F197,'[1]Worksheet (2)'!$A$1:$C$1340,2,FALSE)","v":"赵航"},2025081828,86.14,57.43,22.97,60.33,{"v":36.2,"d":"36.20"},59.17,"否"]
[196,"勤务岗位08","赫章县公安局","08",{"$f":"VLOOKUP(F198,'[1]Worksheet (2)'!$A$1:$C$1340,2,FALSE)","v":"燕帅"},2025081830,73.32,48.88,19.55,65.33,{"v":39.2,"d":"39.20"},58.75,"否"]
[197,"勤务岗位08","赫章县公安局","08",{"$f":"VLOOKUP(F199,'[1]Worksheet (2)'!$A$1:$C$1340,2,FALSE)","v":"周贤"},2025081902,68.46,45.64,18.26,66.33,{"v":39.8,"d":"39.80"},58.06,"否"]
[198,"勤务岗位08","赫章县公安局","08",{"$f":"VLOOKUP(F200,'[1]Worksheet (2)'!$A$1:$C$1340,2,FALSE)","v":"祝运棋"},2025081929,62.55,{"v":41.7,"d":"41.70"},16.68,66.67,{"v":40,"d":"40.00"},56.68,"否"]
[199,"勤务岗位09","赫章县公安局","09",{"$f":"VLOOKUP(F201,'[1]Worksheet (2)'!$A$1:$C$1340,2,FALSE)","v":"夏高贤"},2025092309,114.93,76.62,30.65,82.08,49.25,{"v":79.9,"d":"79.90"},"是"]
[200,"勤务岗位09","赫章县公安局","09",{"$f":"VLOOKUP(F202,'[1]Worksheet (2)'!$A$1:$C$1340,2,FALSE)","v":"李义"},2025092218,115.56,77.04,30.82,80.51,48.31,79.13,"是"]
[201,"勤务岗位09","赫章县公安局","09",{"$f":"VLOOKUP(F203,'[1]Worksheet (2)'!$A$1:$C$1340,2,FALSE)","v":"刘恒"},2025092315,127.46,84.97,33.99,74.28,44.57,78.56,"是"]
[202,"勤务岗位09","赫章县公安局","09",{"$f":"VLOOKUP(F204,'[1]Worksheet (2)'!$A$1:$C$1340,2,FALSE)","v":"严世省"},2025092324,119.08,79.39,31.76,76.68,46.01,77.77,"是"]
[203,"勤务岗位09","赫章县公安局","09",{"$f":"VLOOKUP(F205,'[1]Worksheet (2)'!$A$1:$C$1340,2,FALSE)","v":"赵庆锁"},2025092304,112.04,74.69,29.88,78.52,47.11,76.99,"是"]
[204,"勤务岗位09","赫章县公安局","09",{"$f":"VLOOKUP(F206,'[1]Worksheet (2)'!$A$1:$C$1340,2,FALSE)","v":"赵家富"},2025092206,97.83,65.22,26.09,{"v":81,"d":"81.00"},{"v":48.6,"d":"48.60"},74.69,"是"]
[205,"勤务岗位09","赫章县公安局","09",{"$f":"VLOOKUP(F207,'[1]Worksheet (2)'!$A$1:$C$1340,2,FALSE)","v":"李清尧"},2025092209,97.04,64.69,25.88,81.31,48.79,74.67,"是"]
[206,"勤务岗位09","赫章县公安局","09",{"$f":"VLOOKUP(F208,'[1]Worksheet (2)'!$A$1:$C$1340,2,FALSE)","v":"陈浪"},2025092126,107.47,71.65,28.66,73.28,43.97,72.63,"是"]
[207,"勤务岗位09","赫章县公安局","09",{"$f":"VLOOKUP(F209,'[1]Worksheet (2)'!$A$1:$C$1340,2,FALSE)","v":"辛旺"},2025092229,103.66,69.11,27.64,74.47,44.68,72.32,"是"]
[208,"勤务岗位09","赫章县公安局","09",{"$f":"VLOOKUP(F210,'[1]Worksheet (2)'!$A$1:$C$1340,2,FALSE)","v":"王跃"},2025092222,100.56,67.04,26.82,73.49,44.09,70.91,"是"]
[209,"勤务岗位09","赫章县公安局","09",{"$f":"VLOOKUP(F211,'[1]Worksheet (2)'!$A$1:$C$1340,2,FALSE)","v":"王侣"},2025092312,92.34,61.56,24.62,76.98,46.19,70.81,"是"]
[210,"勤务岗位09","赫章县公安局","09",{"$f":"VLOOKUP(F212,'[1]Worksheet (2)'!$A$1:$C$1340,2,FALSE)","v":"蒋杰"},2025092314,94.86,63.24,{"v":25.3,"d":"25.30"},75.84,{"v":45.5,"d":"45.50"},{"v":70.8,"d":"70.80"},"是"]
[211,"勤务岗位09","赫章县公安局","09",{"$f":"VLOOKUP(F213,'[1]Worksheet (2)'!$A$1:$C$1340,2,FALSE)","v":"龙向阳"},2025092113,101.56,67.71,27.08,72.56,43.54,70.62,"是"]
[212,"勤务岗位09","赫章县公安局","09",{"$f":"VLOOKUP(F214,'[1]Worksheet (2)'!$A$1:$C$1340,2,FALSE)","v":"周游"},2025092230,96.41,64.27,25.71,{"v":74.1,"d":"74.10"},44.46,70.17,"是"]
[213,"勤务岗位09","赫章县公安局","09",{"$f":"VLOOKUP(F215,'[1]Worksheet (2)'!$A$1:$C$1340,2,FALSE)","v":"秦江"},2025092227,{"v":90.5,"d":"90.50"},60.33,24.13,75.13,45.08,69.21,"是"]
[214,"勤务岗位09","赫章县公安局","09",{"$f":"VLOOKUP(F216,'[1]Worksheet (2)'!$A$1:$C$1340,2,FALSE)","v":"吴兆雄"},2025092117,90.63,60.42,24.17,74.99,44.99,69.16,"是"]
[215,"勤务岗位09","赫章县公安局","09",{"$f":"VLOOKUP(F217,'[1]Worksheet (2)'!$A$1:$C$1340,2,FALSE)","v":"吉晓"},2025092122,{"v":90,"d":"90.00"},{"v":60,"d":"60.00"},{"v":24,"d":"24.00"},74.95,44.97,68.97,"否"]
[216,"勤务岗位09","赫章县公安局","09",{"$f":"VLOOKUP(F218,'[1]Worksheet (2)'!$A$1:$C$1340,2,FALSE)","v":"常希希"},2025092219,97.17,64.78,25.91,71.32,42.79,{"v":68.7,"d":"68.70"},"否"]
[217,"勤务岗位09","赫章县公安局","09",{"$f":"VLOOKUP(F219,'[1]Worksheet (2)'!$A$1:$C$1340,2,FALSE)","v":"范翔"},2025092223,88.61,59.07,23.63,74.71,44.83,68.46,"否"]
[218,"勤务岗位09","赫章县公安局","09",{"$f":"VLOOKUP(F220,'[1]Worksheet (2)'!$A$1:$C$1340,2,FALSE)","v":"吴学远"},2025092220,97.75,65.17,26.07,70.44,42.26,68.33,"否"]
[219,"勤务岗位09","赫章县公安局","09",{"$f":"VLOOKUP(F221,'[1]Worksheet (2)'!$A$1:$C$1340,2,FALSE)","v":"辛高旭"},2025092114,87.06,58.04,23.22,75.07,45.04,68.26,"否"]
[220,"勤务岗位09","赫章县公安局","09",{"$f":"VLOOKUP(F222,'[1]Worksheet (2)'!$A$1:$C$1340,2,FALSE)","v":"陈磊"},2025092303,79.52,53.01,{"v":21.2,"d":"21.20"},77.34,{"v":46.4,"d":"46.40"},{"v":67.6,"d":"67.60"},"否"]
[221,"勤务岗位09","赫章县公安局","09",{"$f":"VLOOKUP(F223,'[1]Worksheet (2)'!$A$1:$C$1340,2,FALSE)","v":"撒俊博"},2025092214,81.36,54.24,{"v":21.7,"d":"21.70"},75.71,45.43,67.13,"否"]
[222,"勤务岗位09","赫章县公安局","09",{"$f":"VLOOKUP(F224,'[1]Worksheet (2)'!$A$1:$C$1340,2,FALSE)","v":"马俊豪"},2025092321,91.34,60.89,24.36,70.39,42.23,66.59,"否"]
[223,"勤务岗位09","赫章县公安局","09",{"$f":"VLOOKUP(F225,'[1]Worksheet (2)'!$A$1:$C$1340,2,FALSE)","v":"沈昌柳"},2025092112,82.83,55.22,22.09,72.01,43.21,{"v":65.3,"d":"65.30"},"否"]
[224,"勤务岗位09","赫章县公安局","09",{"$f":"VLOOKUP(F226,'[1]Worksheet (2)'!$A$1:$C$1340,2,FALSE)","v":"邓洋"},2025092202,74.24,49.49,{"v":19.8,"d":"19.80"},75.55,45.33,65.13,"否"]
[225,"勤务岗位09","赫章县公安局","09",{"$f":"VLOOKUP(F227,'[1]Worksheet (2)'!$A$1:$C$1340,2,FALSE)","v":"张剑"},2025092221,83.25,{"v":55.5,"d":"55.50"},{"v":22.2,"d":"22.20"},70.82,42.49,64.69,"否"]
[226,"勤务岗位09","赫章县公安局","09",{"$f":"VLOOKUP(F228,'[1]Worksheet (2)'!$A$1:$C$1340,2,FALSE)","v":"胡思银"},2025092203,89.66,59.77,23.91,67.77,40.66,64.57,"否"]
[227,"勤务岗位09","赫章县公安局","09",{"$f":"VLOOKUP(F229,'[1]Worksheet (2)'!$A$1:$C$1340,2,FALSE)","v":"徐旭"},2025092109,70.17,46.78,18.71,69.84,{"v":41.9,"d":"41.90"},60.61,"否"]
[228,"勤务岗位09","赫章县公安局","09",{"$f":"VLOOKUP(F230,'[1]Worksheet (2)'!$A$1:$C$1340,2,FALSE)","v":"张新洋"},2025092305,68.46,45.64,18.26,68.71,41.23,59.49,"否"]
[229,"勤务岗位09","赫章县公安局","09",{"$f":"VLOOKUP(F231,'[1]Worksheet (2)'!$A$1:$C$1340,2,FALSE)","v":"陶曦原"},2025092212,{"v":97.2,"d":"97.20"},{"v":64.8,"d":"64.80"},25.92,"缺考","缺考",25.92,"否"]
[230,"勤务岗位10","赫章县公安局","10",{"$f":"VLOOKUP(F232,'[1]Worksheet (2)'!$A$1:$C$1340,2,FALSE)","v":"徐天毅"},2025102522,107.68,71.79,28.72,79.64,{"$f":"ROUND(J232*0.6,2)","v":47.78},{"$f":"ROUND(I232+K232,2)","v":{"v":76.5,"d":"76.50"}},"是"]
[231,"勤务岗位10","赫章县公安局","10",{"$f":"VLOOKUP(F233,'[1]Worksheet (2)'!$A$1:$C$1340,2,FALSE)","v":"刘旭东"},2025102524,96.49,64.33,25.73,83.03,49.82,75.55,"是"]
[232,"勤务岗位10","赫章县公安局","10",{"$f":"VLOOKUP(F234,'[1]Worksheet (2)'!$A$1:$C$1340,2,FALSE)","v":"罗祥贵"},2025102506,87.48,58.32,23.33,{"v":86.6,"d":"86.60"},51.96,75.29,"是"]
[233,"勤务岗位10","赫章县公安局","10",{"$f":"VLOOKUP(F235,'[1]Worksheet (2)'!$A$1:$C$1340,2,FALSE)","v":"刘廷昆"},2025102521,103.32,68.88,27.55,79.38,47.63,75.18,"是"]
[234,"勤务岗位10","赫章县公安局","10",{"$f":"VLOOKUP(F236,'[1]Worksheet (2)'!$A$1:$C$1340,2,FALSE)","v":"陈治龙"},2025102409,97.33,64.89,25.96,81.39,48.83,74.79,"是"]
[235,"勤务岗位10","赫章县公安局","10",{"$f":"VLOOKUP(F237,'[1]Worksheet (2)'!$A$1:$C$1340,2,FALSE)","v":"陈奥越"},2025102611,105.63,70.42,28.17,{"v":77.3,"d":"77.30"},46.38,74.55,"是"]
[236,"勤务岗位10","赫章县公安局","10",{"$f":"VLOOKUP(F238,'[1]Worksheet (2)'!$A$1:$C$1340,2,FALSE)","v":"陈超"},2025102505,115.48,76.99,{"v":30.8,"d":"30.80"},72.18,43.31,74.11,"是"]
[237,"勤务岗位10","赫章县公安局","10",{"$f":"VLOOKUP(F239,'[1]Worksheet (2)'!$A$1:$C$1340,2,FALSE)","v":"晏旭"},2025102515,105.29,70.19,28.08,74.28,44.57,72.65,"是"]
[238,"勤务岗位10","赫章县公安局","10",{"$f":"VLOOKUP(F240,'[1]Worksheet (2)'!$A$1:$C$1340,2,FALSE)","v":"姚盼"},2025102403,91.92,61.28,24.51,79.16,{"v":47.5,"d":"47.50"},72.01,"是"]
[239,"勤务岗位10","赫章县公安局","10",{"$f":"VLOOKUP(F241,'[1]Worksheet (2)'!$A$1:$C$1340,2,FALSE)","v":"常鹏"},2025102328,75.71,50.47,20.19,{"v":85.8,"d":"85.80"},51.48,71.67,"是"]
[240,"勤务岗位10","赫章县公安局","10",{"$f":"VLOOKUP(F242,'[1]Worksheet (2)'!$A$1:$C$1340,2,FALSE)","v":"张伟"},2025102519,88.74,59.16,23.66,{"v":80,"d":"80.00"},{"v":48,"d":"48.00"},71.66,"是"]
[241,"勤务岗位10","赫章县公安局","10",{"$f":"VLOOKUP(F243,'[1]Worksheet (2)'!$A$1:$C$1340,2,FALSE)","v":"周杰"},2025102428,94.73,63.15,25.26,75.16,{"v":45.1,"d":"45.10"},70.36,"是"]
[242,"勤务岗位10","赫章县公安局","10",{"$f":"VLOOKUP(F244,'[1]Worksheet (2)'!$A$1:$C$1340,2,FALSE)","v":"冉凯"},2025102418,94.78,63.19,25.28,74.87,44.92,{"v":70.2,"d":"70.20"},"是"]
[243,"勤务岗位10","赫章县公安局","10",{"$f":"VLOOKUP(F245,'[1]Worksheet (2)'!$A$1:$C$1340,2,FALSE)","v":"陈光训"},2025102528,97.62,65.08,26.03,72.91,43.75,69.78,"是"]
[244,"勤务岗位10","赫章县公安局","10",{"$f":"VLOOKUP(F246,'[1]Worksheet (2)'!$A$1:$C$1340,2,FALSE)","v":"何林"},2025102607,83.46,55.64,22.26,78.81,47.29,69.55,"是"]
[245,"勤务岗位10","赫章县公安局","10",{"$f":"VLOOKUP(F247,'[1]Worksheet (2)'!$A$1:$C$1340,2,FALSE)","v":"张兴勇"},2025102412,96.91,64.61,25.84,72.42,43.45,69.29,"是"]
[246,"勤务岗位10","赫章县公安局","10",{"$f":"VLOOKUP(F248,'[1]Worksheet (2)'!$A$1:$C$1340,2,FALSE)","v":"邓博豪"},2025102411,91.76,61.17,24.47,72.14,43.28,67.75,"否"]
[247,"勤务岗位10","赫章县公安局","10",{"$f":"VLOOKUP(F249,'[1]Worksheet (2)'!$A$1:$C$1340,2,FALSE)","v":"赵旭"},2025102512,76.84,51.23,20.49,78.43,47.06,67.55,"否"]
[248,"勤务岗位10","赫章县公安局","10",{"$f":"VLOOKUP(F250,'[1]Worksheet (2)'!$A$1:$C$1340,2,FALSE)","v":"王远林"},2025102509,{"v":87.4,"d":"87.40"},58.27,23.31,70.89,42.53,65.84,"否"]
[249,"勤务岗位10","赫章县公安局","10",{"$f":"VLOOKUP(F251,'[1]Worksheet (2)'!$A$1:$C$1340,2,FALSE)","v":"邓招勇"},2025102606,73.53,49.02,19.61,75.82,45.49,{"v":65.1,"d":"65.10"},"否"]
[250,"勤务岗位10","赫章县公安局","10",{"$f":"VLOOKUP(F252,'[1]Worksheet (2)'!$A$1:$C$1340,2,FALSE)","v":"林朋"},2025102502,81.91,54.61,21.84,71.02,42.61,64.45,"否"]
[251,"勤务岗位10","赫章县公安局","10",{"$f":"VLOOKUP(F253,'[1]Worksheet (2)'!$A$1:$C$1340,2,FALSE)","v":"吴长清"},2025102404,77.97,51.98,20.79,72.47,43.48,64.27,"否"]
[252,"勤务岗位10","赫章县公安局","10",{"$f":"VLOOKUP(F254,'[1]Worksheet (2)'!$A$1:$C$1340,2,FALSE)","v":"朱启林"},2025102402,{"v":78.6,"d":"78.60"},{"v":52.4,"d":"52.40"},20.96,71.36,42.82,63.78,"否"]
[253,"勤务岗位10","赫章县公安局","10",{"$f":"VLOOKUP(F255,'[1]Worksheet (2)'!$A$1:$C$1340,2,FALSE)","v":"曹盛"},2025102327,69.38,46.25,{"v":18.5,"d":"18.50"},75.09,45.05,63.55,"否"]
[254,"勤务岗位10","赫章县公安局","10",{"$f":"VLOOKUP(F256,'[1]Worksheet (2)'!$A$1:$C$1340,2,FALSE)","v":"张继"},2025102527,75.58,50.39,20.16,70.59,42.35,62.51,"否"]
[255,"勤务岗位10","赫章县公安局","10",{"$f":"VLOOKUP(F257,'[1]Worksheet (2)'!$A$1:$C$1340,2,FALSE)","v":"陈亚"},2025102417,71.43,47.62,19.05,71.98,43.19,62.24,"否"]
[256,"勤务岗位10","赫章县公安局","10",{"$f":"VLOOKUP(F258,'[1]Worksheet (2)'!$A$1:$C$1340,2,FALSE)","v":"苗天梦"},2025102609,104.58,69.72,27.89,"缺考","缺考",27.89,"否"]
[257,"勤务岗位10","赫章县公安局","10",{"$f":"VLOOKUP(F259,'[1]Worksheet (2)'!$A$1:$C$1340,2,FALSE)","v":"余严"},2025102429,83.88,{"$f":"ROUND(G259/1.5,2)","v":55.92},{"$f":"ROUND(H259*0.4,2)","v":22.37},"缺考","缺考",22.37,"否"]
[258,"勤务岗位11","赫章县公安局","11",{"$f":"VLOOKUP(F260,'[1]Worksheet (2)'!$A$1:$C$1340,2,FALSE)","v":"马野"},2025112612,74.58,49.72,19.89,71.47,{"$f":"ROUND(J260*0.6,2)","v":42.88},{"$f":"ROUND(I260+K260,2)","v":62.77},"是"]
[259,"勤务岗位12","赫章县公安局",12,{"$f":"VLOOKUP(F261,'[1]Worksheet (2)'!$A$1:$C$1340,2,FALSE)","v":"张滨洁"},2025123328,115.14,76.76,{"v":30.7,"d":"30.70"},83.63,50.18,80.88,"是"]
[260,"勤务岗位12","赫章县公安局",12,{"$f":"VLOOKUP(F262,'[1]Worksheet (2)'!$A$1:$C$1340,2,FALSE)","v":"王运"},2025124226,117.69,78.46,31.38,{"v":77.1,"d":"77.10"},46.26,77.64,"是"]
[261,"勤务岗位12","赫章县公安局",12,{"$f":"VLOOKUP(F263,'[1]Worksheet (2)'!$A$1:$C$1340,2,FALSE)","v":"郭海燕"},2025123013,114.93,76.62,30.65,{"v":78.2,"d":"78.20"},46.92,77.57,"是"]
[262,"勤务岗位12","赫章县公安局",12,{"$f":"VLOOKUP(F264,'[1]Worksheet (2)'!$A$1:$C$1340,2,FALSE)","v":"梅前"},2025122901,110.99,73.99,{"v":29.6,"d":"29.60"},78.57,47.14,76.74,"是"]
[263,"勤务岗位12","赫章县公安局",12,{"$f":"VLOOKUP(F265,'[1]Worksheet (2)'!$A$1:$C$1340,2,FALSE)","v":"殷琪"},2025122810,116.77,77.85,31.14,{"v":75.9,"d":"75.90"},45.54,76.68,"是"]
[264,"勤务岗位12","赫章县公安局",12,{"$f":"VLOOKUP(F266,'[1]Worksheet (2)'!$A$1:$C$1340,2,FALSE)","v":"熊欢欢"},2025123822,117.32,78.21,31.28,73.83,{"v":44.3,"d":"44.30"},75.58,"是"]
[265,"勤务岗位12","赫章县公安局",12,{"$f":"VLOOKUP(F267,'[1]Worksheet (2)'!$A$1:$C$1340,2,FALSE)","v":"殷婷"},2025123404,120.71,80.47,32.19,{"v":72.1,"d":"72.10"},43.26,75.45,"是"]
[266,"勤务岗位12","赫章县公安局",12,{"$f":"VLOOKUP(F268,'[1]Worksheet (2)'!$A$1:$C$1340,2,FALSE)","v":"马西南"},2025123518,118.37,78.91,31.56,{"v":71.1,"d":"71.10"},42.66,74.22,"是"]
[267,"勤务岗位12","赫章县公安局",12,{"$f":"VLOOKUP(F269,'[1]Worksheet (2)'!$A$1:$C$1340,2,FALSE)","v":"王月"},2025124118,118.37,78.91,31.56,71.02,42.61,74.17,"是"]
[268,"勤务岗位12","赫章县公安局",12,{"$f":"VLOOKUP(F270,'[1]Worksheet (2)'!$A$1:$C$1340,2,FALSE)","v":"肖桂贞"},2025123420,113.04,75.36,30.14,72.67,{"v":43.6,"d":"43.60"},73.74,"是"]
[269,"勤务岗位12","赫章县公安局",12,{"$f":"VLOOKUP(F271,'[1]Worksheet (2)'!$A$1:$C$1340,2,FALSE)","v":"刘元元"},2025122806,108.31,72.21,28.88,73.97,44.38,73.26,"是"]
[270,"勤务岗位12","赫章县公安局",12,{"$f":"VLOOKUP(F272,'[1]Worksheet (2)'!$A$1:$C$1340,2,FALSE)","v":"黄倩"},2025123705,118.95,{"v":79.3,"d":"79.30"},31.72,{"v":69.2,"d":"69.20"},41.52,73.24,"是"]
[271,"勤务岗位12","赫章县公安局",12,{"$f":"VLOOKUP(F273,'[1]Worksheet (2)'!$A$1:$C$1340,2,FALSE)","v":"陈敏"},2025123605,108.31,72.21,28.88,73.83,{"v":44.3,"d":"44.30"},73.18,"是"]
[272,"勤务岗位12","赫章县公安局",12,{"$f":"VLOOKUP(F274,'[1]Worksheet (2)'!$A$1:$C$1340,2,FALSE)","v":"谢艳飞"},2025123025,113.17,75.45,30.18,71.63,42.98,73.16,"是"]
[273,"勤务岗位12","赫章县公安局",12,{"$f":"VLOOKUP(F275,'[1]Worksheet (2)'!$A$1:$C$1340,2,FALSE)","v":"朱景云"},2025123915,113.38,75.59,30.24,71.37,42.82,73.06,"是"]
[274,"勤务岗位12","赫章县公安局",12,{"$f":"VLOOKUP(F276,'[1]Worksheet (2)'!$A$1:$C$1340,2,FALSE)","v":"卢清煌"},2025123007,111.75,{"v":74.5,"d":"74.50"},{"v":29.8,"d":"29.80"},71.53,42.92,72.72,"否"]
[275,"勤务岗位12","赫章县公安局",12,{"$f":"VLOOKUP(F277,'[1]Worksheet (2)'!$A$1:$C$1340,2,FALSE)","v":"潘娟"},2025123720,107.68,71.79,28.72,72.27,43.36,72.08,"否"]
[276,"勤务岗位12","赫章县公安局",12,{"$f":"VLOOKUP(F278,'[1]Worksheet (2)'!$A$1:$C$1340,2,FALSE)","v":"陈磊"},2025123021,{"v":108.6,"d":"108.60"},{"v":72.4,"d":"72.40"},28.96,71.77,43.06,72.02,"否"]
[277,"勤务岗位12","赫章县公安局",12,{"$f":"VLOOKUP(F279,'[1]Worksheet (2)'!$A$1:$C$1340,2,FALSE)","v":"龙瑶"},2025123225,115.77,77.18,30.87,68.43,41.06,71.93,"否"]
[278,"勤务岗位12","赫章县公安局",12,{"$f":"VLOOKUP(F280,'[1]Worksheet (2)'!$A$1:$C$1340,2,FALSE)","v":"李春艳"},2025123503,120.21,80.14,32.06,65.67,{"v":39.4,"d":"39.40"},71.46,"否"]
[279,"勤务岗位12","赫章县公安局",12,{"$f":"VLOOKUP(F281,'[1]Worksheet (2)'!$A$1:$C$1340,2,FALSE)","v":"王帅"},2025122616,108.81,72.54,29.02,70.53,42.32,71.34,"否"]
[280,"勤务岗位12","赫章县公安局",12,{"$f":"VLOOKUP(F282,'[1]Worksheet (2)'!$A$1:$C$1340,2,FALSE)","v":"闵梅"},2025123813,108.02,72.01,{"v":28.8,"d":"28.80"},70.73,42.44,71.24,"否"]
[281,"勤务岗位12","赫章县公安局",12,{"$f":"VLOOKUP(F283,'[1]Worksheet (2)'!$A$1:$C$1340,2,FALSE)","v":"陈哲"},2025123803,112.04,74.69,29.88,68.51,41.11,70.99,"否"]
[282,"勤务岗位12","赫章县公安局",12,{"$f":"VLOOKUP(F284,'[1]Worksheet (2)'!$A$1:$C$1340,2,FALSE)","v":"顾娜"},2025123906,110.78,73.85,29.54,68.95,41.37,70.91,"否"]
[283,"勤务岗位12","赫章县公安局",12,{"$f":"VLOOKUP(F285,'[1]Worksheet (2)'!$A$1:$C$1340,2,FALSE)","v":"陈倩"},2025123607,107.05,71.37,28.55,69.97,41.98,70.53,"否"]
[284,"勤务岗位12","赫章县公安局",12,{"$f":"VLOOKUP(F286,'[1]Worksheet (2)'!$A$1:$C$1340,2,FALSE)","v":"何丽"},2025123426,110.15,73.43,29.37,{"v":68.5,"d":"68.50"},{"v":41.1,"d":"41.10"},70.47,"否"]
[285,"勤务岗位12","赫章县公安局",12,{"$f":"VLOOKUP(F287,'[1]Worksheet (2)'!$A$1:$C$1340,2,FALSE)","v":"夏荣梅"},2025123908,114.22,76.15,30.46,66.67,{"v":40,"d":"40.00"},70.46,"否"]
[286,"勤务岗位12","赫章县公安局",12,{"$f":"VLOOKUP(F288,'[1]Worksheet (2)'!$A$1:$C$1340,2,FALSE)","v":"郑洪毕"},2025123612,108.31,72.21,28.88,69.27,41.56,70.44,"否"]
[287,"勤务岗位12","赫章县公安局",12,{"$f":"VLOOKUP(F289,'[1]Worksheet (2)'!$A$1:$C$1340,2,FALSE)","v":"罗铃玉"},2025124410,106.42,70.95,28.38,{"v":69.6,"d":"69.60"},41.76,70.14,"否"]
[288,"勤务岗位12","赫章县公安局",12,{"$f":"VLOOKUP(F290,'[1]Worksheet (2)'!$A$1:$C$1340,2,FALSE)","v":"李米菲"},2025123711,108.18,72.12,28.85,68.33,{"v":41,"d":"41.00"},69.85,"否"]
[289,"勤务岗位12","赫章县公安局",12,{"$f":"VLOOKUP(F291,'[1]Worksheet (2)'!$A$1:$C$1340,2,FALSE)","v":"余娟"},2025123914,106.76,71.17,28.47,67.67,{"v":40.6,"d":"40.60"},69.07,"否"]
[290,"勤务岗位12","赫章县公安局",12,{"$f":"VLOOKUP(F292,'[1]Worksheet (2)'!$A$1:$C$1340,2,FALSE)","v":"胡笛"},2025124220,106.55,71.03,28.41,66.13,39.68,68.09,"否"]
[291,"勤务岗位12","赫章县公安局",12,{"$f":"VLOOKUP(F293,'[1]Worksheet (2)'!$A$1:$C$1340,2,FALSE)","v":"张沙"},2025124026,112.12,74.75,{"v":29.9,"d":"29.90"},62.87,37.72,67.62,"否"]
[292,"勤务岗位12","赫章县公安局",12,{"$f":"VLOOKUP(F294,'[1]Worksheet (2)'!$A$1:$C$1340,2,FALSE)","v":"陈艳"},2025123123,109.02,72.68,29.07,63.67,{"v":38.2,"d":"38.20"},67.27,"否"]
[293,"勤务岗位12","赫章县公安局",12,{"$f":"VLOOKUP(F295,'[1]Worksheet (2)'!$A$1:$C$1340,2,FALSE)","v":"徐漫"},2025123121,112.04,74.69,29.88,61.85,37.11,66.99,"否"]
[294,"勤务岗位12","赫章县公安局",12,{"$f":"VLOOKUP(F296,'[1]Worksheet (2)'!$A$1:$C$1340,2,FALSE)","v":"李本玲"},2025123307,108.18,72.12,28.85,60.87,36.52,65.37,"否"]
[295,"勤务岗位12","赫章县公安局",12,{"$f":"VLOOKUP(F297,'[1]Worksheet (2)'!$A$1:$C$1340,2,FALSE)","v":"赖芸"},2025124022,106.34,70.89,28.36,56.17,{"v":33.7,"d":"33.70"},62.06,"否"]