{"text_format":"3","workbook":"xlsx","n_sheets":1,"sheets":["Sheet1"],"not_rendered":{"external_links":5,"defined_names":2},"read":"whole","date_system":"1900"}

{"sheet":"Sheet1","index":0,"n_rows":41,"n_cols":19,"rows_kept":41,"merged":[[1,0,1,18],[2,0,3,0],[2,1,3,1],[2,2,3,2],[2,3,2,7],[2,8,2,9],[2,10,3,10],[2,11,3,11],[2,12,3,12],[2,13,3,13],[2,14,3,14],[2,15,3,15],[2,16,3,16],[2,17,3,17],[2,18,3,18],[4,13,12,13],[13,13,16,13],[17,13,20,13],[21,13,22,13],[23,13,40,13]]}
["附件："]
["贵州广播电视大学（贵州职业技术学院）2021年公开招聘工作人员\n面试成绩、总成绩及进入体检环节人员名单"]
["序号","姓名","准考证号","笔试成绩",{"$nulls":4},"面试成绩",null,"总成绩","报考岗位编码","报考岗位名称","招聘人数","是否进入资格复审","资格复审结果","是否进入面试","是否进入体检","备注"]
[{"$nulls":3},"职业能力倾向测验成绩","综合应用能力成绩","原始总成绩","折合百分制后成绩","按折算百分制后的笔试成绩的40%折算","原始成绩","按原始面试成绩的60%折算"]
[1,"刘珂","1152282202228",98,102,200,66.67,{"$f":"G5*0.4","v":{"v":26.668,"d":"26.67"}},{"$f":"VLOOKUP(B5,[1]电大刻盘!$B$3:$J$11,9,FALSE)","v":{"v":92,"d":"92.00"}},{"$f":"I5*0.6","v":{"v":55.2,"d":"55.20"}},{"$f":"H5+J5","v":{"v":81.868,"d":"81.87"}},"12828050101","专业教师",3,"是","通过","是","是"]
[2,"朱行","1152282204616",95.5,101,196.5,65.5,{"$f":"G6*0.4","v":{"v":26.2,"d":"26.20"}},{"$f":"VLOOKUP(B6,[1]电大刻盘!$B$3:$J$11,9,FALSE)","v":{"v":87.8,"d":"87.80"}},{"$f":"I6*0.6","v":52.68},{"$f":"H6+J6","v":78.88},"12828050101","专业教师",null,"是","通过","是","是"]
[3,"张晓敏","1152282206927",80.5,111,191.5,63.83,{"$f":"G7*0.4","v":{"v":25.532,"d":"25.53"}},{"$f":"VLOOKUP(B7,[1]电大刻盘!$B$3:$J$11,9,FALSE)","v":{"v":87.8,"d":"87.80"}},{"$f":"I7*0.6","v":52.68},{"$f":"H7+J7","v":{"v":78.212,"d":"78.21"}},"12828050101","专业教师",null,"是","通过","是"]
[4,"张燕","1152282204803",92,97.5,189.5,63.17,{"$f":"G8*0.4","v":{"v":25.268,"d":"25.27"}},{"$f":"VLOOKUP(B8,[1]电大刻盘!$B$3:$J$11,9,FALSE)","v":{"v":85.6,"d":"85.60"}},{"$f":"I8*0.6","v":51.36},{"$f":"H8+J8","v":{"v":76.628,"d":"76.63"}},"12828050101","专业教师",null,"是","通过","是"]
[5,"王瑜","1152282204926",82.5,104.5,187,62.33,{"$f":"G9*0.4","v":{"v":24.932,"d":"24.93"}},{"$f":"VLOOKUP(B9,[1]电大刻盘!$B$3:$J$11,9,FALSE)","v":{"v":90.6,"d":"90.60"}},{"$f":"I9*0.6","v":54.36},{"$f":"H9+J9","v":{"v":79.292,"d":"79.29"}},"12828050101","专业教师",null,"是","通过","是","是"]
[6,"杨琳","1152282202723",81,105,186,62,{"$f":"G10*0.4","v":{"v":24.8,"d":"24.80"}},{"$f":"VLOOKUP(B10,[1]电大刻盘!$B$3:$J$11,9,FALSE)","v":{"v":81.4,"d":"81.40"}},{"$f":"I10*0.6","v":48.84},{"$f":"H10+J10","v":73.64},"12828050101","专业教师",null,"是","通过","是"]
[7,"张粉","1152282202504",77,109,186,62,{"$f":"G11*0.4","v":{"v":24.8,"d":"24.80"}},{"$f":"VLOOKUP(B11,[1]电大刻盘!$B$3:$J$11,9,FALSE)","v":{"v":84.8,"d":"84.80"}},{"$f":"I11*0.6","v":50.88},{"$f":"H11+J11","v":75.68},"12828050101","专业教师",null,"是","通过","是"]
[8,"毛万艺","1152282202702",87,93.5,180.5,60.17,{"$f":"G12*0.4","v":{"v":24.068,"d":"24.07"}},{"$f":"VLOOKUP(B12,[1]电大刻盘!$B$3:$J$11,9,FALSE)","v":{"v":87.6,"d":"87.60"}},{"$f":"I12*0.6","v":52.56},{"$f":"H12+J12","v":{"v":76.628,"d":"76.63"}},"12828050101","专业教师",null,"递补","通过","是"]
[9,"涂忠梅","1152282205930",93.5,86,179.5,59.83,{"$f":"G13*0.4","v":{"v":23.932,"d":"23.93"}},{"$f":"VLOOKUP(B13,[1]电大刻盘!$B$3:$J$11,9,FALSE)","v":{"v":89,"d":"89.00"}},{"$f":"I13*0.6","v":{"v":53.4,"d":"53.40"}},{"$f":"H13+J13","v":{"v":77.332,"d":"77.33"}},"12828050101","专业教师",null,"递补","通过","是"]
[1,"陈志国","1152282204708",100,121,221,73.67,{"$f":"G14*0.4","v":{"v":29.468,"d":"29.47"}},{"$f":"VLOOKUP(B14,[2]电大刻盘!$B$3:$J$6,9,FALSE)","v":{"v":91.8,"d":"91.80"}},{"$f":"I14*0.6","v":55.08},{"$f":"H14+J14","v":{"v":84.548,"d":"84.55"}},"12828050102","专业教师",1,"是","通过","是","是"]
[2,"刘佳旭","1152282203906",120,95,215,71.67,{"$f":"G15*0.4","v":{"v":28.668,"d":"28.67"}},{"$f":"VLOOKUP(B15,[2]电大刻盘!$B$3:$J$6,9,FALSE)","v":{"v":85.8,"d":"85.80"}},{"$f":"I15*0.6","v":51.48},{"$f":"H15+J15","v":{"v":80.148,"d":"80.15"}},"12828050102","专业教师",null,"是","通过","是"]
[3,"杨婧钰","1152282204924",114,96.5,210.5,70.17,{"$f":"G16*0.4","v":{"v":28.068,"d":"28.07"}},{"$f":"VLOOKUP(B16,[2]电大刻盘!$B$3:$J$6,9,FALSE)","v":{"v":91.9,"d":"91.90"}},{"$f":"I16*0.6","v":55.14},{"$f":"H16+J16","v":{"v":83.208,"d":"83.21"}},"12828050102","专业教师",null,"是","通过","是"]
[4,"张香云","1152282204627",95.5,115,210.5,70.17,{"$f":"G17*0.4","v":{"v":28.068,"d":"28.07"}},{"$f":"VLOOKUP(B17,[2]电大刻盘!$B$3:$J$6,9,FALSE)","v":{"v":85,"d":"85.00"}},{"$f":"I17*0.6","v":{"v":51,"d":"51.00"}},{"$f":"H17+J17","v":{"v":79.068,"d":"79.07"}},"12828050102","专业教师",null,"是","通过","是"]
[1,"吴景超","1152282203310",107,106.5,213.5,71.17,{"$f":"G18*0.4","v":{"v":28.468,"d":"28.47"}},{"$f":"VLOOKUP(B18,[3]电大刻盘!$B$3:$L$6,11,FALSE)","v":{"v":80.4,"d":"80.40"}},{"$f":"I18*0.6","v":48.24},{"$f":"H18+J18","v":{"v":76.708,"d":"76.71"}},"12828050103","专业教师",2,"是","通过","是","是"]
[2,"曾晓洁","1152282202417",79.5,101.5,181,60.33,{"$f":"G19*0.4","v":{"v":24.132,"d":"24.13"}},{"$f":"VLOOKUP(B19,[3]电大刻盘!$B$3:$L$6,11,FALSE)","v":{"v":86.8,"d":"86.80"}},{"$f":"I19*0.6","v":52.08},{"$f":"H19+J19","v":{"v":76.212,"d":"76.21"}},"12828050103","专业教师",null,"是","通过","是"]
[3,"李华山","1152282202526",89,88,177,59,{"$f":"G20*0.4","v":{"v":23.6,"d":"23.60"}},{"$f":"VLOOKUP(B20,[3]电大刻盘!$B$3:$L$6,11,FALSE)","v":{"v":88.8,"d":"88.80"}},{"$f":"I20*0.6","v":53.28},{"$f":"H20+J20","v":76.88},"12828050103","专业教师",null,"是","通过","是","是"]
[4,"李明肤","1152282204502",93.5,68,161.5,53.83,{"$f":"G21*0.4","v":{"v":21.532,"d":"21.53"}},{"$f":"VLOOKUP(B21,[3]电大刻盘!$B$3:$L$6,11,FALSE)","v":{"v":83.8,"d":"83.80"}},{"$f":"I21*0.6","v":50.28},{"$f":"H21+J21","v":{"v":71.812,"d":"71.81"}},"12828050103","专业教师",null,"是","通过","是"]
[1,"丁当","1152282202725",100,100.5,200.5,66.83,{"$f":"G22*0.4","v":{"v":26.732,"d":"26.73"}},{"$f":"VLOOKUP(B22,[4]电大刻盘!$B$3:$L$4,11,FALSE)","v":{"v":87.6,"d":"87.60"}},{"$f":"I22*0.6","v":52.56},{"$f":"H22+J22","v":{"v":79.292,"d":"79.29"}},"12828050104","专业教师",2,"是","通过","是","是"]
[2,"姜华","1152282207324",76,79,155,51.67,{"$f":"G23*0.4","v":{"v":20.668,"d":"20.67"}},{"$f":"VLOOKUP(B23,[4]电大刻盘!$B$3:$L$4,11,FALSE)","v":{"v":82,"d":"82.00"}},{"$f":"I23*0.6","v":{"v":49.2,"d":"49.20"}},{"$f":"H23+J23","v":{"v":69.868,"d":"69.87"}},"12828050104","专业教师",null,"是","通过","是","是"]
[1,"邓倖之","1152282204521",119.5,107.5,227,75.67,{"$f":"G24*0.4","v":{"v":30.268,"d":"30.27"}},{"$f":"VLOOKUP(B24,[5]电大刻盘!$B$3:$J$18,9,FALSE)","v":{"v":90,"d":"90.00"}},{"$f":"I24*0.6","v":{"v":54,"d":"54.00"}},{"$f":"H24+J24","v":{"v":84.268,"d":"84.27"}},"12828050105","辅导员",6,"是","通过","是","是"]
[2,"饶臣宏","1152282313420",103.5,120.5,224,74.67,{"$f":"G25*0.4","v":{"v":29.868,"d":"29.87"}},{"$f":"VLOOKUP(B25,[5]电大刻盘!$B$3:$J$18,9,FALSE)","v":{"v":91.4,"d":"91.40"}},54.84,{"v":84.708,"d":"84.71"},"12828050105","辅导员",null,"是","通过","是","是"]
[3,"杨鑫馨","1152282203621",103.5,119,222.5,74.17,{"$f":"G26*0.4","v":{"v":29.668,"d":"29.67"}},{"$f":"VLOOKUP(B26,[5]电大刻盘!$B$3:$J$18,9,FALSE)","v":{"v":92.2,"d":"92.20"}},55.32,{"v":84.988,"d":"84.99"},"12828050105","辅导员",null,"是","通过","是","是"]
[4,"唐中敏","1152282308528",110.5,111,221.5,73.83,{"$f":"G27*0.4","v":{"v":29.532,"d":"29.53"}},{"$f":"VLOOKUP(B27,[5]电大刻盘!$B$3:$J$18,9,FALSE)","v":{"v":86.4,"d":"86.40"}},51.84,{"v":81.372,"d":"81.37"},"12828050105","辅导员",null,"是","通过","是","是"]
[5,"江靖雯","1152282310920",107,113,220,73.33,{"$f":"G28*0.4","v":{"v":29.332,"d":"29.33"}},{"$nulls":3},"12828050105","辅导员",null,"是","通过","是",null,"未按规定参加面试"]
[6,"岳廷颖","1152282311526",96,122.5,218.5,72.83,{"$f":"G29*0.4","v":{"v":29.132,"d":"29.13"}},{"$f":"VLOOKUP(B29,[5]电大刻盘!$B$3:$J$18,9,FALSE)","v":{"v":89.9,"d":"89.90"}},53.94,{"v":83.072,"d":"83.07"},"12828050105","辅导员",null,"是","通过","是","是"]
[7,"郭梦","1152282309414",106,112.5,218.5,72.83,{"$f":"G30*0.4","v":{"v":29.132,"d":"29.13"}},{"$f":"VLOOKUP(B30,[5]电大刻盘!$B$3:$J$18,9,FALSE)","v":{"v":73.8,"d":"73.80"}},44.28,{"v":73.412,"d":"73.41"},"12828050105","辅导员",null,"是","通过","是"]
[8,"冯江婷","1152282314625",107.5,108.5,216,72,{"$f":"G31*0.4","v":{"v":28.8,"d":"28.80"}},{"$f":"VLOOKUP(B31,[5]电大刻盘!$B$3:$J$18,9,FALSE)","v":{"v":89,"d":"89.00"}},{"v":53.4,"d":"53.40"},{"v":82.2,"d":"82.20"},"12828050105","辅导员",null,"是","通过","是","是"]
[9,"杨晨","1152282308215",98,117.5,215.5,71.83,{"$f":"G32*0.4","v":{"v":28.732,"d":"28.73"}},{"$f":"VLOOKUP(B32,[5]电大刻盘!$B$3:$J$18,9,FALSE)","v":{"v":87.2,"d":"87.20"}},52.32,{"v":81.052,"d":"81.05"},"12828050105","辅导员",null,"是","通过","是"]
[10,"魏思琦","1152282314130",104.5,107.5,212,70.67,{"$f":"G33*0.4","v":{"v":28.268,"d":"28.27"}},{"$nulls":3},"12828050105","辅导员",null,"是","通过","是",null,"放弃面试资格"]
[11,"王荟","1152282207021",100,110.5,210.5,70.17,{"$f":"G34*0.4","v":{"v":28.068,"d":"28.07"}},{"$f":"VLOOKUP(B34,[5]电大刻盘!$B$3:$J$18,9,FALSE)","v":{"v":82,"d":"82.00"}},{"v":49.2,"d":"49.20"},{"v":77.268,"d":"77.27"},"12828050105","辅导员",null,"是","通过","是"]
[12,"丁梦琪","1152282308508",98.5,111,209.5,69.83,{"$f":"G35*0.4","v":{"v":27.932,"d":"27.93"}},{"$f":"VLOOKUP(B35,[5]电大刻盘!$B$3:$J$18,9,FALSE)","v":{"v":81,"d":"81.00"}},{"v":48.6,"d":"48.60"},{"v":76.532,"d":"76.53"},"12828050105","辅导员",null,"是","通过","是"]
[13,"孙佳","1152282312117",97.5,112,209.5,69.83,{"$f":"G36*0.4","v":{"v":27.932,"d":"27.93"}},{"$f":"VLOOKUP(B36,[5]电大刻盘!$B$3:$J$18,9,FALSE)","v":{"v":84,"d":"84.00"}},{"v":50.4,"d":"50.40"},{"v":78.332,"d":"78.33"},"12828050105","辅导员",null,"是","通过","是"]
[14,"雷娜","1152282315001",107.5,101,208.5,69.5,{"$f":"G37*0.4","v":{"v":27.8,"d":"27.80"}},{"$f":"VLOOKUP(B37,[5]电大刻盘!$B$3:$J$18,9,FALSE)","v":{"v":83.2,"d":"83.20"}},49.92,77.72,"12828050105","辅导员",null,"是","通过","是"]
[15,"叶剑挺","1152282310002",101.5,106.5,208,69.33,{"$f":"G38*0.4","v":{"v":27.732,"d":"27.73"}},{"$f":"VLOOKUP(B38,[5]电大刻盘!$B$3:$J$18,9,FALSE)","v":{"v":89,"d":"89.00"}},{"v":53.4,"d":"53.40"},{"v":81.132,"d":"81.13"},"12828050105","辅导员",null,"递补","通过","是"]
[16,"黎南","1152282205928",97.5,109.5,207,69,{"$f":"G39*0.4","v":{"v":27.6,"d":"27.60"}},{"$f":"VLOOKUP(B39,[5]电大刻盘!$B$3:$J$18,9,FALSE)","v":{"v":84.4,"d":"84.40"}},50.64,78.24,"12828050105","辅导员",null,"递补","通过","是"]
[17,"王梓怡","1152282310911",92.5,114.5,207,69,{"$f":"G40*0.4","v":{"v":27.6,"d":"27.60"}},{"$f":"VLOOKUP(B40,[5]电大刻盘!$B$3:$J$18,9,FALSE)","v":{"v":80.2,"d":"80.20"}},48.12,75.72,"12828050105","辅导员",null,"递补","通过","是"]
[18,"杨舒婷","1152282311307",94,112.5,206.5,68.83,{"$f":"G41*0.4","v":{"v":27.532,"d":"27.53"}},{"$f":"VLOOKUP(B41,[5]电大刻盘!$B$3:$J$18,9,FALSE)","v":{"v":83,"d":"83.00"}},{"v":49.8,"d":"49.80"},{"v":77.332,"d":"77.33"},"12828050105","辅导员",null,"递补","通过","是"]