Workbook

Sheet Sheet1
A1: 贵阳市2023年统一面向社会公开招录公务员笔试、面试、总成绩及排名一览表
A2: 序号 | B2: 准考证号 | C2: 姓名 | D2: 岗位大类 | E2: 职位代码 | F2: 报考部门 | G2: 行测 成绩 | H2: 申论 成绩 | I2: 加分 | J2: 笔试环节成绩 | K2: 面试 成绩 | L2: 总成绩 | M2: 总成绩排名
A3: 1 | B3: 101010201220 | C3: 朱子杰 | D3: 公务员 | E3: 01000101 | F3: 贵阳市中级人民法院 | G3: =VLOOKUP(B3,[1]cj3.28!$F:$M,8,FALSE) -> 118.1 | H3: =VLOOKUP(B3,[1]cj3.28!$F:$O,10,FALSE) -> 115 | J3: 77.7 | K3: 80 | L3: =ROUND(J3*0.6+K3*0.4,2) -> 78.62 | M3: 1
A4: 2 | B4: 101010201419 | C4: 陆希星 | D4: 公务员 | E4: 01000101 | F4: 贵阳市中级人民法院 | G4: =VLOOKUP(B4,[1]cj3.28!$F:$M,8,FALSE) -> 101.6 | H4: =VLOOKUP(B4,[1]cj3.28!$F:$O,10,FALSE) -> 123.5 | J4: 75.03 | K4: 79.4 | L4: =ROUND(J4*0.6+K4*0.4,2) -> 76.78 | M4: 2
A5: 3 | B5: 101010201730 | C5: 朱海 | D5: 公务员 | E5: 01000101 | F5: 贵阳市中级人民法院 | G5: =VLOOKUP(B5,[1]cj3.28!$F:$M,8,FALSE) -> 106.6 | H5: =VLOOKUP(B5,[1]cj3.28!$F:$O,10,FALSE) -> 108 | J5: 71.53 | K5: 83.6 | L5: =ROUND(J5*0.6+K5*0.4,2) -> 76.36 | M5: 3
A6: 4 | B6: 101010201209 | C6: 刘波 | D6: 公务员 | E6: 01000101 | F6: 贵阳市中级人民法院 | G6: =VLOOKUP(B6,[1]cj3.28!$F:$M,8,FALSE) -> 105.7 | H6: =VLOOKUP(B6,[1]cj3.28!$F:$O,10,FALSE) -> 108 | J6: 71.23 | K6: 81.8 | L6: =ROUND(J6*0.6+K6*0.4,2) -> 75.46 | M6: 4
A7: 5 | B7: 101010200724 | C7: 朱俊龙 | D7: 公务员 | E7: 01000101 | F7: 贵阳市中级人民法院 | G7: =VLOOKUP(B7,[1]cj3.28!$F:$M,8,FALSE) -> 92.7 | H7: =VLOOKUP(B7,[1]cj3.28!$F:$O,10,FALSE) -> 124.5 | J7: 72.4 | K7: 79.8 | L7: =ROUND(J7*0.6+K7*0.4,2) -> 75.36 | M7: 5
A8: 6 | B8: 101010200230 | C8: 邹雄 | D8: 公务员 | E8: 01000101 | F8: 贵阳市中级人民法院 | G8: =VLOOKUP(B8,[1]cj3.28!$F:$M,8,FALSE) -> 108.9 | H8: =VLOOKUP(B8,[1]cj3.28!$F:$O,10,FALSE) -> 107.5 | J8: 72.13 | K8: 79.8 | L8: =ROUND(J8*0.6+K8*0.4,2) -> 75.2 | M8: 6
A9: 7 | B9: 101010200125 | C9: 余虎 | D9: 公务员 | E9: 01000101 | F9: 贵阳市中级人民法院 | G9: =VLOOKUP(B9,[1]cj3.28!$F:$M,8,FALSE) -> 103.9 | H9: =VLOOKUP(B9,[1]cj3.28!$F:$O,10,FALSE) -> 112.5 | J9: 72.13 | K9: 78.4 | L9: =ROUND(J9*0.6+K9*0.4,2) -> 74.64 | M9: 7
A10: 8 | B10: 101010202028 | C10: 杨宇 | D10: 公务员 | E10: 01000101 | F10: 贵阳市中级人民法院 | G10: =VLOOKUP(B10,[1]cj3.28!$F:$M,8,FALSE) -> 108.7 | H10: =VLOOKUP(B10,[1]cj3.28!$F:$O,10,FALSE) -> 102 | J10: 70.23 | K10: 81.2 | L10: =ROUND(J10*0.6+K10*0.4,2) -> 74.62 | M10: 8
A11: 9 | B11: 101010201423 | C11: 刘曌 | D11: 公务员 | E11: 01000101 | F11: 贵阳市中级人民法院 | G11: =VLOOKUP(B11,[1]cj3.28!$F:$M,8,FALSE) -> 106.1 | H11: =VLOOKUP(B11,[1]cj3.28!$F:$O,10,FALSE) -> 110.5 | J11: 72.2 | K11: 76.8 | L11: =ROUND(J11*0.6+K11*0.4,2) -> 74.04 | M11: 9
A12: 10 | B12: 101010202104 | C12: 彭胜海 | D12: 公务员 | E12: 01000101 | F12: 贵阳市中级人民法院 | G12: =VLOOKUP(B12,[1]cj3.28!$F:$M,8,FALSE) -> 99.8 | H12: =VLOOKUP(B12,[1]cj3.28!$F:$O,10,FALSE) -> 114.5 | J12: 71.43 | K12: 75.6 | L12: =ROUND(J12*0.6+K12*0.4,2) -> 73.1 | M12: 10
A13: 11 | B13: 101010201404 | C13: 禹雁瀚 | D13: 公务员 | E13: 01000101 | F13: 贵阳市中级人民法院 | G13: =VLOOKUP(B13,[1]cj3.28!$F:$M,8,FALSE) -> 91.3 | H13: =VLOOKUP(B13,[1]cj3.28!$F:$O,10,FALSE) -> 118.5 | J13: 69.93 | K13: 74 | L13: =ROUND(J13*0.6+K13*0.4,2) -> 71.56 | M13: 11
A14: 12 | B14: 101010200212 | C14: 王贵 | D14: 公务员 | E14: 01000101 | F14: 贵阳市中级人民法院 | G14: =VLOOKUP(B14,[1]cj3.28!$F:$M,8,FALSE) -> 100.3 | H14: =VLOOKUP(B14,[1]cj3.28!$F:$O,10,FALSE) -> 116 | J14: 72.1 | K14: 70.2 | L14: =ROUND(J14*0.6+K14*0.4,2) -> 71.34 | M14: 12
... A24: 22 | B24: 101010202025 | C24: 姜荷英 | D24: 公务员 | E24: 01000102 | F24: 贵阳市中级人民法院 | G24: =VLOOKUP(B24,[1]cj3.28!$F:$M,8,FALSE) -> 94.4 | H24: =VLOOKUP(B24,[1]cj3.28!$F:$O,10,FALSE) -> 120 | J24: 71.47 | K24: 71.8 | L24: =ROUND(J24*0.6+K24*0.4,2) -> 71.6 | M24: 10
A25: 23 | B25: 101010200716 | C25: 何宣 | D25: 公务员 | E25: 01000102 | F25: 贵阳市中级人民法院 | G25: =VLOOKUP(B25,[1]cj3.28!$F:$M,8,FALSE) -> 97.6 | H25: =VLOOKUP(B25,[1]cj3.28!$F:$O,10,FALSE) -> 126.5 | J25: 74.7 | K25: 缺考
A26: 24 | B26: 101010202020 | C26: 黄弘 | D26: 公务员 | E26: 01000102 | F26: 贵阳市中级人民法院 | G26: =VLOOKUP(B26,[1]cj3.28!$F:$M,8,FALSE) -> 108.9 | H26: =VLOOKUP(B26,[1]cj3.28!$F:$O,10,FALSE) -> 105.5 | J26: 71.47 | K26: 缺考
A27: 25 | B27: 101010202024 | C27: 张雨诗 | D27: 公务员 | E27: 01000103 | F27: 贵阳市中级人民法院 | G27: =VLOOKUP(B27,[1]cj3.28!$F:$M,8,FALSE) -> 93.3 | H27: =VLOOKUP(B27,[1]cj3.28!$F:$O,10,FALSE) -> 127.5 | J27: 73.6 | K27: 79.2 | L27: =ROUND(J27*0.6+K27*0.4,2) -> 75.84 | M27: 1
A28: 26 | B28: 101010200105 | C28: 许可 | D28: 公务员 | E28: 01000103 | F28: 贵阳市中级人民法院 | G28: =VLOOKUP(B28,[1]cj3.28!$F:$M,8,FALSE) -> 109.3 | H28: =VLOOKUP(B28,[1]cj3.28!$F:$O,10,FALSE) -> 100 | J28: 69.77 | K28: 82.6 | L28: =ROUND(J28*0.6+K28*0.4,2) -> 74.9 | M28: 2
A29: 27 | B29: 101010201906 | C29: 赵维好 | D29: 公务员 | E29: 01000103 | F29: 贵阳市中级人民法院 | G29: =VLOOKUP(B29,[1]cj3.28!$F:$M,8,FALSE) -> 90.6 | H29: =VLOOKUP(B29,[1]cj3.28!$F:$O,10,FALSE) -> 121.5 | J29: 70.7 | K29: 78.7 | L29: =ROUND(J29*0.6+K29*0.4,2) -> 73.9 | M29: 3
A30: 28 | B30: 101010200123 | C30: 徐婷 | D30: 公务员 | E30: 01000104 | F30: 贵阳市中级人民法院 | G30: =VLOOKUP(B30,[1]cj3.28!$F:$M,8,FALSE) -> 108.4 | H30: =VLOOKUP(B30,[1]cj3.28!$F:$O,10,FALSE) -> 112 | J30: 73.47 | K30: 83.4 | L30: =ROUND(J30*0.6+K30*0.4,2) -> 77.44 | M30: 1
A31: 29 | B31: 101010200802 | C31: 左买云 | D31: 公务员 | E31: 01000104 | F31: 贵阳市中级人民法院 | G31: =VLOOKUP(B31,[1]cj3.28!$F:$M,8,FALSE) -> 82.9 | H31: =VLOOKUP(B31,[1]cj3.28!$F:$O,10,FALSE) -> 112 | J31: 64.97 | K31: 75.4 | L31: =ROUND(J31*0.6+K31*0.4,2) -> 69.14 | M31: 2
A32: 30 | B32: 101010201914 | C32: 周礼娟 | D32: 公务员 | E32: 01000104 | F32: 贵阳市中级人民法院 | G32: =VLOOKUP(B32,[1]cj3.28!$F:$M,8,FALSE) -> 95.3 | H32: =VLOOKUP(B32,[1]cj3.28!$F:$O,10,FALSE) -> 103.5 | J32: 66.27 | K32: 缺考
A33: 31 | B33: 101010200519 | C33: 高正廷 | D33: 公务员 | E33: 01000201 | F33: 贵阳市人民检察院 | G33: =VLOOKUP(B33,[1]cj3.28!$F:$M,8,FALSE) -> 86.3 | H33: =VLOOKUP(B33,[1]cj3.28!$F:$O,10,FALSE) -> 117 | J33: 67.77 | K33: 76.2 | L33: =ROUND(J33*0.6+K33*0.4,2) -> 71.14 | M33: 1
A34: 32 | B34: 101010200621 | C34: 唐明春 | D34: 公务员 | E34: 01000201 | F34: 贵阳市人民检察院 | G34: =VLOOKUP(B34,[1]cj3.28!$F:$M,8,FALSE) -> 101.9 | H34: =VLOOKUP(B34,[1]cj3.28!$F:$O,10,FALSE) -> 98.5 | J34: 66.8 | K34: 77.2 | L34: =ROUND(J34*0.6+K34*0.4,2) -> 70.96 | M34: 2
A35: 33 | B35: 101010201427 | C35: 张宇 | D35: 公务员 | E35: 01000201 | F35: 贵阳市人民检察院 | G35: =VLOOKUP(B35,[1]cj3.28!$F:$M,8,FALSE) -> 105.1 | H35: =VLOOKUP(B35,[1]cj3.28!$F:$O,10,FALSE) -> 102 | J35: 69.03 | K35: 73.2 | L35: =ROUND(J35*0.6+K35*0.4,2) -> 70.7 | M35: 3
A36: 34 | B36: 101010200527 | C36: 高娴 | D36: 公务员 | E36: 01000202 | F36: 贵阳市人民检察院 | G36: =VLOOKUP(B36,[1]cj3.28!$F:$M,8,FALSE) -> 103.9 | H36: =VLOOKUP(B36,[1]cj3.28!$F:$O,10,FALSE) -> 119.5 | J36: 74.47 | K36: 80.2 | L36: =ROUND(J36*0.6+K36*0.4,2) -> 76.76 | M36: 1
A37: 35 | B37: 101010201926 | C37: 李清源 | D37: 公务员 | E37: 01000202 | F37: 贵阳市人民检察院 | G37: =VLOOKUP(B37,[1]cj3.28!$F:$M,8,FALSE) -> 106.9 | H37: =VLOOKUP(B37,[1]cj3.28!$F:$O,10,FALSE) -> 115 | J37: 73.97 | K37: 79.4 | L37: =ROUND(J37*0.6+K37*0.4,2) -> 76.14 | M37: 2
A38: 36 | B38: 101010201803 | C38: 周诗画 | D38: 公务员 | E38: 01000202 | F38: 贵阳市人民检察院 | G38: =VLOOKUP(B38,[1]cj3.28!$F:$M,8,FALSE) -> 91.3 | H38: =VLOOKUP(B38,[1]cj3.28!$F:$O,10,FALSE) -> 118.5 | J38: 69.93 | K38: 77.4 | L38: =ROUND(J38*0.6+K38*0.4,2) -> 72.92 | M38: 3
A39: 37 | B39: 101010200921 | C39: 曹艳红 | D39: 公务员 | E39: 01000301 | F39: 中共贵阳市纪律检查委员会、贵阳市监察委员会 | G39: =VLOOKUP(B39,[1]cj3.28!$F:$M,8,FALSE) -> 104.6 | H39: =VLOOKUP(B39,[1]cj3.28!$F:$O,10,FALSE) -> 115.5 | J39: 73.37 | K39: 74.8 | L39: =ROUND(J39*0.6+K39*0.4,2) -> 73.94 | M39: 1
A40: 38 | B40: 101010202123 | C40: 李友 | D40: 公务员 | E40: 01000301 | F40: 中共贵阳市纪律检查委员会、贵阳市监察委员会 | G40: =VLOOKUP(B40,[1]cj3.28!$F:$M,8,FALSE) -> 85.2 | H40: =VLOOKUP(B40,[1]cj3.28!$F:$O,10,FALSE) -> 115.5 | J40: 66.9 | K40: 74.4 | L40: =ROUND(J40*0.6+K40*0.4,2) -> 69.9 | M40: 2
A41: 39 | B41: 101010200630 | C41: 宋晓强 | D41: 公务员 | E41: 01000301 | F41: 中共贵阳市纪律检查委员会、贵阳市监察委员会 | G41: =VLOOKUP(B41,[1]cj3.28!$F:$M,8,FALSE) -> 88.3 | H41: =VLOOKUP(B41,[1]cj3.28!$F:$O,10,FALSE) -> 111.5 | J41: 66.6 | K41: 72.6 | L41: =ROUND(J41*0.6+K41*0.4,2) -> 69 | M41: 3
A42: 40 | B42: 101019504214 | C42: 冯远平 | D42: 公务员 | E42: 01000401 | F42: 贵阳市档案馆 | G42: =VLOOKUP(B42,[1]cj3.28!$F:$M,8,FALSE) -> 114.9 | H42: =VLOOKUP(B42,[1]cj3.28!$F:$O,10,FALSE) -> 107.5 | J42: 74.13 | K42: 75.4 | L42: =ROUND(J42*0.6+K42*0.4,2) -> 74.64 | M42: 1
A43: 41 | B43: 101019502820 | C43: 秦经贵 | D43: 公务员 | E43: 01000401 | F43: 贵阳市档案馆 | G43: =VLOOKUP(B43,[1]cj3.28!$F:$M,8,FALSE) -> 106.8 | H43: =VLOOKUP(B43,[1]cj3.28!$F:$O,10,FALSE) -> 103.5 | J43: 70.1 | K43: 80.8 | L43: =ROUND(J43*0.6+K43*0.4,2) -> 74.38 | M43: 2
A44: 42 | B44: 101019500215 | C44: 刘雪梅 | D44: 公务员 | E44: 01000401 | F44: 贵阳市档案馆 | G44: =VLOOKUP(B44,[1]cj3.28!$F:$M,8,FALSE) -> 95.9 | H44: =VLOOKUP(B44,[1]cj3.28!$F:$O,10,FALSE) -> 115 | J44: 70.3 | K44: 75 | L44: =ROUND(J44*0.6+K44*0.4,2) -> 72.18 | M44: 3
... A67: 65 | B67: 101019403207 | C67: 李远昊 | D67: 公务员 | E67: 01000706 | F67: 贵阳市市级财政国库支付中心 | G67: =VLOOKUP(B67,[1]cj3.28!$F:$M,8,FALSE) -> 95.5 | H67: =VLOOKUP(B67,[1]cj3.28!$F:$O,10,FALSE) -> 118 | J67: 71.17 | K67: 78.6 | L67: =ROUND(J67*0.6+K67*0.4,2) -> 74.14 | M67: 2
A68: 66 | B68: 101019503118 | C68: 高安特 | D68: 公务员 | E68: 01000706 | F68: 贵阳市市级财政国库支付中心 | G68: =VLOOKUP(B68,[1]cj3.28!$F:$M,8,FALSE) -> 100.3 | H68: =VLOOKUP(B68,[1]cj3.28!$F:$O,10,FALSE) -> 116 | J68: 72.1 | K68: 缺考
A69: 67 | B69: 101019407902 | C69: 张青颖 | D69: 公务员 | E69: 01000801 | F69: 贵阳市生态环境局南明分局 | G69: =VLOOKUP(B69,[1]cj3.28!$F:$M,8,FALSE) -> 106.5 | H69: =VLOOKUP(B69,[1]cj3.28!$F:$O,10,FALSE) -> 117.5 | J69: 74.67 | K69: 79 | L69: =ROUND(J69*0.6+K69*0.4,2) -> 76.4 | M69: 1
A70: 68 | B70: 101019409512 | C70: 李安敏 | D70: 公务员 | E70: 01000801 | F70: 贵阳市生态环境局南明分局 | G70: =VLOOKUP(B70,[1]cj3.28!$F:$M,8,FALSE) -> 100 | H70: =VLOOKUP(B70,[1]cj3.28!$F:$O,10,FALSE) -> 111 | J70: 70.33 | K70: 74.6 | L70: =ROUND(J70*0.6+K70*0.4,2) -> 72.04 | M70: 2
A71: 69 | B71: 101019403410 | C71: 张雪莲 | D71: 公务员 | E71: 01000801 | F71: 贵阳市生态环境局南明分局 | G71: =VLOOKUP(B71,[1]cj3.28!$F:$M,8,FALSE) -> 97.4 | H71: =VLOOKUP(B71,[1]cj3.28!$F:$O,10,FALSE) -> 113 | J71: 70.13 | K71: 73.4 | L71: =ROUND(J71*0.6+K71*0.4,2) -> 71.44 | M71: 3
A72: 70 | B72: 101019407023 | C72: 刘怡 | D72: 公务员 | E72: 01000901 | F72: 贵阳市生态环境局花溪分局 | G72: =VLOOKUP(B72,[1]cj3.28!$F:$M,8,FALSE) -> 102.8 | H72: =VLOOKUP(B72,[1]cj3.28!$F:$O,10,FALSE) -> 120.5 | J72: 74.43 | K72: 77.8 | L72: =ROUND(J72*0.6+K72*0.4,2) -> 75.78 | M72: 1
A73: 71 | B73: 101019408104 | C73: 王达高 | D73: 公务员 | E73: 01000901 | F73: 贵阳市生态环境局花溪分局 | G73: =VLOOKUP(B73,[1]cj3.28!$F:$M,8,FALSE) -> 101.5 | H73: =VLOOKUP(B73,[1]cj3.28!$F:$O,10,FALSE) -> 114 | J73: 71.83 | K73: 80.4 | L73: =ROUND(J73*0.6+K73*0.4,2) -> 75.26 | M73: 2
A74: 72 | B74: 101019407412 | C74: 杨玉情 | D74: 公务员 | E74: 01000901 | F74: 贵阳市生态环境局花溪分局 | G74: =VLOOKUP(B74,[1]cj3.28!$F:$M,8,FALSE) -> 98.9 | H74: =VLOOKUP(B74,[1]cj3.28!$F:$O,10,FALSE) -> 119.5 | J74: 72.8 | K74: 76.6 | L74: =ROUND(J74*0.6+K74*0.4,2) -> 74.32 | M74: 3
A75: 73 | B75: 101019404019 | C75: 曾叶 | D75: 公务员 | E75: 01000902 | F75: 贵阳市生态环境局花溪分局 | G75: =VLOOKUP(B75,[1]cj3.28!$F:$M,8,FALSE) -> 106.4 | H75: =VLOOKUP(B75,[1]cj3.28!$F:$O,10,FALSE) -> 103 | J75: 69.8 | K75: 79.2 | L75: =ROUND(J75*0.6+K75*0.4,2) -> 73.56 | M75: 1
A76: 74 | B76: 101019405723 | C76: 吴莉莉 | D76: 公务员 | E76: 01000902 | F76: 贵阳市生态环境局花溪分局 | G76: =VLOOKUP(B76,[1]cj3.28!$F:$M,8,FALSE) -> 89.1 | H76: =VLOOKUP(B76,[1]cj3.28!$F:$O,10,FALSE) -> 116 | J76: 68.37 | K76: 74.6 | L76: =ROUND(J76*0.6+K76*0.4,2) -> 70.86 | M76: 2
A77: 75 | B77: 101019401604 | C77: 王新新 | D77: 公务员 | E77: 01000902 | F77: 贵阳市生态环境局花溪分局 | G77: =VLOOKUP(B77,[1]cj3.28!$F:$M,8,FALSE) -> 89.4 | H77: =VLOOKUP(B77,[1]cj3.28!$F:$O,10,FALSE) -> 119.5 | J77: 69.63 | K77: 65.8 | L77: =ROUND(J77*0.6+K77*0.4,2) -> 68.1 | M77: 3
A78: 76 | B78: 101019409220 | C78: 唐澍 | D78: 公务员 | E78: 01001001 | F78: 贵阳市生态环境局乌当分局 | G78: =VLOOKUP(B78,[1]cj3.28!$F:$M,8,FALSE) -> 105.5 | H78: =VLOOKUP(B78,[1]cj3.28!$F:$O,10,FALSE) -> 111 | J78: 72.17 | K78: 84 | L78: =ROUND(J78*0.6+K78*0.4,2) -> 76.9 | M78: 1
A79: 77 | B79: 101019401116 | C79: 农雪华 | D79: 公务员 | E79: 01001001 | F79: 贵阳市生态环境局乌当分局 | G79: =VLOOKUP(B79,[1]cj3.28!$F:$M,8,FALSE) -> 98.1 | H79: =VLOOKUP(B79,[1]cj3.28!$F:$O,10,FALSE) -> 121.5 | J79: 73.2 | K79: 75.4 | L79: =ROUND(J79*0.6+K79*0.4,2) -> 74.08 | M79: 2
A80: 78 | B80: 101019407521 | C80: 石娱 | D80: 公务员 | E80: 01001001 | F80: 贵阳市生态环境局乌当分局 | G80: =VLOOKUP(B80,[1]cj3.28!$F:$M,8,FALSE) -> 108.9 | H80: =VLOOKUP(B80,[1]cj3.28!$F:$O,10,FALSE) -> 104.5 | J80: 71.13 | K80: 74.2 | L80: =ROUND(J80*0.6+K80*0.4,2) -> 72.36 | M80: 3
... A137: 135 | B137: 101019911525 | C137: 谢文卓 | D137: 公务员 | E137: 01002501 | F137: 贵阳市金融工作办公室 | G137: =VLOOKUP(B137,[1]cj3.28!$F:$M,8,FALSE) -> 103.8 | H137: =VLOOKUP(B137,[1]cj3.28!$F:$O,10,FALSE) -> 110 | J137: 71.27 | K137: 72 | L137: =ROUND(J137*0.6+K137*0.4,2) -> 71.56 | M137: 2
A138: 136 | B138: 101019906229 | C138: 宁煊 | D138: 公务员 | E138: 01002501 | F138: 贵阳市金融工作办公室 | G138: =VLOOKUP(B138,[1]cj3.28!$F:$M,8,FALSE) -> 94.4 | H138: =VLOOKUP(B138,[1]cj3.28!$F:$O,10,FALSE) -> 117.5 | J138: 70.63 | K138: 缺考
A139: 137 | B139: 101019901518 | C139: 罗广源 | D139: 公务员 | E139: 01002601 | F139: 贵阳市外事办公室 | G139: =VLOOKUP(B139,[1]cj3.28!$F:$M,8,FALSE) -> 102.6 | H139: =VLOOKUP(B139,[1]cj3.28!$F:$O,10,FALSE) -> 108 | J139: 70.2 | K139: 82.6 | L139: =ROUND(J139*0.6+K139*0.4,2) -> 75.16 | M139: 1
A140: 138 | B140: 101019905321 | C140: 李瑞嘉 | D140: 公务员 | E140: 01002601 | F140: 贵阳市外事办公室 | G140: =VLOOKUP(B140,[1]cj3.28!$F:$M,8,FALSE) -> 104.5 | H140: =VLOOKUP(B140,[1]cj3.28!$F:$O,10,FALSE) -> 106 | J140: 70.17 | K140: 78.4 | L140: =ROUND(J140*0.6+K140*0.4,2) -> 73.46 | M140: 2
A141: 139 | B141: 101019900315 | C141: 潘小明 | D141: 公务员 | E141: 01002601 | F141: 贵阳市外事办公室 | G141: =VLOOKUP(B141,[1]cj3.28!$F:$M,8,FALSE) -> 97.5 | H141: =VLOOKUP(B141,[1]cj3.28!$F:$O,10,FALSE) -> 107 | J141: 68.17 | K141: 75.6 | L141: =ROUND(J141*0.6+K141*0.4,2) -> 71.14 | M141: 3
A142: 140 | B142: 101019909013 | C142: 魏超 | D142: 公务员 | E142: 01002701 | F142: 贵阳市自然资源和规划局 | G142: =VLOOKUP(B142,[1]cj3.28!$F:$M,8,FALSE) -> 95.1 | H142: =VLOOKUP(B142,[1]cj3.28!$F:$O,10,FALSE) -> 127 | J142: 74.03 | K142: 75.8 | L142: =ROUND(J142*0.6+K142*0.4,2) -> 74.74 | M142: 1
A143: 141 | B143: 101019909719 | C143: 彭俊临 | D143: 公务员 | E143: 01002701 | F143: 贵阳市自然资源和规划局 | G143: =VLOOKUP(B143,[1]cj3.28!$F:$M,8,FALSE) -> 106.2 | H143: =VLOOKUP(B143,[1]cj3.28!$F:$O,10,FALSE) -> 113 | J143: 73.07 | K143: 75.2 | L143: =ROUND(J143*0.6+K143*0.4,2) -> 73.92 | M143: 2
A144: 142 | B144: 101019907116 | C144: 吴青蔚 | D144: 公务员 | E144: 01002701 | F144: 贵阳市自然资源和规划局 | G144: =VLOOKUP(B144,[1]cj3.28!$F:$M,8,FALSE) -> 107.7 | H144: =VLOOKUP(B144,[1]cj3.28!$F:$O,10,FALSE) -> 109.5 | J144: 72.4 | K144: 74.8 | L144: =ROUND(J144*0.6+K144*0.4,2) -> 73.36 | M144: 3
A145: 143 | B145: 101019908628 | C145: 张乐 | D145: 公务员 | E145: 01002701 | F145: 贵阳市自然资源和规划局 | G145: =VLOOKUP(B145,[1]cj3.28!$F:$M,8,FALSE) -> 99 | H145: =VLOOKUP(B145,[1]cj3.28!$F:$O,10,FALSE) -> 120.5 | J145: 73.17 | K145: 72.6 | L145: =ROUND(J145*0.6+K145*0.4,2) -> 72.94 | M145: 4
A146: 144 | B146: 101019909227 | C146: 代咫燚 | D146: 公务员 | E146: 01002701 | F146: 贵阳市自然资源和规划局 | G146: =VLOOKUP(B146,[1]cj3.28!$F:$M,8,FALSE) -> 101 | H146: =VLOOKUP(B146,[1]cj3.28!$F:$O,10,FALSE) -> 114.5 | J146: 71.83 | K146: 74.4 | L146: =ROUND(J146*0.6+K146*0.4,2) -> 72.86 | M146: 5
A147: 145 | B147: 101019902628 | C147: 孙渊 | D147: 公务员 | E147: 01002701 | F147: 贵阳市自然资源和规划局 | G147: =VLOOKUP(B147,[1]cj3.28!$F:$M,8,FALSE) -> 98 | H147: =VLOOKUP(B147,[1]cj3.28!$F:$O,10,FALSE) -> 118.5 | J147: 72.17 | K147: 72.6 | L147: =ROUND(J147*0.6+K147*0.4,2) -> 72.34 | M147: 6
A148: 146 | B148: 101019908418 | C148: 陈星月 | D148: 公务员 | E148: 01002801 | F148: 中国共产主义青年团贵阳市委员会 | G148: =VLOOKUP(B148,[1]cj3.28!$F:$M,8,FALSE) -> 107.9 | H148: =VLOOKUP(B148,[1]cj3.28!$F:$O,10,FALSE) -> 104 | J148: 70.63 | K148: 81.4 | L148: =ROUND(J148*0.6+K148*0.4,2) -> 74.94 | M148: 1
A149: 147 | B149: 101019900318 | C149: 袁露露 | D149: 公务员 | E149: 01002801 | F149: 中国共产主义青年团贵阳市委员会 | G149: =VLOOKUP(B149,[1]cj3.28!$F:$M,8,FALSE) -> 94.1 | H149: =VLOOKUP(B149,[1]cj3.28!$F:$O,10,FALSE) -> 116.5 | J149: 70.2 | K149: 75.8 | L149: =ROUND(J149*0.6+K149*0.4,2) -> 72.44 | M149: 2
A150: 148 | B150: 101019911413 | C150: 杨明 | D150: 公务员 | E150: 01002801 | F150: 中国共产主义青年团贵阳市委员会 | G150: =VLOOKUP(B150,[1]cj3.28!$F:$M,8,FALSE) -> 110.7 | H150: =VLOOKUP(B150,[1]cj3.28!$F:$O,10,FALSE) -> 118.5 | J150: 76.4 | K150: 缺考
A151: 149 | B151: 102010701412 | C151: 杨阳 | D151: 公务员 | E151: 01002901 | F151: 云岩区人民法院 | G151: =VLOOKUP(B151,[1]cj3.28!$F:$M,8,FALSE) -> 109.3 | H151: =VLOOKUP(B151,[1]cj3.28!$F:$O,10,FALSE) -> 117.5 | J151: 75.6 | K151: 82.8 | L151: =ROUND(J151*0.6+K151*0.4,2) -> 78.48 | M151: 1
A152: 150 | B152: 102010701227 | C152: 王玉茹 | D152: 公务员 | E152: 01002901 | F152: 云岩区人民法院 | G152: =VLOOKUP(B152,[1]cj3.28!$F:$M,8,FALSE) -> 98.8 | H152: =VLOOKUP(B152,[1]cj3.28!$F:$O,10,FALSE) -> 126 | J152: 74.93 | K152: 78.8 | L152: =ROUND(J152*0.6+K152*0.4,2) -> 76.48 | M152: 2
A153: 151 | B153: 102010701201 | C153: 付紫薇 | D153: 公务员 | E153: 01002901 | F153: 云岩区人民法院 | G153: =VLOOKUP(B153,[1]cj3.28!$F:$M,8,FALSE) -> 98.1 | H153: =VLOOKUP(B153,[1]cj3.28!$F:$O,10,FALSE) -> 120.5 | J153: 72.87 | K153: 80.2 | L153: =ROUND(J153*0.6+K153*0.4,2) -> 75.8 | M153: 3
A154: 152 | B154: 102010700202 | C154: 宋雅洁 | D154: 公务员 | E154: 01002901 | F154: 云岩区人民法院 | G154: =VLOOKUP(B154,[1]cj3.28!$F:$M,8,FALSE) -> 85.8 | H154: =VLOOKUP(B154,[1]cj3.28!$F:$O,10,FALSE) -> 128.5 | J154: 71.43 | K154: 81.2 | L154: =ROUND(J154*0.6+K154*0.4,2) -> 75.34 | M154: 4
A155: 153 | B155: 102010701215 | C155: 徐薇 | D155: 公务员 | E155: 01002901 | F155: 云岩区人民法院 | G155: =VLOOKUP(B155,[1]cj3.28!$F:$M,8,FALSE) -> 95.2 | H155: =VLOOKUP(B155,[1]cj3.28!$F:$O,10,FALSE) -> 121.5 | J155: 72.23 | K155: 79.8 | L155: =ROUND(J155*0.6+K155*0.4,2) -> 75.26 | M155: 5
A156: 154 | B156: 102010701008 | C156: 覃子璇 | D156: 公务员 | E156: 01002901 | F156: 云岩区人民法院 | G156: =VLOOKUP(B156,[1]cj3.28!$F:$M,8,FALSE) -> 99 | H156: =VLOOKUP(B156,[1]cj3.28!$F:$O,10,FALSE) -> 121.5 | J156: 73.5 | K156: 77.6 | L156: =ROUND(J156*0.6+K156*0.4,2) -> 75.14 | M156: 6
A157: 155 | B157: 102010701016 | C157: 墙佩云 | D157: 公务员 | E157: 01002901 | F157: 云岩区人民法院 | G157: =VLOOKUP(B157,[1]cj3.28!$F:$M,8,FALSE) -> 95.4 | H157: =VLOOKUP(B157,[1]cj3.28!$F:$O,10,FALSE) -> 125 | J157: 73.47 | K157: 77 | L157: =ROUND(J157*0.6+K157*0.4,2) -> 74.88 | M157: 7
A158: 156 | B158: 102010702224 | C158: 杨依伦 | D158: 公务员 | E158: 01002901 | F158: 云岩区人民法院 | G158: =VLOOKUP(B158,[1]cj3.28!$F:$M,8,FALSE) -> 99.4 | H158: =VLOOKUP(B158,[1]cj3.28!$F:$O,10,FALSE) -> 117 | J158: 72.13 | K158: 78.8 | L158: =ROUND(J158*0.6+K158*0.4,2) -> 74.8 | M158: 8
A159: 157 | B159: 102010701810 | C159: 游玲玉 | D159: 公务员 | E159: 01002901 | F159: 云岩区人民法院 | G159: =VLOOKUP(B159,[1]cj3.28!$F:$M,8,FALSE) -> 92.2 | H159: =VLOOKUP(B159,[1]cj3.28!$F:$O,10,FALSE) -> 123 | J159: 71.73 | K159: 79 | L159: =ROUND(J159*0.6+K159*0.4,2) -> 74.64 | M159: 9
A160: 158 | B160: 102010701307 | C160: 余爽爽 | D160: 公务员 | E160: 01002901 | F160: 云岩区人民法院 | G160: =VLOOKUP(B160,[1]cj3.28!$F:$M,8,FALSE) -> 89.2 | H160: =VLOOKUP(B160,[1]cj3.28!$F:$O,10,FALSE) -> 122 | J160: 70.4 | K160: 79.6 | L160: =ROUND(J160*0.6+K160*0.4,2) -> 74.08 | M160: 10
A161: 159 | B161: 102010700927 | C161: 李玮 | D161: 公务员 | E161: 01002901 | F161: 云岩区人民法院 | G161: =VLOOKUP(B161,[1]cj3.28!$F:$M,8,FALSE) -> 90.8 | H161: =VLOOKUP(B161,[1]cj3.28!$F:$O,10,FALSE) -> 117.5 | J161: 69.43 | K161: 80.4 | L161: =ROUND(J161*0.6+K161*0.4,2) -> 73.82 | M161: 11
A162: 160 | B162: 102010700115 | C162: 成跃 | D162: 公务员 | E162: 01002901 | F162: 云岩区人民法院 | G162: =VLOOKUP(B162,[1]cj3.28!$F:$M,8,FALSE) -> 95.7 | H162: =VLOOKUP(B162,[1]cj3.28!$F:$O,10,FALSE) -> 118 | J162: 71.23 | K162: 76.4 | L162: =ROUND(J162*0.6+K162*0.4,2) -> 73.3 | M162: 12
... A239: 237 | B239: 102011202011 | C239: 彭琪 | D239: 公务员 | E239: 01004003 | F239: 云岩区市场监督管理局 | G239: =VLOOKUP(B239,[1]cj3.28!$F:$M,8,FALSE) -> 92 | H239: =VLOOKUP(B239,[1]cj3.28!$F:$O,10,FALSE) -> 117 | J239: 69.67 | K239: 77.2 | L239: =ROUND(J239*0.6+K239*0.4,2) -> 72.68 | M239: 2
A240: 238 | B240: 102011200418 | C240: 丁波天 | D240: 公务员 | E240: 01004003 | F240: 云岩区市场监督管理局 | G240: =VLOOKUP(B240,[1]cj3.28!$F:$M,8,FALSE) -> 95.3 | H240: =VLOOKUP(B240,[1]cj3.28!$F:$O,10,FALSE) -> 115.5 | J240: 70.27 | K240: 缺考
A241: 239 | B241: 102011202322 | C241: 吴帆 | D241: 公务员 | E241: 01004004 | F241: 云岩区市场监督管理局 | G241: =VLOOKUP(B241,[1]cj3.28!$F:$M,8,FALSE) -> 104.8 | H241: =VLOOKUP(B241,[1]cj3.28!$F:$O,10,FALSE) -> 122 | J241: 75.6 | K241: 81.4 | L241: =ROUND(J241*0.6+K241*0.4,2) -> 77.92 | M241: 1
A242: 240 | B242: 102011201618 | C242: 顾嫣然 | D242: 公务员 | E242: 01004004 | F242: 云岩区市场监督管理局 | G242: =VLOOKUP(B242,[1]cj3.28!$F:$M,8,FALSE) -> 100.6 | H242: =VLOOKUP(B242,[1]cj3.28!$F:$O,10,FALSE) -> 112 | J242: 70.87 | K242: 83 | L242: =ROUND(J242*0.6+K242*0.4,2) -> 75.72 | M242: 2
A243: 241 | B243: 102011201622 | C243: 刘佳 | D243: 公务员 | E243: 01004004 | F243: 云岩区市场监督管理局 | G243: =VLOOKUP(B243,[1]cj3.28!$F:$M,8,FALSE) -> 109.1 | H243: =VLOOKUP(B243,[1]cj3.28!$F:$O,10,FALSE) -> 105.5 | J243: 71.53 | K243: 79.2 | L243: =ROUND(J243*0.6+K243*0.4,2) -> 74.6 | M243: 3
A244: 242 | B244: 102011201629 | C244: 黄茜 | D244: 公务员 | E244: 01004005 | F244: 云岩区市场监督管理局 | G244: =VLOOKUP(B244,[1]cj3.28!$F:$M,8,FALSE) -> 89.7 | H244: =VLOOKUP(B244,[1]cj3.28!$F:$O,10,FALSE) -> 122.5 | J244: 70.73 | K244: 80.6 | L244: =ROUND(J244*0.6+K244*0.4,2) -> 74.68 | M244: 1
A245: 243 | B245: 102011201206 | C245: 李洋洋 | D245: 公务员 | E245: 01004005 | F245: 云岩区市场监督管理局 | G245: =VLOOKUP(B245,[1]cj3.28!$F:$M,8,FALSE) -> 93.1 | H245: =VLOOKUP(B245,[1]cj3.28!$F:$O,10,FALSE) -> 117.5 | J245: 70.2 | K245: 78 | L245: =ROUND(J245*0.6+K245*0.4,2) -> 73.32 | M245: 2
A246: 244 | B246: 102011201502 | C246: 杨金梅 | D246: 公务员 | E246: 01004005 | F246: 云岩区市场监督管理局 | G246: =VLOOKUP(B246,[1]cj3.28!$F:$M,8,FALSE) -> 87.4 | H246: =VLOOKUP(B246,[1]cj3.28!$F:$O,10,FALSE) -> 115 | J246: 67.47 | K246: 73.8 | L246: =ROUND(J246*0.6+K246*0.4,2) -> 70 | M246: 3
A247: 245 | B247: 102011201324 | C247: 陈圆 | D247: 公务员 | E247: 01004006 | F247: 云岩区市场监督管理局 | G247: =VLOOKUP(B247,[1]cj3.28!$F:$M,8,FALSE) -> 99.9 | H247: =VLOOKUP(B247,[1]cj3.28!$F:$O,10,FALSE) -> 122.5 | J247: 74.13 | K247: 80.2 | L247: =ROUND(J247*0.6+K247*0.4,2) -> 76.56 | M247: 1
A248: 246 | B248: 102011200527 | C248: 尹燕 | D248: 公务员 | E248: 01004006 | F248: 云岩区市场监督管理局 | G248: =VLOOKUP(B248,[1]cj3.28!$F:$M,8,FALSE) -> 93.7 | H248: =VLOOKUP(B248,[1]cj3.28!$F:$O,10,FALSE) -> 129 | J248: 74.23 | K248: 80 | L248: =ROUND(J248*0.6+K248*0.4,2) -> 76.54 | M248: 2
A249: 247 | B249: 102011202117 | C249: 刘璇 | D249: 公务员 | E249: 01004006 | F249: 云岩区市场监督管理局 | G249: =VLOOKUP(B249,[1]cj3.28!$F:$M,8,FALSE) -> 97.6 | H249: =VLOOKUP(B249,[1]cj3.28!$F:$O,10,FALSE) -> 118.5 | J249: 72.03 | K249: 83 | L249: =ROUND(J249*0.6+K249*0.4,2) -> 76.42 | M249: 3
A250: 248 | B250: 102011201014 | C250: 宁恒 | D250: 公务员 | E250: 01004006 | F250: 云岩区市场监督管理局 | G250: =VLOOKUP(B250,[1]cj3.28!$F:$M,8,FALSE) -> 94.3 | H250: =VLOOKUP(B250,[1]cj3.28!$F:$O,10,FALSE) -> 123 | J250: 72.43 | K250: 80.6 | L250: =ROUND(J250*0.6+K250*0.4,2) -> 75.7 | M250: 4
A251: 249 | B251: 102011201024 | C251: 熊腾腾 | D251: 公务员 | E251: 01004006 | F251: 云岩区市场监督管理局 | G251: =VLOOKUP(B251,[1]cj3.28!$F:$M,8,FALSE) -> 92.8 | H251: =VLOOKUP(B251,[1]cj3.28!$F:$O,10,FALSE) -> 126.5 | J251: 73.1 | K251: 79.2 | L251: =ROUND(J251*0.6+K251*0.4,2) -> 75.54 | M251: 5
A252: 250 | B252: 102011200503 | C252: 陈倩 | D252: 公务员 | E252: 01004006 | F252: 云岩区市场监督管理局 | G252: =VLOOKUP(B252,[1]cj3.28!$F:$M,8,FALSE) -> 94 | H252: =VLOOKUP(B252,[1]cj3.28!$F:$O,10,FALSE) -> 119.5 | J252: 71.17 | K252: 69.2 | L252: =ROUND(J252*0.6+K252*0.4,2) -> 70.38 | M252: 6
... A281: 279 | B281: 102011500920 | C281: 李韵 | D281: 公务员 | E281: 01004201 | F281: 云岩区综合行政执法局 | G281: =VLOOKUP(B281,[1]cj3.28!$F:$M,8,FALSE) -> 98.9 | H281: =VLOOKUP(B281,[1]cj3.28!$F:$O,10,FALSE) -> 102 | J281: 66.97 | K281: 80.8 | L281: =ROUND(J281*0.6+K281*0.4,2) -> 72.5 | M281: 2
A282: 280 | B282: 102011500914 | C282: 丁媛 | D282: 公务员 | E282: 01004201 | F282: 云岩区综合行政执法局 | G282: =VLOOKUP(B282,[1]cj3.28!$F:$M,8,FALSE) -> 90.4 | H282: =VLOOKUP(B282,[1]cj3.28!$F:$O,10,FALSE) -> 108 | J282: 66.13 | K282: 缺考
A283: 281 | B283: 102011500418 | C283: 任晋瑶 | D283: 公务员 | E283: 01004301 | F283: 云岩区督办督查局 | G283: =VLOOKUP(B283,[1]cj3.28!$F:$M,8,FALSE) -> 100.9 | H283: =VLOOKUP(B283,[1]cj3.28!$F:$O,10,FALSE) -> 118 | J283: 72.97 | K283: 79.4 | L283: =ROUND(J283*0.6+K283*0.4,2) -> 75.54 | M283: 1
A284: 282 | B284: 102011500927 | C284: 李蕾 | D284: 公务员 | E284: 01004301 | F284: 云岩区督办督查局 | G284: =VLOOKUP(B284,[1]cj3.28!$F:$M,8,FALSE) -> 96.5 | H284: =VLOOKUP(B284,[1]cj3.28!$F:$O,10,FALSE) -> 119.5 | J284: 72 | K284: 77.2 | L284: =ROUND(J284*0.6+K284*0.4,2) -> 74.08 | M284: 2
A285: 283 | B285: 102011501908 | C285: 陈惠红 | D285: 公务员 | E285: 01004301 | F285: 云岩区督办督查局 | G285: =VLOOKUP(B285,[1]cj3.28!$F:$M,8,FALSE) -> 93.9 | H285: =VLOOKUP(B285,[1]cj3.28!$F:$O,10,FALSE) -> 121.5 | J285: 71.8 | K285: 75.8 | L285: =ROUND(J285*0.6+K285*0.4,2) -> 73.4 | M285: 3
A286: 284 | B286: 102011501828 | C286: 易丹琦 | D286: 公务员 | E286: 01004401 | F286: 云岩区应急管理局 | G286: =VLOOKUP(B286,[1]cj3.28!$F:$M,8,FALSE) -> 93.7 | H286: =VLOOKUP(B286,[1]cj3.28!$F:$O,10,FALSE) -> 119.5 | J286: 71.07 | K286: 81 | L286: =ROUND(J286*0.6+K286*0.4,2) -> 75.04 | M286: 1
A287: 285 | B287: 102011501926 | C287: 樊良丽 | D287: 公务员 | E287: 01004401 | F287: 云岩区应急管理局 | G287: =VLOOKUP(B287,[1]cj3.28!$F:$M,8,FALSE) -> 96.5 | H287: =VLOOKUP(B287,[1]cj3.28!$F:$O,10,FALSE) -> 111.5 | J287: 69.33 | K287: 76.2 | L287: =ROUND(J287*0.6+K287*0.4,2) -> 72.08 | M287: 2
A288: 286 | B288: 102011500818 | C288: 胡进 | D288: 公务员 | E288: 01004401 | F288: 云岩区应急管理局 | G288: =VLOOKUP(B288,[1]cj3.28!$F:$M,8,FALSE) -> 97.7 | H288: =VLOOKUP(B288,[1]cj3.28!$F:$O,10,FALSE) -> 110 | J288: 69.23 | K288: 67.6 | L288: =ROUND(J288*0.6+K288*0.4,2) -> 68.58 | M288: 3
A289: 287 | B289: 102011500112 | C289: 周通 | D289: 公务员 | E289: 01004402 | F289: 云岩区应急管理局 | G289: =VLOOKUP(B289,[1]cj3.28!$F:$M,8,FALSE) -> 84.4 | H289: =VLOOKUP(B289,[1]cj3.28!$F:$O,10,FALSE) -> 112 | J289: 65.47 | K289: 83.4 | L289: =ROUND(J289*0.6+K289*0.4,2) -> 72.64 | M289: 1
A290: 288 | B290: 102011500717 | C290: 赵珍珠 | D290: 公务员 | E290: 01004402 | F290: 云岩区应急管理局 | G290: =VLOOKUP(B290,[1]cj3.28!$F:$M,8,FALSE) -> 95 | H290: =VLOOKUP(B290,[1]cj3.28!$F:$O,10,FALSE) -> 108 | J290: 67.67 | K290: 76.4 | L290: =ROUND(J290*0.6+K290*0.4,2) -> 71.16 | M290: 2
A291: 289 | B291: 102011500825 | C291: 韦海 | D291: 公务员 | E291: 01004402 | F291: 云岩区应急管理局 | G291: =VLOOKUP(B291,[1]cj3.28!$F:$M,8,FALSE) -> 74.9 | H291: =VLOOKUP(B291,[1]cj3.28!$F:$O,10,FALSE) -> 118.5 | J291: 64.47 | K291: 75.4 | L291: =ROUND(J291*0.6+K291*0.4,2) -> 68.84 | M291: 3
...
