Workbook

Sheet Sheet1
A1: 贵阳市2023年统一面向社会公开招录公务员笔试、面试、总成绩及排名一览表
A2: 序号 | B2: 准考证号 | C2: 姓名 | D2: 岗位大类 | E2: 职位代码 | F2: 报考部门 | G2: 行测 成绩 | H2: 申论 成绩 | I2: 加分 | J2: 笔试环节成绩 | K2: 面试 成绩 | L2: 总成绩 | M2: 总成绩排名
A3: 1 | B3: 101010201220 | C3: 朱子杰 | D3: 公务员 | E3: 01000101 | F3: 贵阳市中级人民法院 | G3: =VLOOKUP(B3,[1]cj3.28!$F:$M,8,FALSE) -> 118.1 | H3: =VLOOKUP(B3,[1]cj3.28!$F:$O,10,FALSE) -> 115 | J3: 77.7 | K3: 80 | L3: =ROUND(J3*0.6+K3*0.4,2) -> 78.62 | M3: 1
A4: 2 | B4: 101010201419 | C4: 陆希星 | D4: 公务员 | E4: 01000101 | F4: 贵阳市中级人民法院 | G4: =VLOOKUP(B4,[1]cj3.28!$F:$M,8,FALSE) -> 101.6 | H4: =VLOOKUP(B4,[1]cj3.28!$F:$O,10,FALSE) -> 123.5 | J4: 75.03 | K4: 79.4 | L4: =ROUND(J4*0.6+K4*0.4,2) -> 76.78 | M4: 2
A5: 3 | B5: 101010201730 | C5: 朱海 | D5: 公务员 | E5: 01000101 | F5: 贵阳市中级人民法院 | G5: =VLOOKUP(B5,[1]cj3.28!$F:$M,8,FALSE) -> 106.6 | H5: =VLOOKUP(B5,[1]cj3.28!$F:$O,10,FALSE) -> 108 | J5: 71.53 | K5: 83.6 | L5: =ROUND(J5*0.6+K5*0.4,2) -> 76.36 | M5: 3
A6: 4 | B6: 101010201209 | C6: 刘波 | D6: 公务员 | E6: 01000101 | F6: 贵阳市中级人民法院 | G6: =VLOOKUP(B6,[1]cj3.28!$F:$M,8,FALSE) -> 105.7 | H6: =VLOOKUP(B6,[1]cj3.28!$F:$O,10,FALSE) -> 108 | J6: 71.23 | K6: 81.8 | L6: =ROUND(J6*0.6+K6*0.4,2) -> 75.46 | M6: 4
A7: 5 | B7: 101010200724 | C7: 朱俊龙 | D7: 公务员 | E7: 01000101 | F7: 贵阳市中级人民法院 | G7: =VLOOKUP(B7,[1]cj3.28!$F:$M,8,FALSE) -> 92.7 | H7: =VLOOKUP(B7,[1]cj3.28!$F:$O,10,FALSE) -> 124.5 | J7: 72.4 | K7: 79.8 | L7: =ROUND(J7*0.6+K7*0.4,2) -> 75.36 | M7: 5
A8: 6 | B8: 101010200230 | C8: 邹雄 | D8: 公务员 | E8: 01000101 | F8: 贵阳市中级人民法院 | G8: =VLOOKUP(B8,[1]cj3.28!$F:$M,8,FALSE) -> 108.9 | H8: =VLOOKUP(B8,[1]cj3.28!$F:$O,10,FALSE) -> 107.5 | J8: 72.13 | K8: 79.8 | L8: =ROUND(J8*0.6+K8*0.4,2) -> 75.2 | M8: 6
A9: 7 | B9: 101010200125 | C9: 余虎 | D9: 公务员 | E9: 01000101 | F9: 贵阳市中级人民法院 | G9: =VLOOKUP(B9,[1]cj3.28!$F:$M,8,FALSE) -> 103.9 | H9: =VLOOKUP(B9,[1]cj3.28!$F:$O,10,FALSE) -> 112.5 | J9: 72.13 | K9: 78.4 | L9: =ROUND(J9*0.6+K9*0.4,2) -> 74.64 | M9: 7
A10: 8 | B10: 101010202028 | C10: 杨宇 | D10: 公务员 | E10: 01000101 | F10: 贵阳市中级人民法院 | G10: =VLOOKUP(B10,[1]cj3.28!$F:$M,8,FALSE) -> 108.7 | H10: =VLOOKUP(B10,[1]cj3.28!$F:$O,10,FALSE) -> 102 | J10: 70.23 | K10: 81.2 | L10: =ROUND(J10*0.6+K10*0.4,2) -> 74.62 | M10: 8
A11: 9 | B11: 101010201423 | C11: 刘曌 | D11: 公务员 | E11: 01000101 | F11: 贵阳市中级人民法院 | G11: =VLOOKUP(B11,[1]cj3.28!$F:$M,8,FALSE) -> 106.1 | H11: =VLOOKUP(B11,[1]cj3.28!$F:$O,10,FALSE) -> 110.5 | J11: 72.2 | K11: 76.8 | L11: =ROUND(J11*0.6+K11*0.4,2) -> 74.04 | M11: 9
A12: 10 | B12: 101010202104 | C12: 彭胜海 | D12: 公务员 | E12: 01000101 | F12: 贵阳市中级人民法院 | G12: =VLOOKUP(B12,[1]cj3.28!$F:$M,8,FALSE) -> 99.8 | H12: =VLOOKUP(B12,[1]cj3.28!$F:$O,10,FALSE) -> 114.5 | J12: 71.43 | K12: 75.6 | L12: =ROUND(J12*0.6+K12*0.4,2) -> 73.1 | M12: 10
A13: 11 | B13: 101010201404 | C13: 禹雁瀚 | D13: 公务员 | E13: 01000101 | F13: 贵阳市中级人民法院 | G13: =VLOOKUP(B13,[1]cj3.28!$F:$M,8,FALSE) -> 91.3 | H13: =VLOOKUP(B13,[1]cj3.28!$F:$O,10,FALSE) -> 118.5 | J13: 69.93 | K13: 74 | L13: =ROUND(J13*0.6+K13*0.4,2) -> 71.56 | M13: 11
A14: 12 | B14: 101010200212 | C14: 王贵 | D14: 公务员 | E14: 01000101 | F14: 贵阳市中级人民法院 | G14: =VLOOKUP(B14,[1]cj3.28!$F:$M,8,FALSE) -> 100.3 | H14: =VLOOKUP(B14,[1]cj3.28!$F:$O,10,FALSE) -> 116 | J14: 72.1 | K14: 70.2 | L14: =ROUND(J14*0.6+K14*0.4,2) -> 71.34 | M14: 12
... A24: 22 | B24: 101010202025 | C24: 姜荷英 | D24: 公务员 | E24: 01000102 | F24: 贵阳市中级人民法院 | G24: =VLOOKUP(B24,[1]cj3.28!$F:$M,8,FALSE) -> 94.4 | H24: =VLOOKUP(B24,[1]cj3.28!$F:$O,10,FALSE) -> 120 | J24: 71.47 | K24: 71.8 | L24: =ROUND(J24*0.6+K24*0.4,2) -> 71.6 | M24: 10
A25: 23 | B25: 101010200716 | C25: 何宣 | D25: 公务员 | E25: 01000102 | F25: 贵阳市中级人民法院 | G25: =VLOOKUP(B25,[1]cj3.28!$F:$M,8,FALSE) -> 97.6 | H25: =VLOOKUP(B25,[1]cj3.28!$F:$O,10,FALSE) -> 126.5 | J25: 74.7 | K25: 缺考
A26: 24 | B26: 101010202020 | C26: 黄弘 | D26: 公务员 | E26: 01000102 | F26: 贵阳市中级人民法院 | G26: =VLOOKUP(B26,[1]cj3.28!$F:$M,8,FALSE) -> 108.9 | H26: =VLOOKUP(B26,[1]cj3.28!$F:$O,10,FALSE) -> 105.5 | J26: 71.47 | K26: 缺考
A27: 25 | B27: 101010202024 | C27: 张雨诗 | D27: 公务员 | E27: 01000103 | F27: 贵阳市中级人民法院 | G27: =VLOOKUP(B27,[1]cj3.28!$F:$M,8,FALSE) -> 93.3 | H27: =VLOOKUP(B27,[1]cj3.28!$F:$O,10,FALSE) -> 127.5 | J27: 73.6 | K27: 79.2 | L27: =ROUND(J27*0.6+K27*0.4,2) -> 75.84 | M27: 1
A28: 26 | B28: 101010200105 | C28: 许可 | D28: 公务员 | E28: 01000103 | F28: 贵阳市中级人民法院 | G28: =VLOOKUP(B28,[1]cj3.28!$F:$M,8,FALSE) -> 109.3 | H28: =VLOOKUP(B28,[1]cj3.28!$F:$O,10,FALSE) -> 100 | J28: 69.77 | K28: 82.6 | L28: =ROUND(J28*0.6+K28*0.4,2) -> 74.9 | M28: 2
A29: 27 | B29: 101010201906 | C29: 赵维好 | D29: 公务员 | E29: 01000103 | F29: 贵阳市中级人民法院 | G29: =VLOOKUP(B29,[1]cj3.28!$F:$M,8,FALSE) -> 90.6 | H29: =VLOOKUP(B29,[1]cj3.28!$F:$O,10,FALSE) -> 121.5 | J29: 70.7 | K29: 78.7 | L29: =ROUND(J29*0.6+K29*0.4,2) -> 73.9 | M29: 3
A30: 28 | B30: 101010200123 | C30: 徐婷 | D30: 公务员 | E30: 01000104 | F30: 贵阳市中级人民法院 | G30: =VLOOKUP(B30,[1]cj3.28!$F:$M,8,FALSE) -> 108.4 | H30: =VLOOKUP(B30,[1]cj3.28!$F:$O,10,FALSE) -> 112 | J30: 73.47 | K30: 83.4 | L30: =ROUND(J30*0.6+K30*0.4,2) -> 77.44 | M30: 1
A31: 29 | B31: 101010200802 | C31: 左买云 | D31: 公务员 | E31: 01000104 | F31: 贵阳市中级人民法院 | G31: =VLOOKUP(B31,[1]cj3.28!$F:$M,8,FALSE) -> 82.9 | H31: =VLOOKUP(B31,[1]cj3.28!$F:$O,10,FALSE) -> 112 | J31: 64.97 | K31: 75.4 | L31: =ROUND(J31*0.6+K31*0.4,2) -> 69.14 | M31: 2
A32: 30 | B32: 101010201914 | C32: 周礼娟 | D32: 公务员 | E32: 01000104 | F32: 贵阳市中级人民法院 | G32: =VLOOKUP(B32,[1]cj3.28!$F:$M,8,FALSE) -> 95.3 | H32: =VLOOKUP(B32,[1]cj3.28!$F:$O,10,FALSE) -> 103.5 | J32: 66.27 | K32: 缺考
A33: 31 | B33: 101010200519 | C33: 高正廷 | D33: 公务员 | E33: 01000201 | F33: 贵阳市人民检察院 | G33: =VLOOKUP(B33,[1]cj3.28!$F:$M,8,FALSE) -> 86.3 | H33: =VLOOKUP(B33,[1]cj3.28!$F:$O,10,FALSE) -> 117 | J33: 67.77 | K33: 76.2 | L33: =ROUND(J33*0.6+K33*0.4,2) -> 71.14 | M33: 1
A34: 32 | B34: 101010200621 | C34: 唐明春 | D34: 公务员 | E34: 01000201 | F34: 贵阳市人民检察院 | G34: =VLOOKUP(B34,[1]cj3.28!$F:$M,8,FALSE) -> 101.9 | H34: =VLOOKUP(B34,[1]cj3.28!$F:$O,10,FALSE) -> 98.5 | J34: 66.8 | K34: 77.2 | L34: =ROUND(J34*0.6+K34*0.4,2) -> 70.96 | M34: 2
A35: 33 | B35: 101010201427 | C35: 张宇 | D35: 公务员 | E35: 01000201 | F35: 贵阳市人民检察院 | G35: =VLOOKUP(B35,[1]cj3.28!$F:$M,8,FALSE) -> 105.1 | H35: =VLOOKUP(B35,[1]cj3.28!$F:$O,10,FALSE) -> 102 | J35: 69.03 | K35: 73.2 | L35: =ROUND(J35*0.6+K35*0.4,2) -> 70.7 | M35: 3
A36: 34 | B36: 101010200527 | C36: 高娴 | D36: 公务员 | E36: 01000202 | F36: 贵阳市人民检察院 | G36: =VLOOKUP(B36,[1]cj3.28!$F:$M,8,FALSE) -> 103.9 | H36: =VLOOKUP(B36,[1]cj3.28!$F:$O,10,FALSE) -> 119.5 | J36: 74.47 | K36: 80.2 | L36: =ROUND(J36*0.6+K36*0.4,2) -> 76.76 | M36: 1
A37: 35 | B37: 101010201926 | C37: 李清源 | D37: 公务员 | E37: 01000202 | F37: 贵阳市人民检察院 | G37: =VLOOKUP(B37,[1]cj3.28!$F:$M,8,FALSE) -> 106.9 | H37: =VLOOKUP(B37,[1]cj3.28!$F:$O,10,FALSE) -> 115 | J37: 73.97 | K37: 79.4 | L37: =ROUND(J37*0.6+K37*0.4,2) -> 76.14 | M37: 2
A38: 36 | B38: 101010201803 | C38: 周诗画 | D38: 公务员 | E38: 01000202 | F38: 贵阳市人民检察院 | G38: =VLOOKUP(B38,[1]cj3.28!$F:$M,8,FALSE) -> 91.3 | H38: =VLOOKUP(B38,[1]cj3.28!$F:$O,10,FALSE) -> 118.5 | J38: 69.93 | K38: 77.4 | L38: =ROUND(J38*0.6+K38*0.4,2) -> 72.92 | M38: 3
A39: 37 | B39: 101010200921 | C39: 曹艳红 | D39: 公务员 | E39: 01000301 | F39: 中共贵阳市纪律检查委员会、贵阳市监察委员会 | G39: =VLOOKUP(B39,[1]cj3.28!$F:$M,8,FALSE) -> 104.6 | H39: =VLOOKUP(B39,[1]cj3.28!$F:$O,10,FALSE) -> 115.5 | J39: 73.37 | K39: 74.8 | L39: =ROUND(J39*0.6+K39*0.4,2) -> 73.94 | M39: 1
A40: 38 | B40: 101010202123 | C40: 李友 | D40: 公务员 | E40: 01000301 | F40: 中共贵阳市纪律检查委员会、贵阳市监察委员会 | G40: =VLOOKUP(B40,[1]cj3.28!$F:$M,8,FALSE) -> 85.2 | H40: =VLOOKUP(B40,[1]cj3.28!$F:$O,10,FALSE) -> 115.5 | J40: 66.9 | K40: 74.4 | L40: =ROUND(J40*0.6+K40*0.4,2) -> 69.9 | M40: 2
A41: 39 | B41: 101010200630 | C41: 宋晓强 | D41: 公务员 | E41: 01000301 | F41: 中共贵阳市纪律检查委员会、贵阳市监察委员会 | G41: =VLOOKUP(B41,[1]cj3.28!$F:$M,8,FALSE) -> 88.3 | H41: =VLOOKUP(B41,[1]cj3.28!$F:$O,10,FALSE) -> 111.5 | J41: 66.6 | K41: 72.6 | L41: =ROUND(J41*0.6+K41*0.4,2) -> 69 | M41: 3
A42: 40 | B42: 101019504214 | C42: 冯远平 | D42: 公务员 | E42: 01000401 | F42: 贵阳市档案馆 | G42: =VLOOKUP(B42,[1]cj3.28!$F:$M,8,FALSE) -> 114.9 | H42: =VLOOKUP(B42,[1]cj3.28!$F:$O,10,FALSE) -> 107.5 | J42: 74.13 | K42: 75.4 | L42: =ROUND(J42*0.6+K42*0.4,2) -> 74.64 | M42: 1
A43: 41 | B43: 101019502820 | C43: 秦经贵 | D43: 公务员 | E43: 01000401 | F43: 贵阳市档案馆 | G43: =VLOOKUP(B43,[1]cj3.28!$F:$M,8,FALSE) -> 106.8 | H43: =VLOOKUP(B43,[1]cj3.28!$F:$O,10,FALSE) -> 103.5 | J43: 70.1 | K43: 80.8 | L43: =ROUND(J43*0.6+K43*0.4,2) -> 74.38 | M43: 2
A44: 42 | B44: 101019500215 | C44: 刘雪梅 | D44: 公务员 | E44: 01000401 | F44: 贵阳市档案馆 | G44: =VLOOKUP(B44,[1]cj3.28!$F:$M,8,FALSE) -> 95.9 | H44: =VLOOKUP(B44,[1]cj3.28!$F:$O,10,FALSE) -> 115 | J44: 70.3 | K44: 75 | L44: =ROUND(J44*0.6+K44*0.4,2) -> 72.18 | M44: 3
... A67: 65 | B67: 101019403207 | C67: 李远昊 | D67: 公务员 | E67: 01000706 | F67: 贵阳市市级财政国库支付中心 | G67: =VLOOKUP(B67,[1]cj3.28!$F:$M,8,FALSE) -> 95.5 | H67: =VLOOKUP(B67,[1]cj3.28!$F:$O,10,FALSE) -> 118 | J67: 71.17 | K67: 78.6 | L67: =ROUND(J67*0.6+K67*0.4,2) -> 74.14 | M67: 2
A68: 66 | B68: 101019503118 | C68: 高安特 | D68: 公务员 | E68: 01000706 | F68: 贵阳市市级财政国库支付中心 | G68: =VLOOKUP(B68,[1]cj3.28!$F:$M,8,FALSE) -> 100.3 | H68: =VLOOKUP(B68,[1]cj3.28!$F:$O,10,FALSE) -> 116 | J68: 72.1 | K68: 缺考
A69: 67 | B69: 101019407902 | C69: 张青颖 | D69: 公务员 | E69: 01000801 | F69: 贵阳市生态环境局南明分局 | G69: =VLOOKUP(B69,[1]cj3.28!$F:$M,8,FALSE) -> 106.5 | H69: =VLOOKUP(B69,[1]cj3.28!$F:$O,10,FALSE) -> 117.5 | J69: 74.67 | K69: 79 | L69: =ROUND(J69*0.6+K69*0.4,2) -> 76.4 | M69: 1
A70: 68 | B70: 101019409512 | C70: 李安敏 | D70: 公务员 | E70: 01000801 | F70: 贵阳市生态环境局南明分局 | G70: =VLOOKUP(B70,[1]cj3.28!$F:$M,8,FALSE) -> 100 | H70: =VLOOKUP(B70,[1]cj3.28!$F:$O,10,FALSE) -> 111 | J70: 70.33 | K70: 74.6 | L70: =ROUND(J70*0.6+K70*0.4,2) -> 72.04 | M70: 2
A71: 69 | B71: 101019403410 | C71: 张雪莲 | D71: 公务员 | E71: 01000801 | F71: 贵阳市生态环境局南明分局 | G71: =VLOOKUP(B71,[1]cj3.28!$F:$M,8,FALSE) -> 97.4 | H71: =VLOOKUP(B71,[1]cj3.28!$F:$O,10,FALSE) -> 113 | J71: 70.13 | K71: 73.4 | L71: =ROUND(J71*0.6+K71*0.4,2) -> 71.44 | M71: 3
...
