{"text_format":"3","workbook":"xlsx","n_sheets":1,"sheets":["附件1"],"not_rendered":{"external_links":1},"read":"whole","date_system":"1900"}

{"sheet":"附件1","index":0,"n_rows":32,"n_cols":13,"rows_kept":32,"merged":[[0,0,0,12],[8,0,8,12],[12,0,12,12],[16,0,16,12],[21,0,21,12],[25,0,25,12]]}
["贵阳市综合行政执法局2024年公开招聘局属事业单位工作人员面试人员名单"]
["序号","姓名","准考证号","单位","报考岗位及代码","笔试成绩","笔试成绩（百分制）","笔试成绩60%",{"$nulls":3},"笔试成绩排名","是否进入面试"]
[1,"付诗雨","1152010201303","贵阳市市政工程服务中心","03管理岗位",210,70,"42.00",{"$nulls":3},"1","是"]
[2,"韩闽会","1152010201404","贵阳市市政工程服务中心","03管理岗位",198.5,66.17,"39.70",{"$nulls":3},"2","是"]
[3,"田占平","1152010200823","贵阳市市政工程服务中心","03管理岗位",196.5,65.5,"39.30",{"$nulls":3},"3","是"]
[1,"姜加美","1152010201711","贵阳市市政工程服务中心","04管理岗位",205.5,68.5,"41.10",{"$nulls":3},"1","是"]
[2,"冶林扣","1152010201702","贵阳市市政工程服务中心","04管理岗位",195,65,"39.00",{"$nulls":3},"2","是"]
[3,"贾逢鑫","1152010202217","贵阳市市政工程服务中心","04管理岗位",191,63.67,"38.20",{"$nulls":3},"3","是"]
[]
[1,"夏少梅","1152010201917",{"$f":"$D$12","v":"贵阳市城市绿化服务中心"},"02管理岗位",{"$f":"[1]Sheet1!F16","v":{"v":185,"d":"185.00"}},{"$f":"[1]Sheet1!G16","v":{"v":61.6666666666667,"d":"61.67"}},{"$f":"[1]Sheet1!H16","v":{"v":37.00000000000002,"d":"37.00"}},{"$nulls":3},1,"是"]
[2,"韦佳兴","1152010200301",{"$f":"$D$12","v":"贵阳市城市绿化服务中心"},"02管理岗位",{"$f":"[1]Sheet1!F17","v":{"v":150,"d":"150.00"}},{"$f":"[1]Sheet1!G17","v":{"v":50,"d":"50.00"}},{"$f":"[1]Sheet1!H17","v":{"v":30,"d":"30.00"}},{"$nulls":3},2,"是"]
[3,"黄紫莲","1152010201905","贵阳市城市绿化服务中心","02管理岗位",{"$f":"[1]Sheet1!F18","v":{"v":148.5,"d":"148.50"}},{"$f":"[1]Sheet1!G18","v":{"v":49.5,"d":"49.50"}},{"$f":"[1]Sheet1!H18","v":{"v":29.7,"d":"29.70"}},{"$nulls":3},3,"是"]
[]
[1,"陈肖","1152010200820","贵阳市城市管理信息中心","01管理岗位",219,{"$f":"F14/3","v":73},{"$f":"G14*0.6","v":43.8},{"$nulls":3},1,"是"]
[2,"李龙曾","1152010200908","贵阳市城市管理信息中心","01管理岗位",215.5,71.83,43.1,{"$nulls":3},2,"是"]
[3,"漆香美","1150210200202","贵阳市城市管理信息中心","01管理岗位",195,{"$f":"F16/3","v":65},{"$f":"G16*0.6","v":39},{"$nulls":3},3,"是"]
[]
["序号","姓名","准考证号","单位","报考岗位及代码","笔试成绩","笔试成绩（百分制）","笔试成绩30%","专业测试成绩","专业测试成绩40%","笔试、专业测试成绩","笔试、专业测试成绩排名","是否进入面试"]
[1,"王昌会","1152010200104","贵阳市环境卫生管理服务中心","01专业技术岗位",198,66,19.8,"89",35.6,55.4,1,"是"]
[2," 阚成燕","1152010200716","贵阳市环境卫生管理服务中心","01专业技术岗位",171,57,17.1,89,35.6,52.7,2,"是"]
[3,"夏思艺","1152010201006","贵阳市环境卫生管理服务中心","01专业技术岗位",182.5,60.83,18.25,"86",34.4,52.65,3,"是"]
[]
[1,{"$f":"[1]Sheet1!B3","v":"杨路宁"},{"$f":"[1]Sheet1!C3","v":"1152010200907"},{"$f":"[1]Sheet1!D3","v":"贵阳市城市绿化服务中心"},"01专业技术岗位",{"$f":"[1]Sheet1!F3","v":213},{"$f":"[1]Sheet1!G3","v":{"v":71,"d":"71.00"}},{"$f":"[1]Sheet1!H3","v":{"v":21.3,"d":"21.30"}},{"$f":"[1]Sheet1!I3","v":"86"},{"$f":"[1]Sheet1!J3","v":{"v":34.4,"d":"34.40"}},{"$f":"[1]Sheet1!K3","v":{"v":55.7,"d":"55.70"}},"1","是"]
[2,{"$f":"[1]Sheet1!B4","v":"刘妍"},{"$f":"[1]Sheet1!C4","v":"1152010200430"},{"$f":"[1]Sheet1!D4","v":"贵阳市城市绿化服务中心"},"01专业技术岗位",{"$f":"[1]Sheet1!F4","v":217},{"$f":"[1]Sheet1!G4","v":{"v":72.3333333333333,"d":"72.33"}},{"$f":"[1]Sheet1!H4","v":{"v":21.7,"d":"21.70"}},{"$f":"[1]Sheet1!I4","v":"75"},{"$f":"[1]Sheet1!J4","v":{"v":30,"d":"30.00"}},{"$f":"[1]Sheet1!K4","v":{"v":51.7,"d":"51.70"}},"2","是"]
[3,{"$f":"[1]Sheet1!B5","v":"严欣"},{"$f":"[1]Sheet1!C5","v":"1152010200612"},{"$f":"[1]Sheet1!D5","v":"贵阳市城市绿化服务中心"},"01专业技术岗位",{"$f":"[1]Sheet1!F5","v":172},{"$f":"[1]Sheet1!G5","v":{"v":57.3333333333333,"d":"57.33"}},{"$f":"[1]Sheet1!H5","v":{"v":17.2,"d":"17.20"}},{"$f":"[1]Sheet1!I5","v":86},{"$f":"[1]Sheet1!J5","v":{"v":34.4,"d":"34.40"}},{"$f":"[1]Sheet1!K5","v":{"v":51.6,"d":"51.60"}},3,"是"]
[]
[1,"李志成","1152010202130","贵阳市市政工程服务中心","01专业技术岗位",190,63.33,{"v":19,"d":"19.00"},{"v":76,"d":"76.00"},{"v":30.4,"d":"30.40"},{"v":49.4,"d":"49.40"},1,"是"]
[2,"艾益合","1152010201212","贵阳市市政工程服务中心","01专业技术岗位",196,65.33,{"v":19.6,"d":"19.60"},{"v":69,"d":"69.00"},{"v":27.6,"d":"27.60"},{"v":47.2,"d":"47.20"},2,"是"]
[3,"张砚墨","1152010201411","贵阳市市政工程服务中心","01专业技术岗位",179,59.67,{"v":17.9,"d":"17.90"},{"v":62,"d":"62.00"},{"v":24.8,"d":"24.80"},{"v":42.7,"d":"42.70"},3,"是"]
[1,"陈准","1152010200902","贵阳市市政工程服务中心","02专业技术岗位",186.5,62.17,18.65,{"v":82,"d":"82.00"},{"v":32.8,"d":"32.80"},51.45,1,"是"]
[2,"冉栩金","1152010201622","贵阳市市政工程服务中心","02专业技术岗位",178.5,{"v":59.5,"d":"59.50"},17.85,{"v":66,"d":"66.00"},{"v":26.4,"d":"26.40"},44.25,"2","是"]
[3,"龙涛","1152010202014","贵阳市市政工程服务中心","02专业技术岗位",153.5,51.17,15.35,{"v":66,"d":"66.00"},{"v":26.4,"d":"26.40"},41.75,"3","是"]