{"text_format":"3","workbook":"xlsx","n_sheets":1,"sheets":["用"],"not_rendered":{"external_links":2,"defined_names":1},"read":"whole","date_system":"1900"}

{"sheet":"用","index":0,"n_rows":12,"n_cols":13,"rows_kept":12,"merged":[[0,0,0,12]]}
["贵阳市发展和改革委员会下属事业单位专业技术岗位专业测试成绩及进入\n面试环节人员名单"]
["序号","姓名","单位","报考岗位及代码","笔试成绩","笔试成绩（百分制）","笔试成绩（百分制）","笔试成绩30%","专业测试成绩","专业测试成绩40%","笔试、专业测试成绩","笔试、专业测试排名","是否进入面试"]
[1,"文楝",{"$f":"VLOOKUP(B3,[1]Sheet1!$A$270:$O$280,4,0)","v":"贵阳市能源发展中心"},{"$f":"VLOOKUP(B3,[1]Sheet1!$A$270:$O$280,5,0)","v":"20101001401"},{"$f":"VLOOKUP(B3,[1]Sheet1!$A$270:$O$280,11,0)","v":212.5},null,{"$f":"ROUND(E3/3,2)","v":70.83},{"$f":"ROUND(G3*0.3,2)","v":21.25},{"$f":"VLOOKUP(B3,[2]Sheet1!$B$3:$G$12,6,0)","v":82.25},{"$f":"I3*0.4","v":32.9},{"$f":"H3+J3","v":54.15},1,"是"]
[2,"田着霖",{"$f":"VLOOKUP(B4,[1]Sheet1!$A$270:$O$280,4,0)","v":"贵阳市能源发展中心"},{"$f":"VLOOKUP(B4,[1]Sheet1!$A$270:$O$280,5,0)","v":"20101001401"},{"$f":"VLOOKUP(B4,[1]Sheet1!$A$270:$O$280,11,0)","v":213.5},null,{"$f":"ROUND(E4/3,2)","v":71.17},{"$f":"ROUND(G4*0.3,2)","v":21.35},{"$f":"VLOOKUP(B4,[2]Sheet1!$B$3:$G$12,6,0)","v":68.75},{"$f":"I4*0.4","v":27.5},{"$f":"H4+J4","v":48.85},2,"是"]
[3,"邱有帝",{"$f":"VLOOKUP(B5,[1]Sheet1!$A$270:$O$280,4,0)","v":"贵阳市能源发展中心"},{"$f":"VLOOKUP(B5,[1]Sheet1!$A$270:$O$280,5,0)","v":"20101001401"},{"$f":"VLOOKUP(B5,[1]Sheet1!$A$270:$O$280,11,0)","v":201.5},null,67.17,20.15,{"$f":"VLOOKUP(B5,[2]Sheet1!$B$3:$G$12,6,0)","v":64.5},25.8,45.95,3,"是"]
[4,"周博浩",{"$f":"VLOOKUP(B6,[1]Sheet1!$A$270:$O$280,4,0)","v":"贵阳市能源发展中心"},{"$f":"VLOOKUP(B6,[1]Sheet1!$A$270:$O$280,5,0)","v":"20101001401"},{"$f":"VLOOKUP(B6,[1]Sheet1!$A$270:$O$280,11,0)","v":192.5},null,64.17,19.25,{"$f":"VLOOKUP(B6,[2]Sheet1!$B$3:$G$12,6,0)","v":62.25},24.9,44.15,4]
[5,"刘浩",{"$f":"VLOOKUP(B7,[1]Sheet1!$A$270:$O$280,4,0)","v":"贵阳市能源发展中心"},{"$f":"VLOOKUP(B7,[1]Sheet1!$A$270:$O$280,5,0)","v":"20101001401"},{"$f":"VLOOKUP(B7,[1]Sheet1!$A$270:$O$280,11,0)","v":203},null,67.67,20.3,{"$f":"VLOOKUP(B7,[2]Sheet1!$B$3:$G$12,6,0)","v":56},22.4,42.7,5]
[6,"宦宣宇",{"$f":"VLOOKUP(B8,[1]Sheet1!$A$270:$O$280,4,0)","v":"贵阳市能源发展中心"},{"$f":"VLOOKUP(B8,[1]Sheet1!$A$270:$O$280,5,0)","v":"20101001401"},{"$f":"VLOOKUP(B8,[1]Sheet1!$A$270:$O$280,11,0)","v":205},null,68.33,20.5,{"$f":"VLOOKUP(B8,[2]Sheet1!$B$3:$G$12,6,0)","v":54.75},21.9,42.4,6]
[7,"冉胤",{"$f":"VLOOKUP(B9,[1]Sheet1!$A$270:$O$280,4,0)","v":"贵阳市能源发展中心"},{"$f":"VLOOKUP(B9,[1]Sheet1!$A$270:$O$280,5,0)","v":"20101001401"},{"$f":"VLOOKUP(B9,[1]Sheet1!$A$270:$O$280,11,0)","v":195.5},null,65.17,19.55,{"$f":"VLOOKUP(B9,[2]Sheet1!$B$3:$G$12,6,0)","v":53.25},21.3,40.85,7]
[8,"李雨菡",{"$f":"VLOOKUP(B10,[1]Sheet1!$A$270:$O$280,4,0)","v":"贵阳市能源发展中心"},{"$f":"VLOOKUP(B10,[1]Sheet1!$A$270:$O$280,5,0)","v":"20101001401"},{"$f":"VLOOKUP(B10,[1]Sheet1!$A$270:$O$280,11,0)","v":190.5},null,63.5,19.05,{"$f":"VLOOKUP(B10,[2]Sheet1!$B$3:$G$12,6,0)","v":52},20.8,39.85,8]
[9,"苟鸿浩",{"$f":"VLOOKUP(B11,[1]Sheet1!$A$270:$O$280,4,0)","v":"贵阳市能源发展中心"},{"$f":"VLOOKUP(B11,[1]Sheet1!$A$270:$O$280,5,0)","v":"20101001401"},{"$f":"VLOOKUP(B11,[1]Sheet1!$A$270:$O$280,11,0)","v":204.5},null,68.17,20.45,{"$f":"VLOOKUP(B11,[2]Sheet1!$B$3:$G$12,6,0)","v":0},0,20.45,9,"专业测试缺考"]
[10,"何旭",{"$f":"VLOOKUP(B12,[1]Sheet1!$A$270:$O$280,4,0)","v":"贵阳市能源发展中心"},{"$f":"VLOOKUP(B12,[1]Sheet1!$A$270:$O$280,5,0)","v":"20101001401"},{"$f":"VLOOKUP(B12,[1]Sheet1!$A$270:$O$280,11,0)","v":203.5},null,67.83,20.35,{"$f":"VLOOKUP(B12,[2]Sheet1!$B$3:$G$12,6,0)","v":0},0,20.35,10,"专业测试缺考"]