{"text_format":"3","workbook":"xlsx","n_sheets":1,"sheets":["Sheet1"],"not_rendered":{"external_links":2,"defined_names":1},"read":"whole","date_system":"1900"}

{"sheet":"Sheet1","index":0,"n_rows":5066,"n_cols":9,"rows_kept":5066,"merged":[[0,0,0,8]]}
["黔南州2019年统一面向社会公开招聘事业单位工作人员（独山考区）5月19日分类考试笔试成绩"]
["序号","准考证号","姓名","报考单位及代码","报考职位及代码","行测成绩","综合成绩","少数民族加分","笔试环节成绩"]
[1,"1152270500806","胡慧慧","301独山县乡镇农业综合服务中心","01工作人员",{"$f":"VLOOKUP(B3,[1]Sheet1!$A:$I,8,0)","v":"92.00"},{"$f":"VLOOKUP(B3,[1]Sheet1!$A:$I,9,0)","v":"91.00"},null,{"v":183,"d":"183.00"}]
[2,"1152270601713","苏雪莲","301独山县乡镇农业综合服务中心","01工作人员",{"$f":"VLOOKUP(B4,[1]Sheet1!$A:$I,8,0)","v":"87.50"},{"$f":"VLOOKUP(B4,[1]Sheet1!$A:$I,9,0)","v":"95.50"},null,{"v":183,"d":"183.00"}]
[3,"1152270602428","韦珊","301独山县乡镇农业综合服务中心","01工作人员",{"$f":"VLOOKUP(B5,[1]Sheet1!$A:$I,8,0)","v":"80.50"},{"$f":"VLOOKUP(B5,[1]Sheet1!$A:$I,9,0)","v":"99.00"},{"$f":"VLOOKUP(B5,[2]少数民族加分!$C$1:$E$65536,3,FALSE)","v":2},{"v":181.5,"d":"181.50"}]
[4,"1152270500726","周银","301独山县乡镇农业综合服务中心","01工作人员",{"$f":"VLOOKUP(B6,[1]Sheet1!$A:$I,8,0)","v":"77.00"},{"$f":"VLOOKUP(B6,[1]Sheet1!$A:$I,9,0)","v":"102.50"},null,{"v":179.5,"d":"179.50"}]
[5,"1152270602005","姬俊杰","301独山县乡镇农业综合服务中心","01工作人员",{"$f":"VLOOKUP(B7,[1]Sheet1!$A:$I,8,0)","v":"82.00"},{"$f":"VLOOKUP(B7,[1]Sheet1!$A:$I,9,0)","v":"95.00"},null,{"v":177,"d":"177.00"}]
[7,"1152270601509","刘婷","301独山县乡镇农业综合服务中心","01工作人员",{"$f":"VLOOKUP(B8,[1]Sheet1!$A:$I,8,0)","v":"72.50"},{"$f":"VLOOKUP(B8,[1]Sheet1!$A:$I,9,0)","v":"101.50"},{"$f":"VLOOKUP(B8,[2]少数民族加分!$C$1:$E$65536,3,FALSE)","v":2},{"v":176,"d":"176.00"}]
[8,"1152270501122","石虎","301独山县乡镇农业综合服务中心","01工作人员",{"$f":"VLOOKUP(B9,[1]Sheet1!$A:$I,8,0)","v":"91.50"},{"$f":"VLOOKUP(B9,[1]Sheet1!$A:$I,9,0)","v":"81.50"},{"$f":"VLOOKUP(B9,[2]少数民族加分!$C$1:$E$65536,3,FALSE)","v":2},{"v":175,"d":"175.00"}]
[9,"1152270501514","王金华","301独山县乡镇农业综合服务中心","01工作人员",{"$f":"VLOOKUP(B10,[1]Sheet1!$A:$I,8,0)","v":"82.00"},{"$f":"VLOOKUP(B10,[1]Sheet1!$A:$I,9,0)","v":"91.00"},{"$f":"VLOOKUP(B10,[2]少数民族加分!$C$1:$E$65536,3,FALSE)","v":2},{"v":175,"d":"175.00"}]
[6,"1152270600906","杨雨时","301独山县乡镇农业综合服务中心","01工作人员",{"$f":"VLOOKUP(B11,[1]Sheet1!$A:$I,8,0)","v":"90.50"},{"$f":"VLOOKUP(B11,[1]Sheet1!$A:$I,9,0)","v":"84.00"},null,{"v":174.5,"d":"174.50"}]
[10,"1152270600310","杨通津","301独山县乡镇农业综合服务中心","01工作人员",{"$f":"VLOOKUP(B12,[1]Sheet1!$A:$I,8,0)","v":"85.00"},{"$f":"VLOOKUP(B12,[1]Sheet1!$A:$I,9,0)","v":"86.00"},{"$f":"VLOOKUP(B12,[2]少数民族加分!$C$1:$E$65536,3,FALSE)","v":2},{"v":173,"d":"173.00"}]
[11,"1152270602407","潘诗云","301独山县乡镇农业综合服务中心","01工作人员",{"$f":"VLOOKUP(B13,[1]Sheet1!$A:$I,8,0)","v":"87.50"},{"$f":"VLOOKUP(B13,[1]Sheet1!$A:$I,9,0)","v":"83.50"},{"$f":"VLOOKUP(B13,[2]少数民族加分!$C$1:$E$65536,3,FALSE)","v":2},{"v":173,"d":"173.00"}]
[12,"1152270600910","潘厚荣","301独山县乡镇农业综合服务中心","01工作人员",{"$f":"VLOOKUP(B14,[1]Sheet1!$A:$I,8,0)","v":"84.00"},{"$f":"VLOOKUP(B14,[1]Sheet1!$A:$I,9,0)","v":"86.50"},{"$f":"VLOOKUP(B14,[2]少数民族加分!$C$1:$E$65536,3,FALSE)","v":2},{"v":172.5,"d":"172.50"}]
[14,"1152270501121","韦万雄","301独山县乡镇农业综合服务中心","01工作人员",{"$f":"VLOOKUP(B15,[1]Sheet1!$A:$I,8,0)","v":"77.50"},{"$f":"VLOOKUP(B15,[1]Sheet1!$A:$I,9,0)","v":"92.50"},{"$f":"VLOOKUP(B15,[2]少数民族加分!$C$1:$E$65536,3,FALSE)","v":2},{"v":172,"d":"172.00"}]
[13,"1152270500711","杨静","301独山县乡镇农业综合服务中心","01工作人员",{"$f":"VLOOKUP(B16,[1]Sheet1!$A:$I,8,0)","v":"79.00"},{"$f":"VLOOKUP(B16,[1]Sheet1!$A:$I,9,0)","v":"91.00"},null,{"v":170,"d":"170.00"}]
[15,"1152270601716","杨仲华","301独山县乡镇农业综合服务中心","01工作人员",{"$f":"VLOOKUP(B17,[1]Sheet1!$A:$I,8,0)","v":"80.00"},{"$f":"VLOOKUP(B17,[1]Sheet1!$A:$I,9,0)","v":"90.00"},null,{"v":170,"d":"170.00"}]
[16,"1152270602014","彭朝波","301独山县乡镇农业综合服务中心","01工作人员",{"$f":"VLOOKUP(B18,[1]Sheet1!$A:$I,8,0)","v":"87.50"},{"$f":"VLOOKUP(B18,[1]Sheet1!$A:$I,9,0)","v":"81.50"},null,{"v":169,"d":"169.00"}]
[18,"1152270602401","雷雨田","301独山县乡镇农业综合服务中心","01工作人员",{"$f":"VLOOKUP(B19,[1]Sheet1!$A:$I,8,0)","v":"78.00"},{"$f":"VLOOKUP(B19,[1]Sheet1!$A:$I,9,0)","v":"89.00"},{"$f":"VLOOKUP(B19,[2]少数民族加分!$C$1:$E$65536,3,FALSE)","v":2},{"v":169,"d":"169.00"}]
[19,"1152270500129","张才鲜","301独山县乡镇农业综合服务中心","01工作人员",{"$f":"VLOOKUP(B20,[1]Sheet1!$A:$I,8,0)","v":"72.50"},{"$f":"VLOOKUP(B20,[1]Sheet1!$A:$I,9,0)","v":"94.00"},{"$f":"VLOOKUP(B20,[2]少数民族加分!$C$1:$E$65536,3,FALSE)","v":2},{"v":168.5,"d":"168.50"}]
[20,"1152270501624","张昌倩","301独山县乡镇农业综合服务中心","01工作人员",{"$f":"VLOOKUP(B21,[1]Sheet1!$A:$I,8,0)","v":"79.00"},{"$f":"VLOOKUP(B21,[1]Sheet1!$A:$I,9,0)","v":"87.50"},{"$f":"VLOOKUP(B21,[2]少数民族加分!$C$1:$E$65536,3,FALSE)","v":2},{"v":168.5,"d":"168.50"}]
[17,"1152270500121","宋婷婷","301独山县乡镇农业综合服务中心","01工作人员",{"$f":"VLOOKUP(B22,[1]Sheet1!$A:$I,8,0)","v":"81.50"},{"$f":"VLOOKUP(B22,[1]Sheet1!$A:$I,9,0)","v":"86.50"},null,{"v":168,"d":"168.00"}]
[22,"1152270501301","韩有智","301独山县乡镇农业综合服务中心","01工作人员",{"$f":"VLOOKUP(B23,[1]Sheet1!$A:$I,8,0)","v":"86.00"},{"$f":"VLOOKUP(B23,[1]Sheet1!$A:$I,9,0)","v":"79.00"},{"$f":"VLOOKUP(B23,[2]少数民族加分!$C$1:$E$65536,3,FALSE)","v":2},{"v":167,"d":"167.00"}]
[23,"1152270600725","吴鲁艳","301独山县乡镇农业综合服务中心","01工作人员",{"$f":"VLOOKUP(B24,[1]Sheet1!$A:$I,8,0)","v":"82.50"},{"$f":"VLOOKUP(B24,[1]Sheet1!$A:$I,9,0)","v":"82.00"},{"$f":"VLOOKUP(B24,[2]少数民族加分!$C$1:$E$65536,3,FALSE)","v":2},{"v":166.5,"d":"166.50"}]
[21,"1152270501211","文辉","301独山县乡镇农业综合服务中心","01工作人员",{"$f":"VLOOKUP(B25,[1]Sheet1!$A:$I,8,0)","v":"73.50"},{"$f":"VLOOKUP(B25,[1]Sheet1!$A:$I,9,0)","v":"92.50"},null,{"v":166,"d":"166.00"}]
[24,"1152270600612","杨少锋","301独山县乡镇农业综合服务中心","01工作人员",{"$f":"VLOOKUP(B26,[1]Sheet1!$A:$I,8,0)","v":"89.50"},{"$f":"VLOOKUP(B26,[1]Sheet1!$A:$I,9,0)","v":"74.50"},{"$f":"VLOOKUP(B26,[2]少数民族加分!$C$1:$E$65536,3,FALSE)","v":2},{"v":166,"d":"166.00"}]
[25,"1152270601117","李航","301独山县乡镇农业综合服务中心","01工作人员",{"$f":"VLOOKUP(B27,[1]Sheet1!$A:$I,8,0)","v":"73.50"},{"$f":"VLOOKUP(B27,[1]Sheet1!$A:$I,9,0)","v":"90.50"},null,{"v":164,"d":"164.00"}]
[26,"1152270600314","徐梅","301独山县乡镇农业综合服务中心","01工作人员",{"$f":"VLOOKUP(B28,[1]Sheet1!$A:$I,8,0)","v":"84.00"},{"$f":"VLOOKUP(B28,[1]Sheet1!$A:$I,9,0)","v":"77.50"},{"$f":"VLOOKUP(B28,[2]少数民族加分!$C$1:$E$65536,3,FALSE)","v":2},{"v":163.5,"d":"163.50"}]
[27,"1152270602018","方楠","301独山县乡镇农业综合服务中心","01工作人员",{"$f":"VLOOKUP(B29,[1]Sheet1!$A:$I,8,0)","v":"87.00"},{"$f":"VLOOKUP(B29,[1]Sheet1!$A:$I,9,0)","v":"74.50"},{"$f":"VLOOKUP(B29,[2]少数民族加分!$C$1:$E$65536,3,FALSE)","v":2},{"v":163.5,"d":"163.50"}]
[28,"1152270601717","杨曦晨","301独山县乡镇农业综合服务中心","01工作人员",{"$f":"VLOOKUP(B30,[1]Sheet1!$A:$I,8,0)","v":"74.50"},{"$f":"VLOOKUP(B30,[1]Sheet1!$A:$I,9,0)","v":"86.50"},{"$f":"VLOOKUP(B30,[2]少数民族加分!$C$1:$E$65536,3,FALSE)","v":2},{"v":163,"d":"163.00"}]
[29,"1152270601220","韦代莉","301独山县乡镇农业综合服务中心","01工作人员",{"$f":"VLOOKUP(B31,[1]Sheet1!$A:$I,8,0)","v":"63.50"},{"$f":"VLOOKUP(B31,[1]Sheet1!$A:$I,9,0)","v":"97.00"},null,{"v":160.5,"d":"160.50"}]
[31,"1152270501007","王德玥","301独山县乡镇农业综合服务中心","01工作人员",{"$f":"VLOOKUP(B32,[1]Sheet1!$A:$I,8,0)","v":"77.00"},{"$f":"VLOOKUP(B32,[1]Sheet1!$A:$I,9,0)","v":"79.50"},{"$f":"VLOOKUP(B32,[2]少数民族加分!$C$1:$E$65536,3,FALSE)","v":2},{"v":158.5,"d":"158.50"}]
[32,"1152270501112","杨佳园","301独山县乡镇农业综合服务中心","01工作人员",{"$f":"VLOOKUP(B33,[1]Sheet1!$A:$I,8,0)","v":"75.50"},{"$f":"VLOOKUP(B33,[1]Sheet1!$A:$I,9,0)","v":"81.00"},{"$f":"VLOOKUP(B33,[2]少数民族加分!$C$1:$E$65536,3,FALSE)","v":2},{"v":158.5,"d":"158.50"}]
[30,"1152270501410","赵朗","301独山县乡镇农业综合服务中心","01工作人员",{"$f":"VLOOKUP(B34,[1]Sheet1!$A:$I,8,0)","v":"79.50"},{"$f":"VLOOKUP(B34,[1]Sheet1!$A:$I,9,0)","v":"77.50"},null,{"v":157,"d":"157.00"}]
[36,"1152270601214","罗海庆","301独山县乡镇农业综合服务中心","01工作人员",{"$f":"VLOOKUP(B35,[1]Sheet1!$A:$I,8,0)","v":"77.50"},{"$f":"VLOOKUP(B35,[1]Sheet1!$A:$I,9,0)","v":"77.00"},{"$f":"VLOOKUP(B35,[2]少数民族加分!$C$1:$E$65536,3,FALSE)","v":2},{"v":156.5,"d":"156.50"}]
[33,"1152270601906","胡明芳","301独山县乡镇农业综合服务中心","01工作人员",{"$f":"VLOOKUP(B36,[1]Sheet1!$A:$I,8,0)","v":"89.50"},{"$f":"VLOOKUP(B36,[1]Sheet1!$A:$I,9,0)","v":"66.50"},null,{"v":156,"d":"156.00"}]
[38,"1152270600226","裴应杰","301独山县乡镇农业综合服务中心","01工作人员",{"$f":"VLOOKUP(B37,[1]Sheet1!$A:$I,8,0)","v":"74.50"},{"$f":"VLOOKUP(B37,[1]Sheet1!$A:$I,9,0)","v":"79.00"},{"$f":"VLOOKUP(B37,[2]少数民族加分!$C$1:$E$65536,3,FALSE)","v":2},{"v":155.5,"d":"155.50"}]
[34,"1152270601010","龚旭","301独山县乡镇农业综合服务中心","01工作人员",{"$f":"VLOOKUP(B38,[1]Sheet1!$A:$I,8,0)","v":"69.00"},{"$f":"VLOOKUP(B38,[1]Sheet1!$A:$I,9,0)","v":"86.00"},null,{"v":155,"d":"155.00"}]
[39,"1152270601302","兰昌武","301独山县乡镇农业综合服务中心","01工作人员",{"$f":"VLOOKUP(B39,[1]Sheet1!$A:$I,8,0)","v":"78.00"},{"$f":"VLOOKUP(B39,[1]Sheet1!$A:$I,9,0)","v":"75.00"},{"$f":"VLOOKUP(B39,[2]少数民族加分!$C$1:$E$65536,3,FALSE)","v":2},{"v":155,"d":"155.00"}]
[35,"1152270501726","杨秀林","301独山县乡镇农业综合服务中心","01工作人员",{"$f":"VLOOKUP(B40,[1]Sheet1!$A:$I,8,0)","v":"81.00"},{"$f":"VLOOKUP(B40,[1]Sheet1!$A:$I,9,0)","v":"73.50"},null,{"v":154.5,"d":"154.50"}]
[37,"1152270601810","周冲","301独山县乡镇农业综合服务中心","01工作人员",{"$f":"VLOOKUP(B41,[1]Sheet1!$A:$I,8,0)","v":"78.00"},{"$f":"VLOOKUP(B41,[1]Sheet1!$A:$I,9,0)","v":"76.00"},null,{"v":154,"d":"154.00"}]
[40,"1152270600930","李祖佳","301独山县乡镇农业综合服务中心","01工作人员",{"$f":"VLOOKUP(B42,[1]Sheet1!$A:$I,8,0)","v":"71.00"},{"$f":"VLOOKUP(B42,[1]Sheet1!$A:$I,9,0)","v":"81.00"},{"$f":"VLOOKUP(B42,[2]少数民族加分!$C$1:$E$65536,3,FALSE)","v":2},{"v":154,"d":"154.00"}]
[41,"1152270500516","韦春兰","301独山县乡镇农业综合服务中心","01工作人员",{"$f":"VLOOKUP(B43,[1]Sheet1!$A:$I,8,0)","v":"71.50"},{"$f":"VLOOKUP(B43,[1]Sheet1!$A:$I,9,0)","v":"80.00"},{"$f":"VLOOKUP(B43,[2]少数民族加分!$C$1:$E$65536,3,FALSE)","v":2},{"v":153.5,"d":"153.50"}]
[42,"1152270600215","何寻义","301独山县乡镇农业综合服务中心","01工作人员",{"$f":"VLOOKUP(B44,[1]Sheet1!$A:$I,8,0)","v":"71.50"},{"$f":"VLOOKUP(B44,[1]Sheet1!$A:$I,9,0)","v":"80.00"},{"$f":"VLOOKUP(B44,[2]少数民族加分!$C$1:$E$65536,3,FALSE)","v":2},{"v":153.5,"d":"153.50"}]
[43,"1152270601426","罗念珊","301独山县乡镇农业综合服务中心","01工作人员",{"$f":"VLOOKUP(B45,[1]Sheet1!$A:$I,8,0)","v":"71.50"},{"$f":"VLOOKUP(B45,[1]Sheet1!$A:$I,9,0)","v":"79.00"},{"$f":"VLOOKUP(B45,[2]少数民族加分!$C$1:$E$65536,3,FALSE)","v":2},{"v":152.5,"d":"152.50"}]
[44,"1152270601307","韦利霞","301独山县乡镇农业综合服务中心","01工作人员",{"$f":"VLOOKUP(B46,[1]Sheet1!$A:$I,8,0)","v":"74.50"},{"$f":"VLOOKUP(B46,[1]Sheet1!$A:$I,9,0)","v":"75.50"},{"$f":"VLOOKUP(B46,[2]少数民族加分!$C$1:$E$65536,3,FALSE)","v":2},{"v":152,"d":"152.00"}]
[45,"1152270601015","赵祥","301独山县乡镇农业综合服务中心","01工作人员",{"$f":"VLOOKUP(B47,[1]Sheet1!$A:$I,8,0)","v":"82.50"},{"$f":"VLOOKUP(B47,[1]Sheet1!$A:$I,9,0)","v":"67.00"},{"$f":"VLOOKUP(B47,[2]少数民族加分!$C$1:$E$65536,3,FALSE)","v":2},{"v":151.5,"d":"151.50"}]
[46,"1152270501202","韦偏","301独山县乡镇农业综合服务中心","01工作人员",{"$f":"VLOOKUP(B48,[1]Sheet1!$A:$I,8,0)","v":"71.50"},{"$f":"VLOOKUP(B48,[1]Sheet1!$A:$I,9,0)","v":"76.50"},{"$f":"VLOOKUP(B48,[2]少数民族加分!$C$1:$E$65536,3,FALSE)","v":2},{"v":150,"d":"150.00"}]
[47,"1152270602315","安朝龙","301独山县乡镇农业综合服务中心","01工作人员",{"$f":"VLOOKUP(B49,[1]Sheet1!$A:$I,8,0)","v":"64.00"},{"$f":"VLOOKUP(B49,[1]Sheet1!$A:$I,9,0)","v":"84.00"},{"$f":"VLOOKUP(B49,[2]少数民族加分!$C$1:$E$65536,3,FALSE)","v":2},{"v":150,"d":"150.00"}]
[49,"1152270500418","吴小青","301独山县乡镇农业综合服务中心","01工作人员",{"$f":"VLOOKUP(B50,[1]Sheet1!$A:$I,8,0)","v":"69.00"},{"$f":"VLOOKUP(B50,[1]Sheet1!$A:$I,9,0)","v":"78.00"},{"$f":"VLOOKUP(B50,[2]少数民族加分!$C$1:$E$65536,3,FALSE)","v":2},{"v":149,"d":"149.00"}]
[51,"1152270501627","李磊乐","301独山县乡镇农业综合服务中心","01工作人员",{"$f":"VLOOKUP(B51,[1]Sheet1!$A:$I,8,0)","v":"80.00"},{"$f":"VLOOKUP(B51,[1]Sheet1!$A:$I,9,0)","v":"66.50"},{"$f":"VLOOKUP(B51,[2]少数民族加分!$C$1:$E$65536,3,FALSE)","v":2},{"v":148.5,"d":"148.50"}]
[52,"1152270602226","刘仁普","301独山县乡镇农业综合服务中心","01工作人员",{"$f":"VLOOKUP(B52,[1]Sheet1!$A:$I,8,0)","v":"64.50"},{"$f":"VLOOKUP(B52,[1]Sheet1!$A:$I,9,0)","v":"82.00"},{"$f":"VLOOKUP(B52,[2]少数民族加分!$C$1:$E$65536,3,FALSE)","v":2},{"v":148.5,"d":"148.50"}]
[48,"1152270602126","张代香","301独山县乡镇农业综合服务中心","01工作人员",{"$f":"VLOOKUP(B53,[1]Sheet1!$A:$I,8,0)","v":"64.00"},{"$f":"VLOOKUP(B53,[1]Sheet1!$A:$I,9,0)","v":"83.00"},null,{"v":147,"d":"147.00"}]
[50,"1152270501521","王红","301独山县乡镇农业综合服务中心","01工作人员",{"$f":"VLOOKUP(B54,[1]Sheet1!$A:$I,8,0)","v":"65.50"},{"$f":"VLOOKUP(B54,[1]Sheet1!$A:$I,9,0)","v":"81.00"},null,{"v":146.5,"d":"146.50"}]
[54,"1152270500702","李锦秋","301独山县乡镇农业综合服务中心","01工作人员",{"$f":"VLOOKUP(B55,[1]Sheet1!$A:$I,8,0)","v":"68.50"},{"$f":"VLOOKUP(B55,[1]Sheet1!$A:$I,9,0)","v":"76.00"},{"$f":"VLOOKUP(B55,[2]少数民族加分!$C$1:$E$65536,3,FALSE)","v":2},{"v":146.5,"d":"146.50"}]
[55,"1152270500717","吴子韧","301独山县乡镇农业综合服务中心","01工作人员",{"$f":"VLOOKUP(B56,[1]Sheet1!$A:$I,8,0)","v":"77.00"},{"$f":"VLOOKUP(B56,[1]Sheet1!$A:$I,9,0)","v":"67.50"},{"$f":"VLOOKUP(B56,[2]少数民族加分!$C$1:$E$65536,3,FALSE)","v":2},{"v":146.5,"d":"146.50"}]
[56,"1152270600606","任旭刚","301独山县乡镇农业综合服务中心","01工作人员",{"$f":"VLOOKUP(B57,[1]Sheet1!$A:$I,8,0)","v":"59.50"},{"$f":"VLOOKUP(B57,[1]Sheet1!$A:$I,9,0)","v":"85.00"},{"$f":"VLOOKUP(B57,[2]少数民族加分!$C$1:$E$65536,3,FALSE)","v":2},{"v":146.5,"d":"146.50"}]
[57,"1152270500316","覃思","301独山县乡镇农业综合服务中心","01工作人员",{"$f":"VLOOKUP(B58,[1]Sheet1!$A:$I,8,0)","v":"80.00"},{"$f":"VLOOKUP(B58,[1]Sheet1!$A:$I,9,0)","v":"64.00"},{"$f":"VLOOKUP(B58,[2]少数民族加分!$C$1:$E$65536,3,FALSE)","v":2},{"v":146,"d":"146.00"}]
[53,"1152270602520","赵丽","301独山县乡镇农业综合服务中心","01工作人员",{"$f":"VLOOKUP(B59,[1]Sheet1!$A:$I,8,0)","v":"78.50"},{"$f":"VLOOKUP(B59,[1]Sheet1!$A:$I,9,0)","v":"67.00"},null,{"v":145.5,"d":"145.50"}]
[60,"1152270500215","覃光胜","301独山县乡镇农业综合服务中心","01工作人员",{"$f":"VLOOKUP(B60,[1]Sheet1!$A:$I,8,0)","v":"67.00"},{"$f":"VLOOKUP(B60,[1]Sheet1!$A:$I,9,0)","v":"76.00"},{"$f":"VLOOKUP(B60,[2]少数民族加分!$C$1:$E$65536,3,FALSE)","v":2},{"v":145,"d":"145.00"}]
[61,"1152270601818","鄂君富","301独山县乡镇农业综合服务中心","01工作人员",{"$f":"VLOOKUP(B61,[1]Sheet1!$A:$I,8,0)","v":"78.50"},{"$f":"VLOOKUP(B61,[1]Sheet1!$A:$I,9,0)","v":"64.00"},{"$f":"VLOOKUP(B61,[2]少数民族加分!$C$1:$E$65536,3,FALSE)","v":2},{"v":144.5,"d":"144.50"}]
[58,"1152270500408","蒋应德","301独山县乡镇农业综合服务中心","01工作人员",{"$f":"VLOOKUP(B62,[1]Sheet1!$A:$I,8,0)","v":"81.50"},{"$f":"VLOOKUP(B62,[1]Sheet1!$A:$I,9,0)","v":"62.00"},null,{"v":143.5,"d":"143.50"}]
[59,"1152270500415","张忠云","301独山县乡镇农业综合服务中心","01工作人员",{"$f":"VLOOKUP(B63,[1]Sheet1!$A:$I,8,0)","v":"56.50"},{"$f":"VLOOKUP(B63,[1]Sheet1!$A:$I,9,0)","v":"87.00"},null,{"v":143.5,"d":"143.50"}]
[63,"1152270500521","粟银凯","301独山县乡镇农业综合服务中心","01工作人员",{"$f":"VLOOKUP(B64,[1]Sheet1!$A:$I,8,0)","v":"64.50"},{"$f":"VLOOKUP(B64,[1]Sheet1!$A:$I,9,0)","v":"77.00"},{"$f":"VLOOKUP(B64,[2]少数民族加分!$C$1:$E$65536,3,FALSE)","v":2},{"v":143.5,"d":"143.50"}]
[62,"1152270602024","刘实兵","301独山县乡镇农业综合服务中心","01工作人员",{"$f":"VLOOKUP(B65,[1]Sheet1!$A:$I,8,0)","v":"60.50"},{"$f":"VLOOKUP(B65,[1]Sheet1!$A:$I,9,0)","v":"82.00"},null,{"v":142.5,"d":"142.50"}]
[64,"1152270602501","蔡婷","301独山县乡镇农业综合服务中心","01工作人员",{"$f":"VLOOKUP(B66,[1]Sheet1!$A:$I,8,0)","v":"54.50"},{"$f":"VLOOKUP(B66,[1]Sheet1!$A:$I,9,0)","v":"86.00"},{"$f":"VLOOKUP(B66,[2]少数民族加分!$C$1:$E$65536,3,FALSE)","v":2},{"v":142.5,"d":"142.50"}]
[65,"1152270500125","廖润清","301独山县乡镇农业综合服务中心","01工作人员",{"$f":"VLOOKUP(B67,[1]Sheet1!$A:$I,8,0)","v":"71.00"},{"$f":"VLOOKUP(B67,[1]Sheet1!$A:$I,9,0)","v":"69.00"},{"$f":"VLOOKUP(B67,[2]少数民族加分!$C$1:$E$65536,3,FALSE)","v":2},{"v":142,"d":"142.00"}]
[66,"1152270602119","何彭","301独山县乡镇农业综合服务中心","01工作人员",{"$f":"VLOOKUP(B68,[1]Sheet1!$A:$I,8,0)","v":"58.50"},{"$f":"VLOOKUP(B68,[1]Sheet1!$A:$I,9,0)","v":"81.00"},{"$f":"VLOOKUP(B68,[2]少数民族加分!$C$1:$E$65536,3,FALSE)","v":2},{"v":141.5,"d":"141.50"}]
[67,"1152270602201","文真云","301独山县乡镇农业综合服务中心","01工作人员",{"$f":"VLOOKUP(B69,[1]Sheet1!$A:$I,8,0)","v":"71.00"},{"$f":"VLOOKUP(B69,[1]Sheet1!$A:$I,9,0)","v":"68.50"},{"$f":"VLOOKUP(B69,[2]少数民族加分!$C$1:$E$65536,3,FALSE)","v":2},{"v":141.5,"d":"141.50"}]
[68,"1152270600607","王婷婷","301独山县乡镇农业综合服务中心","01工作人员",{"$f":"VLOOKUP(B70,[1]Sheet1!$A:$I,8,0)","v":"65.50"},{"$f":"VLOOKUP(B70,[1]Sheet1!$A:$I,9,0)","v":"73.00"},{"$f":"VLOOKUP(B70,[2]少数民族加分!$C$1:$E$65536,3,FALSE)","v":2},{"v":140.5,"d":"140.50"}]
[69,"1152270601004","杨洋","301独山县乡镇农业综合服务中心","01工作人员",{"$f":"VLOOKUP(B71,[1]Sheet1!$A:$I,8,0)","v":"63.00"},{"$f":"VLOOKUP(B71,[1]Sheet1!$A:$I,9,0)","v":"74.00"},{"$f":"VLOOKUP(B71,[2]少数民族加分!$C$1:$E$65536,3,FALSE)","v":2},{"v":139,"d":"139.00"}]
[70,"1152270601808","马勋称","301独山县乡镇农业综合服务中心","01工作人员",{"$f":"VLOOKUP(B72,[1]Sheet1!$A:$I,8,0)","v":"62.50"},{"$f":"VLOOKUP(B72,[1]Sheet1!$A:$I,9,0)","v":"73.00"},{"$f":"VLOOKUP(B72,[2]少数民族加分!$C$1:$E$65536,3,FALSE)","v":2},{"v":137.5,"d":"137.50"}]
[71,"1152270602514","吴燕霞","301独山县乡镇农业综合服务中心","01工作人员",{"$f":"VLOOKUP(B73,[1]Sheet1!$A:$I,8,0)","v":"61.50"},{"$f":"VLOOKUP(B73,[1]Sheet1!$A:$I,9,0)","v":"74.00"},{"$f":"VLOOKUP(B73,[2]少数民族加分!$C$1:$E$65536,3,FALSE)","v":2},{"v":137.5,"d":"137.50"}]
[72,"1152270602518","欧泽查","301独山县乡镇农业综合服务中心","01工作人员",{"$f":"VLOOKUP(B74,[1]Sheet1!$A:$I,8,0)","v":"64.50"},{"$f":"VLOOKUP(B74,[1]Sheet1!$A:$I,9,0)","v":"71.00"},{"$f":"VLOOKUP(B74,[2]少数民族加分!$C$1:$E$65536,3,FALSE)","v":2},{"v":137.5,"d":"137.50"}]
[73,"1152270602408","莫烈常","301独山县乡镇农业综合服务中心","01工作人员",{"$f":"VLOOKUP(B75,[1]Sheet1!$A:$I,8,0)","v":"73.50"},{"$f":"VLOOKUP(B75,[1]Sheet1!$A:$I,9,0)","v":"61.00"},{"$f":"VLOOKUP(B75,[2]少数民族加分!$C$1:$E$65536,3,FALSE)","v":2},{"v":136.5,"d":"136.50"}]
[74,"1152270602207","杨正凯","301独山县乡镇农业综合服务中心","01工作人员",{"$f":"VLOOKUP(B76,[1]Sheet1!$A:$I,8,0)","v":"62.00"},{"$f":"VLOOKUP(B76,[1]Sheet1!$A:$I,9,0)","v":"72.00"},{"$f":"VLOOKUP(B76,[2]少数民族加分!$C$1:$E$65536,3,FALSE)","v":2},{"v":136,"d":"136.00"}]
[77,"1152270601201","王健","301独山县乡镇农业综合服务中心","01工作人员",{"$f":"VLOOKUP(B77,[1]Sheet1!$A:$I,8,0)","v":"65.50"},{"$f":"VLOOKUP(B77,[1]Sheet1!$A:$I,9,0)","v":"68.00"},{"$f":"VLOOKUP(B77,[2]少数民族加分!$C$1:$E$65536,3,FALSE)","v":2},{"v":135.5,"d":"135.50"}]
[78,"1152270601313","张泥燕","301独山县乡镇农业综合服务中心","01工作人员",{"$f":"VLOOKUP(B78,[1]Sheet1!$A:$I,8,0)","v":"67.00"},{"$f":"VLOOKUP(B78,[1]Sheet1!$A:$I,9,0)","v":"66.00"},{"$f":"VLOOKUP(B78,[2]少数民族加分!$C$1:$E$65536,3,FALSE)","v":2},{"v":135,"d":"135.00"}]
[79,"1152270500424","张爱丽","301独山县乡镇农业综合服务中心","01工作人员",{"$f":"VLOOKUP(B79,[1]Sheet1!$A:$I,8,0)","v":"69.50"},{"$f":"VLOOKUP(B79,[1]Sheet1!$A:$I,9,0)","v":"63.00"},{"$f":"VLOOKUP(B79,[2]少数民族加分!$C$1:$E$65536,3,FALSE)","v":2},{"v":134.5,"d":"134.50"}]
[75,"1152270602329","谭发林","301独山县乡镇农业综合服务中心","01工作人员",{"$f":"VLOOKUP(B80,[1]Sheet1!$A:$I,8,0)","v":"71.50"},{"$f":"VLOOKUP(B80,[1]Sheet1!$A:$I,9,0)","v":"62.50"},null,{"v":134,"d":"134.00"}]
[76,"1152270500907","陈亮发","301独山县乡镇农业综合服务中心","01工作人员",{"$f":"VLOOKUP(B81,[1]Sheet1!$A:$I,8,0)","v":"68.00"},{"$f":"VLOOKUP(B81,[1]Sheet1!$A:$I,9,0)","v":"66.00"},null,{"v":134,"d":"134.00"}]
[80,"1152270500310","龙立忠","301独山县乡镇农业综合服务中心","01工作人员",{"$f":"VLOOKUP(B82,[1]Sheet1!$A:$I,8,0)","v":"69.00"},{"$f":"VLOOKUP(B82,[1]Sheet1!$A:$I,9,0)","v":"63.00"},{"$f":"VLOOKUP(B82,[2]少数民族加分!$C$1:$E$65536,3,FALSE)","v":2},{"v":134,"d":"134.00"}]
[81,"1152270600720","吴再春","301独山县乡镇农业综合服务中心","01工作人员",{"$f":"VLOOKUP(B83,[1]Sheet1!$A:$I,8,0)","v":"72.00"},{"$f":"VLOOKUP(B83,[1]Sheet1!$A:$I,9,0)","v":"60.00"},{"$f":"VLOOKUP(B83,[2]少数民族加分!$C$1:$E$65536,3,FALSE)","v":2},{"v":134,"d":"134.00"}]
[83,"1152270602222","李秋辰","301独山县乡镇农业综合服务中心","01工作人员",{"$f":"VLOOKUP(B84,[1]Sheet1!$A:$I,8,0)","v":"68.00"},{"$f":"VLOOKUP(B84,[1]Sheet1!$A:$I,9,0)","v":"64.00"},{"$f":"VLOOKUP(B84,[2]少数民族加分!$C$1:$E$65536,3,FALSE)","v":2},{"v":134,"d":"134.00"}]
[84,"1152270602006","白映康","301独山县乡镇农业综合服务中心","01工作人员",{"$f":"VLOOKUP(B85,[1]Sheet1!$A:$I,8,0)","v":"69.50"},{"$f":"VLOOKUP(B85,[1]Sheet1!$A:$I,9,0)","v":"61.00"},{"$f":"VLOOKUP(B85,[2]少数民族加分!$C$1:$E$65536,3,FALSE)","v":2},{"v":132.5,"d":"132.50"}]
[85,"1152270600108","陈德凯","301独山县乡镇农业综合服务中心","01工作人员",{"$f":"VLOOKUP(B86,[1]Sheet1!$A:$I,8,0)","v":"64.50"},{"$f":"VLOOKUP(B86,[1]Sheet1!$A:$I,9,0)","v":"66.00"},{"$f":"VLOOKUP(B86,[2]少数民族加分!$C$1:$E$65536,3,FALSE)","v":2},{"v":132.5,"d":"132.50"}]
[82,"1152270600818","骆开莎","301独山县乡镇农业综合服务中心","01工作人员",{"$f":"VLOOKUP(B87,[1]Sheet1!$A:$I,8,0)","v":"76.50"},{"$f":"VLOOKUP(B87,[1]Sheet1!$A:$I,9,0)","v":"55.50"},null,{"v":132,"d":"132.00"}]
[86,"1152270501003","金应发","301独山县乡镇农业综合服务中心","01工作人员",{"$f":"VLOOKUP(B88,[1]Sheet1!$A:$I,8,0)","v":"62.00"},{"$f":"VLOOKUP(B88,[1]Sheet1!$A:$I,9,0)","v":"68.00"},{"$f":"VLOOKUP(B88,[2]少数民族加分!$C$1:$E$65536,3,FALSE)","v":2},{"v":132,"d":"132.00"}]
[88,"1152270501426","陆光念","301独山县乡镇农业综合服务中心","01工作人员",{"$f":"VLOOKUP(B89,[1]Sheet1!$A:$I,8,0)","v":"71.00"},{"$f":"VLOOKUP(B89,[1]Sheet1!$A:$I,9,0)","v":"57.00"},{"$f":"VLOOKUP(B89,[2]少数民族加分!$C$1:$E$65536,3,FALSE)","v":2},{"v":130,"d":"130.00"}]
[89,"1152270601413","杨笔锋","301独山县乡镇农业综合服务中心","01工作人员",{"$f":"VLOOKUP(B90,[1]Sheet1!$A:$I,8,0)","v":"67.00"},{"$f":"VLOOKUP(B90,[1]Sheet1!$A:$I,9,0)","v":"61.00"},{"$f":"VLOOKUP(B90,[2]少数民族加分!$C$1:$E$65536,3,FALSE)","v":2},{"v":130,"d":"130.00"}]
[90,"1152270601618","蒙小远","301独山县乡镇农业综合服务中心","01工作人员",{"$f":"VLOOKUP(B91,[1]Sheet1!$A:$I,8,0)","v":"59.00"},{"$f":"VLOOKUP(B91,[1]Sheet1!$A:$I,9,0)","v":"69.00"},{"$f":"VLOOKUP(B91,[2]少数民族加分!$C$1:$E$65536,3,FALSE)","v":2},{"v":130,"d":"130.00"}]
[87,"1152270600419","肖福江","301独山县乡镇农业综合服务中心","01工作人员",{"$f":"VLOOKUP(B92,[1]Sheet1!$A:$I,8,0)","v":"57.50"},{"$f":"VLOOKUP(B92,[1]Sheet1!$A:$I,9,0)","v":"72.00"},null,{"v":129.5,"d":"129.50"}]
[91,"1152270602110","李刚","301独山县乡镇农业综合服务中心","01工作人员",{"$f":"VLOOKUP(B93,[1]Sheet1!$A:$I,8,0)","v":"75.50"},{"$f":"VLOOKUP(B93,[1]Sheet1!$A:$I,9,0)","v":"51.50"},{"$f":"VLOOKUP(B93,[2]少数民族加分!$C$1:$E$65536,3,FALSE)","v":2},{"v":129,"d":"129.00"}]
[92,"1152270501525","陆朝胜","301独山县乡镇农业综合服务中心","01工作人员",{"$f":"VLOOKUP(B94,[1]Sheet1!$A:$I,8,0)","v":"63.00"},{"$f":"VLOOKUP(B94,[1]Sheet1!$A:$I,9,0)","v":"64.00"},{"$f":"VLOOKUP(B94,[2]少数民族加分!$C$1:$E$65536,3,FALSE)","v":2},{"v":129,"d":"129.00"}]
[93,"1152270602309","覃令闯","301独山县乡镇农业综合服务中心","01工作人员",{"$f":"VLOOKUP(B95,[1]Sheet1!$A:$I,8,0)","v":"60.50"},{"$f":"VLOOKUP(B95,[1]Sheet1!$A:$I,9,0)","v":"66.00"},{"$f":"VLOOKUP(B95,[2]少数民族加分!$C$1:$E$65536,3,FALSE)","v":2},{"v":128.5,"d":"128.50"}]
[95,"1152270601624","龚波","301独山县乡镇农业综合服务中心","01工作人员",{"$f":"VLOOKUP(B96,[1]Sheet1!$A:$I,8,0)","v":"61.00"},{"$f":"VLOOKUP(B96,[1]Sheet1!$A:$I,9,0)","v":"65.00"},{"$f":"VLOOKUP(B96,[2]少数民族加分!$C$1:$E$65536,3,FALSE)","v":2},{"v":128,"d":"128.00"}]
[96,"1152270602519","马培梁","301独山县乡镇农业综合服务中心","01工作人员",{"$f":"VLOOKUP(B97,[1]Sheet1!$A:$I,8,0)","v":"54.00"},{"$f":"VLOOKUP(B97,[1]Sheet1!$A:$I,9,0)","v":"71.00"},{"$f":"VLOOKUP(B97,[2]少数民族加分!$C$1:$E$65536,3,FALSE)","v":2},{"v":127,"d":"127.00"}]
[97,"1152270501812","冉冉","301独山县乡镇农业综合服务中心","01工作人员",{"$f":"VLOOKUP(B98,[1]Sheet1!$A:$I,8,0)","v":"54.00"},{"$f":"VLOOKUP(B98,[1]Sheet1!$A:$I,9,0)","v":"71.00"},{"$f":"VLOOKUP(B98,[2]少数民族加分!$C$1:$E$65536,3,FALSE)","v":2},{"v":127,"d":"127.00"}]
[94,"1152270602525","王超","301独山县乡镇农业综合服务中心","01工作人员",{"$f":"VLOOKUP(B99,[1]Sheet1!$A:$I,8,0)","v":"75.00"},{"$f":"VLOOKUP(B99,[1]Sheet1!$A:$I,9,0)","v":"51.50"},null,{"v":126.5,"d":"126.50"}]
[98,"1152270501201","张贵花","301独山县乡镇农业综合服务中心","01工作人员",{"$f":"VLOOKUP(B100,[1]Sheet1!$A:$I,8,0)","v":"74.50"},{"$f":"VLOOKUP(B100,[1]Sheet1!$A:$I,9,0)","v":"49.00"},{"$f":"VLOOKUP(B100,[2]少数民族加分!$C$1:$E$65536,3,FALSE)","v":2},{"v":125.5,"d":"125.50"}]
[99,"1152270601612","陈永福","301独山县乡镇农业综合服务中心","01工作人员",{"$f":"VLOOKUP(B101,[1]Sheet1!$A:$I,8,0)","v":"62.50"},{"$f":"VLOOKUP(B101,[1]Sheet1!$A:$I,9,0)","v":"60.00"},{"$f":"VLOOKUP(B101,[2]少数民族加分!$C$1:$E$65536,3,FALSE)","v":2},{"v":124.5,"d":"124.50"}]
[100,"1152270500916","刘丽","301独山县乡镇农业综合服务中心","01工作人员",{"$f":"VLOOKUP(B102,[1]Sheet1!$A:$I,8,0)","v":"57.50"},{"$f":"VLOOKUP(B102,[1]Sheet1!$A:$I,9,0)","v":"64.00"},{"$f":"VLOOKUP(B102,[2]少数民族加分!$C$1:$E$65536,3,FALSE)","v":2},{"v":123.5,"d":"123.50"}]
[101,"1152270600825","龙耀","301独山县乡镇农业综合服务中心","01工作人员",{"$f":"VLOOKUP(B103,[1]Sheet1!$A:$I,8,0)","v":"56.00"},{"$f":"VLOOKUP(B103,[1]Sheet1!$A:$I,9,0)","v":"65.00"},{"$f":"VLOOKUP(B103,[2]少数民族加分!$C$1:$E$65536,3,FALSE)","v":2},{"v":123,"d":"123.00"}]
[102,"1152270501302","赵双石","301独山县乡镇农业综合服务中心","01工作人员",{"$f":"VLOOKUP(B104,[1]Sheet1!$A:$I,8,0)","v":"54.50"},{"$f":"VLOOKUP(B104,[1]Sheet1!$A:$I,9,0)","v":"66.00"},{"$f":"VLOOKUP(B104,[2]少数民族加分!$C$1:$E$65536,3,FALSE)","v":2},{"v":122.5,"d":"122.50"}]
[103,"1152270601116","王毅","301独山县乡镇农业综合服务中心","01工作人员",{"$f":"VLOOKUP(B105,[1]Sheet1!$A:$I,8,0)","v":"61.00"},{"$f":"VLOOKUP(B105,[1]Sheet1!$A:$I,9,0)","v":"58.00"},{"$f":"VLOOKUP(B105,[2]少数民族加分!$C$1:$E$65536,3,FALSE)","v":2},{"v":121,"d":"121.00"}]
[104,"1152270602524","刘兰","301独山县乡镇农业综合服务中心","01工作人员",{"$f":"VLOOKUP(B106,[1]Sheet1!$A:$I,8,0)","v":"61.00"},{"$f":"VLOOKUP(B106,[1]Sheet1!$A:$I,9,0)","v":"58.00"},{"$f":"VLOOKUP(B106,[2]少数民族加分!$C$1:$E$65536,3,FALSE)","v":2},{"v":121,"d":"121.00"}]
[105,"1152270501217","杨正平","301独山县乡镇农业综合服务中心","01工作人员",{"$f":"VLOOKUP(B107,[1]Sheet1!$A:$I,8,0)","v":"65.50"},{"$f":"VLOOKUP(B107,[1]Sheet1!$A:$I,9,0)","v":"52.00"},{"$f":"VLOOKUP(B107,[2]少数民族加分!$C$1:$E$65536,3,FALSE)","v":2},{"v":119.5,"d":"119.50"}]
[106,"1152270600802","龙丽荣","301独山县乡镇农业综合服务中心","01工作人员",{"$f":"VLOOKUP(B108,[1]Sheet1!$A:$I,8,0)","v":"71.50"},{"$f":"VLOOKUP(B108,[1]Sheet1!$A:$I,9,0)","v":"46.00"},{"$f":"VLOOKUP(B108,[2]少数民族加分!$C$1:$E$65536,3,FALSE)","v":2},{"v":119.5,"d":"119.50"}]
[108,"1152270600319","覃育妍","301独山县乡镇农业综合服务中心","01工作人员",{"$f":"VLOOKUP(B109,[1]Sheet1!$A:$I,8,0)","v":"66.00"},{"$f":"VLOOKUP(B109,[1]Sheet1!$A:$I,9,0)","v":"50.00"},{"$f":"VLOOKUP(B109,[2]少数民族加分!$C$1:$E$65536,3,FALSE)","v":2},{"v":118,"d":"118.00"}]
[109,"1152270602505","孟荣姗","301独山县乡镇农业综合服务中心","01工作人员",{"$f":"VLOOKUP(B110,[1]Sheet1!$A:$I,8,0)","v":"59.00"},{"$f":"VLOOKUP(B110,[1]Sheet1!$A:$I,9,0)","v":"57.00"},{"$f":"VLOOKUP(B110,[2]少数民族加分!$C$1:$E$65536,3,FALSE)","v":2},{"v":118,"d":"118.00"}]
[107,"1152270500909","吕熊","301独山县乡镇农业综合服务中心","01工作人员",{"$f":"VLOOKUP(B111,[1]Sheet1!$A:$I,8,0)","v":"54.00"},{"$f":"VLOOKUP(B111,[1]Sheet1!$A:$I,9,0)","v":"63.00"},null,{"v":117,"d":"117.00"}]
[110,"1152270600516","龙有达","301独山县乡镇农业综合服务中心","01工作人员",{"$f":"VLOOKUP(B112,[1]Sheet1!$A:$I,8,0)","v":"71.50"},{"$f":"VLOOKUP(B112,[1]Sheet1!$A:$I,9,0)","v":"43.00"},{"$f":"VLOOKUP(B112,[2]少数民族加分!$C$1:$E$65536,3,FALSE)","v":2},{"v":116.5,"d":"116.50"}]
[111,"1152270500627","张立丽","301独山县乡镇农业综合服务中心","01工作人员",{"$f":"VLOOKUP(B113,[1]Sheet1!$A:$I,8,0)","v":"56.00"},{"$f":"VLOOKUP(B113,[1]Sheet1!$A:$I,9,0)","v":"58.00"},{"$f":"VLOOKUP(B113,[2]少数民族加分!$C$1:$E$65536,3,FALSE)","v":2},{"v":116,"d":"116.00"}]
[112,"1152270501124","吴胜生","301独山县乡镇农业综合服务中心","01工作人员",{"$f":"VLOOKUP(B114,[1]Sheet1!$A:$I,8,0)","v":"57.00"},{"$f":"VLOOKUP(B114,[1]Sheet1!$A:$I,9,0)","v":"56.00"},{"$f":"VLOOKUP(B114,[2]少数民族加分!$C$1:$E$65536,3,FALSE)","v":2},{"v":115,"d":"115.00"}]
[113,"1152270601405","王代玉","301独山县乡镇农业综合服务中心","01工作人员",{"$f":"VLOOKUP(B115,[1]Sheet1!$A:$I,8,0)","v":"49.00"},{"$f":"VLOOKUP(B115,[1]Sheet1!$A:$I,9,0)","v":"64.00"},null,{"v":113,"d":"113.00"}]
[114,"1152270500402","涂贤琼","301独山县乡镇农业综合服务中心","01工作人员",{"$f":"VLOOKUP(B116,[1]Sheet1!$A:$I,8,0)","v":"56.00"},{"$f":"VLOOKUP(B116,[1]Sheet1!$A:$I,9,0)","v":"55.00"},{"$f":"VLOOKUP(B116,[2]少数民族加分!$C$1:$E$65536,3,FALSE)","v":2},{"v":113,"d":"113.00"}]
[115,"1152270500813","李长喜","301独山县乡镇农业综合服务中心","01工作人员",{"$f":"VLOOKUP(B117,[1]Sheet1!$A:$I,8,0)","v":"55.00"},{"$f":"VLOOKUP(B117,[1]Sheet1!$A:$I,9,0)","v":"55.00"},{"$f":"VLOOKUP(B117,[2]少数民族加分!$C$1:$E$65536,3,FALSE)","v":2},{"v":112,"d":"112.00"}]
[117,"1152270501603","陆光齐","301独山县乡镇农业综合服务中心","01工作人员",{"$f":"VLOOKUP(B118,[1]Sheet1!$A:$I,8,0)","v":"64.00"},{"$f":"VLOOKUP(B118,[1]Sheet1!$A:$I,9,0)","v":"45.00"},{"$f":"VLOOKUP(B118,[2]少数民族加分!$C$1:$E$65536,3,FALSE)","v":2},{"v":111,"d":"111.00"}]
[118,"1152270501706","陈纯露","301独山县乡镇农业综合服务中心","01工作人员",{"$f":"VLOOKUP(B119,[1]Sheet1!$A:$I,8,0)","v":"59.50"},{"$f":"VLOOKUP(B119,[1]Sheet1!$A:$I,9,0)","v":"49.00"},{"$f":"VLOOKUP(B119,[2]少数民族加分!$C$1:$E$65536,3,FALSE)","v":2},{"v":110.5,"d":"110.50"}]
[116,"1152270500226","林春元","301独山县乡镇农业综合服务中心","01工作人员",{"$f":"VLOOKUP(B120,[1]Sheet1!$A:$I,8,0)","v":"61.00"},{"$f":"VLOOKUP(B120,[1]Sheet1!$A:$I,9,0)","v":"48.00"},null,{"v":109,"d":"109.00"}]
[119,"1152270500718","周大友","301独山县乡镇农业综合服务中心","01工作人员",{"$f":"VLOOKUP(B121,[1]Sheet1!$A:$I,8,0)","v":"51.00"},{"$f":"VLOOKUP(B121,[1]Sheet1!$A:$I,9,0)","v":"56.00"},null,{"v":107,"d":"107.00"}]
[120,"1152270501009","赵应菊","301独山县乡镇农业综合服务中心","01工作人员",{"$f":"VLOOKUP(B122,[1]Sheet1!$A:$I,8,0)","v":"58.50"},{"$f":"VLOOKUP(B122,[1]Sheet1!$A:$I,9,0)","v":"33.00"},{"$f":"VLOOKUP(B122,[2]少数民族加分!$C$1:$E$65536,3,FALSE)","v":2},{"v":93.5,"d":"93.50"}]
[121,"1152270500222","杨武","301独山县乡镇农业综合服务中心","01工作人员",{"$f":"VLOOKUP(B123,[1]Sheet1!$A:$I,8,0)","v":"0.00"},{"$f":"VLOOKUP(B123,[1]Sheet1!$A:$I,9,0)","v":"0.00"},{"$f":"VLOOKUP(B123,[2]少数民族加分!$C$1:$E$65536,3,FALSE)","v":2},"缺考"]
[122,"1152270500311","韦忠霞","301独山县乡镇农业综合服务中心","01工作人员",{"$f":"VLOOKUP(B124,[1]Sheet1!$A:$I,8,0)","v":"0.00"},{"$f":"VLOOKUP(B124,[1]Sheet1!$A:$I,9,0)","v":"0.00"},{"$f":"VLOOKUP(B124,[2]少数民族加分!$C$1:$E$65536,3,FALSE)","v":2},"缺考"]
[123,"1152270500501","邹玲玲","301独山县乡镇农业综合服务中心","01工作人员",{"$f":"VLOOKUP(B125,[1]Sheet1!$A:$I,8,0)","v":"0.00"},{"$f":"VLOOKUP(B125,[1]Sheet1!$A:$I,9,0)","v":"0.00"},null,"缺考"]
[124,"1152270500508","潘启德","301独山县乡镇农业综合服务中心","01工作人员",{"$f":"VLOOKUP(B126,[1]Sheet1!$A:$I,8,0)","v":"0.00"},{"$f":"VLOOKUP(B126,[1]Sheet1!$A:$I,9,0)","v":"0.00"},{"$f":"VLOOKUP(B126,[2]少数民族加分!$C$1:$E$65536,3,FALSE)","v":2},"缺考"]
[125,"1152270500530","杨韬","301独山县乡镇农业综合服务中心","01工作人员",{"$f":"VLOOKUP(B127,[1]Sheet1!$A:$I,8,0)","v":"0.00"},{"$f":"VLOOKUP(B127,[1]Sheet1!$A:$I,9,0)","v":"0.00"},{"$f":"VLOOKUP(B127,[2]少数民族加分!$C$1:$E$65536,3,FALSE)","v":2},"缺考"]
[126,"1152270500808","黄娟娟","301独山县乡镇农业综合服务中心","01工作人员",{"$f":"VLOOKUP(B128,[1]Sheet1!$A:$I,8,0)","v":"0.00"},{"$f":"VLOOKUP(B128,[1]Sheet1!$A:$I,9,0)","v":"0.00"},null,"缺考"]
[127,"1152270500819","刘鹏霖","301独山县乡镇农业综合服务中心","01工作人员",{"$f":"VLOOKUP(B129,[1]Sheet1!$A:$I,8,0)","v":"0.00"},{"$f":"VLOOKUP(B129,[1]Sheet1!$A:$I,9,0)","v":"0.00"},{"$f":"VLOOKUP(B129,[2]少数民族加分!$C$1:$E$65536,3,FALSE)","v":2},"缺考"]
[128,"1152270500903","向宇驰","301独山县乡镇农业综合服务中心","01工作人员",{"$f":"VLOOKUP(B130,[1]Sheet1!$A:$I,8,0)","v":"0.00"},{"$f":"VLOOKUP(B130,[1]Sheet1!$A:$I,9,0)","v":"0.00"},{"$f":"VLOOKUP(B130,[2]少数民族加分!$C$1:$E$65536,3,FALSE)","v":2},"缺考"]
[129,"1152270501021","张安琴","301独山县乡镇农业综合服务中心","01工作人员",{"$f":"VLOOKUP(B131,[1]Sheet1!$A:$I,8,0)","v":"0.00"},{"$f":"VLOOKUP(B131,[1]Sheet1!$A:$I,9,0)","v":"0.00"},null,"缺考"]
[130,"1152270501204","陆叶","301独山县乡镇农业综合服务中心","01工作人员",{"$f":"VLOOKUP(B132,[1]Sheet1!$A:$I,8,0)","v":"0.00"},{"$f":"VLOOKUP(B132,[1]Sheet1!$A:$I,9,0)","v":"0.00"},null,"缺考"]
[131,"1152270501402","王仕豪","301独山县乡镇农业综合服务中心","01工作人员",{"$f":"VLOOKUP(B133,[1]Sheet1!$A:$I,8,0)","v":"0.00"},{"$f":"VLOOKUP(B133,[1]Sheet1!$A:$I,9,0)","v":"0.00"},{"$f":"VLOOKUP(B133,[2]少数民族加分!$C$1:$E$65536,3,FALSE)","v":2},"缺考"]
[132,"1152270501527","龙艳霞","301独山县乡镇农业综合服务中心","01工作人员",{"$f":"VLOOKUP(B134,[1]Sheet1!$A:$I,8,0)","v":"0.00"},{"$f":"VLOOKUP(B134,[1]Sheet1!$A:$I,9,0)","v":"0.00"},{"$f":"VLOOKUP(B134,[2]少数民族加分!$C$1:$E$65536,3,FALSE)","v":2},"缺考"]
[133,"1152270600412","张沙沙","301独山县乡镇农业综合服务中心","01工作人员",{"$f":"VLOOKUP(B135,[1]Sheet1!$A:$I,8,0)","v":"0.00"},{"$f":"VLOOKUP(B135,[1]Sheet1!$A:$I,9,0)","v":"0.00"},null,"缺考"]
[134,"1152270600417","熊星鉴","301独山县乡镇农业综合服务中心","01工作人员",{"$f":"VLOOKUP(B136,[1]Sheet1!$A:$I,8,0)","v":"0.00"},{"$f":"VLOOKUP(B136,[1]Sheet1!$A:$I,9,0)","v":"0.00"},null,"缺考"]
[135,"1152270600716","田登花","301独山县乡镇农业综合服务中心","01工作人员",{"$f":"VLOOKUP(B137,[1]Sheet1!$A:$I,8,0)","v":"0.00"},{"$f":"VLOOKUP(B137,[1]Sheet1!$A:$I,9,0)","v":"0.00"},null,"缺考"]
[136,"1152270600924","何芋壮","301独山县乡镇农业综合服务中心","01工作人员",{"$f":"VLOOKUP(B138,[1]Sheet1!$A:$I,8,0)","v":"0.00"},{"$f":"VLOOKUP(B138,[1]Sheet1!$A:$I,9,0)","v":"0.00"},null,"缺考"]
[137,"1152270601023","吕维","301独山县乡镇农业综合服务中心","01工作人员",{"$f":"VLOOKUP(B139,[1]Sheet1!$A:$I,8,0)","v":"0.00"},{"$f":"VLOOKUP(B139,[1]Sheet1!$A:$I,9,0)","v":"0.00"},{"$f":"VLOOKUP(B139,[2]少数民族加分!$C$1:$E$65536,3,FALSE)","v":2},"缺考"]
[138,"1152270601123","张飞","301独山县乡镇农业综合服务中心","01工作人员",{"$f":"VLOOKUP(B140,[1]Sheet1!$A:$I,8,0)","v":"0.00"},{"$f":"VLOOKUP(B140,[1]Sheet1!$A:$I,9,0)","v":"0.00"},{"$f":"VLOOKUP(B140,[2]少数民族加分!$C$1:$E$65536,3,FALSE)","v":2},"缺考"]
[139,"1152270500207","张夏军","301独山县乡镇农业综合服务中心","01工作人员",{"$f":"VLOOKUP(B141,[1]Sheet1!$A:$I,8,0)","v":"0.00"},{"$f":"VLOOKUP(B141,[1]Sheet1!$A:$I,9,0)","v":"0.00"},{"$f":"VLOOKUP(B141,[2]少数民族加分!$C$1:$E$65536,3,FALSE)","v":2},"缺考"]
[140,"1152270601213","龙洋","301独山县乡镇农业综合服务中心","01工作人员",{"$f":"VLOOKUP(B142,[1]Sheet1!$A:$I,8,0)","v":"0.00"},{"$f":"VLOOKUP(B142,[1]Sheet1!$A:$I,9,0)","v":"0.00"},{"$f":"VLOOKUP(B142,[2]少数民族加分!$C$1:$E$65536,3,FALSE)","v":2},"缺考"]
[141,"1152270601525","席静","301独山县乡镇农业综合服务中心","01工作人员",{"$f":"VLOOKUP(B143,[1]Sheet1!$A:$I,8,0)","v":"0.00"},{"$f":"VLOOKUP(B143,[1]Sheet1!$A:$I,9,0)","v":"0.00"},null,"缺考"]
[142,"1152270601616","关得艳","301独山县乡镇农业综合服务中心","01工作人员",{"$f":"VLOOKUP(B144,[1]Sheet1!$A:$I,8,0)","v":"0.00"},{"$f":"VLOOKUP(B144,[1]Sheet1!$A:$I,9,0)","v":"0.00"},null,"缺考"]
[143,"1152270601617","陈光美","301独山县乡镇农业综合服务中心","01工作人员",{"$f":"VLOOKUP(B145,[1]Sheet1!$A:$I,8,0)","v":"0.00"},{"$f":"VLOOKUP(B145,[1]Sheet1!$A:$I,9,0)","v":"0.00"},null,"缺考"]
[144,"1152270601623","石庆桃","301独山县乡镇农业综合服务中心","01工作人员",{"$f":"VLOOKUP(B146,[1]Sheet1!$A:$I,8,0)","v":"0.00"},{"$f":"VLOOKUP(B146,[1]Sheet1!$A:$I,9,0)","v":"0.00"},{"$f":"VLOOKUP(B146,[2]少数民族加分!$C$1:$E$65536,3,FALSE)","v":2},"缺考"]
[145,"1152270602019","李绍龙","301独山县乡镇农业综合服务中心","01工作人员",{"$f":"VLOOKUP(B147,[1]Sheet1!$A:$I,8,0)","v":"0.00"},{"$f":"VLOOKUP(B147,[1]Sheet1!$A:$I,9,0)","v":"0.00"},{"$f":"VLOOKUP(B147,[2]少数民族加分!$C$1:$E$65536,3,FALSE)","v":2},"缺考"]
[146,"1152270602028","罗冬生","301独山县乡镇农业综合服务中心","01工作人员",{"$f":"VLOOKUP(B148,[1]Sheet1!$A:$I,8,0)","v":"0.00"},{"$f":"VLOOKUP(B148,[1]Sheet1!$A:$I,9,0)","v":"0.00"},{"$f":"VLOOKUP(B148,[2]少数民族加分!$C$1:$E$65536,3,FALSE)","v":2},"缺考"]
[147,"1152270602117","杨本","301独山县乡镇农业综合服务中心","01工作人员",{"$f":"VLOOKUP(B149,[1]Sheet1!$A:$I,8,0)","v":"0.00"},{"$f":"VLOOKUP(B149,[1]Sheet1!$A:$I,9,0)","v":"0.00"},{"$f":"VLOOKUP(B149,[2]少数民族加分!$C$1:$E$65536,3,FALSE)","v":2},"缺考"]
[148,"1152270602118","程泰忠","301独山县乡镇农业综合服务中心","01工作人员",{"$f":"VLOOKUP(B150,[1]Sheet1!$A:$I,8,0)","v":"0.00"},{"$f":"VLOOKUP(B150,[1]Sheet1!$A:$I,9,0)","v":"0.00"},{"$f":"VLOOKUP(B150,[2]少数民族加分!$C$1:$E$65536,3,FALSE)","v":2},"缺考"]
[149,"1152270602209","罗兴兴","301独山县乡镇农业综合服务中心","01工作人员",{"$f":"VLOOKUP(B151,[1]Sheet1!$A:$I,8,0)","v":"0.00"},{"$f":"VLOOKUP(B151,[1]Sheet1!$A:$I,9,0)","v":"0.00"},null,"缺考"]
[150,"1152270602223","赵羽凡","301独山县乡镇农业综合服务中心","01工作人员",{"$f":"VLOOKUP(B152,[1]Sheet1!$A:$I,8,0)","v":"0.00"},{"$f":"VLOOKUP(B152,[1]Sheet1!$A:$I,9,0)","v":"0.00"},null,"缺考"]
[151,"1152270602513","蒋建","301独山县乡镇农业综合服务中心","01工作人员",{"$f":"VLOOKUP(B153,[1]Sheet1!$A:$I,8,0)","v":"0.00"},{"$f":"VLOOKUP(B153,[1]Sheet1!$A:$I,9,0)","v":"0.00"},null,"缺考"]
[152,"1152270501807","杨通付","301独山县乡镇农业综合服务中心","02工作人员",{"$f":"VLOOKUP(B154,[1]Sheet1!$A:$I,8,0)","v":"98.00"},{"$f":"VLOOKUP(B154,[1]Sheet1!$A:$I,9,0)","v":"94.00"},null,{"v":192,"d":"192.00"}]
[153,"1152270602125","石涛","301独山县乡镇农业综合服务中心","02工作人员",{"$f":"VLOOKUP(B155,[1]Sheet1!$A:$I,8,0)","v":"89.00"},{"$f":"VLOOKUP(B155,[1]Sheet1!$A:$I,9,0)","v":"97.50"},{"$f":"VLOOKUP(B155,[2]少数民族加分!$C$1:$E$65536,3,FALSE)","v":2},{"v":188.5,"d":"188.50"}]
[154,"1152270500319","龙怀莉","301独山县乡镇农业综合服务中心","02工作人员",{"$f":"VLOOKUP(B156,[1]Sheet1!$A:$I,8,0)","v":"91.00"},{"$f":"VLOOKUP(B156,[1]Sheet1!$A:$I,9,0)","v":"91.00"},{"$f":"VLOOKUP(B156,[2]少数民族加分!$C$1:$E$65536,3,FALSE)","v":2},{"v":184,"d":"184.00"}]
[155,"1152270601903","李财","301独山县乡镇农业综合服务中心","02工作人员",{"$f":"VLOOKUP(B157,[1]Sheet1!$A:$I,8,0)","v":"93.00"},{"$f":"VLOOKUP(B157,[1]Sheet1!$A:$I,9,0)","v":"85.50"},{"$f":"VLOOKUP(B157,[2]少数民族加分!$C$1:$E$65536,3,FALSE)","v":2},{"v":180.5,"d":"180.50"}]
[157,"1152270602219","赵明辉","301独山县乡镇农业综合服务中心","02工作人员",{"$f":"VLOOKUP(B158,[1]Sheet1!$A:$I,8,0)","v":"79.00"},{"$f":"VLOOKUP(B158,[1]Sheet1!$A:$I,9,0)","v":"93.00"},{"$f":"VLOOKUP(B158,[2]少数民族加分!$C$1:$E$65536,3,FALSE)","v":2},{"v":174,"d":"174.00"}]
[156,"1152270602206","陈灿","301独山县乡镇农业综合服务中心","02工作人员",{"$f":"VLOOKUP(B159,[1]Sheet1!$A:$I,8,0)","v":"83.00"},{"$f":"VLOOKUP(B159,[1]Sheet1!$A:$I,9,0)","v":"90.50"},null,{"v":173.5,"d":"173.50"}]
[158,"1152270501028","郭繁城","301独山县乡镇农业综合服务中心","02工作人员",{"$f":"VLOOKUP(B160,[1]Sheet1!$A:$I,8,0)","v":"86.50"},{"$f":"VLOOKUP(B160,[1]Sheet1!$A:$I,9,0)","v":"78.00"},null,{"v":164.5,"d":"164.50"}]
[159,"1152270601026","吴涛","301独山县乡镇农业综合服务中心","02工作人员",{"$f":"VLOOKUP(B161,[1]Sheet1!$A:$I,8,0)","v":"81.00"},{"$f":"VLOOKUP(B161,[1]Sheet1!$A:$I,9,0)","v":"80.00"},{"$f":"VLOOKUP(B161,[2]少数民族加分!$C$1:$E$65536,3,FALSE)","v":2},{"v":163,"d":"163.00"}]
[160,"1152270601911","彭昌娟","301独山县乡镇农业综合服务中心","02工作人员",{"$f":"VLOOKUP(B162,[1]Sheet1!$A:$I,8,0)","v":"76.00"},{"$f":"VLOOKUP(B162,[1]Sheet1!$A:$I,9,0)","v":"82.00"},{"$f":"VLOOKUP(B162,[2]少数民族加分!$C$1:$E$65536,3,FALSE)","v":2},{"v":160,"d":"160.00"}]
[161,"1152270500227","刘云建","301独山县乡镇农业综合服务中心","02工作人员",{"$f":"VLOOKUP(B163,[1]Sheet1!$A:$I,8,0)","v":"84.00"},{"$f":"VLOOKUP(B163,[1]Sheet1!$A:$I,9,0)","v":"72.00"},{"$f":"VLOOKUP(B163,[2]少数民族加分!$C$1:$E$65536,3,FALSE)","v":2},{"v":158,"d":"158.00"}]
[163,"1152270501523","马飞","301独山县乡镇农业综合服务中心","02工作人员",{"$f":"VLOOKUP(B164,[1]Sheet1!$A:$I,8,0)","v":"74.00"},{"$f":"VLOOKUP(B164,[1]Sheet1!$A:$I,9,0)","v":"81.00"},{"$f":"VLOOKUP(B164,[2]少数民族加分!$C$1:$E$65536,3,FALSE)","v":2},{"v":157,"d":"157.00"}]
[162,"1152270600616","冷婧雯","301独山县乡镇农业综合服务中心","02工作人员",{"$f":"VLOOKUP(B165,[1]Sheet1!$A:$I,8,0)","v":"82.50"},{"$f":"VLOOKUP(B165,[1]Sheet1!$A:$I,9,0)","v":"73.00"},null,{"v":155.5,"d":"155.50"}]
[164,"1152270601505","杨念琼","301独山县乡镇农业综合服务中心","02工作人员",{"$f":"VLOOKUP(B166,[1]Sheet1!$A:$I,8,0)","v":"78.50"},{"$f":"VLOOKUP(B166,[1]Sheet1!$A:$I,9,0)","v":"74.00"},{"$f":"VLOOKUP(B166,[2]少数民族加分!$C$1:$E$65536,3,FALSE)","v":2},{"v":154.5,"d":"154.50"}]
[165,"1152270602130","罗应杰","301独山县乡镇农业综合服务中心","02工作人员",{"$f":"VLOOKUP(B167,[1]Sheet1!$A:$I,8,0)","v":"62.00"},{"$f":"VLOOKUP(B167,[1]Sheet1!$A:$I,9,0)","v":"88.00"},null,{"v":150,"d":"150.00"}]
[167,"1152270600514","何侃","301独山县乡镇农业综合服务中心","02工作人员",{"$f":"VLOOKUP(B168,[1]Sheet1!$A:$I,8,0)","v":"65.00"},{"$f":"VLOOKUP(B168,[1]Sheet1!$A:$I,9,0)","v":"83.00"},{"$f":"VLOOKUP(B168,[2]少数民族加分!$C$1:$E$65536,3,FALSE)","v":2},{"v":150,"d":"150.00"}]
[166,"1152270600511","宋大军","301独山县乡镇农业综合服务中心","02工作人员",{"$f":"VLOOKUP(B169,[1]Sheet1!$A:$I,8,0)","v":"70.00"},{"$f":"VLOOKUP(B169,[1]Sheet1!$A:$I,9,0)","v":"78.00"},null,{"v":148,"d":"148.00"}]
[169,"1152270600523","莫作进","301独山县乡镇农业综合服务中心","02工作人员",{"$f":"VLOOKUP(B170,[1]Sheet1!$A:$I,8,0)","v":"72.50"},{"$f":"VLOOKUP(B170,[1]Sheet1!$A:$I,9,0)","v":"73.00"},{"$f":"VLOOKUP(B170,[2]少数民族加分!$C$1:$E$65536,3,FALSE)","v":2},{"v":147.5,"d":"147.50"}]
[168,"1152270501625","颜梁","301独山县乡镇农业综合服务中心","02工作人员",{"$f":"VLOOKUP(B171,[1]Sheet1!$A:$I,8,0)","v":"82.00"},{"$f":"VLOOKUP(B171,[1]Sheet1!$A:$I,9,0)","v":"65.00"},null,{"v":147,"d":"147.00"}]
[170,"1152270501130","黎孟宇","301独山县乡镇农业综合服务中心","02工作人员",{"$f":"VLOOKUP(B172,[1]Sheet1!$A:$I,8,0)","v":"71.00"},{"$f":"VLOOKUP(B172,[1]Sheet1!$A:$I,9,0)","v":"71.00"},{"$f":"VLOOKUP(B172,[2]少数民族加分!$C$1:$E$65536,3,FALSE)","v":2},{"v":144,"d":"144.00"}]
[171,"1152270600621","潘秀云","301独山县乡镇农业综合服务中心","02工作人员",{"$f":"VLOOKUP(B173,[1]Sheet1!$A:$I,8,0)","v":"65.00"},{"$f":"VLOOKUP(B173,[1]Sheet1!$A:$I,9,0)","v":"74.00"},{"$f":"VLOOKUP(B173,[2]少数民族加分!$C$1:$E$65536,3,FALSE)","v":2},{"v":141,"d":"141.00"}]
[173,"1152270601225","吴毕江","301独山县乡镇农业综合服务中心","02工作人员",{"$f":"VLOOKUP(B174,[1]Sheet1!$A:$I,8,0)","v":"54.50"},{"$f":"VLOOKUP(B174,[1]Sheet1!$A:$I,9,0)","v":"84.00"},{"$f":"VLOOKUP(B174,[2]少数民族加分!$C$1:$E$65536,3,FALSE)","v":2},{"v":140.5,"d":"140.50"}]
[172,"1152270601207","杨健","301独山县乡镇农业综合服务中心","02工作人员",{"$f":"VLOOKUP(B175,[1]Sheet1!$A:$I,8,0)","v":"77.50"},{"$f":"VLOOKUP(B175,[1]Sheet1!$A:$I,9,0)","v":"61.00"},null,{"v":138.5,"d":"138.50"}]
[174,"1152270500823","杨浪","301独山县乡镇农业综合服务中心","02工作人员",{"$f":"VLOOKUP(B176,[1]Sheet1!$A:$I,8,0)","v":"48.50"},{"$f":"VLOOKUP(B176,[1]Sheet1!$A:$I,9,0)","v":"86.00"},{"$f":"VLOOKUP(B176,[2]少数民族加分!$C$1:$E$65536,3,FALSE)","v":2},{"v":136.5,"d":"136.50"}]
[176,"1152270600626","吴小仿","301独山县乡镇农业综合服务中心","02工作人员",{"$f":"VLOOKUP(B177,[1]Sheet1!$A:$I,8,0)","v":"65.00"},{"$f":"VLOOKUP(B177,[1]Sheet1!$A:$I,9,0)","v":"68.00"},{"$f":"VLOOKUP(B177,[2]少数民族加分!$C$1:$E$65536,3,FALSE)","v":2},{"v":135,"d":"135.00"}]
[175,"1152270501423","龙世方","301独山县乡镇农业综合服务中心","02工作人员",{"$f":"VLOOKUP(B178,[1]Sheet1!$A:$I,8,0)","v":"64.50"},{"$f":"VLOOKUP(B178,[1]Sheet1!$A:$I,9,0)","v":"70.00"},null,{"v":134.5,"d":"134.50"}]
[177,"1152270601011","潘胜娟","301独山县乡镇农业综合服务中心","02工作人员",{"$f":"VLOOKUP(B179,[1]Sheet1!$A:$I,8,0)","v":"62.00"},{"$f":"VLOOKUP(B179,[1]Sheet1!$A:$I,9,0)","v":"70.00"},{"$f":"VLOOKUP(B179,[2]少数民族加分!$C$1:$E$65536,3,FALSE)","v":2},{"v":134,"d":"134.00"}]
[179,"1152270500404","岑聪","301独山县乡镇农业综合服务中心","02工作人员",{"$f":"VLOOKUP(B180,[1]Sheet1!$A:$I,8,0)","v":"70.50"},{"$f":"VLOOKUP(B180,[1]Sheet1!$A:$I,9,0)","v":"59.50"},{"$f":"VLOOKUP(B180,[2]少数民族加分!$C$1:$E$65536,3,FALSE)","v":2},{"v":132,"d":"132.00"}]
[180,"1152270602306","龙国荣","301独山县乡镇农业综合服务中心","02工作人员",{"$f":"VLOOKUP(B181,[1]Sheet1!$A:$I,8,0)","v":"58.50"},{"$f":"VLOOKUP(B181,[1]Sheet1!$A:$I,9,0)","v":"71.00"},{"$f":"VLOOKUP(B181,[2]少数民族加分!$C$1:$E$65536,3,FALSE)","v":2},{"v":131.5,"d":"131.50"}]
[178,"1152270500902","陈林","301独山县乡镇农业综合服务中心","02工作人员",{"$f":"VLOOKUP(B182,[1]Sheet1!$A:$I,8,0)","v":"67.50"},{"$f":"VLOOKUP(B182,[1]Sheet1!$A:$I,9,0)","v":"63.00"},null,{"v":130.5,"d":"130.50"}]
[181,"1152270500230","梁仕杰","301独山县乡镇农业综合服务中心","02工作人员",{"$f":"VLOOKUP(B183,[1]Sheet1!$A:$I,8,0)","v":"58.50"},{"$f":"VLOOKUP(B183,[1]Sheet1!$A:$I,9,0)","v":"70.00"},{"$f":"VLOOKUP(B183,[2]少数民族加分!$C$1:$E$65536,3,FALSE)","v":2},{"v":130.5,"d":"130.50"}]
[182,"1152270602214","陈露","301独山县乡镇农业综合服务中心","02工作人员",{"$f":"VLOOKUP(B184,[1]Sheet1!$A:$I,8,0)","v":"60.00"},{"$f":"VLOOKUP(B184,[1]Sheet1!$A:$I,9,0)","v":"67.00"},{"$f":"VLOOKUP(B184,[2]少数民族加分!$C$1:$E$65536,3,FALSE)","v":2},{"v":129,"d":"129.00"}]
[183,"1152270601704","曹光云","301独山县乡镇农业综合服务中心","02工作人员",{"$f":"VLOOKUP(B185,[1]Sheet1!$A:$I,8,0)","v":"66.00"},{"$f":"VLOOKUP(B185,[1]Sheet1!$A:$I,9,0)","v":"58.00"},{"$f":"VLOOKUP(B185,[2]少数民族加分!$C$1:$E$65536,3,FALSE)","v":2},{"v":126,"d":"126.00"}]
[184,"1152270500313","秦蒋坤","301独山县乡镇农业综合服务中心","02工作人员",{"$f":"VLOOKUP(B186,[1]Sheet1!$A:$I,8,0)","v":"60.00"},{"$f":"VLOOKUP(B186,[1]Sheet1!$A:$I,9,0)","v":"60.00"},{"$f":"VLOOKUP(B186,[2]少数民族加分!$C$1:$E$65536,3,FALSE)","v":2},{"v":122,"d":"122.00"}]
[185,"1152270500515","李泽林","301独山县乡镇农业综合服务中心","02工作人员",{"$f":"VLOOKUP(B187,[1]Sheet1!$A:$I,8,0)","v":"66.00"},{"$f":"VLOOKUP(B187,[1]Sheet1!$A:$I,9,0)","v":"54.00"},{"$f":"VLOOKUP(B187,[2]少数民族加分!$C$1:$E$65536,3,FALSE)","v":2},{"v":122,"d":"122.00"}]
[186,"1152270600529","梁运信","301独山县乡镇农业综合服务中心","02工作人员",{"$f":"VLOOKUP(B188,[1]Sheet1!$A:$I,8,0)","v":"48.50"},{"$f":"VLOOKUP(B188,[1]Sheet1!$A:$I,9,0)","v":"69.00"},{"$f":"VLOOKUP(B188,[2]少数民族加分!$C$1:$E$65536,3,FALSE)","v":2},{"v":119.5,"d":"119.50"}]
[187,"1152270500922","陈定平","301独山县乡镇农业综合服务中心","02工作人员",{"$f":"VLOOKUP(B189,[1]Sheet1!$A:$I,8,0)","v":"59.50"},{"$f":"VLOOKUP(B189,[1]Sheet1!$A:$I,9,0)","v":"57.00"},{"$f":"VLOOKUP(B189,[2]少数民族加分!$C$1:$E$65536,3,FALSE)","v":2},{"v":118.5,"d":"118.50"}]
[188,"1152270601927","张俊","301独山县乡镇农业综合服务中心","02工作人员",{"$f":"VLOOKUP(B190,[1]Sheet1!$A:$I,8,0)","v":"42.50"},{"$f":"VLOOKUP(B190,[1]Sheet1!$A:$I,9,0)","v":"71.00"},{"$f":"VLOOKUP(B190,[2]少数民族加分!$C$1:$E$65536,3,FALSE)","v":2},{"v":115.5,"d":"115.50"}]
[189,"1152270601006","蒋应春","301独山县乡镇农业综合服务中心","02工作人员",{"$f":"VLOOKUP(B191,[1]Sheet1!$A:$I,8,0)","v":"42.50"},{"$f":"VLOOKUP(B191,[1]Sheet1!$A:$I,9,0)","v":"68.00"},{"$f":"VLOOKUP(B191,[2]少数民族加分!$C$1:$E$65536,3,FALSE)","v":2},{"v":112.5,"d":"112.50"}]
[190,"1152270600121","先庆","301独山县乡镇农业综合服务中心","02工作人员",{"$f":"VLOOKUP(B192,[1]Sheet1!$A:$I,8,0)","v":"54.50"},{"$f":"VLOOKUP(B192,[1]Sheet1!$A:$I,9,0)","v":"54.00"},null,{"v":108.5,"d":"108.50"}]
[191,"1152270501418","潘光军","301独山县乡镇农业综合服务中心","02工作人员",{"$f":"VLOOKUP(B193,[1]Sheet1!$A:$I,8,0)","v":"44.50"},{"$f":"VLOOKUP(B193,[1]Sheet1!$A:$I,9,0)","v":"57.00"},{"$f":"VLOOKUP(B193,[2]少数民族加分!$C$1:$E$65536,3,FALSE)","v":2},{"v":103.5,"d":"103.50"}]
[192,"1152270602129","石克","301独山县乡镇农业综合服务中心","02工作人员",{"$f":"VLOOKUP(B194,[1]Sheet1!$A:$I,8,0)","v":"39.50"},{"$f":"VLOOKUP(B194,[1]Sheet1!$A:$I,9,0)","v":"51.00"},{"$f":"VLOOKUP(B194,[2]少数民族加分!$C$1:$E$65536,3,FALSE)","v":2},{"v":92.5,"d":"92.50"}]
[193,"1152270601304","潘朝英","301独山县乡镇农业综合服务中心","02工作人员",{"$f":"VLOOKUP(B195,[1]Sheet1!$A:$I,8,0)","v":"0.00"},{"$f":"VLOOKUP(B195,[1]Sheet1!$A:$I,9,0)","v":"0.00"},{"$f":"VLOOKUP(B195,[2]少数民族加分!$C$1:$E$65536,3,FALSE)","v":2},"缺考"]
[194,"1152270601729","罗小艳","301独山县乡镇农业综合服务中心","02工作人员",{"$f":"VLOOKUP(B196,[1]Sheet1!$A:$I,8,0)","v":"0.00"},{"$f":"VLOOKUP(B196,[1]Sheet1!$A:$I,9,0)","v":"0.00"},null,"缺考"]
[195,"1152270601819","卢凯俊","301独山县乡镇农业综合服务中心","02工作人员",{"$f":"VLOOKUP(B197,[1]Sheet1!$A:$I,8,0)","v":"0.00"},{"$f":"VLOOKUP(B197,[1]Sheet1!$A:$I,9,0)","v":"0.00"},{"$f":"VLOOKUP(B197,[2]少数民族加分!$C$1:$E$65536,3,FALSE)","v":2},"缺考"]
[196,"1152270602116","龙菊","301独山县乡镇农业综合服务中心","02工作人员",{"$f":"VLOOKUP(B198,[1]Sheet1!$A:$I,8,0)","v":"0.00"},{"$f":"VLOOKUP(B198,[1]Sheet1!$A:$I,9,0)","v":"0.00"},{"$f":"VLOOKUP(B198,[2]少数民族加分!$C$1:$E$65536,3,FALSE)","v":2},"缺考"]
[197,"1152270500519","杨明园","301独山县乡镇农业综合服务中心","02工作人员",{"$f":"VLOOKUP(B199,[1]Sheet1!$A:$I,8,0)","v":"0.00"},{"$f":"VLOOKUP(B199,[1]Sheet1!$A:$I,9,0)","v":"0.00"},{"$f":"VLOOKUP(B199,[2]少数民族加分!$C$1:$E$65536,3,FALSE)","v":2},"缺考"]
[198,"1152270500727","杨红艳","301独山县乡镇农业综合服务中心","02工作人员",{"$f":"VLOOKUP(B200,[1]Sheet1!$A:$I,8,0)","v":"0.00"},{"$f":"VLOOKUP(B200,[1]Sheet1!$A:$I,9,0)","v":"0.00"},{"$f":"VLOOKUP(B200,[2]少数民族加分!$C$1:$E$65536,3,FALSE)","v":2},"缺考"]
[199,"1152270500822","吴兴","301独山县乡镇农业综合服务中心","02工作人员",{"$f":"VLOOKUP(B201,[1]Sheet1!$A:$I,8,0)","v":"0.00"},{"$f":"VLOOKUP(B201,[1]Sheet1!$A:$I,9,0)","v":"0.00"},{"$f":"VLOOKUP(B201,[2]少数民族加分!$C$1:$E$65536,3,FALSE)","v":2},"缺考"]
[200,"1152270501016","吴宇圈","301独山县乡镇农业综合服务中心","02工作人员",{"$f":"VLOOKUP(B202,[1]Sheet1!$A:$I,8,0)","v":"0.00"},{"$f":"VLOOKUP(B202,[1]Sheet1!$A:$I,9,0)","v":"0.00"},{"$f":"VLOOKUP(B202,[2]少数民族加分!$C$1:$E$65536,3,FALSE)","v":2},"缺考"]
[201,"1152270501118","侯燕丽","301独山县乡镇农业综合服务中心","02工作人员",{"$f":"VLOOKUP(B203,[1]Sheet1!$A:$I,8,0)","v":"0.00"},{"$f":"VLOOKUP(B203,[1]Sheet1!$A:$I,9,0)","v":"0.00"},{"$f":"VLOOKUP(B203,[2]少数民族加分!$C$1:$E$65536,3,FALSE)","v":2},"缺考"]
[202,"1152270501230","何佳燕","301独山县乡镇农业综合服务中心","02工作人员",{"$f":"VLOOKUP(B204,[1]Sheet1!$A:$I,8,0)","v":"0.00"},{"$f":"VLOOKUP(B204,[1]Sheet1!$A:$I,9,0)","v":"0.00"},null,"缺考"]
[203,"1152270600422","韦春怡","301独山县乡镇农业综合服务中心","02工作人员",{"$f":"VLOOKUP(B205,[1]Sheet1!$A:$I,8,0)","v":"0.00"},{"$f":"VLOOKUP(B205,[1]Sheet1!$A:$I,9,0)","v":"0.00"},{"$f":"VLOOKUP(B205,[2]少数民族加分!$C$1:$E$65536,3,FALSE)","v":2},"缺考"]
[204,"1152270600815","陈华霞","301独山县乡镇农业综合服务中心","02工作人员",{"$f":"VLOOKUP(B206,[1]Sheet1!$A:$I,8,0)","v":"0.00"},{"$f":"VLOOKUP(B206,[1]Sheet1!$A:$I,9,0)","v":"0.00"},null,"缺考"]
[206,"1152270601416","吴登城","302独山县乡镇水利站","01工作人员",{"$f":"VLOOKUP(B207,[1]Sheet1!$A:$I,8,0)","v":"87.50"},{"$f":"VLOOKUP(B207,[1]Sheet1!$A:$I,9,0)","v":"90.00"},{"$f":"VLOOKUP(B207,[2]少数民族加分!$C$1:$E$65536,3,FALSE)","v":2},{"v":179.5,"d":"179.50"}]
[205,"1152270601830","金天旭","302独山县乡镇水利站","01工作人员",{"$f":"VLOOKUP(B208,[1]Sheet1!$A:$I,8,0)","v":"81.00"},{"$f":"VLOOKUP(B208,[1]Sheet1!$A:$I,9,0)","v":"97.50"},null,{"v":178.5,"d":"178.50"}]
[207,"1152270501001","黄维贵","302独山县乡镇水利站","01工作人员",{"$f":"VLOOKUP(B209,[1]Sheet1!$A:$I,8,0)","v":"81.50"},{"$f":"VLOOKUP(B209,[1]Sheet1!$A:$I,9,0)","v":"89.50"},{"$f":"VLOOKUP(B209,[2]少数民族加分!$C$1:$E$65536,3,FALSE)","v":2},{"v":173,"d":"173.00"}]
[208,"1152270501017","陆守旋","302独山县乡镇水利站","01工作人员",{"$f":"VLOOKUP(B210,[1]Sheet1!$A:$I,8,0)","v":"98.50"},{"$f":"VLOOKUP(B210,[1]Sheet1!$A:$I,9,0)","v":"71.50"},{"$f":"VLOOKUP(B210,[2]少数民族加分!$C$1:$E$65536,3,FALSE)","v":2},{"v":172,"d":"172.00"}]
[209,"1152270500610","潘清","302独山县乡镇水利站","01工作人员",{"$f":"VLOOKUP(B211,[1]Sheet1!$A:$I,8,0)","v":"75.50"},{"$f":"VLOOKUP(B211,[1]Sheet1!$A:$I,9,0)","v":"92.50"},{"$f":"VLOOKUP(B211,[2]少数民族加分!$C$1:$E$65536,3,FALSE)","v":2},{"v":170,"d":"170.00"}]
[210,"1152270501610","罗璠","302独山县乡镇水利站","01工作人员",{"$f":"VLOOKUP(B212,[1]Sheet1!$A:$I,8,0)","v":"95.00"},{"$f":"VLOOKUP(B212,[1]Sheet1!$A:$I,9,0)","v":"73.00"},null,{"v":168,"d":"168.00"}]
[211,"1152270601610","韦广池","302独山县乡镇水利站","01工作人员",{"$f":"VLOOKUP(B213,[1]Sheet1!$A:$I,8,0)","v":"75.00"},{"$f":"VLOOKUP(B213,[1]Sheet1!$A:$I,9,0)","v":"90.50"},{"$f":"VLOOKUP(B213,[2]少数民族加分!$C$1:$E$65536,3,FALSE)","v":2},{"v":167.5,"d":"167.50"}]
[213,"1152270500504","石克毅","302独山县乡镇水利站","01工作人员",{"$f":"VLOOKUP(B214,[1]Sheet1!$A:$I,8,0)","v":"78.50"},{"$f":"VLOOKUP(B214,[1]Sheet1!$A:$I,9,0)","v":"86.00"},{"$f":"VLOOKUP(B214,[2]少数民族加分!$C$1:$E$65536,3,FALSE)","v":2},{"v":166.5,"d":"166.50"}]
[212,"1152270600823","刘定昌","302独山县乡镇水利站","01工作人员",{"$f":"VLOOKUP(B215,[1]Sheet1!$A:$I,8,0)","v":"86.00"},{"$f":"VLOOKUP(B215,[1]Sheet1!$A:$I,9,0)","v":"79.00"},null,{"v":165,"d":"165.00"}]
[214,"1152270600424","张瑾","302独山县乡镇水利站","01工作人员",{"$f":"VLOOKUP(B216,[1]Sheet1!$A:$I,8,0)","v":"59.00"},{"$f":"VLOOKUP(B216,[1]Sheet1!$A:$I,9,0)","v":"104.00"},{"$f":"VLOOKUP(B216,[2]少数民族加分!$C$1:$E$65536,3,FALSE)","v":2},{"v":165,"d":"165.00"}]
[215,"1152270601014","李星璇","302独山县乡镇水利站","01工作人员",{"$f":"VLOOKUP(B217,[1]Sheet1!$A:$I,8,0)","v":"68.50"},{"$f":"VLOOKUP(B217,[1]Sheet1!$A:$I,9,0)","v":"94.00"},{"$f":"VLOOKUP(B217,[2]少数民族加分!$C$1:$E$65536,3,FALSE)","v":2},{"v":164.5,"d":"164.50"}]
[216,"1152270602429","商正彬","302独山县乡镇水利站","01工作人员",{"$f":"VLOOKUP(B218,[1]Sheet1!$A:$I,8,0)","v":"74.00"},{"$f":"VLOOKUP(B218,[1]Sheet1!$A:$I,9,0)","v":"88.00"},{"$f":"VLOOKUP(B218,[2]少数民族加分!$C$1:$E$65536,3,FALSE)","v":2},{"v":164,"d":"164.00"}]
[217,"1152270500228","田仁森","302独山县乡镇水利站","01工作人员",{"$f":"VLOOKUP(B219,[1]Sheet1!$A:$I,8,0)","v":"81.50"},{"$f":"VLOOKUP(B219,[1]Sheet1!$A:$I,9,0)","v":"80.00"},{"$f":"VLOOKUP(B219,[2]少数民族加分!$C$1:$E$65536,3,FALSE)","v":2},{"v":163.5,"d":"163.50"}]
[218,"1152270500427","黄名","302独山县乡镇水利站","01工作人员",{"$f":"VLOOKUP(B220,[1]Sheet1!$A:$I,8,0)","v":"82.00"},{"$f":"VLOOKUP(B220,[1]Sheet1!$A:$I,9,0)","v":"79.50"},{"$f":"VLOOKUP(B220,[2]少数民族加分!$C$1:$E$65536,3,FALSE)","v":2},{"v":163.5,"d":"163.50"}]
[219,"1152270602106","周鹏飞","302独山县乡镇水利站","01工作人员",{"$f":"VLOOKUP(B221,[1]Sheet1!$A:$I,8,0)","v":"90.50"},{"$f":"VLOOKUP(B221,[1]Sheet1!$A:$I,9,0)","v":"70.00"},{"$f":"VLOOKUP(B221,[2]少数民族加分!$C$1:$E$65536,3,FALSE)","v":2},{"v":162.5,"d":"162.50"}]
[220,"1152270501505","李昌照","302独山县乡镇水利站","01工作人员",{"$f":"VLOOKUP(B222,[1]Sheet1!$A:$I,8,0)","v":"78.50"},{"$f":"VLOOKUP(B222,[1]Sheet1!$A:$I,9,0)","v":"80.00"},{"$f":"VLOOKUP(B222,[2]少数民族加分!$C$1:$E$65536,3,FALSE)","v":2},{"v":160.5,"d":"160.50"}]
[221,"1152270501715","杨家标","302独山县乡镇水利站","01工作人员",{"$f":"VLOOKUP(B223,[1]Sheet1!$A:$I,8,0)","v":"68.00"},{"$f":"VLOOKUP(B223,[1]Sheet1!$A:$I,9,0)","v":"89.00"},{"$f":"VLOOKUP(B223,[2]少数民族加分!$C$1:$E$65536,3,FALSE)","v":2},{"v":159,"d":"159.00"}]
[222,"1152270601723","杨政鑫","302独山县乡镇水利站","01工作人员",{"$f":"VLOOKUP(B224,[1]Sheet1!$A:$I,8,0)","v":"77.00"},{"$f":"VLOOKUP(B224,[1]Sheet1!$A:$I,9,0)","v":"80.00"},{"$f":"VLOOKUP(B224,[2]少数民族加分!$C$1:$E$65536,3,FALSE)","v":2},{"v":159,"d":"159.00"}]
[223,"1152270500317","龙清尧","302独山县乡镇水利站","01工作人员",{"$f":"VLOOKUP(B225,[1]Sheet1!$A:$I,8,0)","v":"75.50"},{"$f":"VLOOKUP(B225,[1]Sheet1!$A:$I,9,0)","v":"79.50"},{"$f":"VLOOKUP(B225,[2]少数民族加分!$C$1:$E$65536,3,FALSE)","v":2},{"v":157,"d":"157.00"}]
[224,"1152270600101","杨吉永","302独山县乡镇水利站","01工作人员",{"$f":"VLOOKUP(B226,[1]Sheet1!$A:$I,8,0)","v":"71.00"},{"$f":"VLOOKUP(B226,[1]Sheet1!$A:$I,9,0)","v":"83.50"},{"$f":"VLOOKUP(B226,[2]少数民族加分!$C$1:$E$65536,3,FALSE)","v":2},{"v":156.5,"d":"156.50"}]
[225,"1152270601308","杨再龙","302独山县乡镇水利站","01工作人员",{"$f":"VLOOKUP(B227,[1]Sheet1!$A:$I,8,0)","v":"69.00"},{"$f":"VLOOKUP(B227,[1]Sheet1!$A:$I,9,0)","v":"85.00"},{"$f":"VLOOKUP(B227,[2]少数民族加分!$C$1:$E$65536,3,FALSE)","v":2},{"v":156,"d":"156.00"}]
[226,"1152270501510","莫德霞","302独山县乡镇水利站","01工作人员",{"$f":"VLOOKUP(B228,[1]Sheet1!$A:$I,8,0)","v":"73.00"},{"$f":"VLOOKUP(B228,[1]Sheet1!$A:$I,9,0)","v":"79.50"},{"$f":"VLOOKUP(B228,[2]少数民族加分!$C$1:$E$65536,3,FALSE)","v":2},{"v":154.5,"d":"154.50"}]
[227,"1152270601515","左运龙","302独山县乡镇水利站","01工作人员",{"$f":"VLOOKUP(B229,[1]Sheet1!$A:$I,8,0)","v":"70.00"},{"$f":"VLOOKUP(B229,[1]Sheet1!$A:$I,9,0)","v":"81.00"},{"$f":"VLOOKUP(B229,[2]少数民族加分!$C$1:$E$65536,3,FALSE)","v":2},{"v":153,"d":"153.00"}]
[228,"1152270601730","张鸿儒","302独山县乡镇水利站","01工作人员",{"$f":"VLOOKUP(B230,[1]Sheet1!$A:$I,8,0)","v":"78.50"},{"$f":"VLOOKUP(B230,[1]Sheet1!$A:$I,9,0)","v":"71.00"},{"$f":"VLOOKUP(B230,[2]少数民族加分!$C$1:$E$65536,3,FALSE)","v":2},{"v":151.5,"d":"151.50"}]
[229,"1152270602510","龙建安","302独山县乡镇水利站","01工作人员",{"$f":"VLOOKUP(B231,[1]Sheet1!$A:$I,8,0)","v":"80.50"},{"$f":"VLOOKUP(B231,[1]Sheet1!$A:$I,9,0)","v":"68.50"},{"$f":"VLOOKUP(B231,[2]少数民族加分!$C$1:$E$65536,3,FALSE)","v":2},{"v":151,"d":"151.00"}]
[230,"1152270500323","陆加全","302独山县乡镇水利站","01工作人员",{"$f":"VLOOKUP(B232,[1]Sheet1!$A:$I,8,0)","v":"73.00"},{"$f":"VLOOKUP(B232,[1]Sheet1!$A:$I,9,0)","v":"76.00"},{"$f":"VLOOKUP(B232,[2]少数民族加分!$C$1:$E$65536,3,FALSE)","v":2},{"v":151,"d":"151.00"}]
[231,"1152270500419","田兴州","302独山县乡镇水利站","01工作人员",{"$f":"VLOOKUP(B233,[1]Sheet1!$A:$I,8,0)","v":"76.50"},{"$f":"VLOOKUP(B233,[1]Sheet1!$A:$I,9,0)","v":"72.00"},{"$f":"VLOOKUP(B233,[2]少数民族加分!$C$1:$E$65536,3,FALSE)","v":2},{"v":150.5,"d":"150.50"}]
[232,"1152270601920","包华","302独山县乡镇水利站","01工作人员",{"$f":"VLOOKUP(B234,[1]Sheet1!$A:$I,8,0)","v":"81.00"},{"$f":"VLOOKUP(B234,[1]Sheet1!$A:$I,9,0)","v":"67.50"},{"$f":"VLOOKUP(B234,[2]少数民族加分!$C$1:$E$65536,3,FALSE)","v":2},{"v":150.5,"d":"150.50"}]
[233,"1152270600515","刘明","302独山县乡镇水利站","01工作人员",{"$f":"VLOOKUP(B235,[1]Sheet1!$A:$I,8,0)","v":"69.50"},{"$f":"VLOOKUP(B235,[1]Sheet1!$A:$I,9,0)","v":"77.00"},{"$f":"VLOOKUP(B235,[2]少数民族加分!$C$1:$E$65536,3,FALSE)","v":2},{"v":148.5,"d":"148.50"}]
[234,"1152270601506","莫本昌","302独山县乡镇水利站","01工作人员",{"$f":"VLOOKUP(B236,[1]Sheet1!$A:$I,8,0)","v":"64.50"},{"$f":"VLOOKUP(B236,[1]Sheet1!$A:$I,9,0)","v":"81.00"},{"$f":"VLOOKUP(B236,[2]少数民族加分!$C$1:$E$65536,3,FALSE)","v":2},{"v":147.5,"d":"147.50"}]
[235,"1152270602011","杨正卓","302独山县乡镇水利站","01工作人员",{"$f":"VLOOKUP(B237,[1]Sheet1!$A:$I,8,0)","v":"63.00"},{"$f":"VLOOKUP(B237,[1]Sheet1!$A:$I,9,0)","v":"82.00"},{"$f":"VLOOKUP(B237,[2]少数民族加分!$C$1:$E$65536,3,FALSE)","v":2},{"v":147,"d":"147.00"}]
[237,"1152270500930","王春林","302独山县乡镇水利站","01工作人员",{"$f":"VLOOKUP(B238,[1]Sheet1!$A:$I,8,0)","v":"60.50"},{"$f":"VLOOKUP(B238,[1]Sheet1!$A:$I,9,0)","v":"84.00"},{"$f":"VLOOKUP(B238,[2]少数民族加分!$C$1:$E$65536,3,FALSE)","v":2},{"v":146.5,"d":"146.50"}]
[239,"1152270500108","顾业华","302独山县乡镇水利站","01工作人员",{"$f":"VLOOKUP(B239,[1]Sheet1!$A:$I,8,0)","v":"84.00"},{"$f":"VLOOKUP(B239,[1]Sheet1!$A:$I,9,0)","v":"60.00"},{"$f":"VLOOKUP(B239,[2]少数民族加分!$C$1:$E$65536,3,FALSE)","v":2},{"v":146,"d":"146.00"}]
[236,"1152270500522","杨涛","302独山县乡镇水利站","01工作人员",{"$f":"VLOOKUP(B240,[1]Sheet1!$A:$I,8,0)","v":"60.00"},{"$f":"VLOOKUP(B240,[1]Sheet1!$A:$I,9,0)","v":"85.00"},null,{"v":145,"d":"145.00"}]
[238,"1152270602102","华富金","302独山县乡镇水利站","01工作人员",{"$f":"VLOOKUP(B241,[1]Sheet1!$A:$I,8,0)","v":"63.00"},{"$f":"VLOOKUP(B241,[1]Sheet1!$A:$I,9,0)","v":"81.00"},null,{"v":144,"d":"144.00"}]
[240,"1152270500714","夏静军","302独山县乡镇水利站","01工作人员",{"$f":"VLOOKUP(B242,[1]Sheet1!$A:$I,8,0)","v":"69.00"},{"$f":"VLOOKUP(B242,[1]Sheet1!$A:$I,9,0)","v":"74.50"},null,{"v":143.5,"d":"143.50"}]
[241,"1152270500821","蔡国海","302独山县乡镇水利站","01工作人员",{"$f":"VLOOKUP(B243,[1]Sheet1!$A:$I,8,0)","v":"64.50"},{"$f":"VLOOKUP(B243,[1]Sheet1!$A:$I,9,0)","v":"79.00"},null,{"v":143.5,"d":"143.50"}]
[243,"1152270501425","陆龙帅","302独山县乡镇水利站","01工作人员",{"$f":"VLOOKUP(B244,[1]Sheet1!$A:$I,8,0)","v":"59.50"},{"$f":"VLOOKUP(B244,[1]Sheet1!$A:$I,9,0)","v":"80.00"},{"$f":"VLOOKUP(B244,[2]少数民族加分!$C$1:$E$65536,3,FALSE)","v":2},{"v":141.5,"d":"141.50"}]
[244,"1152270600420","潘启章","302独山县乡镇水利站","01工作人员",{"$f":"VLOOKUP(B245,[1]Sheet1!$A:$I,8,0)","v":"69.50"},{"$f":"VLOOKUP(B245,[1]Sheet1!$A:$I,9,0)","v":"70.00"},{"$f":"VLOOKUP(B245,[2]少数民族加分!$C$1:$E$65536,3,FALSE)","v":2},{"v":141.5,"d":"141.50"}]
[242,"1152270600228","刘玄威","302独山县乡镇水利站","01工作人员",{"$f":"VLOOKUP(B246,[1]Sheet1!$A:$I,8,0)","v":"77.50"},{"$f":"VLOOKUP(B246,[1]Sheet1!$A:$I,9,0)","v":"63.50"},null,{"v":141,"d":"141.00"}]
[245,"1152270600706","方永细","302独山县乡镇水利站","01工作人员",{"$f":"VLOOKUP(B247,[1]Sheet1!$A:$I,8,0)","v":"71.50"},{"$f":"VLOOKUP(B247,[1]Sheet1!$A:$I,9,0)","v":"67.50"},{"$f":"VLOOKUP(B247,[2]少数民族加分!$C$1:$E$65536,3,FALSE)","v":2},{"v":141,"d":"141.00"}]
[246,"1152270501404","姚威","302独山县乡镇水利站","01工作人员",{"$f":"VLOOKUP(B248,[1]Sheet1!$A:$I,8,0)","v":"62.00"},{"$f":"VLOOKUP(B248,[1]Sheet1!$A:$I,9,0)","v":"76.00"},{"$f":"VLOOKUP(B248,[2]少数民族加分!$C$1:$E$65536,3,FALSE)","v":2},{"v":140,"d":"140.00"}]
[247,"1152270501415","韦辉煌","302独山县乡镇水利站","01工作人员",{"$f":"VLOOKUP(B249,[1]Sheet1!$A:$I,8,0)","v":"61.50"},{"$f":"VLOOKUP(B249,[1]Sheet1!$A:$I,9,0)","v":"75.00"},{"$f":"VLOOKUP(B249,[2]少数民族加分!$C$1:$E$65536,3,FALSE)","v":2},{"v":138.5,"d":"138.50"}]
[248,"1152270501221","沈益方","302独山县乡镇水利站","01工作人员",{"$f":"VLOOKUP(B250,[1]Sheet1!$A:$I,8,0)","v":"64.50"},{"$f":"VLOOKUP(B250,[1]Sheet1!$A:$I,9,0)","v":"71.00"},{"$f":"VLOOKUP(B250,[2]少数民族加分!$C$1:$E$65536,3,FALSE)","v":2},{"v":137.5,"d":"137.50"}]
[249,"1152270600207","陈玉清","302独山县乡镇水利站","01工作人员",{"$f":"VLOOKUP(B251,[1]Sheet1!$A:$I,8,0)","v":"64.50"},{"$f":"VLOOKUP(B251,[1]Sheet1!$A:$I,9,0)","v":"71.00"},{"$f":"VLOOKUP(B251,[2]少数民族加分!$C$1:$E$65536,3,FALSE)","v":2},{"v":137.5,"d":"137.50"}]
[250,"1152270501512","邰胜能","302独山县乡镇水利站","01工作人员",{"$f":"VLOOKUP(B252,[1]Sheet1!$A:$I,8,0)","v":"66.00"},{"$f":"VLOOKUP(B252,[1]Sheet1!$A:$I,9,0)","v":"69.00"},{"$f":"VLOOKUP(B252,[2]少数民族加分!$C$1:$E$65536,3,FALSE)","v":2},{"v":137,"d":"137.00"}]
[251,"1152270500429","吴必辉","302独山县乡镇水利站","01工作人员",{"$f":"VLOOKUP(B253,[1]Sheet1!$A:$I,8,0)","v":"65.50"},{"$f":"VLOOKUP(B253,[1]Sheet1!$A:$I,9,0)","v":"69.00"},{"$f":"VLOOKUP(B253,[2]少数民族加分!$C$1:$E$65536,3,FALSE)","v":2},{"v":136.5,"d":"136.50"}]
[252,"1152270500721","赵飞海","302独山县乡镇水利站","01工作人员",{"$f":"VLOOKUP(B254,[1]Sheet1!$A:$I,8,0)","v":"70.50"},{"$f":"VLOOKUP(B254,[1]Sheet1!$A:$I,9,0)","v":"58.50"},{"$f":"VLOOKUP(B254,[2]少数民族加分!$C$1:$E$65536,3,FALSE)","v":2},{"v":131,"d":"131.00"}]
[253,"1152270501430","罗干","302独山县乡镇水利站","01工作人员",{"$f":"VLOOKUP(B255,[1]Sheet1!$A:$I,8,0)","v":"61.50"},{"$f":"VLOOKUP(B255,[1]Sheet1!$A:$I,9,0)","v":"67.00"},{"$f":"VLOOKUP(B255,[2]少数民族加分!$C$1:$E$65536,3,FALSE)","v":2},{"v":130.5,"d":"130.50"}]
[254,"1152270501014","向杨","302独山县乡镇水利站","01工作人员",{"$f":"VLOOKUP(B256,[1]Sheet1!$A:$I,8,0)","v":"61.00"},{"$f":"VLOOKUP(B256,[1]Sheet1!$A:$I,9,0)","v":"67.00"},{"$f":"VLOOKUP(B256,[2]少数民族加分!$C$1:$E$65536,3,FALSE)","v":2},{"v":130,"d":"130.00"}]
[255,"1152270602511","胡万才","302独山县乡镇水利站","01工作人员",{"$f":"VLOOKUP(B257,[1]Sheet1!$A:$I,8,0)","v":"77.50"},{"$f":"VLOOKUP(B257,[1]Sheet1!$A:$I,9,0)","v":"50.00"},{"$f":"VLOOKUP(B257,[2]少数民族加分!$C$1:$E$65536,3,FALSE)","v":2},{"v":129.5,"d":"129.50"}]
[257,"1152270500506","蒋开元","302独山县乡镇水利站","01工作人员",{"$f":"VLOOKUP(B258,[1]Sheet1!$A:$I,8,0)","v":"60.00"},{"$f":"VLOOKUP(B258,[1]Sheet1!$A:$I,9,0)","v":"61.00"},{"$f":"VLOOKUP(B258,[2]少数民族加分!$C$1:$E$65536,3,FALSE)","v":2},{"v":123,"d":"123.00"}]
[258,"1152270600618","龙家运","302独山县乡镇水利站","01工作人员",{"$f":"VLOOKUP(B259,[1]Sheet1!$A:$I,8,0)","v":"63.50"},{"$f":"VLOOKUP(B259,[1]Sheet1!$A:$I,9,0)","v":"57.00"},{"$f":"VLOOKUP(B259,[2]少数民族加分!$C$1:$E$65536,3,FALSE)","v":2},{"v":122.5,"d":"122.50"}]
[256,"1152270500620","杨再富","302独山县乡镇水利站","01工作人员",{"$f":"VLOOKUP(B260,[1]Sheet1!$A:$I,8,0)","v":"58.00"},{"$f":"VLOOKUP(B260,[1]Sheet1!$A:$I,9,0)","v":"64.00"},null,{"v":122,"d":"122.00"}]
[259,"1152270602326","谭明昕","302独山县乡镇水利站","01工作人员",{"$f":"VLOOKUP(B261,[1]Sheet1!$A:$I,8,0)","v":"54.00"},{"$f":"VLOOKUP(B261,[1]Sheet1!$A:$I,9,0)","v":"62.00"},null,{"v":116,"d":"116.00"}]
[260,"1152270601306","雷永华","302独山县乡镇水利站","01工作人员",{"$f":"VLOOKUP(B262,[1]Sheet1!$A:$I,8,0)","v":"49.50"},{"$f":"VLOOKUP(B262,[1]Sheet1!$A:$I,9,0)","v":"64.00"},{"$f":"VLOOKUP(B262,[2]少数民族加分!$C$1:$E$65536,3,FALSE)","v":2},{"v":115.5,"d":"115.50"}]
[261,"1152270600106","潘志泽","302独山县乡镇水利站","01工作人员",{"$f":"VLOOKUP(B263,[1]Sheet1!$A:$I,8,0)","v":"58.50"},{"$f":"VLOOKUP(B263,[1]Sheet1!$A:$I,9,0)","v":"54.00"},{"$f":"VLOOKUP(B263,[2]少数民族加分!$C$1:$E$65536,3,FALSE)","v":2},{"v":114.5,"d":"114.50"}]
[264,"1152270600904","胡靖","302独山县乡镇水利站","01工作人员",{"$f":"VLOOKUP(B264,[1]Sheet1!$A:$I,8,0)","v":"55.50"},{"$f":"VLOOKUP(B264,[1]Sheet1!$A:$I,9,0)","v":"56.00"},{"$f":"VLOOKUP(B264,[2]少数民族加分!$C$1:$E$65536,3,FALSE)","v":2},{"v":113.5,"d":"113.50"}]
[262,"1152270601022","王磊","302独山县乡镇水利站","01工作人员",{"$f":"VLOOKUP(B265,[1]Sheet1!$A:$I,8,0)","v":"52.50"},{"$f":"VLOOKUP(B265,[1]Sheet1!$A:$I,9,0)","v":"60.00"},null,{"v":112.5,"d":"112.50"}]
[263,"1152270501623","石明尧","302独山县乡镇水利站","01工作人员",{"$f":"VLOOKUP(B266,[1]Sheet1!$A:$I,8,0)","v":"46.50"},{"$f":"VLOOKUP(B266,[1]Sheet1!$A:$I,9,0)","v":"65.00"},null,{"v":111.5,"d":"111.50"}]
[265,"1152270601217","罗富","302独山县乡镇水利站","01工作人员",{"$f":"VLOOKUP(B267,[1]Sheet1!$A:$I,8,0)","v":"50.00"},{"$f":"VLOOKUP(B267,[1]Sheet1!$A:$I,9,0)","v":"59.00"},{"$f":"VLOOKUP(B267,[2]少数民族加分!$C$1:$E$65536,3,FALSE)","v":2},{"v":111,"d":"111.00"}]
[266,"1152270500704","杨波","302独山县乡镇水利站","01工作人员",{"$f":"VLOOKUP(B268,[1]Sheet1!$A:$I,8,0)","v":"62.00"},{"$f":"VLOOKUP(B268,[1]Sheet1!$A:$I,9,0)","v":"45.00"},{"$f":"VLOOKUP(B268,[2]少数民族加分!$C$1:$E$65536,3,FALSE)","v":2},{"v":109,"d":"109.00"}]
[267,"1152270501316","潘承松","302独山县乡镇水利站","01工作人员",{"$f":"VLOOKUP(B269,[1]Sheet1!$A:$I,8,0)","v":"49.50"},{"$f":"VLOOKUP(B269,[1]Sheet1!$A:$I,9,0)","v":"33.00"},{"$f":"VLOOKUP(B269,[2]少数民族加分!$C$1:$E$65536,3,FALSE)","v":2},{"v":84.5,"d":"84.50"}]
[268,"1152270500307","王承胤","302独山县乡镇水利站","01工作人员",{"$f":"VLOOKUP(B270,[1]Sheet1!$A:$I,8,0)","v":"0.00"},{"$f":"VLOOKUP(B270,[1]Sheet1!$A:$I,9,0)","v":"0.00"},{"$f":"VLOOKUP(B270,[2]少数民族加分!$C$1:$E$65536,3,FALSE)","v":2},"缺考"]
[269,"1152270501002","蒋城","302独山县乡镇水利站","01工作人员",{"$f":"VLOOKUP(B271,[1]Sheet1!$A:$I,8,0)","v":"0.00"},{"$f":"VLOOKUP(B271,[1]Sheet1!$A:$I,9,0)","v":"0.00"},{"$f":"VLOOKUP(B271,[2]少数民族加分!$C$1:$E$65536,3,FALSE)","v":2},"缺考"]
[270,"1152270501006","罗曦先","302独山县乡镇水利站","01工作人员",{"$f":"VLOOKUP(B272,[1]Sheet1!$A:$I,8,0)","v":"0.00"},{"$f":"VLOOKUP(B272,[1]Sheet1!$A:$I,9,0)","v":"0.00"},{"$f":"VLOOKUP(B272,[2]少数民族加分!$C$1:$E$65536,3,FALSE)","v":2},"缺考"]
[271,"1152270501019","杨家源","302独山县乡镇水利站","01工作人员",{"$f":"VLOOKUP(B273,[1]Sheet1!$A:$I,8,0)","v":"0.00"},{"$f":"VLOOKUP(B273,[1]Sheet1!$A:$I,9,0)","v":"0.00"},null,"缺考"]
[272,"1152270501104","张天亮","302独山县乡镇水利站","01工作人员",{"$f":"VLOOKUP(B274,[1]Sheet1!$A:$I,8,0)","v":"0.00"},{"$f":"VLOOKUP(B274,[1]Sheet1!$A:$I,9,0)","v":"0.00"},{"$f":"VLOOKUP(B274,[2]少数民族加分!$C$1:$E$65536,3,FALSE)","v":2},"缺考"]
[273,"1152270501111","龙正炜","302独山县乡镇水利站","01工作人员",{"$f":"VLOOKUP(B275,[1]Sheet1!$A:$I,8,0)","v":"0.00"},{"$f":"VLOOKUP(B275,[1]Sheet1!$A:$I,9,0)","v":"0.00"},{"$f":"VLOOKUP(B275,[2]少数民族加分!$C$1:$E$65536,3,FALSE)","v":2},"缺考"]
[274,"1152270600221","陆聪","302独山县乡镇水利站","01工作人员",{"$f":"VLOOKUP(B276,[1]Sheet1!$A:$I,8,0)","v":"0.00"},{"$f":"VLOOKUP(B276,[1]Sheet1!$A:$I,9,0)","v":"0.00"},{"$f":"VLOOKUP(B276,[2]少数民族加分!$C$1:$E$65536,3,FALSE)","v":2},"缺考"]
[275,"1152270600805","童文江","302独山县乡镇水利站","01工作人员",{"$f":"VLOOKUP(B277,[1]Sheet1!$A:$I,8,0)","v":"0.00"},{"$f":"VLOOKUP(B277,[1]Sheet1!$A:$I,9,0)","v":"0.00"},null,"缺考"]
[276,"1152270500102","吴雄彪","302独山县乡镇水利站","01工作人员",{"$f":"VLOOKUP(B278,[1]Sheet1!$A:$I,8,0)","v":"0.00"},{"$f":"VLOOKUP(B278,[1]Sheet1!$A:$I,9,0)","v":"0.00"},{"$f":"VLOOKUP(B278,[2]少数民族加分!$C$1:$E$65536,3,FALSE)","v":2},"缺考"]
[277,"1152270500124","王华良","302独山县乡镇水利站","01工作人员",{"$f":"VLOOKUP(B279,[1]Sheet1!$A:$I,8,0)","v":"0.00"},{"$f":"VLOOKUP(B279,[1]Sheet1!$A:$I,9,0)","v":"0.00"},{"$f":"VLOOKUP(B279,[2]少数民族加分!$C$1:$E$65536,3,FALSE)","v":2},"缺考"]
[278,"1152270601230","王建国","302独山县乡镇水利站","01工作人员",{"$f":"VLOOKUP(B280,[1]Sheet1!$A:$I,8,0)","v":"0.00"},{"$f":"VLOOKUP(B280,[1]Sheet1!$A:$I,9,0)","v":"0.00"},null,"缺考"]
[279,"1152270601324","赵林林","302独山县乡镇水利站","01工作人员",{"$f":"VLOOKUP(B281,[1]Sheet1!$A:$I,8,0)","v":"0.00"},{"$f":"VLOOKUP(B281,[1]Sheet1!$A:$I,9,0)","v":"0.00"},null,"缺考"]
[280,"1152270601608","张羽","302独山县乡镇水利站","01工作人员",{"$f":"VLOOKUP(B282,[1]Sheet1!$A:$I,8,0)","v":"0.00"},{"$f":"VLOOKUP(B282,[1]Sheet1!$A:$I,9,0)","v":"0.00"},{"$f":"VLOOKUP(B282,[2]少数民族加分!$C$1:$E$65536,3,FALSE)","v":2},"缺考"]
[281,"1152270602208","李金金","302独山县乡镇水利站","01工作人员",{"$f":"VLOOKUP(B283,[1]Sheet1!$A:$I,8,0)","v":"0.00"},{"$f":"VLOOKUP(B283,[1]Sheet1!$A:$I,9,0)","v":"0.00"},null,"缺考"]
[282,"1152270601029","陈永桥","303独山县乡镇林业站","01工作人员",{"$f":"VLOOKUP(B284,[1]Sheet1!$A:$I,8,0)","v":"90.00"},{"$f":"VLOOKUP(B284,[1]Sheet1!$A:$I,9,0)","v":"87.50"},{"$f":"VLOOKUP(B284,[2]少数民族加分!$C$1:$E$65536,3,FALSE)","v":2},{"v":179.5,"d":"179.50"}]
[283,"1152270601630","王彪","303独山县乡镇林业站","01工作人员",{"$f":"VLOOKUP(B285,[1]Sheet1!$A:$I,8,0)","v":"84.50"},{"$f":"VLOOKUP(B285,[1]Sheet1!$A:$I,9,0)","v":"92.00"},{"$f":"VLOOKUP(B285,[2]少数民族加分!$C$1:$E$65536,3,FALSE)","v":2},{"v":178.5,"d":"178.50"}]
[284,"1152270500327","吴培宇","303独山县乡镇林业站","01工作人员",{"$f":"VLOOKUP(B286,[1]Sheet1!$A:$I,8,0)","v":"81.00"},{"$f":"VLOOKUP(B286,[1]Sheet1!$A:$I,9,0)","v":"95.00"},{"$f":"VLOOKUP(B286,[2]少数民族加分!$C$1:$E$65536,3,FALSE)","v":2},{"v":178,"d":"178.00"}]
[285,"1152270600629","王菲","303独山县乡镇林业站","01工作人员",{"$f":"VLOOKUP(B287,[1]Sheet1!$A:$I,8,0)","v":"86.50"},{"$f":"VLOOKUP(B287,[1]Sheet1!$A:$I,9,0)","v":"80.00"},null,{"v":166.5,"d":"166.50"}]
[286,"1152270601210","付华","303独山县乡镇林业站","01工作人员",{"$f":"VLOOKUP(B288,[1]Sheet1!$A:$I,8,0)","v":"84.50"},{"$f":"VLOOKUP(B288,[1]Sheet1!$A:$I,9,0)","v":"80.50"},null,{"v":165,"d":"165.00"}]
[288,"1152270500114","田从仁","303独山县乡镇林业站","01工作人员",{"$f":"VLOOKUP(B289,[1]Sheet1!$A:$I,8,0)","v":"74.50"},{"$f":"VLOOKUP(B289,[1]Sheet1!$A:$I,9,0)","v":"87.00"},{"$f":"VLOOKUP(B289,[2]少数民族加分!$C$1:$E$65536,3,FALSE)","v":2},{"v":163.5,"d":"163.50"}]
[287,"1152270601118","牟旭刚","303独山县乡镇林业站","01工作人员",{"$f":"VLOOKUP(B290,[1]Sheet1!$A:$I,8,0)","v":"70.50"},{"$f":"VLOOKUP(B290,[1]Sheet1!$A:$I,9,0)","v":"92.50"},null,{"v":163,"d":"163.00"}]
[289,"1152270500405","罗仕霜","303独山县乡镇林业站","01工作人员",{"$f":"VLOOKUP(B291,[1]Sheet1!$A:$I,8,0)","v":"78.00"},{"$f":"VLOOKUP(B291,[1]Sheet1!$A:$I,9,0)","v":"81.50"},null,{"v":159.5,"d":"159.50"}]
[290,"1152270600306","翟德艳","303独山县乡镇林业站","01工作人员",{"$f":"VLOOKUP(B292,[1]Sheet1!$A:$I,8,0)","v":"73.00"},{"$f":"VLOOKUP(B292,[1]Sheet1!$A:$I,9,0)","v":"84.50"},null,{"v":157.5,"d":"157.50"}]
[291,"1152270501222","梁龙文","303独山县乡镇林业站","01工作人员",{"$f":"VLOOKUP(B293,[1]Sheet1!$A:$I,8,0)","v":"78.00"},{"$f":"VLOOKUP(B293,[1]Sheet1!$A:$I,9,0)","v":"76.00"},null,{"v":154,"d":"154.00"}]
[293,"1152270501606","胡建祥","303独山县乡镇林业站","01工作人员",{"$f":"VLOOKUP(B294,[1]Sheet1!$A:$I,8,0)","v":"73.50"},{"$f":"VLOOKUP(B294,[1]Sheet1!$A:$I,9,0)","v":"78.50"},{"$f":"VLOOKUP(B294,[2]少数民族加分!$C$1:$E$65536,3,FALSE)","v":2},{"v":154,"d":"154.00"}]
[292,"1152270500614","杜鹏程","303独山县乡镇林业站","01工作人员",{"$f":"VLOOKUP(B295,[1]Sheet1!$A:$I,8,0)","v":"76.50"},{"$f":"VLOOKUP(B295,[1]Sheet1!$A:$I,9,0)","v":"76.50"},null,{"v":153,"d":"153.00"}]
[294,"1152270600430","杨兴艳","303独山县乡镇林业站","01工作人员",{"$f":"VLOOKUP(B296,[1]Sheet1!$A:$I,8,0)","v":"73.50"},{"$f":"VLOOKUP(B296,[1]Sheet1!$A:$I,9,0)","v":"76.50"},{"$f":"VLOOKUP(B296,[2]少数民族加分!$C$1:$E$65536,3,FALSE)","v":2},{"v":152,"d":"152.00"}]
[295,"1152270500312","姚许思民","303独山县乡镇林业站","01工作人员",{"$f":"VLOOKUP(B297,[1]Sheet1!$A:$I,8,0)","v":"68.00"},{"$f":"VLOOKUP(B297,[1]Sheet1!$A:$I,9,0)","v":"74.00"},{"$f":"VLOOKUP(B297,[2]少数民族加分!$C$1:$E$65536,3,FALSE)","v":2},{"v":144,"d":"144.00"}]
[296,"1152270500416","付正宇","303独山县乡镇林业站","01工作人员",{"$f":"VLOOKUP(B298,[1]Sheet1!$A:$I,8,0)","v":"61.50"},{"$f":"VLOOKUP(B298,[1]Sheet1!$A:$I,9,0)","v":"78.00"},null,{"v":139.5,"d":"139.50"}]
[298,"1152270500906","张向前","303独山县乡镇林业站","01工作人员",{"$f":"VLOOKUP(B299,[1]Sheet1!$A:$I,8,0)","v":"71.00"},{"$f":"VLOOKUP(B299,[1]Sheet1!$A:$I,9,0)","v":"63.50"},{"$f":"VLOOKUP(B299,[2]少数民族加分!$C$1:$E$65536,3,FALSE)","v":2},{"v":136.5,"d":"136.50"}]
[297,"1152270601223","李贵飞","303独山县乡镇林业站","01工作人员",{"$f":"VLOOKUP(B300,[1]Sheet1!$A:$I,8,0)","v":"69.00"},{"$f":"VLOOKUP(B300,[1]Sheet1!$A:$I,9,0)","v":"67.00"},null,{"v":136,"d":"136.00"}]
[299,"1152270500217","陈林冲","303独山县乡镇林业站","01工作人员",{"$f":"VLOOKUP(B301,[1]Sheet1!$A:$I,8,0)","v":"67.00"},{"$f":"VLOOKUP(B301,[1]Sheet1!$A:$I,9,0)","v":"66.00"},null,{"v":133,"d":"133.00"}]
[300,"1152270601902","李金银","303独山县乡镇林业站","01工作人员",{"$f":"VLOOKUP(B302,[1]Sheet1!$A:$I,8,0)","v":"62.00"},{"$f":"VLOOKUP(B302,[1]Sheet1!$A:$I,9,0)","v":"68.00"},{"$f":"VLOOKUP(B302,[2]少数民族加分!$C$1:$E$65536,3,FALSE)","v":2},{"v":132,"d":"132.00"}]
[301,"1152270601905","潘金旺","303独山县乡镇林业站","01工作人员",{"$f":"VLOOKUP(B303,[1]Sheet1!$A:$I,8,0)","v":"60.50"},{"$f":"VLOOKUP(B303,[1]Sheet1!$A:$I,9,0)","v":"68.00"},{"$f":"VLOOKUP(B303,[2]少数民族加分!$C$1:$E$65536,3,FALSE)","v":2},{"v":130.5,"d":"130.50"}]
[302,"1152270600126","林早梅","303独山县乡镇林业站","01工作人员",{"$f":"VLOOKUP(B304,[1]Sheet1!$A:$I,8,0)","v":"68.50"},{"$f":"VLOOKUP(B304,[1]Sheet1!$A:$I,9,0)","v":"60.00"},null,{"v":128.5,"d":"128.50"}]
[303,"1152270501317","李天豪","303独山县乡镇林业站","01工作人员",{"$f":"VLOOKUP(B305,[1]Sheet1!$A:$I,8,0)","v":"62.50"},{"$f":"VLOOKUP(B305,[1]Sheet1!$A:$I,9,0)","v":"63.00"},{"$f":"VLOOKUP(B305,[2]少数民族加分!$C$1:$E$65536,3,FALSE)","v":2},{"v":127.5,"d":"127.50"}]
[304,"1152270602123","石德晗","303独山县乡镇林业站","01工作人员",{"$f":"VLOOKUP(B306,[1]Sheet1!$A:$I,8,0)","v":"64.00"},{"$f":"VLOOKUP(B306,[1]Sheet1!$A:$I,9,0)","v":"56.00"},{"$f":"VLOOKUP(B306,[2]少数民族加分!$C$1:$E$65536,3,FALSE)","v":2},{"v":122,"d":"122.00"}]
[305,"1152270501708","罗在顺","303独山县乡镇林业站","01工作人员",{"$f":"VLOOKUP(B307,[1]Sheet1!$A:$I,8,0)","v":"45.50"},{"$f":"VLOOKUP(B307,[1]Sheet1!$A:$I,9,0)","v":"73.00"},{"$f":"VLOOKUP(B307,[2]少数民族加分!$C$1:$E$65536,3,FALSE)","v":2},{"v":120.5,"d":"120.50"}]
[306,"1152270602010","杨红玲","303独山县乡镇林业站","01工作人员",{"$f":"VLOOKUP(B308,[1]Sheet1!$A:$I,8,0)","v":"54.50"},{"$f":"VLOOKUP(B308,[1]Sheet1!$A:$I,9,0)","v":"61.00"},{"$f":"VLOOKUP(B308,[2]少数民族加分!$C$1:$E$65536,3,FALSE)","v":2},{"v":117.5,"d":"117.50"}]
[307,"1152270501717","刘卫武","303独山县乡镇林业站","01工作人员",{"$f":"VLOOKUP(B309,[1]Sheet1!$A:$I,8,0)","v":"59.50"},{"$f":"VLOOKUP(B309,[1]Sheet1!$A:$I,9,0)","v":"51.00"},{"$f":"VLOOKUP(B309,[2]少数民族加分!$C$1:$E$65536,3,FALSE)","v":2},{"v":112.5,"d":"112.50"}]
[308,"1152270601521","杨明光","303独山县乡镇林业站","01工作人员",{"$f":"VLOOKUP(B310,[1]Sheet1!$A:$I,8,0)","v":"46.00"},{"$f":"VLOOKUP(B310,[1]Sheet1!$A:$I,9,0)","v":"59.00"},{"$f":"VLOOKUP(B310,[2]少数民族加分!$C$1:$E$65536,3,FALSE)","v":2},{"v":107,"d":"107.00"}]
[309,"1152270600327","陆光雷","303独山县乡镇林业站","01工作人员",{"$f":"VLOOKUP(B311,[1]Sheet1!$A:$I,8,0)","v":"52.50"},{"$f":"VLOOKUP(B311,[1]Sheet1!$A:$I,9,0)","v":"43.00"},{"$f":"VLOOKUP(B311,[2]少数民族加分!$C$1:$E$65536,3,FALSE)","v":2},{"v":97.5,"d":"97.50"}]
[310,"1152270500511","吴意慧","303独山县乡镇林业站","01工作人员",{"$f":"VLOOKUP(B312,[1]Sheet1!$A:$I,8,0)","v":"0.00"},{"$f":"VLOOKUP(B312,[1]Sheet1!$A:$I,9,0)","v":"0.00"},{"$f":"VLOOKUP(B312,[2]少数民族加分!$C$1:$E$65536,3,FALSE)","v":2},"缺考"]
[311,"1152270600224","王伟","303独山县乡镇林业站","01工作人员",{"$f":"VLOOKUP(B313,[1]Sheet1!$A:$I,8,0)","v":"0.00"},{"$f":"VLOOKUP(B313,[1]Sheet1!$A:$I,9,0)","v":"0.00"},{"$f":"VLOOKUP(B313,[2]少数民族加分!$C$1:$E$65536,3,FALSE)","v":2},"缺考"]
[312,"1152270601018","肖长喜","303独山县乡镇林业站","01工作人员",{"$f":"VLOOKUP(B314,[1]Sheet1!$A:$I,8,0)","v":"0.00"},{"$f":"VLOOKUP(B314,[1]Sheet1!$A:$I,9,0)","v":"0.00"},{"$f":"VLOOKUP(B314,[2]少数民族加分!$C$1:$E$65536,3,FALSE)","v":2},"缺考"]
[313,"1152270601921","蒙燕","304独山县乡镇人力资源和社会保障服务中心","01工作人员",{"$f":"VLOOKUP(B315,[1]Sheet1!$A:$I,8,0)","v":"99.50"},{"$f":"VLOOKUP(B315,[1]Sheet1!$A:$I,9,0)","v":"87.50"},null,{"v":187,"d":"187.00"}]
[314,"1152270600630","吴泽霞","304独山县乡镇人力资源和社会保障服务中心","01工作人员",{"$f":"VLOOKUP(B316,[1]Sheet1!$A:$I,8,0)","v":"87.00"},{"$f":"VLOOKUP(B316,[1]Sheet1!$A:$I,9,0)","v":"93.50"},{"$f":"VLOOKUP(B316,[2]少数民族加分!$C$1:$E$65536,3,FALSE)","v":2},{"v":182.5,"d":"182.50"}]
[315,"1152270602515","石正刚","304独山县乡镇人力资源和社会保障服务中心","01工作人员",{"$f":"VLOOKUP(B317,[1]Sheet1!$A:$I,8,0)","v":"86.00"},{"$f":"VLOOKUP(B317,[1]Sheet1!$A:$I,9,0)","v":"88.00"},null,{"v":174,"d":"174.00"}]
[316,"1152270501808","马国辉","304独山县乡镇人力资源和社会保障服务中心","01工作人员",{"$f":"VLOOKUP(B318,[1]Sheet1!$A:$I,8,0)","v":"71.00"},{"$f":"VLOOKUP(B318,[1]Sheet1!$A:$I,9,0)","v":"99.00"},{"$f":"VLOOKUP(B318,[2]少数民族加分!$C$1:$E$65536,3,FALSE)","v":2},{"v":172,"d":"172.00"}]
[317,"1152270601127","黎孝琴","304独山县乡镇人力资源和社会保障服务中心","01工作人员",{"$f":"VLOOKUP(B319,[1]Sheet1!$A:$I,8,0)","v":"80.00"},{"$f":"VLOOKUP(B319,[1]Sheet1!$A:$I,9,0)","v":"88.00"},{"$f":"VLOOKUP(B319,[2]少数民族加分!$C$1:$E$65536,3,FALSE)","v":2},{"v":170,"d":"170.00"}]
[318,"1152270500716","曾纪艺","304独山县乡镇人力资源和社会保障服务中心","01工作人员",{"$f":"VLOOKUP(B320,[1]Sheet1!$A:$I,8,0)","v":"101.50"},{"$f":"VLOOKUP(B320,[1]Sheet1!$A:$I,9,0)","v":"64.50"},{"$f":"VLOOKUP(B320,[2]少数民族加分!$C$1:$E$65536,3,FALSE)","v":2},{"v":168,"d":"168.00"}]
[320,"1152270601613","岑应慧","304独山县乡镇人力资源和社会保障服务中心","01工作人员",{"$f":"VLOOKUP(B321,[1]Sheet1!$A:$I,8,0)","v":"80.00"},{"$f":"VLOOKUP(B321,[1]Sheet1!$A:$I,9,0)","v":"84.00"},{"$f":"VLOOKUP(B321,[2]少数民族加分!$C$1:$E$65536,3,FALSE)","v":2},{"v":166,"d":"166.00"}]
[319,"1152270602003","黄建有","304独山县乡镇人力资源和社会保障服务中心","01工作人员",{"$f":"VLOOKUP(B322,[1]Sheet1!$A:$I,8,0)","v":"90.00"},{"$f":"VLOOKUP(B322,[1]Sheet1!$A:$I,9,0)","v":"75.50"},null,{"v":165.5,"d":"165.50"}]
[321,"1152270601712","王继程","304独山县乡镇人力资源和社会保障服务中心","01工作人员",{"$f":"VLOOKUP(B323,[1]Sheet1!$A:$I,8,0)","v":"80.00"},{"$f":"VLOOKUP(B323,[1]Sheet1!$A:$I,9,0)","v":"80.50"},{"$f":"VLOOKUP(B323,[2]少数民族加分!$C$1:$E$65536,3,FALSE)","v":2},{"v":162.5,"d":"162.50"}]
[322,"1152270602103","白龙珊","304独山县乡镇人力资源和社会保障服务中心","01工作人员",{"$f":"VLOOKUP(B324,[1]Sheet1!$A:$I,8,0)","v":"73.50"},{"$f":"VLOOKUP(B324,[1]Sheet1!$A:$I,9,0)","v":"86.00"},{"$f":"VLOOKUP(B324,[2]少数民族加分!$C$1:$E$65536,3,FALSE)","v":2},{"v":161.5,"d":"161.50"}]
[323,"1152270500430","吴穷","304独山县乡镇人力资源和社会保障服务中心","01工作人员",{"$f":"VLOOKUP(B325,[1]Sheet1!$A:$I,8,0)","v":"84.00"},{"$f":"VLOOKUP(B325,[1]Sheet1!$A:$I,9,0)","v":"72.50"},{"$f":"VLOOKUP(B325,[2]少数民族加分!$C$1:$E$65536,3,FALSE)","v":2},{"v":158.5,"d":"158.50"}]
[324,"1152270600811","张恒","304独山县乡镇人力资源和社会保障服务中心","01工作人员",{"$f":"VLOOKUP(B326,[1]Sheet1!$A:$I,8,0)","v":"77.00"},{"$f":"VLOOKUP(B326,[1]Sheet1!$A:$I,9,0)","v":"79.50"},{"$f":"VLOOKUP(B326,[2]少数民族加分!$C$1:$E$65536,3,FALSE)","v":2},{"v":158.5,"d":"158.50"}]
[325,"1152270501506","孟锦奎","304独山县乡镇人力资源和社会保障服务中心","01工作人员",{"$f":"VLOOKUP(B327,[1]Sheet1!$A:$I,8,0)","v":"65.50"},{"$f":"VLOOKUP(B327,[1]Sheet1!$A:$I,9,0)","v":"89.00"},{"$f":"VLOOKUP(B327,[2]少数民族加分!$C$1:$E$65536,3,FALSE)","v":2},{"v":156.5,"d":"156.50"}]
[326,"1152270501005","谭成丹","304独山县乡镇人力资源和社会保障服务中心","01工作人员",{"$f":"VLOOKUP(B328,[1]Sheet1!$A:$I,8,0)","v":"71.50"},{"$f":"VLOOKUP(B328,[1]Sheet1!$A:$I,9,0)","v":"82.50"},{"$f":"VLOOKUP(B328,[2]少数民族加分!$C$1:$E$65536,3,FALSE)","v":2},{"v":156,"d":"156.00"}]
[327,"1152270602001","黎金兰","304独山县乡镇人力资源和社会保障服务中心","01工作人员",{"$f":"VLOOKUP(B329,[1]Sheet1!$A:$I,8,0)","v":"70.50"},{"$f":"VLOOKUP(B329,[1]Sheet1!$A:$I,9,0)","v":"83.50"},{"$f":"VLOOKUP(B329,[2]少数民族加分!$C$1:$E$65536,3,FALSE)","v":2},{"v":156,"d":"156.00"}]
[328,"1152270602419","罗武银","304独山县乡镇人力资源和社会保障服务中心","01工作人员",{"$f":"VLOOKUP(B330,[1]Sheet1!$A:$I,8,0)","v":"75.50"},{"$f":"VLOOKUP(B330,[1]Sheet1!$A:$I,9,0)","v":"78.50"},{"$f":"VLOOKUP(B330,[2]少数民族加分!$C$1:$E$65536,3,FALSE)","v":2},{"v":156,"d":"156.00"}]
[329,"1152270601503","岑远梨","304独山县乡镇人力资源和社会保障服务中心","01工作人员",{"$f":"VLOOKUP(B331,[1]Sheet1!$A:$I,8,0)","v":"69.50"},{"$f":"VLOOKUP(B331,[1]Sheet1!$A:$I,9,0)","v":"84.00"},{"$f":"VLOOKUP(B331,[2]少数民族加分!$C$1:$E$65536,3,FALSE)","v":2},{"v":155.5,"d":"155.50"}]
[330,"1152270501029","熊天银","304独山县乡镇人力资源和社会保障服务中心","01工作人员",{"$f":"VLOOKUP(B332,[1]Sheet1!$A:$I,8,0)","v":"81.00"},{"$f":"VLOOKUP(B332,[1]Sheet1!$A:$I,9,0)","v":"72.50"},{"$f":"VLOOKUP(B332,[2]少数民族加分!$C$1:$E$65536,3,FALSE)","v":2},{"v":155.5,"d":"155.50"}]
[331,"1152270601106","陆光慧","304独山县乡镇人力资源和社会保障服务中心","01工作人员",{"$f":"VLOOKUP(B333,[1]Sheet1!$A:$I,8,0)","v":"60.50"},{"$f":"VLOOKUP(B333,[1]Sheet1!$A:$I,9,0)","v":"92.00"},{"$f":"VLOOKUP(B333,[2]少数民族加分!$C$1:$E$65536,3,FALSE)","v":2},{"v":154.5,"d":"154.50"}]
[332,"1152270500618","孟庆芬","304独山县乡镇人力资源和社会保障服务中心","01工作人员",{"$f":"VLOOKUP(B334,[1]Sheet1!$A:$I,8,0)","v":"78.00"},{"$f":"VLOOKUP(B334,[1]Sheet1!$A:$I,9,0)","v":"72.50"},{"$f":"VLOOKUP(B334,[2]少数民族加分!$C$1:$E$65536,3,FALSE)","v":2},{"v":152.5,"d":"152.50"}]
[334,"1152270601315","袁家庆","304独山县乡镇人力资源和社会保障服务中心","01工作人员",{"$f":"VLOOKUP(B335,[1]Sheet1!$A:$I,8,0)","v":"75.50"},{"$f":"VLOOKUP(B335,[1]Sheet1!$A:$I,9,0)","v":"71.00"},{"$f":"VLOOKUP(B335,[2]少数民族加分!$C$1:$E$65536,3,FALSE)","v":2},{"v":148.5,"d":"148.50"}]
[333,"1152270500308","杨玲","304独山县乡镇人力资源和社会保障服务中心","01工作人员",{"$f":"VLOOKUP(B336,[1]Sheet1!$A:$I,8,0)","v":"65.00"},{"$f":"VLOOKUP(B336,[1]Sheet1!$A:$I,9,0)","v":"83.00"},null,{"v":148,"d":"148.00"}]
[335,"1152270601705","孙先敏","304独山县乡镇人力资源和社会保障服务中心","01工作人员",{"$f":"VLOOKUP(B337,[1]Sheet1!$A:$I,8,0)","v":"73.00"},{"$f":"VLOOKUP(B337,[1]Sheet1!$A:$I,9,0)","v":"72.00"},{"$f":"VLOOKUP(B337,[2]少数民族加分!$C$1:$E$65536,3,FALSE)","v":2},{"v":147,"d":"147.00"}]
[336,"1152270600619","华学仙","304独山县乡镇人力资源和社会保障服务中心","01工作人员",{"$f":"VLOOKUP(B338,[1]Sheet1!$A:$I,8,0)","v":"66.00"},{"$f":"VLOOKUP(B338,[1]Sheet1!$A:$I,9,0)","v":"79.00"},{"$f":"VLOOKUP(B338,[2]少数民族加分!$C$1:$E$65536,3,FALSE)","v":2},{"v":147,"d":"147.00"}]
[337,"1152270500818","韦恩婷","304独山县乡镇人力资源和社会保障服务中心","01工作人员",{"$f":"VLOOKUP(B339,[1]Sheet1!$A:$I,8,0)","v":"71.50"},{"$f":"VLOOKUP(B339,[1]Sheet1!$A:$I,9,0)","v":"72.50"},{"$f":"VLOOKUP(B339,[2]少数民族加分!$C$1:$E$65536,3,FALSE)","v":2},{"v":146,"d":"146.00"}]
[338,"1152270601725","周安引","304独山县乡镇人力资源和社会保障服务中心","01工作人员",{"$f":"VLOOKUP(B340,[1]Sheet1!$A:$I,8,0)","v":"82.50"},{"$f":"VLOOKUP(B340,[1]Sheet1!$A:$I,9,0)","v":"61.50"},{"$f":"VLOOKUP(B340,[2]少数民族加分!$C$1:$E$65536,3,FALSE)","v":2},{"v":146,"d":"146.00"}]
[339,"1152270501210","白刚洁","304独山县乡镇人力资源和社会保障服务中心","01工作人员",{"$f":"VLOOKUP(B341,[1]Sheet1!$A:$I,8,0)","v":"60.50"},{"$f":"VLOOKUP(B341,[1]Sheet1!$A:$I,9,0)","v":"81.00"},{"$f":"VLOOKUP(B341,[2]少数民族加分!$C$1:$E$65536,3,FALSE)","v":2},{"v":143.5,"d":"143.50"}]
[340,"1152270601314","文小丹","304独山县乡镇人力资源和社会保障服务中心","01工作人员",{"$f":"VLOOKUP(B342,[1]Sheet1!$A:$I,8,0)","v":"59.50"},{"$f":"VLOOKUP(B342,[1]Sheet1!$A:$I,9,0)","v":"80.00"},{"$f":"VLOOKUP(B342,[2]少数民族加分!$C$1:$E$65536,3,FALSE)","v":2},{"v":141.5,"d":"141.50"}]
[341,"1152270602220","吴英脸","304独山县乡镇人力资源和社会保障服务中心","01工作人员",{"$f":"VLOOKUP(B343,[1]Sheet1!$A:$I,8,0)","v":"63.00"},{"$f":"VLOOKUP(B343,[1]Sheet1!$A:$I,9,0)","v":"75.00"},{"$f":"VLOOKUP(B343,[2]少数民族加分!$C$1:$E$65536,3,FALSE)","v":2},{"v":140,"d":"140.00"}]
[342,"1152270602101","何忠丽","304独山县乡镇人力资源和社会保障服务中心","01工作人员",{"$f":"VLOOKUP(B344,[1]Sheet1!$A:$I,8,0)","v":"67.00"},{"$f":"VLOOKUP(B344,[1]Sheet1!$A:$I,9,0)","v":"70.00"},{"$f":"VLOOKUP(B344,[2]少数民族加分!$C$1:$E$65536,3,FALSE)","v":2},{"v":139,"d":"139.00"}]
[343,"1152270601523","杨先柔","304独山县乡镇人力资源和社会保障服务中心","01工作人员",{"$f":"VLOOKUP(B345,[1]Sheet1!$A:$I,8,0)","v":"61.00"},{"$f":"VLOOKUP(B345,[1]Sheet1!$A:$I,9,0)","v":"75.00"},{"$f":"VLOOKUP(B345,[2]少数民族加分!$C$1:$E$65536,3,FALSE)","v":2},{"v":138,"d":"138.00"}]
[344,"1152270601806","何可燕","304独山县乡镇人力资源和社会保障服务中心","01工作人员",{"$f":"VLOOKUP(B346,[1]Sheet1!$A:$I,8,0)","v":"59.00"},{"$f":"VLOOKUP(B346,[1]Sheet1!$A:$I,9,0)","v":"77.00"},{"$f":"VLOOKUP(B346,[2]少数民族加分!$C$1:$E$65536,3,FALSE)","v":2},{"v":138,"d":"138.00"}]
[345,"1152270602113","韦有刚","304独山县乡镇人力资源和社会保障服务中心","01工作人员",{"$f":"VLOOKUP(B347,[1]Sheet1!$A:$I,8,0)","v":"76.50"},{"$f":"VLOOKUP(B347,[1]Sheet1!$A:$I,9,0)","v":"57.50"},{"$f":"VLOOKUP(B347,[2]少数民族加分!$C$1:$E$65536,3,FALSE)","v":2},{"v":136,"d":"136.00"}]
[346,"1152270602420","韦自辉","304独山县乡镇人力资源和社会保障服务中心","01工作人员",{"$f":"VLOOKUP(B348,[1]Sheet1!$A:$I,8,0)","v":"70.00"},{"$f":"VLOOKUP(B348,[1]Sheet1!$A:$I,9,0)","v":"63.00"},{"$f":"VLOOKUP(B348,[2]少数民族加分!$C$1:$E$65536,3,FALSE)","v":2},{"v":135,"d":"135.00"}]
[347,"1152270600329","陈兴林","304独山县乡镇人力资源和社会保障服务中心","01工作人员",{"$f":"VLOOKUP(B349,[1]Sheet1!$A:$I,8,0)","v":"62.00"},{"$f":"VLOOKUP(B349,[1]Sheet1!$A:$I,9,0)","v":"71.00"},null,{"v":133,"d":"133.00"}]
[348,"1152270501102","吴政坤","304独山县乡镇人力资源和社会保障服务中心","01工作人员",{"$f":"VLOOKUP(B350,[1]Sheet1!$A:$I,8,0)","v":"58.00"},{"$f":"VLOOKUP(B350,[1]Sheet1!$A:$I,9,0)","v":"72.00"},{"$f":"VLOOKUP(B350,[2]少数民族加分!$C$1:$E$65536,3,FALSE)","v":2},{"v":132,"d":"132.00"}]
[349,"1152270601321","陆东燕","304独山县乡镇人力资源和社会保障服务中心","01工作人员",{"$f":"VLOOKUP(B351,[1]Sheet1!$A:$I,8,0)","v":"63.50"},{"$f":"VLOOKUP(B351,[1]Sheet1!$A:$I,9,0)","v":"65.00"},{"$f":"VLOOKUP(B351,[2]少数民族加分!$C$1:$E$65536,3,FALSE)","v":2},{"v":130.5,"d":"130.50"}]
[350,"1152270601229","陆荣双","304独山县乡镇人力资源和社会保障服务中心","01工作人员",{"$f":"VLOOKUP(B352,[1]Sheet1!$A:$I,8,0)","v":"66.50"},{"$f":"VLOOKUP(B352,[1]Sheet1!$A:$I,9,0)","v":"61.00"},{"$f":"VLOOKUP(B352,[2]少数民族加分!$C$1:$E$65536,3,FALSE)","v":2},{"v":129.5,"d":"129.50"}]
[351,"1152270602007","黎俊楠","304独山县乡镇人力资源和社会保障服务中心","01工作人员",{"$f":"VLOOKUP(B353,[1]Sheet1!$A:$I,8,0)","v":"61.50"},{"$f":"VLOOKUP(B353,[1]Sheet1!$A:$I,9,0)","v":"65.00"},{"$f":"VLOOKUP(B353,[2]少数民族加分!$C$1:$E$65536,3,FALSE)","v":2},{"v":128.5,"d":"128.50"}]
[352,"1152270600427","王文苹","304独山县乡镇人力资源和社会保障服务中心","01工作人员",{"$f":"VLOOKUP(B354,[1]Sheet1!$A:$I,8,0)","v":"77.00"},{"$f":"VLOOKUP(B354,[1]Sheet1!$A:$I,9,0)","v":"47.50"},{"$f":"VLOOKUP(B354,[2]少数民族加分!$C$1:$E$65536,3,FALSE)","v":2},{"v":126.5,"d":"126.50"}]
[354,"1152270601928","吴宗誉","304独山县乡镇人力资源和社会保障服务中心","01工作人员",{"$f":"VLOOKUP(B355,[1]Sheet1!$A:$I,8,0)","v":"57.50"},{"$f":"VLOOKUP(B355,[1]Sheet1!$A:$I,9,0)","v":"66.00"},{"$f":"VLOOKUP(B355,[2]少数民族加分!$C$1:$E$65536,3,FALSE)","v":2},{"v":125.5,"d":"125.50"}]
[353,"1152270501714","谭德勇","304独山县乡镇人力资源和社会保障服务中心","01工作人员",{"$f":"VLOOKUP(B356,[1]Sheet1!$A:$I,8,0)","v":"57.50"},{"$f":"VLOOKUP(B356,[1]Sheet1!$A:$I,9,0)","v":"66.00"},null,{"v":123.5,"d":"123.50"}]
[355,"1152270501205","胡昌建","304独山县乡镇人力资源和社会保障服务中心","01工作人员",{"$f":"VLOOKUP(B357,[1]Sheet1!$A:$I,8,0)","v":"54.00"},{"$f":"VLOOKUP(B357,[1]Sheet1!$A:$I,9,0)","v":"66.00"},{"$f":"VLOOKUP(B357,[2]少数民族加分!$C$1:$E$65536,3,FALSE)","v":2},{"v":122,"d":"122.00"}]
[356,"1152270501106","吴再慧","304独山县乡镇人力资源和社会保障服务中心","01工作人员",{"$f":"VLOOKUP(B358,[1]Sheet1!$A:$I,8,0)","v":"53.00"},{"$f":"VLOOKUP(B358,[1]Sheet1!$A:$I,9,0)","v":"66.00"},{"$f":"VLOOKUP(B358,[2]少数民族加分!$C$1:$E$65536,3,FALSE)","v":2},{"v":121,"d":"121.00"}]
[357,"1152270601121","韦兴偿","304独山县乡镇人力资源和社会保障服务中心","01工作人员",{"$f":"VLOOKUP(B359,[1]Sheet1!$A:$I,8,0)","v":"52.50"},{"$f":"VLOOKUP(B359,[1]Sheet1!$A:$I,9,0)","v":"66.00"},{"$f":"VLOOKUP(B359,[2]少数民族加分!$C$1:$E$65536,3,FALSE)","v":2},{"v":120.5,"d":"120.50"}]
[358,"1152270600813","刘文娇","304独山县乡镇人力资源和社会保障服务中心","01工作人员",{"$f":"VLOOKUP(B360,[1]Sheet1!$A:$I,8,0)","v":"57.00"},{"$f":"VLOOKUP(B360,[1]Sheet1!$A:$I,9,0)","v":"52.00"},null,{"v":109,"d":"109.00"}]
[359,"1152270500329","吴邦琼","304独山县乡镇人力资源和社会保障服务中心","01工作人员",{"$f":"VLOOKUP(B361,[1]Sheet1!$A:$I,8,0)","v":"39.50"},{"$f":"VLOOKUP(B361,[1]Sheet1!$A:$I,9,0)","v":"67.00"},{"$f":"VLOOKUP(B361,[2]少数民族加分!$C$1:$E$65536,3,FALSE)","v":2},{"v":108.5,"d":"108.50"}]
[360,"1152270501605","周泰媛","304独山县乡镇人力资源和社会保障服务中心","01工作人员",{"$f":"VLOOKUP(B362,[1]Sheet1!$A:$I,8,0)","v":"51.00"},{"$f":"VLOOKUP(B362,[1]Sheet1!$A:$I,9,0)","v":"52.00"},{"$f":"VLOOKUP(B362,[2]少数民族加分!$C$1:$E$65536,3,FALSE)","v":2},{"v":105,"d":"105.00"}]
[361,"1152270601330","岑春云","304独山县乡镇人力资源和社会保障服务中心","01工作人员",{"$f":"VLOOKUP(B363,[1]Sheet1!$A:$I,8,0)","v":"37.00"},{"$f":"VLOOKUP(B363,[1]Sheet1!$A:$I,9,0)","v":"46.00"},{"$f":"VLOOKUP(B363,[2]少数民族加分!$C$1:$E$65536,3,FALSE)","v":2},{"v":85,"d":"85.00"}]
[362,"1152270501628","韦开平","304独山县乡镇人力资源和社会保障服务中心","01工作人员",{"$f":"VLOOKUP(B364,[1]Sheet1!$A:$I,8,0)","v":"37.00"},{"$f":"VLOOKUP(B364,[1]Sheet1!$A:$I,9,0)","v":"38.00"},{"$f":"VLOOKUP(B364,[2]少数民族加分!$C$1:$E$65536,3,FALSE)","v":2},{"v":77,"d":"77.00"}]
[363,"1152270501522","李永霞","304独山县乡镇人力资源和社会保障服务中心","01工作人员",{"$f":"VLOOKUP(B365,[1]Sheet1!$A:$I,8,0)","v":"0.00"},{"$f":"VLOOKUP(B365,[1]Sheet1!$A:$I,9,0)","v":"0.00"},{"$f":"VLOOKUP(B365,[2]少数民族加分!$C$1:$E$65536,3,FALSE)","v":2},"缺考"]
[364,"1152270500103","杨涛","304独山县乡镇人力资源和社会保障服务中心","01工作人员",{"$f":"VLOOKUP(B366,[1]Sheet1!$A:$I,8,0)","v":"0.00"},{"$f":"VLOOKUP(B366,[1]Sheet1!$A:$I,9,0)","v":"0.00"},{"$f":"VLOOKUP(B366,[2]少数民族加分!$C$1:$E$65536,3,FALSE)","v":2},"缺考"]
[365,"1152270601412","张家磊","304独山县乡镇人力资源和社会保障服务中心","01工作人员",{"$f":"VLOOKUP(B367,[1]Sheet1!$A:$I,8,0)","v":"0.00"},{"$f":"VLOOKUP(B367,[1]Sheet1!$A:$I,9,0)","v":"0.00"},{"$f":"VLOOKUP(B367,[2]少数民族加分!$C$1:$E$65536,3,FALSE)","v":2},"缺考"]
[366,"1152270602318","莫有糅","304独山县乡镇人力资源和社会保障服务中心","01工作人员",{"$f":"VLOOKUP(B368,[1]Sheet1!$A:$I,8,0)","v":"0.00"},{"$f":"VLOOKUP(B368,[1]Sheet1!$A:$I,9,0)","v":"0.00"},{"$f":"VLOOKUP(B368,[2]少数民族加分!$C$1:$E$65536,3,FALSE)","v":2},"缺考"]
[367,"1152270600723","吴阳","305独山县乡镇村镇建设服务中心","01工作人员",{"$f":"VLOOKUP(B369,[1]Sheet1!$A:$I,8,0)","v":"103.00"},{"$f":"VLOOKUP(B369,[1]Sheet1!$A:$I,9,0)","v":"85.50"},{"$f":"VLOOKUP(B369,[2]少数民族加分!$C$1:$E$65536,3,FALSE)","v":2},{"v":190.5,"d":"190.50"}]
[368,"1152270602004","彭波","305独山县乡镇村镇建设服务中心","01工作人员",{"$f":"VLOOKUP(B370,[1]Sheet1!$A:$I,8,0)","v":"89.50"},{"$f":"VLOOKUP(B370,[1]Sheet1!$A:$I,9,0)","v":"97.50"},{"$f":"VLOOKUP(B370,[2]少数民族加分!$C$1:$E$65536,3,FALSE)","v":2},{"v":189,"d":"189.00"}]
[369,"1152270602503","唐劲松","305独山县乡镇村镇建设服务中心","01工作人员",{"$f":"VLOOKUP(B371,[1]Sheet1!$A:$I,8,0)","v":"92.00"},{"$f":"VLOOKUP(B371,[1]Sheet1!$A:$I,9,0)","v":"90.00"},null,{"v":182,"d":"182.00"}]
[370,"1152270602302","罗回来","305独山县乡镇村镇建设服务中心","01工作人员",{"$f":"VLOOKUP(B372,[1]Sheet1!$A:$I,8,0)","v":"87.50"},{"$f":"VLOOKUP(B372,[1]Sheet1!$A:$I,9,0)","v":"92.50"},{"$f":"VLOOKUP(B372,[2]少数民族加分!$C$1:$E$65536,3,FALSE)","v":2},{"v":182,"d":"182.00"}]
[372,"1152270501720","罗振东","305独山县乡镇村镇建设服务中心","01工作人员",{"$f":"VLOOKUP(B373,[1]Sheet1!$A:$I,8,0)","v":"83.50"},{"$f":"VLOOKUP(B373,[1]Sheet1!$A:$I,9,0)","v":"92.00"},{"$f":"VLOOKUP(B373,[2]少数民族加分!$C$1:$E$65536,3,FALSE)","v":2},{"v":177.5,"d":"177.50"}]
[371,"1152270602307","林超","305独山县乡镇村镇建设服务中心","01工作人员",{"$f":"VLOOKUP(B374,[1]Sheet1!$A:$I,8,0)","v":"96.00"},{"$f":"VLOOKUP(B374,[1]Sheet1!$A:$I,9,0)","v":"80.50"},null,{"v":176.5,"d":"176.50"}]
[373,"1152270501614","郑涛","305独山县乡镇村镇建设服务中心","01工作人员",{"$f":"VLOOKUP(B375,[1]Sheet1!$A:$I,8,0)","v":"85.50"},{"$f":"VLOOKUP(B375,[1]Sheet1!$A:$I,9,0)","v":"87.00"},{"$f":"VLOOKUP(B375,[2]少数民族加分!$C$1:$E$65536,3,FALSE)","v":2},{"v":174.5,"d":"174.50"}]
[375,"1152270600122","杨杰麟","305独山县乡镇村镇建设服务中心","01工作人员",{"$f":"VLOOKUP(B376,[1]Sheet1!$A:$I,8,0)","v":"87.50"},{"$f":"VLOOKUP(B376,[1]Sheet1!$A:$I,9,0)","v":"83.00"},{"$f":"VLOOKUP(B376,[2]少数民族加分!$C$1:$E$65536,3,FALSE)","v":2},{"v":172.5,"d":"172.50"}]
[374,"1152270601128","王帮泰","305独山县乡镇村镇建设服务中心","01工作人员",{"$f":"VLOOKUP(B377,[1]Sheet1!$A:$I,8,0)","v":"95.50"},{"$f":"VLOOKUP(B377,[1]Sheet1!$A:$I,9,0)","v":"76.50"},null,{"v":172,"d":"172.00"}]
[376,"1152270500101","张鹏程","305独山县乡镇村镇建设服务中心","01工作人员",{"$f":"VLOOKUP(B378,[1]Sheet1!$A:$I,8,0)","v":"76.00"},{"$f":"VLOOKUP(B378,[1]Sheet1!$A:$I,9,0)","v":"93.50"},{"$f":"VLOOKUP(B378,[2]少数民族加分!$C$1:$E$65536,3,FALSE)","v":2},{"v":171.5,"d":"171.50"}]
[377,"1152270602317","张祯祯","305独山县乡镇村镇建设服务中心","01工作人员",{"$f":"VLOOKUP(B379,[1]Sheet1!$A:$I,8,0)","v":"83.00"},{"$f":"VLOOKUP(B379,[1]Sheet1!$A:$I,9,0)","v":"86.00"},{"$f":"VLOOKUP(B379,[2]少数民族加分!$C$1:$E$65536,3,FALSE)","v":2},{"v":171,"d":"171.00"}]
[378,"1152270600819","杨舒盛","305独山县乡镇村镇建设服务中心","01工作人员",{"$f":"VLOOKUP(B380,[1]Sheet1!$A:$I,8,0)","v":"88.00"},{"$f":"VLOOKUP(B380,[1]Sheet1!$A:$I,9,0)","v":"78.00"},{"$f":"VLOOKUP(B380,[2]少数民族加分!$C$1:$E$65536,3,FALSE)","v":2},{"v":168,"d":"168.00"}]
[379,"1152270602009","龙铁柱","305独山县乡镇村镇建设服务中心","01工作人员",{"$f":"VLOOKUP(B381,[1]Sheet1!$A:$I,8,0)","v":"75.50"},{"$f":"VLOOKUP(B381,[1]Sheet1!$A:$I,9,0)","v":"89.50"},null,{"v":165,"d":"165.00"}]
[380,"1152270601212","刘青","305独山县乡镇村镇建设服务中心","01工作人员",{"$f":"VLOOKUP(B382,[1]Sheet1!$A:$I,8,0)","v":"85.00"},{"$f":"VLOOKUP(B382,[1]Sheet1!$A:$I,9,0)","v":"69.50"},null,{"v":154.5,"d":"154.50"}]
[381,"1152270600918","付振淑","305独山县乡镇村镇建设服务中心","01工作人员",{"$f":"VLOOKUP(B383,[1]Sheet1!$A:$I,8,0)","v":"84.00"},{"$f":"VLOOKUP(B383,[1]Sheet1!$A:$I,9,0)","v":"70.50"},null,{"v":154.5,"d":"154.50"}]
[382,"1152270501027","兰成鑫","305独山县乡镇村镇建设服务中心","01工作人员",{"$f":"VLOOKUP(B384,[1]Sheet1!$A:$I,8,0)","v":"72.00"},{"$f":"VLOOKUP(B384,[1]Sheet1!$A:$I,9,0)","v":"79.50"},{"$f":"VLOOKUP(B384,[2]少数民族加分!$C$1:$E$65536,3,FALSE)","v":2},{"v":153.5,"d":"153.50"}]
[383,"1152270601621","邹黔川","305独山县乡镇村镇建设服务中心","01工作人员",{"$f":"VLOOKUP(B385,[1]Sheet1!$A:$I,8,0)","v":"80.50"},{"$f":"VLOOKUP(B385,[1]Sheet1!$A:$I,9,0)","v":"70.50"},{"$f":"VLOOKUP(B385,[2]少数民族加分!$C$1:$E$65536,3,FALSE)","v":2},{"v":153,"d":"153.00"}]
[384,"1152270600908","吴贵江","305独山县乡镇村镇建设服务中心","01工作人员",{"$f":"VLOOKUP(B386,[1]Sheet1!$A:$I,8,0)","v":"71.00"},{"$f":"VLOOKUP(B386,[1]Sheet1!$A:$I,9,0)","v":"79.00"},{"$f":"VLOOKUP(B386,[2]少数民族加分!$C$1:$E$65536,3,FALSE)","v":2},{"v":152,"d":"152.00"}]
[388,"1152270500110","覃立毅","305独山县乡镇村镇建设服务中心","01工作人员",{"$f":"VLOOKUP(B387,[1]Sheet1!$A:$I,8,0)","v":"82.00"},{"$f":"VLOOKUP(B387,[1]Sheet1!$A:$I,9,0)","v":"66.50"},{"$f":"VLOOKUP(B387,[2]少数民族加分!$C$1:$E$65536,3,FALSE)","v":2},{"v":150.5,"d":"150.50"}]
[389,"1152270601312","莫大武","305独山县乡镇村镇建设服务中心","01工作人员",{"$f":"VLOOKUP(B388,[1]Sheet1!$A:$I,8,0)","v":"77.00"},{"$f":"VLOOKUP(B388,[1]Sheet1!$A:$I,9,0)","v":"71.00"},{"$f":"VLOOKUP(B388,[2]少数民族加分!$C$1:$E$65536,3,FALSE)","v":2},{"v":150,"d":"150.00"}]
[390,"1152270501209","石朝波","305独山县乡镇村镇建设服务中心","01工作人员",{"$f":"VLOOKUP(B389,[1]Sheet1!$A:$I,8,0)","v":"67.00"},{"$f":"VLOOKUP(B389,[1]Sheet1!$A:$I,9,0)","v":"81.00"},{"$f":"VLOOKUP(B389,[2]少数民族加分!$C$1:$E$65536,3,FALSE)","v":2},{"v":150,"d":"150.00"}]
[385,"1152270600505","江顺风","305独山县乡镇村镇建设服务中心","01工作人员",{"$f":"VLOOKUP(B390,[1]Sheet1!$A:$I,8,0)","v":"73.50"},{"$f":"VLOOKUP(B390,[1]Sheet1!$A:$I,9,0)","v":"76.00"},null,{"v":149.5,"d":"149.50"}]
[386,"1152270602411","吕一飞","305独山县乡镇村镇建设服务中心","01工作人员",{"$f":"VLOOKUP(B391,[1]Sheet1!$A:$I,8,0)","v":"76.00"},{"$f":"VLOOKUP(B391,[1]Sheet1!$A:$I,9,0)","v":"73.00"},null,{"v":149,"d":"149.00"}]
[391,"1152270600328","杨兰","305独山县乡镇村镇建设服务中心","01工作人员",{"$f":"VLOOKUP(B392,[1]Sheet1!$A:$I,8,0)","v":"57.00"},{"$f":"VLOOKUP(B392,[1]Sheet1!$A:$I,9,0)","v":"90.00"},{"$f":"VLOOKUP(B392,[2]少数民族加分!$C$1:$E$65536,3,FALSE)","v":2},{"v":149,"d":"149.00"}]
[387,"1152270601603","游海山","305独山县乡镇村镇建设服务中心","01工作人员",{"$f":"VLOOKUP(B393,[1]Sheet1!$A:$I,8,0)","v":"72.50"},{"$f":"VLOOKUP(B393,[1]Sheet1!$A:$I,9,0)","v":"76.00"},null,{"v":148.5,"d":"148.50"}]
[393,"1152270500318","邰成保","305独山县乡镇村镇建设服务中心","01工作人员",{"$f":"VLOOKUP(B394,[1]Sheet1!$A:$I,8,0)","v":"72.00"},{"$f":"VLOOKUP(B394,[1]Sheet1!$A:$I,9,0)","v":"74.50"},{"$f":"VLOOKUP(B394,[2]少数民族加分!$C$1:$E$65536,3,FALSE)","v":2},{"v":148.5,"d":"148.50"}]
[394,"1152270501613","罗贤兴","305独山县乡镇村镇建设服务中心","01工作人员",{"$f":"VLOOKUP(B395,[1]Sheet1!$A:$I,8,0)","v":"64.00"},{"$f":"VLOOKUP(B395,[1]Sheet1!$A:$I,9,0)","v":"82.00"},{"$f":"VLOOKUP(B395,[2]少数民族加分!$C$1:$E$65536,3,FALSE)","v":2},{"v":148,"d":"148.00"}]
[392,"1152270602108","李万虹","305独山县乡镇村镇建设服务中心","01工作人员",{"$f":"VLOOKUP(B396,[1]Sheet1!$A:$I,8,0)","v":"80.50"},{"$f":"VLOOKUP(B396,[1]Sheet1!$A:$I,9,0)","v":"66.50"},null,{"v":147,"d":"147.00"}]
[396,"1152270500118","杨文鑫","305独山县乡镇村镇建设服务中心","01工作人员",{"$f":"VLOOKUP(B397,[1]Sheet1!$A:$I,8,0)","v":"67.50"},{"$f":"VLOOKUP(B397,[1]Sheet1!$A:$I,9,0)","v":"75.00"},{"$f":"VLOOKUP(B397,[2]少数民族加分!$C$1:$E$65536,3,FALSE)","v":2},{"v":144.5,"d":"144.50"}]
[395,"1152270601801","蒋可清","305独山县乡镇村镇建设服务中心","01工作人员",{"$f":"VLOOKUP(B398,[1]Sheet1!$A:$I,8,0)","v":"64.00"},{"$f":"VLOOKUP(B398,[1]Sheet1!$A:$I,9,0)","v":"79.00"},null,{"v":143,"d":"143.00"}]
[398,"1152270600901","吴金灵","305独山县乡镇村镇建设服务中心","01工作人员",{"$f":"VLOOKUP(B399,[1]Sheet1!$A:$I,8,0)","v":"73.50"},{"$f":"VLOOKUP(B399,[1]Sheet1!$A:$I,9,0)","v":"67.00"},{"$f":"VLOOKUP(B399,[2]少数民族加分!$C$1:$E$65536,3,FALSE)","v":2},{"v":142.5,"d":"142.50"}]
[397,"1152270602424","杨帆","305独山县乡镇村镇建设服务中心","01工作人员",{"$f":"VLOOKUP(B400,[1]Sheet1!$A:$I,8,0)","v":"69.00"},{"$f":"VLOOKUP(B400,[1]Sheet1!$A:$I,9,0)","v":"72.00"},null,{"v":141,"d":"141.00"}]
[399,"1152270501508","王丞志","305独山县乡镇村镇建设服务中心","01工作人员",{"$f":"VLOOKUP(B401,[1]Sheet1!$A:$I,8,0)","v":"63.00"},{"$f":"VLOOKUP(B401,[1]Sheet1!$A:$I,9,0)","v":"76.00"},{"$f":"VLOOKUP(B401,[2]少数民族加分!$C$1:$E$65536,3,FALSE)","v":2},{"v":141,"d":"141.00"}]
[400,"1152270501608","汪登榜","305独山县乡镇村镇建设服务中心","01工作人员",{"$f":"VLOOKUP(B402,[1]Sheet1!$A:$I,8,0)","v":"66.50"},{"$f":"VLOOKUP(B402,[1]Sheet1!$A:$I,9,0)","v":"72.00"},null,{"v":138.5,"d":"138.50"}]
[401,"1152270600707","莫明红","305独山县乡镇村镇建设服务中心","01工作人员",{"$f":"VLOOKUP(B403,[1]Sheet1!$A:$I,8,0)","v":"55.00"},{"$f":"VLOOKUP(B403,[1]Sheet1!$A:$I,9,0)","v":"81.00"},null,{"v":136,"d":"136.00"}]
[403,"1152270601821","刘振海","305独山县乡镇村镇建设服务中心","01工作人员",{"$f":"VLOOKUP(B404,[1]Sheet1!$A:$I,8,0)","v":"63.00"},{"$f":"VLOOKUP(B404,[1]Sheet1!$A:$I,9,0)","v":"70.00"},{"$f":"VLOOKUP(B404,[2]少数民族加分!$C$1:$E$65536,3,FALSE)","v":2},{"v":135,"d":"135.00"}]
[402,"1152270501325","李文程","305独山县乡镇村镇建设服务中心","01工作人员",{"$f":"VLOOKUP(B405,[1]Sheet1!$A:$I,8,0)","v":"68.50"},{"$f":"VLOOKUP(B405,[1]Sheet1!$A:$I,9,0)","v":"65.00"},null,{"v":133.5,"d":"133.50"}]
[404,"1152270501308","赵冬","305独山县乡镇村镇建设服务中心","01工作人员",{"$f":"VLOOKUP(B406,[1]Sheet1!$A:$I,8,0)","v":"68.00"},{"$f":"VLOOKUP(B406,[1]Sheet1!$A:$I,9,0)","v":"59.00"},{"$f":"VLOOKUP(B406,[2]少数民族加分!$C$1:$E$65536,3,FALSE)","v":2},{"v":129,"d":"129.00"}]
[405,"1152270600110","李晓明","305独山县乡镇村镇建设服务中心","01工作人员",{"$f":"VLOOKUP(B407,[1]Sheet1!$A:$I,8,0)","v":"55.00"},{"$f":"VLOOKUP(B407,[1]Sheet1!$A:$I,9,0)","v":"72.00"},{"$f":"VLOOKUP(B407,[2]少数民族加分!$C$1:$E$65536,3,FALSE)","v":2},{"v":129,"d":"129.00"}]
[407,"1152270501604","雷合","305独山县乡镇村镇建设服务中心","01工作人员",{"$f":"VLOOKUP(B408,[1]Sheet1!$A:$I,8,0)","v":"62.00"},{"$f":"VLOOKUP(B408,[1]Sheet1!$A:$I,9,0)","v":"62.00"},{"$f":"VLOOKUP(B408,[2]少数民族加分!$C$1:$E$65536,3,FALSE)","v":2},{"v":126,"d":"126.00"}]
[408,"1152270600611","张超","305独山县乡镇村镇建设服务中心","01工作人员",{"$f":"VLOOKUP(B409,[1]Sheet1!$A:$I,8,0)","v":"56.00"},{"$f":"VLOOKUP(B409,[1]Sheet1!$A:$I,9,0)","v":"68.00"},{"$f":"VLOOKUP(B409,[2]少数民族加分!$C$1:$E$65536,3,FALSE)","v":2},{"v":126,"d":"126.00"}]
[410,"1152270500607","张彦","305独山县乡镇村镇建设服务中心","01工作人员",{"$f":"VLOOKUP(B410,[1]Sheet1!$A:$I,8,0)","v":"68.00"},{"$f":"VLOOKUP(B410,[1]Sheet1!$A:$I,9,0)","v":"55.50"},{"$f":"VLOOKUP(B410,[2]少数民族加分!$C$1:$E$65536,3,FALSE)","v":2},{"v":125.5,"d":"125.50"}]
[411,"1152270600416","莫绍贵","305独山县乡镇村镇建设服务中心","01工作人员",{"$f":"VLOOKUP(B411,[1]Sheet1!$A:$I,8,0)","v":"51.50"},{"$f":"VLOOKUP(B411,[1]Sheet1!$A:$I,9,0)","v":"72.00"},{"$f":"VLOOKUP(B411,[2]少数民族加分!$C$1:$E$65536,3,FALSE)","v":2},{"v":125.5,"d":"125.50"}]
[406,"1152270600806","蒲天毅","305独山县乡镇村镇建设服务中心","01工作人员",{"$f":"VLOOKUP(B412,[1]Sheet1!$A:$I,8,0)","v":"53.50"},{"$f":"VLOOKUP(B412,[1]Sheet1!$A:$I,9,0)","v":"71.00"},null,{"v":124.5,"d":"124.50"}]
[409,"1152270601913","马奎","305独山县乡镇村镇建设服务中心","01工作人员",{"$f":"VLOOKUP(B413,[1]Sheet1!$A:$I,8,0)","v":"56.00"},{"$f":"VLOOKUP(B413,[1]Sheet1!$A:$I,9,0)","v":"68.00"},null,{"v":124,"d":"124.00"}]
[412,"1152270602328","张策","305独山县乡镇村镇建设服务中心","01工作人员",{"$f":"VLOOKUP(B414,[1]Sheet1!$A:$I,8,0)","v":"73.00"},{"$f":"VLOOKUP(B414,[1]Sheet1!$A:$I,9,0)","v":"48.50"},{"$f":"VLOOKUP(B414,[2]少数民族加分!$C$1:$E$65536,3,FALSE)","v":2},{"v":123.5,"d":"123.50"}]
[413,"1152270600520","杨龙","305独山县乡镇村镇建设服务中心","01工作人员",{"$f":"VLOOKUP(B415,[1]Sheet1!$A:$I,8,0)","v":"59.00"},{"$f":"VLOOKUP(B415,[1]Sheet1!$A:$I,9,0)","v":"62.00"},{"$f":"VLOOKUP(B415,[2]少数民族加分!$C$1:$E$65536,3,FALSE)","v":2},{"v":123,"d":"123.00"}]
[414,"1152270600227","潘成龙","305独山县乡镇村镇建设服务中心","01工作人员",{"$f":"VLOOKUP(B416,[1]Sheet1!$A:$I,8,0)","v":"57.50"},{"$f":"VLOOKUP(B416,[1]Sheet1!$A:$I,9,0)","v":"63.00"},{"$f":"VLOOKUP(B416,[2]少数民族加分!$C$1:$E$65536,3,FALSE)","v":2},{"v":122.5,"d":"122.50"}]
[415,"1152270600311","夏万金","305独山县乡镇村镇建设服务中心","01工作人员",{"$f":"VLOOKUP(B417,[1]Sheet1!$A:$I,8,0)","v":"55.50"},{"$f":"VLOOKUP(B417,[1]Sheet1!$A:$I,9,0)","v":"63.00"},{"$f":"VLOOKUP(B417,[2]少数民族加分!$C$1:$E$65536,3,FALSE)","v":2},{"v":120.5,"d":"120.50"}]
[416,"1152270501304","罗元杰","305独山县乡镇村镇建设服务中心","01工作人员",{"$f":"VLOOKUP(B418,[1]Sheet1!$A:$I,8,0)","v":"66.00"},{"$f":"VLOOKUP(B418,[1]Sheet1!$A:$I,9,0)","v":"51.00"},{"$f":"VLOOKUP(B418,[2]少数民族加分!$C$1:$E$65536,3,FALSE)","v":2},{"v":119,"d":"119.00"}]
[417,"1152270501507","杨前波","305独山县乡镇村镇建设服务中心","01工作人员",{"$f":"VLOOKUP(B419,[1]Sheet1!$A:$I,8,0)","v":"56.00"},{"$f":"VLOOKUP(B419,[1]Sheet1!$A:$I,9,0)","v":"61.00"},{"$f":"VLOOKUP(B419,[2]少数民族加分!$C$1:$E$65536,3,FALSE)","v":2},{"v":119,"d":"119.00"}]
[418,"1152270501011","李进忠","305独山县乡镇村镇建设服务中心","01工作人员",{"$f":"VLOOKUP(B420,[1]Sheet1!$A:$I,8,0)","v":"64.50"},{"$f":"VLOOKUP(B420,[1]Sheet1!$A:$I,9,0)","v":"52.00"},{"$f":"VLOOKUP(B420,[2]少数民族加分!$C$1:$E$65536,3,FALSE)","v":2},{"v":118.5,"d":"118.50"}]
[419,"1152270601320","王小勇","305独山县乡镇村镇建设服务中心","01工作人员",{"$f":"VLOOKUP(B421,[1]Sheet1!$A:$I,8,0)","v":"56.00"},{"$f":"VLOOKUP(B421,[1]Sheet1!$A:$I,9,0)","v":"58.00"},{"$f":"VLOOKUP(B421,[2]少数民族加分!$C$1:$E$65536,3,FALSE)","v":2},{"v":116,"d":"116.00"}]
[420,"1152270501110","林盛强","305独山县乡镇村镇建设服务中心","01工作人员",{"$f":"VLOOKUP(B422,[1]Sheet1!$A:$I,8,0)","v":"54.00"},{"$f":"VLOOKUP(B422,[1]Sheet1!$A:$I,9,0)","v":"58.00"},{"$f":"VLOOKUP(B422,[2]少数民族加分!$C$1:$E$65536,3,FALSE)","v":2},{"v":114,"d":"114.00"}]
[421,"1152270601030","杨治学","305独山县乡镇村镇建设服务中心","01工作人员",{"$f":"VLOOKUP(B423,[1]Sheet1!$A:$I,8,0)","v":"70.50"},{"$f":"VLOOKUP(B423,[1]Sheet1!$A:$I,9,0)","v":"41.50"},{"$f":"VLOOKUP(B423,[2]少数民族加分!$C$1:$E$65536,3,FALSE)","v":2},{"v":114,"d":"114.00"}]
[422,"1152270501618","廖兴安","305独山县乡镇村镇建设服务中心","01工作人员",{"$f":"VLOOKUP(B424,[1]Sheet1!$A:$I,8,0)","v":"52.50"},{"$f":"VLOOKUP(B424,[1]Sheet1!$A:$I,9,0)","v":"55.00"},{"$f":"VLOOKUP(B424,[2]少数民族加分!$C$1:$E$65536,3,FALSE)","v":2},{"v":109.5,"d":"109.50"}]
[423,"1152270600204","梁准","305独山县乡镇村镇建设服务中心","01工作人员",{"$f":"VLOOKUP(B425,[1]Sheet1!$A:$I,8,0)","v":"50.50"},{"$f":"VLOOKUP(B425,[1]Sheet1!$A:$I,9,0)","v":"57.00"},{"$f":"VLOOKUP(B425,[2]少数民族加分!$C$1:$E$65536,3,FALSE)","v":2},{"v":109.5,"d":"109.50"}]
[424,"1152270600919","舒稳","305独山县乡镇村镇建设服务中心","01工作人员",{"$f":"VLOOKUP(B426,[1]Sheet1!$A:$I,8,0)","v":"54.50"},{"$f":"VLOOKUP(B426,[1]Sheet1!$A:$I,9,0)","v":"52.00"},null,{"v":106.5,"d":"106.50"}]
[425,"1152270500528","杨再阳","305独山县乡镇村镇建设服务中心","01工作人员",{"$f":"VLOOKUP(B427,[1]Sheet1!$A:$I,8,0)","v":"51.50"},{"$f":"VLOOKUP(B427,[1]Sheet1!$A:$I,9,0)","v":"53.00"},{"$f":"VLOOKUP(B427,[2]少数民族加分!$C$1:$E$65536,3,FALSE)","v":2},{"v":106.5,"d":"106.50"}]
[426,"1152270601701","黄明文","305独山县乡镇村镇建设服务中心","01工作人员",{"$f":"VLOOKUP(B428,[1]Sheet1!$A:$I,8,0)","v":"58.00"},{"$f":"VLOOKUP(B428,[1]Sheet1!$A:$I,9,0)","v":"45.00"},null,{"v":103,"d":"103.00"}]
[427,"1152270600312","向步峰","305独山县乡镇村镇建设服务中心","01工作人员",{"$f":"VLOOKUP(B429,[1]Sheet1!$A:$I,8,0)","v":"60.50"},{"$f":"VLOOKUP(B429,[1]Sheet1!$A:$I,9,0)","v":"42.00"},null,{"v":102.5,"d":"102.50"}]
[428,"1152270602521","何堂杰","305独山县乡镇村镇建设服务中心","01工作人员",{"$f":"VLOOKUP(B430,[1]Sheet1!$A:$I,8,0)","v":"50.00"},{"$f":"VLOOKUP(B430,[1]Sheet1!$A:$I,9,0)","v":"48.00"},{"$f":"VLOOKUP(B430,[2]少数民族加分!$C$1:$E$65536,3,FALSE)","v":2},{"v":100,"d":"100.00"}]
[429,"1152270501427","李登明","305独山县乡镇村镇建设服务中心","01工作人员",{"$f":"VLOOKUP(B431,[1]Sheet1!$A:$I,8,0)","v":"43.00"},{"$f":"VLOOKUP(B431,[1]Sheet1!$A:$I,9,0)","v":"54.00"},{"$f":"VLOOKUP(B431,[2]少数民族加分!$C$1:$E$65536,3,FALSE)","v":2},{"v":99,"d":"99.00"}]
[430,"1152270600504","龚晓磊","305独山县乡镇村镇建设服务中心","01工作人员",{"$f":"VLOOKUP(B432,[1]Sheet1!$A:$I,8,0)","v":"54.50"},{"$f":"VLOOKUP(B432,[1]Sheet1!$A:$I,9,0)","v":"38.00"},{"$f":"VLOOKUP(B432,[2]少数民族加分!$C$1:$E$65536,3,FALSE)","v":2},{"v":94.5,"d":"94.50"}]
[431,"1152270501318","张明亮","305独山县乡镇村镇建设服务中心","01工作人员",{"$f":"VLOOKUP(B433,[1]Sheet1!$A:$I,8,0)","v":"47.00"},{"$f":"VLOOKUP(B433,[1]Sheet1!$A:$I,9,0)","v":"42.00"},{"$f":"VLOOKUP(B433,[2]少数民族加分!$C$1:$E$65536,3,FALSE)","v":2},{"v":91,"d":"91.00"}]
[432,"1152270501616","龙继沼","305独山县乡镇村镇建设服务中心","01工作人员",{"$f":"VLOOKUP(B434,[1]Sheet1!$A:$I,8,0)","v":"44.50"},{"$f":"VLOOKUP(B434,[1]Sheet1!$A:$I,9,0)","v":"44.00"},{"$f":"VLOOKUP(B434,[2]少数民族加分!$C$1:$E$65536,3,FALSE)","v":2},{"v":90.5,"d":"90.50"}]
[433,"1152270500514","杨敏辉","305独山县乡镇村镇建设服务中心","01工作人员",{"$f":"VLOOKUP(B435,[1]Sheet1!$A:$I,8,0)","v":"0.00"},{"$f":"VLOOKUP(B435,[1]Sheet1!$A:$I,9,0)","v":"0.00"},{"$f":"VLOOKUP(B435,[2]少数民族加分!$C$1:$E$65536,3,FALSE)","v":2},"缺考"]
[434,"1152270500517","廖万洁","305独山县乡镇村镇建设服务中心","01工作人员",{"$f":"VLOOKUP(B436,[1]Sheet1!$A:$I,8,0)","v":"0.00"},{"$f":"VLOOKUP(B436,[1]Sheet1!$A:$I,9,0)","v":"0.00"},{"$f":"VLOOKUP(B436,[2]少数民族加分!$C$1:$E$65536,3,FALSE)","v":2},"缺考"]
[435,"1152270500624","陈城","305独山县乡镇村镇建设服务中心","01工作人员",{"$f":"VLOOKUP(B437,[1]Sheet1!$A:$I,8,0)","v":"0.00"},{"$f":"VLOOKUP(B437,[1]Sheet1!$A:$I,9,0)","v":"0.00"},{"$f":"VLOOKUP(B437,[2]少数民族加分!$C$1:$E$65536,3,FALSE)","v":2},"缺考"]
[436,"1152270501015","韦兴旺","305独山县乡镇村镇建设服务中心","01工作人员",{"$f":"VLOOKUP(B438,[1]Sheet1!$A:$I,8,0)","v":"0.00"},{"$f":"VLOOKUP(B438,[1]Sheet1!$A:$I,9,0)","v":"0.00"},{"$f":"VLOOKUP(B438,[2]少数民族加分!$C$1:$E$65536,3,FALSE)","v":2},"缺考"]
[437,"1152270600711","李彪","305独山县乡镇村镇建设服务中心","01工作人员",{"$f":"VLOOKUP(B439,[1]Sheet1!$A:$I,8,0)","v":"0.00"},{"$f":"VLOOKUP(B439,[1]Sheet1!$A:$I,9,0)","v":"0.00"},{"$f":"VLOOKUP(B439,[2]少数民族加分!$C$1:$E$65536,3,FALSE)","v":2},"缺考"]
[438,"1152270600715","翁云卿","305独山县乡镇村镇建设服务中心","01工作人员",{"$f":"VLOOKUP(B440,[1]Sheet1!$A:$I,8,0)","v":"0.00"},{"$f":"VLOOKUP(B440,[1]Sheet1!$A:$I,9,0)","v":"0.00"},{"$f":"VLOOKUP(B440,[2]少数民族加分!$C$1:$E$65536,3,FALSE)","v":2},"缺考"]
[439,"1152270601204","吴荣清","306独山县乡镇科技宣教文化信息服务中心","01工作人员",{"$f":"VLOOKUP(B441,[1]Sheet1!$A:$I,8,0)","v":"90.00"},{"$f":"VLOOKUP(B441,[1]Sheet1!$A:$I,9,0)","v":"77.00"},{"$f":"VLOOKUP(B441,[2]少数民族加分!$C$1:$E$65536,3,FALSE)","v":2},{"v":169,"d":"169.00"}]
[440,"1152270501805","罗承志","306独山县乡镇科技宣教文化信息服务中心","01工作人员",{"$f":"VLOOKUP(B442,[1]Sheet1!$A:$I,8,0)","v":"50.00"},{"$f":"VLOOKUP(B442,[1]Sheet1!$A:$I,9,0)","v":"89.50"},{"$f":"VLOOKUP(B442,[2]少数民族加分!$C$1:$E$65536,3,FALSE)","v":2},{"v":141.5,"d":"141.50"}]
[441,"1152270601119","袁仕伟","306独山县乡镇科技宣教文化信息服务中心","01工作人员",{"$f":"VLOOKUP(B443,[1]Sheet1!$A:$I,8,0)","v":"62.00"},{"$f":"VLOOKUP(B443,[1]Sheet1!$A:$I,9,0)","v":"74.00"},{"$f":"VLOOKUP(B443,[2]少数民族加分!$C$1:$E$65536,3,FALSE)","v":2},{"v":138,"d":"138.00"}]
[442,"1152270501705","卢毅","306独山县乡镇科技宣教文化信息服务中心","01工作人员",{"$f":"VLOOKUP(B444,[1]Sheet1!$A:$I,8,0)","v":"64.00"},{"$f":"VLOOKUP(B444,[1]Sheet1!$A:$I,9,0)","v":"65.50"},null,{"v":129.5,"d":"129.50"}]
[444,"1152270601722","廖金铺","306独山县乡镇科技宣教文化信息服务中心","01工作人员",{"$f":"VLOOKUP(B445,[1]Sheet1!$A:$I,8,0)","v":"60.50"},{"$f":"VLOOKUP(B445,[1]Sheet1!$A:$I,9,0)","v":"67.00"},{"$f":"VLOOKUP(B445,[2]少数民族加分!$C$1:$E$65536,3,FALSE)","v":2},{"v":129.5,"d":"129.50"}]
[443,"1152270600530","韦大龙","306独山县乡镇科技宣教文化信息服务中心","01工作人员",{"$f":"VLOOKUP(B446,[1]Sheet1!$A:$I,8,0)","v":"68.50"},{"$f":"VLOOKUP(B446,[1]Sheet1!$A:$I,9,0)","v":"60.50"},null,{"v":129,"d":"129.00"}]
[445,"1152270600413","杨原位","306独山县乡镇科技宣教文化信息服务中心","01工作人员",{"$f":"VLOOKUP(B447,[1]Sheet1!$A:$I,8,0)","v":"62.50"},{"$f":"VLOOKUP(B447,[1]Sheet1!$A:$I,9,0)","v":"63.00"},{"$f":"VLOOKUP(B447,[2]少数民族加分!$C$1:$E$65536,3,FALSE)","v":2},{"v":127.5,"d":"127.50"}]
[446,"1152270501025","柏保镇","306独山县乡镇科技宣教文化信息服务中心","01工作人员",{"$f":"VLOOKUP(B448,[1]Sheet1!$A:$I,8,0)","v":"53.00"},{"$f":"VLOOKUP(B448,[1]Sheet1!$A:$I,9,0)","v":"58.50"},{"$f":"VLOOKUP(B448,[2]少数民族加分!$C$1:$E$65536,3,FALSE)","v":2},{"v":113.5,"d":"113.50"}]
[447,"1152270500805","杨吉安","306独山县乡镇科技宣教文化信息服务中心","01工作人员",{"$f":"VLOOKUP(B449,[1]Sheet1!$A:$I,8,0)","v":"49.00"},{"$f":"VLOOKUP(B449,[1]Sheet1!$A:$I,9,0)","v":"60.50"},{"$f":"VLOOKUP(B449,[2]少数民族加分!$C$1:$E$65536,3,FALSE)","v":2},{"v":111.5,"d":"111.50"}]
[448,"1152270501727","黎献骞","306独山县乡镇科技宣教文化信息服务中心","01工作人员",{"$f":"VLOOKUP(B450,[1]Sheet1!$A:$I,8,0)","v":"44.00"},{"$f":"VLOOKUP(B450,[1]Sheet1!$A:$I,9,0)","v":"60.50"},{"$f":"VLOOKUP(B450,[2]少数民族加分!$C$1:$E$65536,3,FALSE)","v":2},{"v":106.5,"d":"106.50"}]
[449,"1152270600111","何可国","306独山县乡镇科技宣教文化信息服务中心","01工作人员",{"$f":"VLOOKUP(B451,[1]Sheet1!$A:$I,8,0)","v":"54.00"},{"$f":"VLOOKUP(B451,[1]Sheet1!$A:$I,9,0)","v":"50.00"},{"$f":"VLOOKUP(B451,[2]少数民族加分!$C$1:$E$65536,3,FALSE)","v":2},{"v":106,"d":"106.00"}]
[450,"1152270500811","石从兰","307独山县麻万镇三里社区服务中心","01工作人员",{"$f":"VLOOKUP(B452,[1]Sheet1!$A:$I,8,0)","v":"79.00"},{"$f":"VLOOKUP(B452,[1]Sheet1!$A:$I,9,0)","v":"85.50"},{"$f":"VLOOKUP(B452,[2]少数民族加分!$C$1:$E$65536,3,FALSE)","v":2},{"v":166.5,"d":"166.50"}]
[451,"1152270601115","白荣荣","307独山县麻万镇三里社区服务中心","01工作人员",{"$f":"VLOOKUP(B453,[1]Sheet1!$A:$I,8,0)","v":"65.50"},{"$f":"VLOOKUP(B453,[1]Sheet1!$A:$I,9,0)","v":"99.00"},{"$f":"VLOOKUP(B453,[2]少数民族加分!$C$1:$E$65536,3,FALSE)","v":2},{"v":166.5,"d":"166.50"}]
[452,"1152270500705","邹永梅","307独山县麻万镇三里社区服务中心","01工作人员",{"$f":"VLOOKUP(B454,[1]Sheet1!$A:$I,8,0)","v":"86.00"},{"$f":"VLOOKUP(B454,[1]Sheet1!$A:$I,9,0)","v":"72.00"},null,{"v":158,"d":"158.00"}]
[453,"1152270500912","洪成义","307独山县麻万镇三里社区服务中心","01工作人员",{"$f":"VLOOKUP(B455,[1]Sheet1!$A:$I,8,0)","v":"71.50"},{"$f":"VLOOKUP(B455,[1]Sheet1!$A:$I,9,0)","v":"82.50"},null,{"v":154,"d":"154.00"}]
[454,"1152270602013","彭领","307独山县麻万镇三里社区服务中心","01工作人员",{"$f":"VLOOKUP(B456,[1]Sheet1!$A:$I,8,0)","v":"72.00"},{"$f":"VLOOKUP(B456,[1]Sheet1!$A:$I,9,0)","v":"77.50"},{"$f":"VLOOKUP(B456,[2]少数民族加分!$C$1:$E$65536,3,FALSE)","v":2},{"v":151.5,"d":"151.50"}]
[455,"1152270602029","莫义睿","307独山县麻万镇三里社区服务中心","01工作人员",{"$f":"VLOOKUP(B457,[1]Sheet1!$A:$I,8,0)","v":"61.50"},{"$f":"VLOOKUP(B457,[1]Sheet1!$A:$I,9,0)","v":"67.00"},{"$f":"VLOOKUP(B457,[2]少数民族加分!$C$1:$E$65536,3,FALSE)","v":2},{"v":130.5,"d":"130.50"}]
[456,"1152270600402","彭合芳","307独山县麻万镇三里社区服务中心","01工作人员",{"$f":"VLOOKUP(B458,[1]Sheet1!$A:$I,8,0)","v":"53.50"},{"$f":"VLOOKUP(B458,[1]Sheet1!$A:$I,9,0)","v":"69.00"},null,{"v":122.5,"d":"122.50"}]
[457,"1152270600502","卢叶汝","307独山县麻万镇三里社区服务中心","01工作人员",{"$f":"VLOOKUP(B459,[1]Sheet1!$A:$I,8,0)","v":"0.00"},{"$f":"VLOOKUP(B459,[1]Sheet1!$A:$I,9,0)","v":"0.00"},{"$f":"VLOOKUP(B459,[2]少数民族加分!$C$1:$E$65536,3,FALSE)","v":2},"缺考"]
[458,"1152270602114","夏和美","308独山县麻尾镇扶贫工作站","01工作人员",{"$f":"VLOOKUP(B460,[1]Sheet1!$A:$I,8,0)","v":"58.00"},{"$f":"VLOOKUP(B460,[1]Sheet1!$A:$I,9,0)","v":"66.00"},{"$f":"VLOOKUP(B460,[2]少数民族加分!$C$1:$E$65536,3,FALSE)","v":2},{"v":126,"d":"126.00"}]
[459,"1152270600322","何孝刚","308独山县麻尾镇扶贫工作站","01工作人员",{"$f":"VLOOKUP(B461,[1]Sheet1!$A:$I,8,0)","v":"55.00"},{"$f":"VLOOKUP(B461,[1]Sheet1!$A:$I,9,0)","v":"65.00"},{"$f":"VLOOKUP(B461,[2]少数民族加分!$C$1:$E$65536,3,FALSE)","v":2},{"v":122,"d":"122.00"}]
[460,"1152270602412","田锦林","308独山县麻尾镇扶贫工作站","01工作人员",{"$f":"VLOOKUP(B462,[1]Sheet1!$A:$I,8,0)","v":"43.00"},{"$f":"VLOOKUP(B462,[1]Sheet1!$A:$I,9,0)","v":"76.00"},null,{"v":119,"d":"119.00"}]
[461,"1152270601514","刘正丹","308独山县麻尾镇扶贫工作站","01工作人员",{"$f":"VLOOKUP(B463,[1]Sheet1!$A:$I,8,0)","v":"36.00"},{"$f":"VLOOKUP(B463,[1]Sheet1!$A:$I,9,0)","v":"74.00"},null,{"v":110,"d":"110.00"}]
[462,"1152270500203","蒙泽近","308独山县麻尾镇扶贫工作站","01工作人员",{"$f":"VLOOKUP(B464,[1]Sheet1!$A:$I,8,0)","v":"49.00"},{"$f":"VLOOKUP(B464,[1]Sheet1!$A:$I,9,0)","v":"61.00"},null,{"v":110,"d":"110.00"}]
[463,"1152270600920","陆光芝","308独山县麻尾镇扶贫工作站","01工作人员",{"$f":"VLOOKUP(B465,[1]Sheet1!$A:$I,8,0)","v":"53.00"},{"$f":"VLOOKUP(B465,[1]Sheet1!$A:$I,9,0)","v":"54.00"},{"$f":"VLOOKUP(B465,[2]少数民族加分!$C$1:$E$65536,3,FALSE)","v":2},{"v":109,"d":"109.00"}]
[464,"1152270501809","黎国金","308独山县麻尾镇扶贫工作站","01工作人员",{"$f":"VLOOKUP(B466,[1]Sheet1!$A:$I,8,0)","v":"40.00"},{"$f":"VLOOKUP(B466,[1]Sheet1!$A:$I,9,0)","v":"60.00"},{"$f":"VLOOKUP(B466,[2]少数民族加分!$C$1:$E$65536,3,FALSE)","v":2},{"v":102,"d":"102.00"}]
[465,"1152270501407","蒋启健","308独山县麻尾镇扶贫工作站","01工作人员",{"$f":"VLOOKUP(B467,[1]Sheet1!$A:$I,8,0)","v":"52.00"},{"$f":"VLOOKUP(B467,[1]Sheet1!$A:$I,9,0)","v":"47.50"},{"$f":"VLOOKUP(B467,[2]少数民族加分!$C$1:$E$65536,3,FALSE)","v":2},{"v":101.5,"d":"101.50"}]
[466,"1152270500116","何孝兰","308独山县麻尾镇扶贫工作站","01工作人员",{"$f":"VLOOKUP(B468,[1]Sheet1!$A:$I,8,0)","v":"52.50"},{"$f":"VLOOKUP(B468,[1]Sheet1!$A:$I,9,0)","v":"46.00"},{"$f":"VLOOKUP(B468,[2]少数民族加分!$C$1:$E$65536,3,FALSE)","v":2},{"v":100.5,"d":"100.50"}]
[467,"1152270600425","吴元姣","308独山县麻尾镇扶贫工作站","01工作人员",{"$f":"VLOOKUP(B469,[1]Sheet1!$A:$I,8,0)","v":"51.50"},{"$f":"VLOOKUP(B469,[1]Sheet1!$A:$I,9,0)","v":"45.00"},{"$f":"VLOOKUP(B469,[2]少数民族加分!$C$1:$E$65536,3,FALSE)","v":2},{"v":98.5,"d":"98.50"}]
[468,"1152270501109","余玉刚","308独山县麻尾镇扶贫工作站","01工作人员",{"$f":"VLOOKUP(B470,[1]Sheet1!$A:$I,8,0)","v":"50.50"},{"$f":"VLOOKUP(B470,[1]Sheet1!$A:$I,9,0)","v":"42.00"},{"$f":"VLOOKUP(B470,[2]少数民族加分!$C$1:$E$65536,3,FALSE)","v":2},{"v":94.5,"d":"94.50"}]
[469,"1152270500921","薛慧","308独山县麻尾镇扶贫工作站","01工作人员",{"$f":"VLOOKUP(B471,[1]Sheet1!$A:$I,8,0)","v":"38.00"},{"$f":"VLOOKUP(B471,[1]Sheet1!$A:$I,9,0)","v":"46.00"},{"$f":"VLOOKUP(B471,[2]少数民族加分!$C$1:$E$65536,3,FALSE)","v":2},{"v":86,"d":"86.00"}]
[470,"1152270500208","吴定桃","308独山县麻尾镇扶贫工作站","01工作人员",{"$f":"VLOOKUP(B472,[1]Sheet1!$A:$I,8,0)","v":"45.50"},{"$f":"VLOOKUP(B472,[1]Sheet1!$A:$I,9,0)","v":"27.00"},{"$f":"VLOOKUP(B472,[2]少数民族加分!$C$1:$E$65536,3,FALSE)","v":2},{"v":74.5,"d":"74.50"}]
[471,"1152270500315","吴祖平","308独山县麻尾镇扶贫工作站","01工作人员",{"$f":"VLOOKUP(B473,[1]Sheet1!$A:$I,8,0)","v":"28.00"},{"$f":"VLOOKUP(B473,[1]Sheet1!$A:$I,9,0)","v":"39.00"},{"$f":"VLOOKUP(B473,[2]少数民族加分!$C$1:$E$65536,3,FALSE)","v":2},{"v":69,"d":"69.00"}]
[472,"1152270601812","李德双","308独山县麻尾镇扶贫工作站","01工作人员",{"$f":"VLOOKUP(B474,[1]Sheet1!$A:$I,8,0)","v":"53.00"},{"$f":"VLOOKUP(B474,[1]Sheet1!$A:$I,9,0)","v":"0.00"},{"$f":"VLOOKUP(B474,[2]少数民族加分!$C$1:$E$65536,3,FALSE)","v":2},{"v":55,"d":"55.00"}]
[473,"1152270501417","龙顺义","308独山县麻尾镇扶贫工作站","01工作人员",{"$f":"VLOOKUP(B475,[1]Sheet1!$A:$I,8,0)","v":"0.00"},{"$f":"VLOOKUP(B475,[1]Sheet1!$A:$I,9,0)","v":"0.00"},{"$f":"VLOOKUP(B475,[2]少数民族加分!$C$1:$E$65536,3,FALSE)","v":2},"缺考"]
[474,"1152270500301","李德俊","309独山县麻尾镇财政分局","01财会人员",{"$f":"VLOOKUP(B476,[1]Sheet1!$A:$I,8,0)","v":"85.50"},{"$f":"VLOOKUP(B476,[1]Sheet1!$A:$I,9,0)","v":"98.00"},{"$f":"VLOOKUP(B476,[2]少数民族加分!$C$1:$E$65536,3,FALSE)","v":2},{"v":185.5,"d":"185.50"}]
[475,"1152270602425","毛永锋","309独山县麻尾镇财政分局","01财会人员",{"$f":"VLOOKUP(B477,[1]Sheet1!$A:$I,8,0)","v":"95.00"},{"$f":"VLOOKUP(B477,[1]Sheet1!$A:$I,9,0)","v":"88.50"},null,{"v":183.5,"d":"183.50"}]
[476,"1152270600305","彭超","309独山县麻尾镇财政分局","01财会人员",{"$f":"VLOOKUP(B478,[1]Sheet1!$A:$I,8,0)","v":"95.50"},{"$f":"VLOOKUP(B478,[1]Sheet1!$A:$I,9,0)","v":"86.00"},{"$f":"VLOOKUP(B478,[2]少数民族加分!$C$1:$E$65536,3,FALSE)","v":2},{"v":183.5,"d":"183.50"}]
[477,"1152270600809","祖灵","309独山县麻尾镇财政分局","01财会人员",{"$f":"VLOOKUP(B479,[1]Sheet1!$A:$I,8,0)","v":"80.50"},{"$f":"VLOOKUP(B479,[1]Sheet1!$A:$I,9,0)","v":"99.50"},null,{"v":180,"d":"180.00"}]
[479,"1152270501429","杨香粟","309独山县麻尾镇财政分局","01财会人员",{"$f":"VLOOKUP(B480,[1]Sheet1!$A:$I,8,0)","v":"97.50"},{"$f":"VLOOKUP(B480,[1]Sheet1!$A:$I,9,0)","v":"80.50"},{"$f":"VLOOKUP(B480,[2]少数民族加分!$C$1:$E$65536,3,FALSE)","v":2},{"v":180,"d":"180.00"}]
[480,"1152270501710","莫金欢","309独山县麻尾镇财政分局","01财会人员",{"$f":"VLOOKUP(B481,[1]Sheet1!$A:$I,8,0)","v":"83.00"},{"$f":"VLOOKUP(B481,[1]Sheet1!$A:$I,9,0)","v":"95.00"},{"$f":"VLOOKUP(B481,[2]少数民族加分!$C$1:$E$65536,3,FALSE)","v":2},{"v":180,"d":"180.00"}]
[478,"1152270500417","陈茜","309独山县麻尾镇财政分局","01财会人员",{"$f":"VLOOKUP(B482,[1]Sheet1!$A:$I,8,0)","v":"98.00"},{"$f":"VLOOKUP(B482,[1]Sheet1!$A:$I,9,0)","v":"81.50"},null,{"v":179.5,"d":"179.50"}]
[483,"1152270600112","陆庆叶","309独山县麻尾镇财政分局","01财会人员",{"$f":"VLOOKUP(B483,[1]Sheet1!$A:$I,8,0)","v":"92.00"},{"$f":"VLOOKUP(B483,[1]Sheet1!$A:$I,9,0)","v":"80.50"},{"$f":"VLOOKUP(B483,[2]少数民族加分!$C$1:$E$65536,3,FALSE)","v":2},{"v":174.5,"d":"174.50"}]
[481,"1152270500305","陈淑瑗","309独山县麻尾镇财政分局","01财会人员",{"$f":"VLOOKUP(B484,[1]Sheet1!$A:$I,8,0)","v":"74.00"},{"$f":"VLOOKUP(B484,[1]Sheet1!$A:$I,9,0)","v":"99.00"},null,{"v":173,"d":"173.00"}]
[482,"1152270500802","曾永芬","309独山县麻尾镇财政分局","01财会人员",{"$f":"VLOOKUP(B485,[1]Sheet1!$A:$I,8,0)","v":"90.50"},{"$f":"VLOOKUP(B485,[1]Sheet1!$A:$I,9,0)","v":"82.00"},null,{"v":172.5,"d":"172.50"}]
[485,"1152270601707","黄福莹","309独山县麻尾镇财政分局","01财会人员",{"$f":"VLOOKUP(B486,[1]Sheet1!$A:$I,8,0)","v":"77.50"},{"$f":"VLOOKUP(B486,[1]Sheet1!$A:$I,9,0)","v":"93.00"},{"$f":"VLOOKUP(B486,[2]少数民族加分!$C$1:$E$65536,3,FALSE)","v":2},{"v":172.5,"d":"172.50"}]
[484,"1152270602516","张台敏","309独山县麻尾镇财政分局","01财会人员",{"$f":"VLOOKUP(B487,[1]Sheet1!$A:$I,8,0)","v":"86.50"},{"$f":"VLOOKUP(B487,[1]Sheet1!$A:$I,9,0)","v":"85.00"},null,{"v":171.5,"d":"171.50"}]
[486,"1152270602313","湛熙语","309独山县麻尾镇财政分局","01财会人员",{"$f":"VLOOKUP(B488,[1]Sheet1!$A:$I,8,0)","v":"76.00"},{"$f":"VLOOKUP(B488,[1]Sheet1!$A:$I,9,0)","v":"92.50"},{"$f":"VLOOKUP(B488,[2]少数民族加分!$C$1:$E$65536,3,FALSE)","v":2},{"v":170.5,"d":"170.50"}]
[487,"1152270500730","黄靖翔","309独山县麻尾镇财政分局","01财会人员",{"$f":"VLOOKUP(B489,[1]Sheet1!$A:$I,8,0)","v":"87.00"},{"$f":"VLOOKUP(B489,[1]Sheet1!$A:$I,9,0)","v":"80.50"},{"$f":"VLOOKUP(B489,[2]少数民族加分!$C$1:$E$65536,3,FALSE)","v":2},{"v":169.5,"d":"169.50"}]
[490,"1152270600223","熊雪卉","309独山县麻尾镇财政分局","01财会人员",{"$f":"VLOOKUP(B490,[1]Sheet1!$A:$I,8,0)","v":"68.00"},{"$f":"VLOOKUP(B490,[1]Sheet1!$A:$I,9,0)","v":"98.00"},{"$f":"VLOOKUP(B490,[2]少数民族加分!$C$1:$E$65536,3,FALSE)","v":2},{"v":168,"d":"168.00"}]
[488,"1152270601020","陈文飞","309独山县麻尾镇财政分局","01财会人员",{"$f":"VLOOKUP(B491,[1]Sheet1!$A:$I,8,0)","v":"78.50"},{"$f":"VLOOKUP(B491,[1]Sheet1!$A:$I,9,0)","v":"89.00"},null,{"v":167.5,"d":"167.50"}]
[489,"1152270501013","张松","309独山县麻尾镇财政分局","01财会人员",{"$f":"VLOOKUP(B492,[1]Sheet1!$A:$I,8,0)","v":"84.50"},{"$f":"VLOOKUP(B492,[1]Sheet1!$A:$I,9,0)","v":"82.00"},null,{"v":166.5,"d":"166.50"}]
[492,"1152270600503","卢迁","309独山县麻尾镇财政分局","01财会人员",{"$f":"VLOOKUP(B493,[1]Sheet1!$A:$I,8,0)","v":"84.50"},{"$f":"VLOOKUP(B493,[1]Sheet1!$A:$I,9,0)","v":"79.50"},{"$f":"VLOOKUP(B493,[2]少数民族加分!$C$1:$E$65536,3,FALSE)","v":2},{"v":166,"d":"166.00"}]
[493,"1152270600605","龙凤连","309独山县麻尾镇财政分局","01财会人员",{"$f":"VLOOKUP(B494,[1]Sheet1!$A:$I,8,0)","v":"79.00"},{"$f":"VLOOKUP(B494,[1]Sheet1!$A:$I,9,0)","v":"84.50"},{"$f":"VLOOKUP(B494,[2]少数民族加分!$C$1:$E$65536,3,FALSE)","v":2},{"v":165.5,"d":"165.50"}]
[494,"1152270601604","石景华","309独山县麻尾镇财政分局","01财会人员",{"$f":"VLOOKUP(B495,[1]Sheet1!$A:$I,8,0)","v":"70.00"},{"$f":"VLOOKUP(B495,[1]Sheet1!$A:$I,9,0)","v":"93.00"},{"$f":"VLOOKUP(B495,[2]少数民族加分!$C$1:$E$65536,3,FALSE)","v":2},{"v":165,"d":"165.00"}]
[491,"1152270601415","何蓉","309独山县麻尾镇财政分局","01财会人员",{"$f":"VLOOKUP(B496,[1]Sheet1!$A:$I,8,0)","v":"78.00"},{"$f":"VLOOKUP(B496,[1]Sheet1!$A:$I,9,0)","v":"86.50"},null,{"v":164.5,"d":"164.50"}]
[497,"1152270601102","罗玲","309独山县麻尾镇财政分局","01财会人员",{"$f":"VLOOKUP(B497,[1]Sheet1!$A:$I,8,0)","v":"69.00"},{"$f":"VLOOKUP(B497,[1]Sheet1!$A:$I,9,0)","v":"93.00"},{"$f":"VLOOKUP(B497,[2]少数民族加分!$C$1:$E$65536,3,FALSE)","v":2},{"v":164,"d":"164.00"}]
[498,"1152270600313","吴琳","309独山县麻尾镇财政分局","01财会人员",{"$f":"VLOOKUP(B498,[1]Sheet1!$A:$I,8,0)","v":"82.50"},{"$f":"VLOOKUP(B498,[1]Sheet1!$A:$I,9,0)","v":"79.00"},{"$f":"VLOOKUP(B498,[2]少数民族加分!$C$1:$E$65536,3,FALSE)","v":2},{"v":163.5,"d":"163.50"}]
[495,"1152270602021","张芳","309独山县麻尾镇财政分局","01财会人员",{"$f":"VLOOKUP(B499,[1]Sheet1!$A:$I,8,0)","v":"61.00"},{"$f":"VLOOKUP(B499,[1]Sheet1!$A:$I,9,0)","v":"102.00"},null,{"v":163,"d":"163.00"}]
[496,"1152270600321","魏姣姣","309独山县麻尾镇财政分局","01财会人员",{"$f":"VLOOKUP(B500,[1]Sheet1!$A:$I,8,0)","v":"90.00"},{"$f":"VLOOKUP(B500,[1]Sheet1!$A:$I,9,0)","v":"72.50"},null,{"v":162.5,"d":"162.50"}]
[499,"1152270602224","赵玥","309独山县麻尾镇财政分局","01财会人员",{"$f":"VLOOKUP(B501,[1]Sheet1!$A:$I,8,0)","v":"83.00"},{"$f":"VLOOKUP(B501,[1]Sheet1!$A:$I,9,0)","v":"78.50"},null,{"v":161.5,"d":"161.50"}]
[500,"1152270601328","潘桁","309独山县麻尾镇财政分局","01财会人员",{"$f":"VLOOKUP(B502,[1]Sheet1!$A:$I,8,0)","v":"81.00"},{"$f":"VLOOKUP(B502,[1]Sheet1!$A:$I,9,0)","v":"78.00"},{"$f":"VLOOKUP(B502,[2]少数民族加分!$C$1:$E$65536,3,FALSE)","v":2},{"v":161,"d":"161.00"}]
[501,"1152270601908","杨莹思","309独山县麻尾镇财政分局","01财会人员",{"$f":"VLOOKUP(B503,[1]Sheet1!$A:$I,8,0)","v":"84.50"},{"$f":"VLOOKUP(B503,[1]Sheet1!$A:$I,9,0)","v":"74.50"},null,{"v":159,"d":"159.00"}]
[502,"1152270602323","陈想","309独山县麻尾镇财政分局","01财会人员",{"$f":"VLOOKUP(B504,[1]Sheet1!$A:$I,8,0)","v":"74.00"},{"$f":"VLOOKUP(B504,[1]Sheet1!$A:$I,9,0)","v":"84.50"},null,{"v":158.5,"d":"158.50"}]
[503,"1152270500820","张平","309独山县麻尾镇财政分局","01财会人员",{"$f":"VLOOKUP(B505,[1]Sheet1!$A:$I,8,0)","v":"67.50"},{"$f":"VLOOKUP(B505,[1]Sheet1!$A:$I,9,0)","v":"91.00"},null,{"v":158.5,"d":"158.50"}]
[504,"1152270601628","刘莎","309独山县麻尾镇财政分局","01财会人员",{"$f":"VLOOKUP(B506,[1]Sheet1!$A:$I,8,0)","v":"71.50"},{"$f":"VLOOKUP(B506,[1]Sheet1!$A:$I,9,0)","v":"83.50"},{"$f":"VLOOKUP(B506,[2]少数民族加分!$C$1:$E$65536,3,FALSE)","v":2},{"v":157,"d":"157.00"}]
[505,"1152270600405","高义珊","309独山县麻尾镇财政分局","01财会人员",{"$f":"VLOOKUP(B507,[1]Sheet1!$A:$I,8,0)","v":"78.50"},{"$f":"VLOOKUP(B507,[1]Sheet1!$A:$I,9,0)","v":"76.00"},{"$f":"VLOOKUP(B507,[2]少数民族加分!$C$1:$E$65536,3,FALSE)","v":2},{"v":156.5,"d":"156.50"}]
[506,"1152270600211","张玉美","309独山县麻尾镇财政分局","01财会人员",{"$f":"VLOOKUP(B508,[1]Sheet1!$A:$I,8,0)","v":"77.50"},{"$f":"VLOOKUP(B508,[1]Sheet1!$A:$I,9,0)","v":"76.50"},{"$f":"VLOOKUP(B508,[2]少数民族加分!$C$1:$E$65536,3,FALSE)","v":2},{"v":156,"d":"156.00"}]
[507,"1152270602015","张勇","309独山县麻尾镇财政分局","01财会人员",{"$f":"VLOOKUP(B509,[1]Sheet1!$A:$I,8,0)","v":"77.00"},{"$f":"VLOOKUP(B509,[1]Sheet1!$A:$I,9,0)","v":"77.00"},{"$f":"VLOOKUP(B509,[2]少数民族加分!$C$1:$E$65536,3,FALSE)","v":2},{"v":156,"d":"156.00"}]
[508,"1152270600703","杨胜琴","309独山县麻尾镇财政分局","01财会人员",{"$f":"VLOOKUP(B510,[1]Sheet1!$A:$I,8,0)","v":"66.50"},{"$f":"VLOOKUP(B510,[1]Sheet1!$A:$I,9,0)","v":"87.00"},{"$f":"VLOOKUP(B510,[2]少数民族加分!$C$1:$E$65536,3,FALSE)","v":2},{"v":155.5,"d":"155.50"}]
[510,"1152270601809","杨燕","309独山县麻尾镇财政分局","01财会人员",{"$f":"VLOOKUP(B511,[1]Sheet1!$A:$I,8,0)","v":"75.00"},{"$f":"VLOOKUP(B511,[1]Sheet1!$A:$I,9,0)","v":"78.00"},{"$f":"VLOOKUP(B511,[2]少数民族加分!$C$1:$E$65536,3,FALSE)","v":2},{"v":155,"d":"155.00"}]
[511,"1152270602526","李贵兰","309独山县麻尾镇财政分局","01财会人员",{"$f":"VLOOKUP(B512,[1]Sheet1!$A:$I,8,0)","v":"69.00"},{"$f":"VLOOKUP(B512,[1]Sheet1!$A:$I,9,0)","v":"84.00"},{"$f":"VLOOKUP(B512,[2]少数民族加分!$C$1:$E$65536,3,FALSE)","v":2},{"v":155,"d":"155.00"}]
[512,"1152270501012","王星月","309独山县麻尾镇财政分局","01财会人员",{"$f":"VLOOKUP(B513,[1]Sheet1!$A:$I,8,0)","v":"75.50"},{"$f":"VLOOKUP(B513,[1]Sheet1!$A:$I,9,0)","v":"77.00"},{"$f":"VLOOKUP(B513,[2]少数民族加分!$C$1:$E$65536,3,FALSE)","v":2},{"v":154.5,"d":"154.50"}]
[509,"1152270601721","王浩","309独山县麻尾镇财政分局","01财会人员",{"$f":"VLOOKUP(B514,[1]Sheet1!$A:$I,8,0)","v":"71.50"},{"$f":"VLOOKUP(B514,[1]Sheet1!$A:$I,9,0)","v":"81.50"},null,{"v":153,"d":"153.00"}]
[513,"1152270601615","姚茂童","309独山县麻尾镇财政分局","01财会人员",{"$f":"VLOOKUP(B515,[1]Sheet1!$A:$I,8,0)","v":"79.00"},{"$f":"VLOOKUP(B515,[1]Sheet1!$A:$I,9,0)","v":"70.50"},{"$f":"VLOOKUP(B515,[2]少数民族加分!$C$1:$E$65536,3,FALSE)","v":2},{"v":151.5,"d":"151.50"}]
[514,"1152270501026","王竣辉","309独山县麻尾镇财政分局","01财会人员",{"$f":"VLOOKUP(B516,[1]Sheet1!$A:$I,8,0)","v":"58.50"},{"$f":"VLOOKUP(B516,[1]Sheet1!$A:$I,9,0)","v":"90.00"},{"$f":"VLOOKUP(B516,[2]少数民族加分!$C$1:$E$65536,3,FALSE)","v":2},{"v":150.5,"d":"150.50"}]
[518,"1152270500622","何仕梅","309独山县麻尾镇财政分局","01财会人员",{"$f":"VLOOKUP(B517,[1]Sheet1!$A:$I,8,0)","v":"67.50"},{"$f":"VLOOKUP(B517,[1]Sheet1!$A:$I,9,0)","v":"79.00"},{"$f":"VLOOKUP(B517,[2]少数民族加分!$C$1:$E$65536,3,FALSE)","v":2},{"v":148.5,"d":"148.50"}]
[515,"1152270600622","朱义红","309独山县麻尾镇财政分局","01财会人员",{"$f":"VLOOKUP(B518,[1]Sheet1!$A:$I,8,0)","v":"79.00"},{"$f":"VLOOKUP(B518,[1]Sheet1!$A:$I,9,0)","v":"69.00"},null,{"v":148,"d":"148.00"}]
[516,"1152270601310","黄梅","309独山县麻尾镇财政分局","01财会人员",{"$f":"VLOOKUP(B519,[1]Sheet1!$A:$I,8,0)","v":"73.00"},{"$f":"VLOOKUP(B519,[1]Sheet1!$A:$I,9,0)","v":"74.00"},null,{"v":147,"d":"147.00"}]
[517,"1152270601720","李佳芬","309独山县麻尾镇财政分局","01财会人员",{"$f":"VLOOKUP(B520,[1]Sheet1!$A:$I,8,0)","v":"74.00"},{"$f":"VLOOKUP(B520,[1]Sheet1!$A:$I,9,0)","v":"73.00"},null,{"v":147,"d":"147.00"}]
[519,"1152270500703","朱康","309独山县麻尾镇财政分局","01财会人员",{"$f":"VLOOKUP(B521,[1]Sheet1!$A:$I,8,0)","v":"73.00"},{"$f":"VLOOKUP(B521,[1]Sheet1!$A:$I,9,0)","v":"73.50"},null,{"v":146.5,"d":"146.50"}]
[520,"1152270500518","李晓虹","309独山县麻尾镇财政分局","01财会人员",{"$f":"VLOOKUP(B522,[1]Sheet1!$A:$I,8,0)","v":"63.50"},{"$f":"VLOOKUP(B522,[1]Sheet1!$A:$I,9,0)","v":"82.00"},null,{"v":145.5,"d":"145.50"}]
[521,"1152270501127","何国艳","309独山县麻尾镇财政分局","01财会人员",{"$f":"VLOOKUP(B523,[1]Sheet1!$A:$I,8,0)","v":"58.50"},{"$f":"VLOOKUP(B523,[1]Sheet1!$A:$I,9,0)","v":"85.00"},{"$f":"VLOOKUP(B523,[2]少数民族加分!$C$1:$E$65536,3,FALSE)","v":2},{"v":145.5,"d":"145.50"}]
[523,"1152270601408","吴文科","309独山县麻尾镇财政分局","01财会人员",{"$f":"VLOOKUP(B524,[1]Sheet1!$A:$I,8,0)","v":"72.00"},{"$f":"VLOOKUP(B524,[1]Sheet1!$A:$I,9,0)","v":"70.50"},{"$f":"VLOOKUP(B524,[2]少数民族加分!$C$1:$E$65536,3,FALSE)","v":2},{"v":144.5,"d":"144.50"}]
[524,"1152270600119","黄寿云","309独山县麻尾镇财政分局","01财会人员",{"$f":"VLOOKUP(B525,[1]Sheet1!$A:$I,8,0)","v":"68.00"},{"$f":"VLOOKUP(B525,[1]Sheet1!$A:$I,9,0)","v":"74.00"},{"$f":"VLOOKUP(B525,[2]少数民族加分!$C$1:$E$65536,3,FALSE)","v":2},{"v":144,"d":"144.00"}]
[525,"1152270500803","吴国美","309独山县麻尾镇财政分局","01财会人员",{"$f":"VLOOKUP(B526,[1]Sheet1!$A:$I,8,0)","v":"68.50"},{"$f":"VLOOKUP(B526,[1]Sheet1!$A:$I,9,0)","v":"73.00"},{"$f":"VLOOKUP(B526,[2]少数民族加分!$C$1:$E$65536,3,FALSE)","v":2},{"v":143.5,"d":"143.50"}]
[527,"1152270500403","罗宇莎","309独山县麻尾镇财政分局","01财会人员",{"$f":"VLOOKUP(B527,[1]Sheet1!$A:$I,8,0)","v":"60.00"},{"$f":"VLOOKUP(B527,[1]Sheet1!$A:$I,9,0)","v":"81.00"},{"$f":"VLOOKUP(B527,[2]少数民族加分!$C$1:$E$65536,3,FALSE)","v":2},{"v":143,"d":"143.00"}]
[522,"1152270500917","蒙中侣","309独山县麻尾镇财政分局","01财会人员",{"$f":"VLOOKUP(B528,[1]Sheet1!$A:$I,8,0)","v":"83.50"},{"$f":"VLOOKUP(B528,[1]Sheet1!$A:$I,9,0)","v":"59.00"},null,{"v":142.5,"d":"142.50"}]
[529,"1152270601109","潘仁灵","309独山县麻尾镇财政分局","01财会人员",{"$f":"VLOOKUP(B529,[1]Sheet1!$A:$I,8,0)","v":"65.50"},{"$f":"VLOOKUP(B529,[1]Sheet1!$A:$I,9,0)","v":"75.00"},{"$f":"VLOOKUP(B529,[2]少数民族加分!$C$1:$E$65536,3,FALSE)","v":2},{"v":142.5,"d":"142.50"}]
[530,"1152270500914","吴冬梅","309独山县麻尾镇财政分局","01财会人员",{"$f":"VLOOKUP(B530,[1]Sheet1!$A:$I,8,0)","v":"64.00"},{"$f":"VLOOKUP(B530,[1]Sheet1!$A:$I,9,0)","v":"76.00"},{"$f":"VLOOKUP(B530,[2]少数民族加分!$C$1:$E$65536,3,FALSE)","v":2},{"v":142,"d":"142.00"}]
[526,"1152270600801","鲁辉辉","309独山县麻尾镇财政分局","01财会人员",{"$f":"VLOOKUP(B531,[1]Sheet1!$A:$I,8,0)","v":"62.50"},{"$f":"VLOOKUP(B531,[1]Sheet1!$A:$I,9,0)","v":"79.00"},null,{"v":141.5,"d":"141.50"}]
[528,"1152270500407","冉瑶","309独山县麻尾镇财政分局","01财会人员",{"$f":"VLOOKUP(B532,[1]Sheet1!$A:$I,8,0)","v":"66.50"},{"$f":"VLOOKUP(B532,[1]Sheet1!$A:$I,9,0)","v":"74.00"},null,{"v":140.5,"d":"140.50"}]
[531,"1152270501530","吴青阳","309独山县麻尾镇财政分局","01财会人员",{"$f":"VLOOKUP(B533,[1]Sheet1!$A:$I,8,0)","v":"75.00"},{"$f":"VLOOKUP(B533,[1]Sheet1!$A:$I,9,0)","v":"63.50"},{"$f":"VLOOKUP(B533,[2]少数民族加分!$C$1:$E$65536,3,FALSE)","v":2},{"v":140.5,"d":"140.50"}]
[532,"1152270600909","龙娟","309独山县麻尾镇财政分局","01财会人员",{"$f":"VLOOKUP(B534,[1]Sheet1!$A:$I,8,0)","v":"68.00"},{"$f":"VLOOKUP(B534,[1]Sheet1!$A:$I,9,0)","v":"70.00"},{"$f":"VLOOKUP(B534,[2]少数民族加分!$C$1:$E$65536,3,FALSE)","v":2},{"v":140,"d":"140.00"}]
[533,"1152270602228","罗招标","309独山县麻尾镇财政分局","01财会人员",{"$f":"VLOOKUP(B535,[1]Sheet1!$A:$I,8,0)","v":"73.50"},{"$f":"VLOOKUP(B535,[1]Sheet1!$A:$I,9,0)","v":"64.50"},{"$f":"VLOOKUP(B535,[2]少数民族加分!$C$1:$E$65536,3,FALSE)","v":2},{"v":140,"d":"140.00"}]
[534,"1152270500525","杨婷","309独山县麻尾镇财政分局","01财会人员",{"$f":"VLOOKUP(B536,[1]Sheet1!$A:$I,8,0)","v":"82.00"},{"$f":"VLOOKUP(B536,[1]Sheet1!$A:$I,9,0)","v":"55.00"},{"$f":"VLOOKUP(B536,[2]少数民族加分!$C$1:$E$65536,3,FALSE)","v":2},{"v":139,"d":"139.00"}]
[537,"1152270500503","李永友","309独山县麻尾镇财政分局","01财会人员",{"$f":"VLOOKUP(B537,[1]Sheet1!$A:$I,8,0)","v":"73.50"},{"$f":"VLOOKUP(B537,[1]Sheet1!$A:$I,9,0)","v":"61.50"},{"$f":"VLOOKUP(B537,[2]少数民族加分!$C$1:$E$65536,3,FALSE)","v":2},{"v":137,"d":"137.00"}]
[538,"1152270601226","欧霖","309独山县麻尾镇财政分局","01财会人员",{"$f":"VLOOKUP(B538,[1]Sheet1!$A:$I,8,0)","v":"81.00"},{"$f":"VLOOKUP(B538,[1]Sheet1!$A:$I,9,0)","v":"54.00"},{"$f":"VLOOKUP(B538,[2]少数民族加分!$C$1:$E$65536,3,FALSE)","v":2},{"v":137,"d":"137.00"}]
[535,"1152270600810","李继猛","309独山县麻尾镇财政分局","01财会人员",{"$f":"VLOOKUP(B539,[1]Sheet1!$A:$I,8,0)","v":"63.50"},{"$f":"VLOOKUP(B539,[1]Sheet1!$A:$I,9,0)","v":"73.00"},null,{"v":136.5,"d":"136.50"}]
[536,"1152270500722","浦绍杰","309独山县麻尾镇财政分局","01财会人员",{"$f":"VLOOKUP(B540,[1]Sheet1!$A:$I,8,0)","v":"60.00"},{"$f":"VLOOKUP(B540,[1]Sheet1!$A:$I,9,0)","v":"76.00"},null,{"v":136,"d":"136.00"}]
[539,"1152270500205","刘珊","309独山县麻尾镇财政分局","01财会人员",{"$f":"VLOOKUP(B541,[1]Sheet1!$A:$I,8,0)","v":"69.00"},{"$f":"VLOOKUP(B541,[1]Sheet1!$A:$I,9,0)","v":"66.00"},null,{"v":135,"d":"135.00"}]
[540,"1152270501329","张云开","309独山县麻尾镇财政分局","01财会人员",{"$f":"VLOOKUP(B542,[1]Sheet1!$A:$I,8,0)","v":"67.00"},{"$f":"VLOOKUP(B542,[1]Sheet1!$A:$I,9,0)","v":"66.00"},{"$f":"VLOOKUP(B542,[2]少数民族加分!$C$1:$E$65536,3,FALSE)","v":2},{"v":135,"d":"135.00"}]
[543,"1152270501309","罗侣","309独山县麻尾镇财政分局","01财会人员",{"$f":"VLOOKUP(B543,[1]Sheet1!$A:$I,8,0)","v":"59.00"},{"$f":"VLOOKUP(B543,[1]Sheet1!$A:$I,9,0)","v":"72.00"},{"$f":"VLOOKUP(B543,[2]少数民族加分!$C$1:$E$65536,3,FALSE)","v":2},{"v":133,"d":"133.00"}]
[541,"1152270500320","王湖","309独山县麻尾镇财政分局","01财会人员",{"$f":"VLOOKUP(B544,[1]Sheet1!$A:$I,8,0)","v":"37.50"},{"$f":"VLOOKUP(B544,[1]Sheet1!$A:$I,9,0)","v":"95.00"},null,{"v":132.5,"d":"132.50"}]
[542,"1152270601009","徐志标","309独山县麻尾镇财政分局","01财会人员",{"$f":"VLOOKUP(B545,[1]Sheet1!$A:$I,8,0)","v":"60.50"},{"$f":"VLOOKUP(B545,[1]Sheet1!$A:$I,9,0)","v":"72.00"},null,{"v":132.5,"d":"132.50"}]
[544,"1152270600325","何立香","309独山县麻尾镇财政分局","01财会人员",{"$f":"VLOOKUP(B546,[1]Sheet1!$A:$I,8,0)","v":"57.50"},{"$f":"VLOOKUP(B546,[1]Sheet1!$A:$I,9,0)","v":"73.00"},{"$f":"VLOOKUP(B546,[2]少数民族加分!$C$1:$E$65536,3,FALSE)","v":2},{"v":132.5,"d":"132.50"}]
[545,"1152270601811","杨梅","309独山县麻尾镇财政分局","01财会人员",{"$f":"VLOOKUP(B547,[1]Sheet1!$A:$I,8,0)","v":"66.50"},{"$f":"VLOOKUP(B547,[1]Sheet1!$A:$I,9,0)","v":"64.00"},{"$f":"VLOOKUP(B547,[2]少数民族加分!$C$1:$E$65536,3,FALSE)","v":2},{"v":132.5,"d":"132.50"}]
[546,"1152270500523","杨阳","309独山县麻尾镇财政分局","01财会人员",{"$f":"VLOOKUP(B548,[1]Sheet1!$A:$I,8,0)","v":"68.50"},{"$f":"VLOOKUP(B548,[1]Sheet1!$A:$I,9,0)","v":"61.00"},{"$f":"VLOOKUP(B548,[2]少数民族加分!$C$1:$E$65536,3,FALSE)","v":2},{"v":131.5,"d":"131.50"}]
[547,"1152270501024","杨秀丽","309独山县麻尾镇财政分局","01财会人员",{"$f":"VLOOKUP(B549,[1]Sheet1!$A:$I,8,0)","v":"55.00"},{"$f":"VLOOKUP(B549,[1]Sheet1!$A:$I,9,0)","v":"73.00"},{"$f":"VLOOKUP(B549,[2]少数民族加分!$C$1:$E$65536,3,FALSE)","v":2},{"v":130,"d":"130.00"}]
[548,"1152270601108","吴婧","309独山县麻尾镇财政分局","01财会人员",{"$f":"VLOOKUP(B550,[1]Sheet1!$A:$I,8,0)","v":"63.00"},{"$f":"VLOOKUP(B550,[1]Sheet1!$A:$I,9,0)","v":"65.00"},{"$f":"VLOOKUP(B550,[2]少数民族加分!$C$1:$E$65536,3,FALSE)","v":2},{"v":130,"d":"130.00"}]
[549,"1152270500824","袁应宏","309独山县麻尾镇财政分局","01财会人员",{"$f":"VLOOKUP(B551,[1]Sheet1!$A:$I,8,0)","v":"64.00"},{"$f":"VLOOKUP(B551,[1]Sheet1!$A:$I,9,0)","v":"63.00"},{"$f":"VLOOKUP(B551,[2]少数民族加分!$C$1:$E$65536,3,FALSE)","v":2},{"v":129,"d":"129.00"}]
[550,"1152270500924","莫春梅","309独山县麻尾镇财政分局","01财会人员",{"$f":"VLOOKUP(B552,[1]Sheet1!$A:$I,8,0)","v":"73.50"},{"$f":"VLOOKUP(B552,[1]Sheet1!$A:$I,9,0)","v":"53.00"},{"$f":"VLOOKUP(B552,[2]少数民族加分!$C$1:$E$65536,3,FALSE)","v":2},{"v":128.5,"d":"128.50"}]
[551,"1152270501219","何永奇","309独山县麻尾镇财政分局","01财会人员",{"$f":"VLOOKUP(B553,[1]Sheet1!$A:$I,8,0)","v":"55.00"},{"$f":"VLOOKUP(B553,[1]Sheet1!$A:$I,9,0)","v":"69.00"},{"$f":"VLOOKUP(B553,[2]少数民族加分!$C$1:$E$65536,3,FALSE)","v":2},{"v":126,"d":"126.00"}]
[552,"1152270601425","蒋德梅","309独山县麻尾镇财政分局","01财会人员",{"$f":"VLOOKUP(B554,[1]Sheet1!$A:$I,8,0)","v":"73.00"},{"$f":"VLOOKUP(B554,[1]Sheet1!$A:$I,9,0)","v":"50.00"},null,{"v":123,"d":"123.00"}]
[554,"1152270500723","岑琴","309独山县麻尾镇财政分局","01财会人员",{"$f":"VLOOKUP(B555,[1]Sheet1!$A:$I,8,0)","v":"60.00"},{"$f":"VLOOKUP(B555,[1]Sheet1!$A:$I,9,0)","v":"61.00"},{"$f":"VLOOKUP(B555,[2]少数民族加分!$C$1:$E$65536,3,FALSE)","v":2},{"v":123,"d":"123.00"}]
[553,"1152270602418","冉佳","309独山县麻尾镇财政分局","01财会人员",{"$f":"VLOOKUP(B556,[1]Sheet1!$A:$I,8,0)","v":"67.50"},{"$f":"VLOOKUP(B556,[1]Sheet1!$A:$I,9,0)","v":"54.00"},null,{"v":121.5,"d":"121.50"}]
[556,"1152270601228","余玉龙","309独山县麻尾镇财政分局","01财会人员",{"$f":"VLOOKUP(B557,[1]Sheet1!$A:$I,8,0)","v":"66.50"},{"$f":"VLOOKUP(B557,[1]Sheet1!$A:$I,9,0)","v":"53.00"},{"$f":"VLOOKUP(B557,[2]少数民族加分!$C$1:$E$65536,3,FALSE)","v":2},{"v":121.5,"d":"121.50"}]
[555,"1152270501216","朱丹","309独山县麻尾镇财政分局","01财会人员",{"$f":"VLOOKUP(B558,[1]Sheet1!$A:$I,8,0)","v":"57.50"},{"$f":"VLOOKUP(B558,[1]Sheet1!$A:$I,9,0)","v":"62.00"},null,{"v":119.5,"d":"119.50"}]
[558,"1152270602327","罗小宇","309独山县麻尾镇财政分局","01财会人员",{"$f":"VLOOKUP(B559,[1]Sheet1!$A:$I,8,0)","v":"55.00"},{"$f":"VLOOKUP(B559,[1]Sheet1!$A:$I,9,0)","v":"62.00"},{"$f":"VLOOKUP(B559,[2]少数民族加分!$C$1:$E$65536,3,FALSE)","v":2},{"v":119,"d":"119.00"}]
[557,"1152270602413","杨颖","309独山县麻尾镇财政分局","01财会人员",{"$f":"VLOOKUP(B560,[1]Sheet1!$A:$I,8,0)","v":"58.50"},{"$f":"VLOOKUP(B560,[1]Sheet1!$A:$I,9,0)","v":"60.00"},null,{"v":118.5,"d":"118.50"}]
[559,"1152270500606","张腊伟","309独山县麻尾镇财政分局","01财会人员",{"$f":"VLOOKUP(B561,[1]Sheet1!$A:$I,8,0)","v":"60.00"},{"$f":"VLOOKUP(B561,[1]Sheet1!$A:$I,9,0)","v":"56.00"},{"$f":"VLOOKUP(B561,[2]少数民族加分!$C$1:$E$65536,3,FALSE)","v":2},{"v":118,"d":"118.00"}]
[560,"1152270501712","莫孟谊","309独山县麻尾镇财政分局","01财会人员",{"$f":"VLOOKUP(B562,[1]Sheet1!$A:$I,8,0)","v":"54.00"},{"$f":"VLOOKUP(B562,[1]Sheet1!$A:$I,9,0)","v":"61.00"},{"$f":"VLOOKUP(B562,[2]少数民族加分!$C$1:$E$65536,3,FALSE)","v":2},{"v":117,"d":"117.00"}]
[561,"1152270500929","刘冬梅","309独山县麻尾镇财政分局","01财会人员",{"$f":"VLOOKUP(B563,[1]Sheet1!$A:$I,8,0)","v":"60.50"},{"$f":"VLOOKUP(B563,[1]Sheet1!$A:$I,9,0)","v":"53.00"},{"$f":"VLOOKUP(B563,[2]少数民族加分!$C$1:$E$65536,3,FALSE)","v":2},{"v":115.5,"d":"115.50"}]
[562,"1152270501723","宋本娇","309独山县麻尾镇财政分局","01财会人员",{"$f":"VLOOKUP(B564,[1]Sheet1!$A:$I,8,0)","v":"52.00"},{"$f":"VLOOKUP(B564,[1]Sheet1!$A:$I,9,0)","v":"55.00"},{"$f":"VLOOKUP(B564,[2]少数民族加分!$C$1:$E$65536,3,FALSE)","v":2},{"v":109,"d":"109.00"}]
[563,"1152270601122","王芝琴","309独山县麻尾镇财政分局","01财会人员",{"$f":"VLOOKUP(B565,[1]Sheet1!$A:$I,8,0)","v":"67.50"},{"$f":"VLOOKUP(B565,[1]Sheet1!$A:$I,9,0)","v":"36.00"},{"$f":"VLOOKUP(B565,[2]少数民族加分!$C$1:$E$65536,3,FALSE)","v":2},{"v":105.5,"d":"105.50"}]
[564,"1152270600905","廖朝珍","309独山县麻尾镇财政分局","01财会人员",{"$f":"VLOOKUP(B566,[1]Sheet1!$A:$I,8,0)","v":"57.50"},{"$f":"VLOOKUP(B566,[1]Sheet1!$A:$I,9,0)","v":"42.00"},{"$f":"VLOOKUP(B566,[2]少数民族加分!$C$1:$E$65536,3,FALSE)","v":2},{"v":101.5,"d":"101.50"}]
[565,"1152270601326","陆庆佩","309独山县麻尾镇财政分局","01财会人员",{"$f":"VLOOKUP(B567,[1]Sheet1!$A:$I,8,0)","v":"67.50"},{"$f":"VLOOKUP(B567,[1]Sheet1!$A:$I,9,0)","v":"27.00"},{"$f":"VLOOKUP(B567,[2]少数民族加分!$C$1:$E$65536,3,FALSE)","v":2},{"v":96.5,"d":"96.50"}]
[566,"1152270601202","周倩","309独山县麻尾镇财政分局","01财会人员",{"$f":"VLOOKUP(B568,[1]Sheet1!$A:$I,8,0)","v":"0.00"},{"$f":"VLOOKUP(B568,[1]Sheet1!$A:$I,9,0)","v":"0.00"},null,"缺考"]
[567,"1152270601219","潘德清","309独山县麻尾镇财政分局","01财会人员",{"$f":"VLOOKUP(B569,[1]Sheet1!$A:$I,8,0)","v":"0.00"},{"$f":"VLOOKUP(B569,[1]Sheet1!$A:$I,9,0)","v":"0.00"},{"$f":"VLOOKUP(B569,[2]少数民族加分!$C$1:$E$65536,3,FALSE)","v":2},"缺考"]
[568,"1152270601403","王琼","309独山县麻尾镇财政分局","01财会人员",{"$f":"VLOOKUP(B570,[1]Sheet1!$A:$I,8,0)","v":"0.00"},{"$f":"VLOOKUP(B570,[1]Sheet1!$A:$I,9,0)","v":"0.00"},null,"缺考"]
[569,"1152270601421","黄文力","309独山县麻尾镇财政分局","01财会人员",{"$f":"VLOOKUP(B571,[1]Sheet1!$A:$I,8,0)","v":"0.00"},{"$f":"VLOOKUP(B571,[1]Sheet1!$A:$I,9,0)","v":"0.00"},null,"缺考"]
[570,"1152270601620","赵海方","309独山县麻尾镇财政分局","01财会人员",{"$f":"VLOOKUP(B572,[1]Sheet1!$A:$I,8,0)","v":"0.00"},{"$f":"VLOOKUP(B572,[1]Sheet1!$A:$I,9,0)","v":"0.00"},null,"缺考"]
[571,"1152270602115","赵青龙","309独山县麻尾镇财政分局","01财会人员",{"$f":"VLOOKUP(B573,[1]Sheet1!$A:$I,8,0)","v":"0.00"},{"$f":"VLOOKUP(B573,[1]Sheet1!$A:$I,9,0)","v":"0.00"},null,"缺考"]
[572,"1152270602301","姚源清","309独山县麻尾镇财政分局","01财会人员",{"$f":"VLOOKUP(B574,[1]Sheet1!$A:$I,8,0)","v":"0.00"},{"$f":"VLOOKUP(B574,[1]Sheet1!$A:$I,9,0)","v":"0.00"},{"$f":"VLOOKUP(B574,[2]少数民族加分!$C$1:$E$65536,3,FALSE)","v":2},"缺考"]
[573,"1152270602311","吴毕洪","309独山县麻尾镇财政分局","01财会人员",{"$f":"VLOOKUP(B575,[1]Sheet1!$A:$I,8,0)","v":"0.00"},{"$f":"VLOOKUP(B575,[1]Sheet1!$A:$I,9,0)","v":"0.00"},{"$f":"VLOOKUP(B575,[2]少数民族加分!$C$1:$E$65536,3,FALSE)","v":2},"缺考"]
[574,"1152270602319","唐仙","309独山县麻尾镇财政分局","01财会人员",{"$f":"VLOOKUP(B576,[1]Sheet1!$A:$I,8,0)","v":"0.00"},{"$f":"VLOOKUP(B576,[1]Sheet1!$A:$I,9,0)","v":"0.00"},null,"缺考"]
[575,"1152270602508","赵龙菊","309独山县麻尾镇财政分局","01财会人员",{"$f":"VLOOKUP(B577,[1]Sheet1!$A:$I,8,0)","v":"0.00"},{"$f":"VLOOKUP(B577,[1]Sheet1!$A:$I,9,0)","v":"0.00"},{"$f":"VLOOKUP(B577,[2]少数民族加分!$C$1:$E$65536,3,FALSE)","v":2},"缺考"]
[576,"1152270500211","李小云","309独山县麻尾镇财政分局","01财会人员",{"$f":"VLOOKUP(B578,[1]Sheet1!$A:$I,8,0)","v":"0.00"},{"$f":"VLOOKUP(B578,[1]Sheet1!$A:$I,9,0)","v":"0.00"},{"$f":"VLOOKUP(B578,[2]少数民族加分!$C$1:$E$65536,3,FALSE)","v":2},"缺考"]
[577,"1152270500223","蒙焕优","309独山县麻尾镇财政分局","01财会人员",{"$f":"VLOOKUP(B579,[1]Sheet1!$A:$I,8,0)","v":"0.00"},{"$f":"VLOOKUP(B579,[1]Sheet1!$A:$I,9,0)","v":"0.00"},null,"缺考"]
[578,"1152270500224","林倩","309独山县麻尾镇财政分局","01财会人员",{"$f":"VLOOKUP(B580,[1]Sheet1!$A:$I,8,0)","v":"0.00"},{"$f":"VLOOKUP(B580,[1]Sheet1!$A:$I,9,0)","v":"0.00"},null,"缺考"]
[579,"1152270500510","张中秋","309独山县麻尾镇财政分局","01财会人员",{"$f":"VLOOKUP(B581,[1]Sheet1!$A:$I,8,0)","v":"0.00"},{"$f":"VLOOKUP(B581,[1]Sheet1!$A:$I,9,0)","v":"0.00"},null,"缺考"]
[580,"1152270500611","彭裕涵","309独山县麻尾镇财政分局","01财会人员",{"$f":"VLOOKUP(B582,[1]Sheet1!$A:$I,8,0)","v":"0.00"},{"$f":"VLOOKUP(B582,[1]Sheet1!$A:$I,9,0)","v":"0.00"},null,"缺考"]
[581,"1152270500809","陈昌柳","309独山县麻尾镇财政分局","01财会人员",{"$f":"VLOOKUP(B583,[1]Sheet1!$A:$I,8,0)","v":"0.00"},{"$f":"VLOOKUP(B583,[1]Sheet1!$A:$I,9,0)","v":"0.00"},{"$f":"VLOOKUP(B583,[2]少数民族加分!$C$1:$E$65536,3,FALSE)","v":2},"缺考"]
[582,"1152270501220","黄先陟","309独山县麻尾镇财政分局","01财会人员",{"$f":"VLOOKUP(B584,[1]Sheet1!$A:$I,8,0)","v":"0.00"},{"$f":"VLOOKUP(B584,[1]Sheet1!$A:$I,9,0)","v":"0.00"},{"$f":"VLOOKUP(B584,[2]少数民族加分!$C$1:$E$65536,3,FALSE)","v":2},"缺考"]
[583,"1152270501502","龙剑平","309独山县麻尾镇财政分局","01财会人员",{"$f":"VLOOKUP(B585,[1]Sheet1!$A:$I,8,0)","v":"0.00"},{"$f":"VLOOKUP(B585,[1]Sheet1!$A:$I,9,0)","v":"0.00"},{"$f":"VLOOKUP(B585,[2]少数民族加分!$C$1:$E$65536,3,FALSE)","v":2},"缺考"]
[584,"1152270501519","岑涛","309独山县麻尾镇财政分局","01财会人员",{"$f":"VLOOKUP(B586,[1]Sheet1!$A:$I,8,0)","v":"0.00"},{"$f":"VLOOKUP(B586,[1]Sheet1!$A:$I,9,0)","v":"0.00"},{"$f":"VLOOKUP(B586,[2]少数民族加分!$C$1:$E$65536,3,FALSE)","v":2},"缺考"]
[585,"1152270501622","黄玉玲","309独山县麻尾镇财政分局","01财会人员",{"$f":"VLOOKUP(B587,[1]Sheet1!$A:$I,8,0)","v":"0.00"},{"$f":"VLOOKUP(B587,[1]Sheet1!$A:$I,9,0)","v":"0.00"},null,"缺考"]
[586,"1152270501719","牟怡","309独山县麻尾镇财政分局","01财会人员",{"$f":"VLOOKUP(B588,[1]Sheet1!$A:$I,8,0)","v":"0.00"},{"$f":"VLOOKUP(B588,[1]Sheet1!$A:$I,9,0)","v":"0.00"},null,"缺考"]
[587,"1152270501810","李强","309独山县麻尾镇财政分局","01财会人员",{"$f":"VLOOKUP(B589,[1]Sheet1!$A:$I,8,0)","v":"0.00"},{"$f":"VLOOKUP(B589,[1]Sheet1!$A:$I,9,0)","v":"0.00"},{"$f":"VLOOKUP(B589,[2]少数民族加分!$C$1:$E$65536,3,FALSE)","v":2},"缺考"]
[588,"1152270600316","韦志娇","309独山县麻尾镇财政分局","01财会人员",{"$f":"VLOOKUP(B590,[1]Sheet1!$A:$I,8,0)","v":"0.00"},{"$f":"VLOOKUP(B590,[1]Sheet1!$A:$I,9,0)","v":"0.00"},{"$f":"VLOOKUP(B590,[2]少数民族加分!$C$1:$E$65536,3,FALSE)","v":2},"缺考"]
[589,"1152270600507","姚国才","309独山县麻尾镇财政分局","01财会人员",{"$f":"VLOOKUP(B591,[1]Sheet1!$A:$I,8,0)","v":"0.00"},{"$f":"VLOOKUP(B591,[1]Sheet1!$A:$I,9,0)","v":"0.00"},null,"缺考"]
[590,"1152270600519","马廷文","309独山县麻尾镇财政分局","01财会人员",{"$f":"VLOOKUP(B592,[1]Sheet1!$A:$I,8,0)","v":"0.00"},{"$f":"VLOOKUP(B592,[1]Sheet1!$A:$I,9,0)","v":"0.00"},null,"缺考"]
[591,"1152270600718","杨园梅","309独山县麻尾镇财政分局","01财会人员",{"$f":"VLOOKUP(B593,[1]Sheet1!$A:$I,8,0)","v":"0.00"},{"$f":"VLOOKUP(B593,[1]Sheet1!$A:$I,9,0)","v":"0.00"},{"$f":"VLOOKUP(B593,[2]少数民族加分!$C$1:$E$65536,3,FALSE)","v":2},"缺考"]
[592,"1152270600824","杨再华","309独山县麻尾镇财政分局","01财会人员",{"$f":"VLOOKUP(B594,[1]Sheet1!$A:$I,8,0)","v":"0.00"},{"$f":"VLOOKUP(B594,[1]Sheet1!$A:$I,9,0)","v":"0.00"},{"$f":"VLOOKUP(B594,[2]少数民族加分!$C$1:$E$65536,3,FALSE)","v":2},"缺考"]
[593,"1152270600826","白加丽","309独山县麻尾镇财政分局","01财会人员",{"$f":"VLOOKUP(B595,[1]Sheet1!$A:$I,8,0)","v":"0.00"},{"$f":"VLOOKUP(B595,[1]Sheet1!$A:$I,9,0)","v":"0.00"},{"$f":"VLOOKUP(B595,[2]少数民族加分!$C$1:$E$65536,3,FALSE)","v":2},"缺考"]
[594,"1152270601012","吴昌兵","309独山县麻尾镇财政分局","01财会人员",{"$f":"VLOOKUP(B596,[1]Sheet1!$A:$I,8,0)","v":"0.00"},{"$f":"VLOOKUP(B596,[1]Sheet1!$A:$I,9,0)","v":"0.00"},{"$f":"VLOOKUP(B596,[2]少数民族加分!$C$1:$E$65536,3,FALSE)","v":2},"缺考"]
[595,"1152270601110","杨娇","309独山县麻尾镇财政分局","01财会人员",{"$f":"VLOOKUP(B597,[1]Sheet1!$A:$I,8,0)","v":"0.00"},{"$f":"VLOOKUP(B597,[1]Sheet1!$A:$I,9,0)","v":"0.00"},null,"缺考"]
[596,"1152270500928","索良燕","310独山县麻尾镇政务服务中心","01工作人员",{"$f":"VLOOKUP(B598,[1]Sheet1!$A:$I,8,0)","v":"94.00"},{"$f":"VLOOKUP(B598,[1]Sheet1!$A:$I,9,0)","v":"101.00"},{"$f":"VLOOKUP(B598,[2]少数民族加分!$C$1:$E$65536,3,FALSE)","v":2},{"v":197,"d":"197.00"}]
[597,"1152270601224","陆秀文","310独山县麻尾镇政务服务中心","01工作人员",{"$f":"VLOOKUP(B599,[1]Sheet1!$A:$I,8,0)","v":"90.50"},{"$f":"VLOOKUP(B599,[1]Sheet1!$A:$I,9,0)","v":"93.00"},{"$f":"VLOOKUP(B599,[2]少数民族加分!$C$1:$E$65536,3,FALSE)","v":2},{"v":185.5,"d":"185.50"}]
[598,"1152270600902","姚登双","310独山县麻尾镇政务服务中心","01工作人员",{"$f":"VLOOKUP(B600,[1]Sheet1!$A:$I,8,0)","v":"79.50"},{"$f":"VLOOKUP(B600,[1]Sheet1!$A:$I,9,0)","v":"96.50"},{"$f":"VLOOKUP(B600,[2]少数民族加分!$C$1:$E$65536,3,FALSE)","v":2},{"v":178,"d":"178.00"}]
[599,"1152270500202","陆德美","310独山县麻尾镇政务服务中心","01工作人员",{"$f":"VLOOKUP(B601,[1]Sheet1!$A:$I,8,0)","v":"84.00"},{"$f":"VLOOKUP(B601,[1]Sheet1!$A:$I,9,0)","v":"89.50"},{"$f":"VLOOKUP(B601,[2]少数民族加分!$C$1:$E$65536,3,FALSE)","v":2},{"v":175.5,"d":"175.50"}]
[600,"1152270500209","郭兴娇","310独山县麻尾镇政务服务中心","01工作人员",{"$f":"VLOOKUP(B602,[1]Sheet1!$A:$I,8,0)","v":"74.50"},{"$f":"VLOOKUP(B602,[1]Sheet1!$A:$I,9,0)","v":"97.00"},{"$f":"VLOOKUP(B602,[2]少数民族加分!$C$1:$E$65536,3,FALSE)","v":2},{"v":173.5,"d":"173.50"}]
[602,"1152270601420","罗婷","310独山县麻尾镇政务服务中心","01工作人员",{"$f":"VLOOKUP(B603,[1]Sheet1!$A:$I,8,0)","v":"68.50"},{"$f":"VLOOKUP(B603,[1]Sheet1!$A:$I,9,0)","v":"102.50"},{"$f":"VLOOKUP(B603,[2]少数民族加分!$C$1:$E$65536,3,FALSE)","v":2},{"v":173,"d":"173.00"}]
[601,"1152270500601","孟瑞优","310独山县麻尾镇政务服务中心","01工作人员",{"$f":"VLOOKUP(B604,[1]Sheet1!$A:$I,8,0)","v":"73.00"},{"$f":"VLOOKUP(B604,[1]Sheet1!$A:$I,9,0)","v":"98.50"},null,{"v":171.5,"d":"171.50"}]
[603,"1152270601322","卢天伟","310独山县麻尾镇政务服务中心","01工作人员",{"$f":"VLOOKUP(B605,[1]Sheet1!$A:$I,8,0)","v":"91.00"},{"$f":"VLOOKUP(B605,[1]Sheet1!$A:$I,9,0)","v":"77.50"},{"$f":"VLOOKUP(B605,[2]少数民族加分!$C$1:$E$65536,3,FALSE)","v":2},{"v":170.5,"d":"170.50"}]
[604,"1152270501709","王鼎","310独山县麻尾镇政务服务中心","01工作人员",{"$f":"VLOOKUP(B606,[1]Sheet1!$A:$I,8,0)","v":"77.50"},{"$f":"VLOOKUP(B606,[1]Sheet1!$A:$I,9,0)","v":"91.00"},{"$f":"VLOOKUP(B606,[2]少数民族加分!$C$1:$E$65536,3,FALSE)","v":2},{"v":170.5,"d":"170.50"}]
[605,"1152270600308","陆龙宽","310独山县麻尾镇政务服务中心","01工作人员",{"$f":"VLOOKUP(B607,[1]Sheet1!$A:$I,8,0)","v":"75.00"},{"$f":"VLOOKUP(B607,[1]Sheet1!$A:$I,9,0)","v":"92.00"},{"$f":"VLOOKUP(B607,[2]少数民族加分!$C$1:$E$65536,3,FALSE)","v":2},{"v":169,"d":"169.00"}]
[606,"1152270601915","向敏","310独山县麻尾镇政务服务中心","01工作人员",{"$f":"VLOOKUP(B608,[1]Sheet1!$A:$I,8,0)","v":"79.00"},{"$f":"VLOOKUP(B608,[1]Sheet1!$A:$I,9,0)","v":"85.50"},{"$f":"VLOOKUP(B608,[2]少数民族加分!$C$1:$E$65536,3,FALSE)","v":2},{"v":166.5,"d":"166.50"}]
[607,"1152270601325","韦祥银","310独山县麻尾镇政务服务中心","01工作人员",{"$f":"VLOOKUP(B609,[1]Sheet1!$A:$I,8,0)","v":"79.00"},{"$f":"VLOOKUP(B609,[1]Sheet1!$A:$I,9,0)","v":"85.00"},{"$f":"VLOOKUP(B609,[2]少数民族加分!$C$1:$E$65536,3,FALSE)","v":2},{"v":166,"d":"166.00"}]
[608,"1152270601227","尚富勇","310独山县麻尾镇政务服务中心","01工作人员",{"$f":"VLOOKUP(B610,[1]Sheet1!$A:$I,8,0)","v":"75.50"},{"$f":"VLOOKUP(B610,[1]Sheet1!$A:$I,9,0)","v":"88.00"},{"$f":"VLOOKUP(B610,[2]少数民族加分!$C$1:$E$65536,3,FALSE)","v":2},{"v":165.5,"d":"165.50"}]
[609,"1152270602504","赵远杰","310独山县麻尾镇政务服务中心","01工作人员",{"$f":"VLOOKUP(B611,[1]Sheet1!$A:$I,8,0)","v":"77.50"},{"$f":"VLOOKUP(B611,[1]Sheet1!$A:$I,9,0)","v":"84.00"},{"$f":"VLOOKUP(B611,[2]少数民族加分!$C$1:$E$65536,3,FALSE)","v":2},{"v":163.5,"d":"163.50"}]
[610,"1152270602212","韦朝聪","310独山县麻尾镇政务服务中心","01工作人员",{"$f":"VLOOKUP(B612,[1]Sheet1!$A:$I,8,0)","v":"77.50"},{"$f":"VLOOKUP(B612,[1]Sheet1!$A:$I,9,0)","v":"83.50"},{"$f":"VLOOKUP(B612,[2]少数民族加分!$C$1:$E$65536,3,FALSE)","v":2},{"v":163,"d":"163.00"}]
[611,"1152270501528","陆安娟","310独山县麻尾镇政务服务中心","01工作人员",{"$f":"VLOOKUP(B613,[1]Sheet1!$A:$I,8,0)","v":"69.00"},{"$f":"VLOOKUP(B613,[1]Sheet1!$A:$I,9,0)","v":"90.50"},{"$f":"VLOOKUP(B613,[2]少数民族加分!$C$1:$E$65536,3,FALSE)","v":2},{"v":161.5,"d":"161.50"}]
[612,"1152270501707","何立喜","310独山县麻尾镇政务服务中心","01工作人员",{"$f":"VLOOKUP(B614,[1]Sheet1!$A:$I,8,0)","v":"79.00"},{"$f":"VLOOKUP(B614,[1]Sheet1!$A:$I,9,0)","v":"80.50"},{"$f":"VLOOKUP(B614,[2]少数民族加分!$C$1:$E$65536,3,FALSE)","v":2},{"v":161.5,"d":"161.50"}]
[613,"1152270500128","黄磊","310独山县麻尾镇政务服务中心","01工作人员",{"$f":"VLOOKUP(B615,[1]Sheet1!$A:$I,8,0)","v":"71.50"},{"$f":"VLOOKUP(B615,[1]Sheet1!$A:$I,9,0)","v":"87.50"},{"$f":"VLOOKUP(B615,[2]少数民族加分!$C$1:$E$65536,3,FALSE)","v":2},{"v":161,"d":"161.00"}]
[614,"1152270500925","罗丹","310独山县麻尾镇政务服务中心","01工作人员",{"$f":"VLOOKUP(B616,[1]Sheet1!$A:$I,8,0)","v":"82.00"},{"$f":"VLOOKUP(B616,[1]Sheet1!$A:$I,9,0)","v":"76.00"},{"$f":"VLOOKUP(B616,[2]少数民族加分!$C$1:$E$65536,3,FALSE)","v":2},{"v":160,"d":"160.00"}]
[615,"1152270600526","韦泽智","310独山县麻尾镇政务服务中心","01工作人员",{"$f":"VLOOKUP(B617,[1]Sheet1!$A:$I,8,0)","v":"85.50"},{"$f":"VLOOKUP(B617,[1]Sheet1!$A:$I,9,0)","v":"71.50"},{"$f":"VLOOKUP(B617,[2]少数民族加分!$C$1:$E$65536,3,FALSE)","v":2},{"v":159,"d":"159.00"}]
[616,"1152270602030","何敏","310独山县麻尾镇政务服务中心","01工作人员",{"$f":"VLOOKUP(B618,[1]Sheet1!$A:$I,8,0)","v":"66.50"},{"$f":"VLOOKUP(B618,[1]Sheet1!$A:$I,9,0)","v":"90.00"},{"$f":"VLOOKUP(B618,[2]少数民族加分!$C$1:$E$65536,3,FALSE)","v":2},{"v":158.5,"d":"158.50"}]
[618,"1152270501010","黄世来","310独山县麻尾镇政务服务中心","01工作人员",{"$f":"VLOOKUP(B619,[1]Sheet1!$A:$I,8,0)","v":"84.50"},{"$f":"VLOOKUP(B619,[1]Sheet1!$A:$I,9,0)","v":"69.50"},{"$f":"VLOOKUP(B619,[2]少数民族加分!$C$1:$E$65536,3,FALSE)","v":2},{"v":156,"d":"156.00"}]
[617,"1152270500724","孟瑞琴","310独山县麻尾镇政务服务中心","01工作人员",{"$f":"VLOOKUP(B620,[1]Sheet1!$A:$I,8,0)","v":"68.00"},{"$f":"VLOOKUP(B620,[1]Sheet1!$A:$I,9,0)","v":"87.50"},null,{"v":155.5,"d":"155.50"}]
[619,"1152270600726","胡小霞","310独山县麻尾镇政务服务中心","01工作人员",{"$f":"VLOOKUP(B621,[1]Sheet1!$A:$I,8,0)","v":"65.00"},{"$f":"VLOOKUP(B621,[1]Sheet1!$A:$I,9,0)","v":"87.00"},{"$f":"VLOOKUP(B621,[2]少数民族加分!$C$1:$E$65536,3,FALSE)","v":2},{"v":154,"d":"154.00"}]
[620,"1152270600309","潘再顺","310独山县麻尾镇政务服务中心","01工作人员",{"$f":"VLOOKUP(B622,[1]Sheet1!$A:$I,8,0)","v":"61.50"},{"$f":"VLOOKUP(B622,[1]Sheet1!$A:$I,9,0)","v":"89.00"},{"$f":"VLOOKUP(B622,[2]少数民族加分!$C$1:$E$65536,3,FALSE)","v":2},{"v":152.5,"d":"152.50"}]
[622,"1152270601323","黄永金","310独山县麻尾镇政务服务中心","01工作人员",{"$f":"VLOOKUP(B623,[1]Sheet1!$A:$I,8,0)","v":"70.50"},{"$f":"VLOOKUP(B623,[1]Sheet1!$A:$I,9,0)","v":"79.50"},{"$f":"VLOOKUP(B623,[2]少数民族加分!$C$1:$E$65536,3,FALSE)","v":2},{"v":152,"d":"152.00"}]
[623,"1152270602105","吴文茹","310独山县麻尾镇政务服务中心","01工作人员",{"$f":"VLOOKUP(B624,[1]Sheet1!$A:$I,8,0)","v":"72.50"},{"$f":"VLOOKUP(B624,[1]Sheet1!$A:$I,9,0)","v":"77.50"},{"$f":"VLOOKUP(B624,[2]少数民族加分!$C$1:$E$65536,3,FALSE)","v":2},{"v":152,"d":"152.00"}]
[624,"1152270500904","韦德琴","310独山县麻尾镇政务服务中心","01工作人员",{"$f":"VLOOKUP(B625,[1]Sheet1!$A:$I,8,0)","v":"67.50"},{"$f":"VLOOKUP(B625,[1]Sheet1!$A:$I,9,0)","v":"81.00"},{"$f":"VLOOKUP(B625,[2]少数民族加分!$C$1:$E$65536,3,FALSE)","v":2},{"v":150.5,"d":"150.50"}]
[621,"1152270501115","莫维友","310独山县麻尾镇政务服务中心","01工作人员",{"$f":"VLOOKUP(B626,[1]Sheet1!$A:$I,8,0)","v":"71.50"},{"$f":"VLOOKUP(B626,[1]Sheet1!$A:$I,9,0)","v":"78.50"},null,{"v":150,"d":"150.00"}]
[625,"1152270601025","韦兴梅","310独山县麻尾镇政务服务中心","01工作人员",{"$f":"VLOOKUP(B627,[1]Sheet1!$A:$I,8,0)","v":"61.50"},{"$f":"VLOOKUP(B627,[1]Sheet1!$A:$I,9,0)","v":"86.00"},{"$f":"VLOOKUP(B627,[2]少数民族加分!$C$1:$E$65536,3,FALSE)","v":2},{"v":149.5,"d":"149.50"}]
[626,"1152270602127","蒙明霞","310独山县麻尾镇政务服务中心","01工作人员",{"$f":"VLOOKUP(B628,[1]Sheet1!$A:$I,8,0)","v":"70.50"},{"$f":"VLOOKUP(B628,[1]Sheet1!$A:$I,9,0)","v":"77.00"},{"$f":"VLOOKUP(B628,[2]少数民族加分!$C$1:$E$65536,3,FALSE)","v":2},{"v":149.5,"d":"149.50"}]
[627,"1152270600104","蒙泽进","310独山县麻尾镇政务服务中心","01工作人员",{"$f":"VLOOKUP(B629,[1]Sheet1!$A:$I,8,0)","v":"75.00"},{"$f":"VLOOKUP(B629,[1]Sheet1!$A:$I,9,0)","v":"71.50"},{"$f":"VLOOKUP(B629,[2]少数民族加分!$C$1:$E$65536,3,FALSE)","v":2},{"v":148.5,"d":"148.50"}]
[628,"1152270500117","谭文宋","310独山县麻尾镇政务服务中心","01工作人员",{"$f":"VLOOKUP(B630,[1]Sheet1!$A:$I,8,0)","v":"69.50"},{"$f":"VLOOKUP(B630,[1]Sheet1!$A:$I,9,0)","v":"77.00"},{"$f":"VLOOKUP(B630,[2]少数民族加分!$C$1:$E$65536,3,FALSE)","v":2},{"v":148.5,"d":"148.50"}]
[629,"1152270500409","吴键","310独山县麻尾镇政务服务中心","01工作人员",{"$f":"VLOOKUP(B631,[1]Sheet1!$A:$I,8,0)","v":"78.00"},{"$f":"VLOOKUP(B631,[1]Sheet1!$A:$I,9,0)","v":"67.50"},{"$f":"VLOOKUP(B631,[2]少数民族加分!$C$1:$E$65536,3,FALSE)","v":2},{"v":147.5,"d":"147.50"}]
[630,"1152270602422","陆方希","310独山县麻尾镇政务服务中心","01工作人员",{"$f":"VLOOKUP(B632,[1]Sheet1!$A:$I,8,0)","v":"75.00"},{"$f":"VLOOKUP(B632,[1]Sheet1!$A:$I,9,0)","v":"69.50"},{"$f":"VLOOKUP(B632,[2]少数民族加分!$C$1:$E$65536,3,FALSE)","v":2},{"v":146.5,"d":"146.50"}]
[631,"1152270501602","蒙伦丽","310独山县麻尾镇政务服务中心","01工作人员",{"$f":"VLOOKUP(B633,[1]Sheet1!$A:$I,8,0)","v":"56.50"},{"$f":"VLOOKUP(B633,[1]Sheet1!$A:$I,9,0)","v":"87.00"},{"$f":"VLOOKUP(B633,[2]少数民族加分!$C$1:$E$65536,3,FALSE)","v":2},{"v":145.5,"d":"145.50"}]
[632,"1152270600912","吴宗练","310独山县麻尾镇政务服务中心","01工作人员",{"$f":"VLOOKUP(B634,[1]Sheet1!$A:$I,8,0)","v":"57.50"},{"$f":"VLOOKUP(B634,[1]Sheet1!$A:$I,9,0)","v":"86.00"},{"$f":"VLOOKUP(B634,[2]少数民族加分!$C$1:$E$65536,3,FALSE)","v":2},{"v":145.5,"d":"145.50"}]
[633,"1152270500605","郭丹丹","310独山县麻尾镇政务服务中心","01工作人员",{"$f":"VLOOKUP(B635,[1]Sheet1!$A:$I,8,0)","v":"65.00"},{"$f":"VLOOKUP(B635,[1]Sheet1!$A:$I,9,0)","v":"78.00"},{"$f":"VLOOKUP(B635,[2]少数民族加分!$C$1:$E$65536,3,FALSE)","v":2},{"v":145,"d":"145.00"}]
[634,"1152270501405","孟国香","310独山县麻尾镇政务服务中心","01工作人员",{"$f":"VLOOKUP(B636,[1]Sheet1!$A:$I,8,0)","v":"62.50"},{"$f":"VLOOKUP(B636,[1]Sheet1!$A:$I,9,0)","v":"78.00"},{"$f":"VLOOKUP(B636,[2]少数民族加分!$C$1:$E$65536,3,FALSE)","v":2},{"v":142.5,"d":"142.50"}]
[635,"1152270601016","何立彪","310独山县麻尾镇政务服务中心","01工作人员",{"$f":"VLOOKUP(B637,[1]Sheet1!$A:$I,8,0)","v":"82.00"},{"$f":"VLOOKUP(B637,[1]Sheet1!$A:$I,9,0)","v":"58.00"},{"$f":"VLOOKUP(B637,[2]少数民族加分!$C$1:$E$65536,3,FALSE)","v":2},{"v":142,"d":"142.00"}]
[636,"1152270600628","蒙斌燕","310独山县麻尾镇政务服务中心","01工作人员",{"$f":"VLOOKUP(B638,[1]Sheet1!$A:$I,8,0)","v":"60.00"},{"$f":"VLOOKUP(B638,[1]Sheet1!$A:$I,9,0)","v":"79.00"},{"$f":"VLOOKUP(B638,[2]少数民族加分!$C$1:$E$65536,3,FALSE)","v":2},{"v":141,"d":"141.00"}]
[637,"1152270501520","黎龙平","310独山县麻尾镇政务服务中心","01工作人员",{"$f":"VLOOKUP(B639,[1]Sheet1!$A:$I,8,0)","v":"73.00"},{"$f":"VLOOKUP(B639,[1]Sheet1!$A:$I,9,0)","v":"65.50"},{"$f":"VLOOKUP(B639,[2]少数民族加分!$C$1:$E$65536,3,FALSE)","v":2},{"v":140.5,"d":"140.50"}]
[638,"1152270501314","彭继单","310独山县麻尾镇政务服务中心","01工作人员",{"$f":"VLOOKUP(B640,[1]Sheet1!$A:$I,8,0)","v":"56.00"},{"$f":"VLOOKUP(B640,[1]Sheet1!$A:$I,9,0)","v":"82.00"},{"$f":"VLOOKUP(B640,[2]少数民族加分!$C$1:$E$65536,3,FALSE)","v":2},{"v":140,"d":"140.00"}]
[639,"1152270600701","邹泽丹","310独山县麻尾镇政务服务中心","01工作人员",{"$f":"VLOOKUP(B641,[1]Sheet1!$A:$I,8,0)","v":"61.00"},{"$f":"VLOOKUP(B641,[1]Sheet1!$A:$I,9,0)","v":"77.00"},{"$f":"VLOOKUP(B641,[2]少数民族加分!$C$1:$E$65536,3,FALSE)","v":2},{"v":140,"d":"140.00"}]
[640,"1152270600730","鄂君彪","310独山县麻尾镇政务服务中心","01工作人员",{"$f":"VLOOKUP(B642,[1]Sheet1!$A:$I,8,0)","v":"63.00"},{"$f":"VLOOKUP(B642,[1]Sheet1!$A:$I,9,0)","v":"75.00"},{"$f":"VLOOKUP(B642,[2]少数民族加分!$C$1:$E$65536,3,FALSE)","v":2},{"v":140,"d":"140.00"}]
[641,"1152270602404","熊天莎","310独山县麻尾镇政务服务中心","01工作人员",{"$f":"VLOOKUP(B643,[1]Sheet1!$A:$I,8,0)","v":"67.00"},{"$f":"VLOOKUP(B643,[1]Sheet1!$A:$I,9,0)","v":"71.00"},{"$f":"VLOOKUP(B643,[2]少数民族加分!$C$1:$E$65536,3,FALSE)","v":2},{"v":140,"d":"140.00"}]
[642,"1152270602409","吴玉玲","310独山县麻尾镇政务服务中心","01工作人员",{"$f":"VLOOKUP(B644,[1]Sheet1!$A:$I,8,0)","v":"75.00"},{"$f":"VLOOKUP(B644,[1]Sheet1!$A:$I,9,0)","v":"63.00"},{"$f":"VLOOKUP(B644,[2]少数民族加分!$C$1:$E$65536,3,FALSE)","v":2},{"v":140,"d":"140.00"}]
[643,"1152270500330","胡祖丽","310独山县麻尾镇政务服务中心","01工作人员",{"$f":"VLOOKUP(B645,[1]Sheet1!$A:$I,8,0)","v":"64.00"},{"$f":"VLOOKUP(B645,[1]Sheet1!$A:$I,9,0)","v":"73.00"},{"$f":"VLOOKUP(B645,[2]少数民族加分!$C$1:$E$65536,3,FALSE)","v":2},{"v":139,"d":"139.00"}]
[644,"1152270600829","彭春菊","310独山县麻尾镇政务服务中心","01工作人员",{"$f":"VLOOKUP(B646,[1]Sheet1!$A:$I,8,0)","v":"63.00"},{"$f":"VLOOKUP(B646,[1]Sheet1!$A:$I,9,0)","v":"74.00"},{"$f":"VLOOKUP(B646,[2]少数民族加分!$C$1:$E$65536,3,FALSE)","v":2},{"v":139,"d":"139.00"}]
[645,"1152270500120","王燕川","310独山县麻尾镇政务服务中心","01工作人员",{"$f":"VLOOKUP(B647,[1]Sheet1!$A:$I,8,0)","v":"76.00"},{"$f":"VLOOKUP(B647,[1]Sheet1!$A:$I,9,0)","v":"61.00"},{"$f":"VLOOKUP(B647,[2]少数民族加分!$C$1:$E$65536,3,FALSE)","v":2},{"v":139,"d":"139.00"}]
[646,"1152270500807","滕昭国","310独山县麻尾镇政务服务中心","01工作人员",{"$f":"VLOOKUP(B648,[1]Sheet1!$A:$I,8,0)","v":"67.50"},{"$f":"VLOOKUP(B648,[1]Sheet1!$A:$I,9,0)","v":"68.50"},{"$f":"VLOOKUP(B648,[2]少数民族加分!$C$1:$E$65536,3,FALSE)","v":2},{"v":138,"d":"138.00"}]
[647,"1152270501811","黄建行","310独山县麻尾镇政务服务中心","01工作人员",{"$f":"VLOOKUP(B649,[1]Sheet1!$A:$I,8,0)","v":"67.50"},{"$f":"VLOOKUP(B649,[1]Sheet1!$A:$I,9,0)","v":"68.00"},null,{"v":135.5,"d":"135.50"}]
[648,"1152270601824","黎娇","310独山县麻尾镇政务服务中心","01工作人员",{"$f":"VLOOKUP(B650,[1]Sheet1!$A:$I,8,0)","v":"64.00"},{"$f":"VLOOKUP(B650,[1]Sheet1!$A:$I,9,0)","v":"69.00"},{"$f":"VLOOKUP(B650,[2]少数民族加分!$C$1:$E$65536,3,FALSE)","v":2},{"v":135,"d":"135.00"}]
[649,"1152270602321","莫昌俭","310独山县麻尾镇政务服务中心","01工作人员",{"$f":"VLOOKUP(B651,[1]Sheet1!$A:$I,8,0)","v":"65.00"},{"$f":"VLOOKUP(B651,[1]Sheet1!$A:$I,9,0)","v":"68.00"},{"$f":"VLOOKUP(B651,[2]少数民族加分!$C$1:$E$65536,3,FALSE)","v":2},{"v":135,"d":"135.00"}]
[650,"1152270500628","姚茂才","310独山县麻尾镇政务服务中心","01工作人员",{"$f":"VLOOKUP(B652,[1]Sheet1!$A:$I,8,0)","v":"74.00"},{"$f":"VLOOKUP(B652,[1]Sheet1!$A:$I,9,0)","v":"57.50"},{"$f":"VLOOKUP(B652,[2]少数民族加分!$C$1:$E$65536,3,FALSE)","v":2},{"v":133.5,"d":"133.50"}]
[651,"1152270500720","罗尊豪","310独山县麻尾镇政务服务中心","01工作人员",{"$f":"VLOOKUP(B653,[1]Sheet1!$A:$I,8,0)","v":"59.50"},{"$f":"VLOOKUP(B653,[1]Sheet1!$A:$I,9,0)","v":"72.00"},{"$f":"VLOOKUP(B653,[2]少数民族加分!$C$1:$E$65536,3,FALSE)","v":2},{"v":133.5,"d":"133.50"}]
[653,"1152270600409","岑碧娜","310独山县麻尾镇政务服务中心","01工作人员",{"$f":"VLOOKUP(B654,[1]Sheet1!$A:$I,8,0)","v":"56.50"},{"$f":"VLOOKUP(B654,[1]Sheet1!$A:$I,9,0)","v":"72.00"},{"$f":"VLOOKUP(B654,[2]少数民族加分!$C$1:$E$65536,3,FALSE)","v":2},{"v":130.5,"d":"130.50"}]
[652,"1152270500901","张登猛","310独山县麻尾镇政务服务中心","01工作人员",{"$f":"VLOOKUP(B655,[1]Sheet1!$A:$I,8,0)","v":"67.00"},{"$f":"VLOOKUP(B655,[1]Sheet1!$A:$I,9,0)","v":"63.00"},null,{"v":130,"d":"130.00"}]
[654,"1152270601422","吴绍帮","310独山县麻尾镇政务服务中心","01工作人员",{"$f":"VLOOKUP(B656,[1]Sheet1!$A:$I,8,0)","v":"60.50"},{"$f":"VLOOKUP(B656,[1]Sheet1!$A:$I,9,0)","v":"67.00"},{"$f":"VLOOKUP(B656,[2]少数民族加分!$C$1:$E$65536,3,FALSE)","v":2},{"v":129.5,"d":"129.50"}]
[655,"1152270500219","王姗","310独山县麻尾镇政务服务中心","01工作人员",{"$f":"VLOOKUP(B657,[1]Sheet1!$A:$I,8,0)","v":"59.00"},{"$f":"VLOOKUP(B657,[1]Sheet1!$A:$I,9,0)","v":"68.00"},{"$f":"VLOOKUP(B657,[2]少数民族加分!$C$1:$E$65536,3,FALSE)","v":2},{"v":129,"d":"129.00"}]
[656,"1152270501203","石大超","310独山县麻尾镇政务服务中心","01工作人员",{"$f":"VLOOKUP(B658,[1]Sheet1!$A:$I,8,0)","v":"70.50"},{"$f":"VLOOKUP(B658,[1]Sheet1!$A:$I,9,0)","v":"56.00"},{"$f":"VLOOKUP(B658,[2]少数民族加分!$C$1:$E$65536,3,FALSE)","v":2},{"v":128.5,"d":"128.50"}]
[657,"1152270601129","周欣","310独山县麻尾镇政务服务中心","01工作人员",{"$f":"VLOOKUP(B659,[1]Sheet1!$A:$I,8,0)","v":"64.00"},{"$f":"VLOOKUP(B659,[1]Sheet1!$A:$I,9,0)","v":"61.00"},{"$f":"VLOOKUP(B659,[2]少数民族加分!$C$1:$E$65536,3,FALSE)","v":2},{"v":127,"d":"127.00"}]
[658,"1152270500212","文尚丽","310独山县麻尾镇政务服务中心","01工作人员",{"$f":"VLOOKUP(B660,[1]Sheet1!$A:$I,8,0)","v":"48.00"},{"$f":"VLOOKUP(B660,[1]Sheet1!$A:$I,9,0)","v":"77.00"},{"$f":"VLOOKUP(B660,[2]少数民族加分!$C$1:$E$65536,3,FALSE)","v":2},{"v":127,"d":"127.00"}]
[659,"1152270601003","文继来","310独山县麻尾镇政务服务中心","01工作人员",{"$f":"VLOOKUP(B661,[1]Sheet1!$A:$I,8,0)","v":"67.00"},{"$f":"VLOOKUP(B661,[1]Sheet1!$A:$I,9,0)","v":"56.00"},{"$f":"VLOOKUP(B661,[2]少数民族加分!$C$1:$E$65536,3,FALSE)","v":2},{"v":125,"d":"125.00"}]
[660,"1152270601601","黎敏","310独山县麻尾镇政务服务中心","01工作人员",{"$f":"VLOOKUP(B662,[1]Sheet1!$A:$I,8,0)","v":"58.00"},{"$f":"VLOOKUP(B662,[1]Sheet1!$A:$I,9,0)","v":"64.00"},{"$f":"VLOOKUP(B662,[2]少数民族加分!$C$1:$E$65536,3,FALSE)","v":2},{"v":124,"d":"124.00"}]
[661,"1152270601309","吴继甫","310独山县麻尾镇政务服务中心","01工作人员",{"$f":"VLOOKUP(B663,[1]Sheet1!$A:$I,8,0)","v":"66.50"},{"$f":"VLOOKUP(B663,[1]Sheet1!$A:$I,9,0)","v":"55.00"},{"$f":"VLOOKUP(B663,[2]少数民族加分!$C$1:$E$65536,3,FALSE)","v":2},{"v":123.5,"d":"123.50"}]
[662,"1152270500127","石均凤","310独山县麻尾镇政务服务中心","01工作人员",{"$f":"VLOOKUP(B664,[1]Sheet1!$A:$I,8,0)","v":"53.00"},{"$f":"VLOOKUP(B664,[1]Sheet1!$A:$I,9,0)","v":"68.00"},{"$f":"VLOOKUP(B664,[2]少数民族加分!$C$1:$E$65536,3,FALSE)","v":2},{"v":123,"d":"123.00"}]
[663,"1152270602112","黄俊翠","310独山县麻尾镇政务服务中心","01工作人员",{"$f":"VLOOKUP(B665,[1]Sheet1!$A:$I,8,0)","v":"56.50"},{"$f":"VLOOKUP(B665,[1]Sheet1!$A:$I,9,0)","v":"63.00"},{"$f":"VLOOKUP(B665,[2]少数民族加分!$C$1:$E$65536,3,FALSE)","v":2},{"v":121.5,"d":"121.50"}]
[664,"1152270500707","安林时","310独山县麻尾镇政务服务中心","01工作人员",{"$f":"VLOOKUP(B666,[1]Sheet1!$A:$I,8,0)","v":"51.00"},{"$f":"VLOOKUP(B666,[1]Sheet1!$A:$I,9,0)","v":"67.00"},{"$f":"VLOOKUP(B666,[2]少数民族加分!$C$1:$E$65536,3,FALSE)","v":2},{"v":120,"d":"120.00"}]
[665,"1152270601424","吴鸿姝","310独山县麻尾镇政务服务中心","01工作人员",{"$f":"VLOOKUP(B667,[1]Sheet1!$A:$I,8,0)","v":"65.50"},{"$f":"VLOOKUP(B667,[1]Sheet1!$A:$I,9,0)","v":"52.00"},{"$f":"VLOOKUP(B667,[2]少数民族加分!$C$1:$E$65536,3,FALSE)","v":2},{"v":119.5,"d":"119.50"}]
[666,"1152270501319","刘康艳","310独山县麻尾镇政务服务中心","01工作人员",{"$f":"VLOOKUP(B668,[1]Sheet1!$A:$I,8,0)","v":"49.50"},{"$f":"VLOOKUP(B668,[1]Sheet1!$A:$I,9,0)","v":"67.00"},null,{"v":116.5,"d":"116.50"}]
[667,"1152270501101","莫凡昆","310独山县麻尾镇政务服务中心","01工作人员",{"$f":"VLOOKUP(B669,[1]Sheet1!$A:$I,8,0)","v":"62.00"},{"$f":"VLOOKUP(B669,[1]Sheet1!$A:$I,9,0)","v":"52.00"},{"$f":"VLOOKUP(B669,[2]少数民族加分!$C$1:$E$65536,3,FALSE)","v":2},{"v":116,"d":"116.00"}]
[668,"1152270600120","吴泽龙","310独山县麻尾镇政务服务中心","01工作人员",{"$f":"VLOOKUP(B670,[1]Sheet1!$A:$I,8,0)","v":"46.50"},{"$f":"VLOOKUP(B670,[1]Sheet1!$A:$I,9,0)","v":"67.00"},{"$f":"VLOOKUP(B670,[2]少数民族加分!$C$1:$E$65536,3,FALSE)","v":2},{"v":115.5,"d":"115.50"}]
[669,"1152270501303","韦广红","310独山县麻尾镇政务服务中心","01工作人员",{"$f":"VLOOKUP(B671,[1]Sheet1!$A:$I,8,0)","v":"46.50"},{"$f":"VLOOKUP(B671,[1]Sheet1!$A:$I,9,0)","v":"57.00"},{"$f":"VLOOKUP(B671,[2]少数民族加分!$C$1:$E$65536,3,FALSE)","v":2},{"v":105.5,"d":"105.50"}]
[670,"1152270501730","刘洪斌","310独山县麻尾镇政务服务中心","01工作人员",{"$f":"VLOOKUP(B672,[1]Sheet1!$A:$I,8,0)","v":"31.50"},{"$f":"VLOOKUP(B672,[1]Sheet1!$A:$I,9,0)","v":"70.00"},{"$f":"VLOOKUP(B672,[2]少数民族加分!$C$1:$E$65536,3,FALSE)","v":2},{"v":103.5,"d":"103.50"}]
[671,"1152270601606","韦海叶","310独山县麻尾镇政务服务中心","01工作人员",{"$f":"VLOOKUP(B673,[1]Sheet1!$A:$I,8,0)","v":"41.50"},{"$f":"VLOOKUP(B673,[1]Sheet1!$A:$I,9,0)","v":"60.00"},{"$f":"VLOOKUP(B673,[2]少数民族加分!$C$1:$E$65536,3,FALSE)","v":2},{"v":103.5,"d":"103.50"}]
[672,"1152270601021","黎丹","310独山县麻尾镇政务服务中心","01工作人员",{"$f":"VLOOKUP(B674,[1]Sheet1!$A:$I,8,0)","v":"47.50"},{"$f":"VLOOKUP(B674,[1]Sheet1!$A:$I,9,0)","v":"52.00"},{"$f":"VLOOKUP(B674,[2]少数民族加分!$C$1:$E$65536,3,FALSE)","v":2},{"v":101.5,"d":"101.50"}]
[673,"1152270602512","柏锦芝","310独山县麻尾镇政务服务中心","01工作人员",{"$f":"VLOOKUP(B675,[1]Sheet1!$A:$I,8,0)","v":"52.50"},{"$f":"VLOOKUP(B675,[1]Sheet1!$A:$I,9,0)","v":"40.00"},{"$f":"VLOOKUP(B675,[2]少数民族加分!$C$1:$E$65536,3,FALSE)","v":2},{"v":94.5,"d":"94.50"}]
[674,"1152270601124","罗国旭","310独山县麻尾镇政务服务中心","01工作人员",{"$f":"VLOOKUP(B676,[1]Sheet1!$A:$I,8,0)","v":"49.50"},{"$f":"VLOOKUP(B676,[1]Sheet1!$A:$I,9,0)","v":"39.00"},{"$f":"VLOOKUP(B676,[2]少数民族加分!$C$1:$E$65536,3,FALSE)","v":2},{"v":90.5,"d":"90.50"}]
[675,"1152270601017","黎成银","310独山县麻尾镇政务服务中心","01工作人员",{"$f":"VLOOKUP(B677,[1]Sheet1!$A:$I,8,0)","v":"47.00"},{"$f":"VLOOKUP(B677,[1]Sheet1!$A:$I,9,0)","v":"36.00"},{"$f":"VLOOKUP(B677,[2]少数民族加分!$C$1:$E$65536,3,FALSE)","v":2},{"v":85,"d":"85.00"}]
[676,"1152270500414","马诗楠","310独山县麻尾镇政务服务中心","01工作人员",{"$f":"VLOOKUP(B678,[1]Sheet1!$A:$I,8,0)","v":"0.00"},{"$f":"VLOOKUP(B678,[1]Sheet1!$A:$I,9,0)","v":"0.00"},{"$f":"VLOOKUP(B678,[2]少数民族加分!$C$1:$E$65536,3,FALSE)","v":2},"缺考"]
[677,"1152270500520","陆金丹","310独山县麻尾镇政务服务中心","01工作人员",{"$f":"VLOOKUP(B679,[1]Sheet1!$A:$I,8,0)","v":"0.00"},{"$f":"VLOOKUP(B679,[1]Sheet1!$A:$I,9,0)","v":"0.00"},{"$f":"VLOOKUP(B679,[2]少数民族加分!$C$1:$E$65536,3,FALSE)","v":2},"缺考"]
[678,"1152270500710","胡光涛","310独山县麻尾镇政务服务中心","01工作人员",{"$f":"VLOOKUP(B680,[1]Sheet1!$A:$I,8,0)","v":"0.00"},{"$f":"VLOOKUP(B680,[1]Sheet1!$A:$I,9,0)","v":"0.00"},{"$f":"VLOOKUP(B680,[2]少数民族加分!$C$1:$E$65536,3,FALSE)","v":2},"缺考"]
[679,"1152270500926","江霞","310独山县麻尾镇政务服务中心","01工作人员",{"$f":"VLOOKUP(B681,[1]Sheet1!$A:$I,8,0)","v":"0.00"},{"$f":"VLOOKUP(B681,[1]Sheet1!$A:$I,9,0)","v":"0.00"},{"$f":"VLOOKUP(B681,[2]少数民族加分!$C$1:$E$65536,3,FALSE)","v":2},"缺考"]
[680,"1152270501114","黎国柱","310独山县麻尾镇政务服务中心","01工作人员",{"$f":"VLOOKUP(B682,[1]Sheet1!$A:$I,8,0)","v":"0.00"},{"$f":"VLOOKUP(B682,[1]Sheet1!$A:$I,9,0)","v":"0.00"},{"$f":"VLOOKUP(B682,[2]少数民族加分!$C$1:$E$65536,3,FALSE)","v":2},"缺考"]
[681,"1152270501408","陆春雨","310独山县麻尾镇政务服务中心","01工作人员",{"$f":"VLOOKUP(B683,[1]Sheet1!$A:$I,8,0)","v":"0.00"},{"$f":"VLOOKUP(B683,[1]Sheet1!$A:$I,9,0)","v":"0.00"},{"$f":"VLOOKUP(B683,[2]少数民族加分!$C$1:$E$65536,3,FALSE)","v":2},"缺考"]
[682,"1152270501803","舒邀勇","310独山县麻尾镇政务服务中心","01工作人员",{"$f":"VLOOKUP(B684,[1]Sheet1!$A:$I,8,0)","v":"0.00"},{"$f":"VLOOKUP(B684,[1]Sheet1!$A:$I,9,0)","v":"0.00"},null,"缺考"]
[683,"1152270600124","李昌宏","310独山县麻尾镇政务服务中心","01工作人员",{"$f":"VLOOKUP(B685,[1]Sheet1!$A:$I,8,0)","v":"0.00"},{"$f":"VLOOKUP(B685,[1]Sheet1!$A:$I,9,0)","v":"0.00"},{"$f":"VLOOKUP(B685,[2]少数民族加分!$C$1:$E$65536,3,FALSE)","v":2},"缺考"]
[684,"1152270600220","陈维芬","310独山县麻尾镇政务服务中心","01工作人员",{"$f":"VLOOKUP(B686,[1]Sheet1!$A:$I,8,0)","v":"0.00"},{"$f":"VLOOKUP(B686,[1]Sheet1!$A:$I,9,0)","v":"0.00"},null,"缺考"]
[685,"1152270600927","黎献兰","310独山县麻尾镇政务服务中心","01工作人员",{"$f":"VLOOKUP(B687,[1]Sheet1!$A:$I,8,0)","v":"0.00"},{"$f":"VLOOKUP(B687,[1]Sheet1!$A:$I,9,0)","v":"0.00"},{"$f":"VLOOKUP(B687,[2]少数民族加分!$C$1:$E$65536,3,FALSE)","v":2},"缺考"]
[686,"1152270601706","韦红梅","310独山县麻尾镇政务服务中心","01工作人员",{"$f":"VLOOKUP(B688,[1]Sheet1!$A:$I,8,0)","v":"0.00"},{"$f":"VLOOKUP(B688,[1]Sheet1!$A:$I,9,0)","v":"0.00"},{"$f":"VLOOKUP(B688,[2]少数民族加分!$C$1:$E$65536,3,FALSE)","v":2},"缺考"]
[687,"1152270601711","岑远群","310独山县麻尾镇政务服务中心","01工作人员",{"$f":"VLOOKUP(B689,[1]Sheet1!$A:$I,8,0)","v":"0.00"},{"$f":"VLOOKUP(B689,[1]Sheet1!$A:$I,9,0)","v":"0.00"},{"$f":"VLOOKUP(B689,[2]少数民族加分!$C$1:$E$65536,3,FALSE)","v":2},"缺考"]
[688,"1152270601813","杨加娟","310独山县麻尾镇政务服务中心","01工作人员",{"$f":"VLOOKUP(B690,[1]Sheet1!$A:$I,8,0)","v":"0.00"},{"$f":"VLOOKUP(B690,[1]Sheet1!$A:$I,9,0)","v":"0.00"},{"$f":"VLOOKUP(B690,[2]少数民族加分!$C$1:$E$65536,3,FALSE)","v":2},"缺考"]
[689,"1152270602111","莫树邦","310独山县麻尾镇政务服务中心","01工作人员",{"$f":"VLOOKUP(B691,[1]Sheet1!$A:$I,8,0)","v":"0.00"},{"$f":"VLOOKUP(B691,[1]Sheet1!$A:$I,9,0)","v":"0.00"},{"$f":"VLOOKUP(B691,[2]少数民族加分!$C$1:$E$65536,3,FALSE)","v":2},"缺考"]
[690,"1152270602203","陆龙全","310独山县麻尾镇政务服务中心","01工作人员",{"$f":"VLOOKUP(B692,[1]Sheet1!$A:$I,8,0)","v":"0.00"},{"$f":"VLOOKUP(B692,[1]Sheet1!$A:$I,9,0)","v":"0.00"},{"$f":"VLOOKUP(B692,[2]少数民族加分!$C$1:$E$65536,3,FALSE)","v":2},"缺考"]
[691,"1152270602304","莫让丹","310独山县麻尾镇政务服务中心","01工作人员",{"$f":"VLOOKUP(B693,[1]Sheet1!$A:$I,8,0)","v":"0.00"},{"$f":"VLOOKUP(B693,[1]Sheet1!$A:$I,9,0)","v":"0.00"},{"$f":"VLOOKUP(B693,[2]少数民族加分!$C$1:$E$65536,3,FALSE)","v":2},"缺考"]
[692,"1152270600922","陈真仙","311独山县麻尾镇安全生产监督管理站","01工作人员",{"$f":"VLOOKUP(B694,[1]Sheet1!$A:$I,8,0)","v":"95.50"},{"$f":"VLOOKUP(B694,[1]Sheet1!$A:$I,9,0)","v":"102.00"},{"$f":"VLOOKUP(B694,[2]少数民族加分!$C$1:$E$65536,3,FALSE)","v":2},{"v":199.5,"d":"199.50"}]
[693,"1152270601907","吴俊","311独山县麻尾镇安全生产监督管理站","01工作人员",{"$f":"VLOOKUP(B695,[1]Sheet1!$A:$I,8,0)","v":"94.50"},{"$f":"VLOOKUP(B695,[1]Sheet1!$A:$I,9,0)","v":"99.00"},{"$f":"VLOOKUP(B695,[2]少数民族加分!$C$1:$E$65536,3,FALSE)","v":2},{"v":195.5,"d":"195.50"}]
[694,"1152270600326","邱济民","311独山县麻尾镇安全生产监督管理站","01工作人员",{"$f":"VLOOKUP(B696,[1]Sheet1!$A:$I,8,0)","v":"90.00"},{"$f":"VLOOKUP(B696,[1]Sheet1!$A:$I,9,0)","v":"91.00"},null,{"v":181,"d":"181.00"}]
[695,"1152270601428","潘启胜","311独山县麻尾镇安全生产监督管理站","01工作人员",{"$f":"VLOOKUP(B697,[1]Sheet1!$A:$I,8,0)","v":"61.50"},{"$f":"VLOOKUP(B697,[1]Sheet1!$A:$I,9,0)","v":"113.00"},{"$f":"VLOOKUP(B697,[2]少数民族加分!$C$1:$E$65536,3,FALSE)","v":2},{"v":176.5,"d":"176.50"}]
[696,"1152270601319","王志勇","311独山县麻尾镇安全生产监督管理站","01工作人员",{"$f":"VLOOKUP(B698,[1]Sheet1!$A:$I,8,0)","v":"80.50"},{"$f":"VLOOKUP(B698,[1]Sheet1!$A:$I,9,0)","v":"93.50"},null,{"v":174,"d":"174.00"}]
[697,"1152270601625","周子林","311独山县麻尾镇安全生产监督管理站","01工作人员",{"$f":"VLOOKUP(B699,[1]Sheet1!$A:$I,8,0)","v":"85.00"},{"$f":"VLOOKUP(B699,[1]Sheet1!$A:$I,9,0)","v":"86.50"},{"$f":"VLOOKUP(B699,[2]少数民族加分!$C$1:$E$65536,3,FALSE)","v":2},{"v":173.5,"d":"173.50"}]
[698,"1152270500411","谢开钰","311独山县麻尾镇安全生产监督管理站","01工作人员",{"$f":"VLOOKUP(B700,[1]Sheet1!$A:$I,8,0)","v":"88.00"},{"$f":"VLOOKUP(B700,[1]Sheet1!$A:$I,9,0)","v":"81.50"},{"$f":"VLOOKUP(B700,[2]少数民族加分!$C$1:$E$65536,3,FALSE)","v":2},{"v":171.5,"d":"171.50"}]
[699,"1152270501814","娄春花","311独山县麻尾镇安全生产监督管理站","01工作人员",{"$f":"VLOOKUP(B701,[1]Sheet1!$A:$I,8,0)","v":"81.50"},{"$f":"VLOOKUP(B701,[1]Sheet1!$A:$I,9,0)","v":"86.50"},{"$f":"VLOOKUP(B701,[2]少数民族加分!$C$1:$E$65536,3,FALSE)","v":2},{"v":170,"d":"170.00"}]
[700,"1152270602421","王玉英","311独山县麻尾镇安全生产监督管理站","01工作人员",{"$f":"VLOOKUP(B702,[1]Sheet1!$A:$I,8,0)","v":"76.00"},{"$f":"VLOOKUP(B702,[1]Sheet1!$A:$I,9,0)","v":"91.00"},{"$f":"VLOOKUP(B702,[2]少数民族加分!$C$1:$E$65536,3,FALSE)","v":2},{"v":169,"d":"169.00"}]
[704,"1152270601401","郑桂宇","311独山县麻尾镇安全生产监督管理站","01工作人员",{"$f":"VLOOKUP(B703,[1]Sheet1!$A:$I,8,0)","v":"75.50"},{"$f":"VLOOKUP(B703,[1]Sheet1!$A:$I,9,0)","v":"88.00"},{"$f":"VLOOKUP(B703,[2]少数民族加分!$C$1:$E$65536,3,FALSE)","v":2},{"v":165.5,"d":"165.50"}]
[701,"1152270500910","杨文炳","311独山县麻尾镇安全生产监督管理站","01工作人员",{"$f":"VLOOKUP(B704,[1]Sheet1!$A:$I,8,0)","v":"76.50"},{"$f":"VLOOKUP(B704,[1]Sheet1!$A:$I,9,0)","v":"88.50"},null,{"v":165,"d":"165.00"}]
[705,"1152270601028","邰平","311独山县麻尾镇安全生产监督管理站","01工作人员",{"$f":"VLOOKUP(B705,[1]Sheet1!$A:$I,8,0)","v":"69.00"},{"$f":"VLOOKUP(B705,[1]Sheet1!$A:$I,9,0)","v":"94.00"},{"$f":"VLOOKUP(B705,[2]少数民族加分!$C$1:$E$65536,3,FALSE)","v":2},{"v":165,"d":"165.00"}]
[702,"1152270501626","蒋念周","311独山县麻尾镇安全生产监督管理站","01工作人员",{"$f":"VLOOKUP(B706,[1]Sheet1!$A:$I,8,0)","v":"77.50"},{"$f":"VLOOKUP(B706,[1]Sheet1!$A:$I,9,0)","v":"87.00"},null,{"v":164.5,"d":"164.50"}]
[703,"1152270602104","夏远会","311独山县麻尾镇安全生产监督管理站","01工作人员",{"$f":"VLOOKUP(B707,[1]Sheet1!$A:$I,8,0)","v":"77.00"},{"$f":"VLOOKUP(B707,[1]Sheet1!$A:$I,9,0)","v":"87.00"},null,{"v":164,"d":"164.00"}]
[706,"1152270501630","牟祖芳","311独山县麻尾镇安全生产监督管理站","01工作人员",{"$f":"VLOOKUP(B708,[1]Sheet1!$A:$I,8,0)","v":"89.50"},{"$f":"VLOOKUP(B708,[1]Sheet1!$A:$I,9,0)","v":"71.50"},{"$f":"VLOOKUP(B708,[2]少数民族加分!$C$1:$E$65536,3,FALSE)","v":2},{"v":163,"d":"163.00"}]
[707,"1152270601208","索安","311独山县麻尾镇安全生产监督管理站","01工作人员",{"$f":"VLOOKUP(B709,[1]Sheet1!$A:$I,8,0)","v":"83.50"},{"$f":"VLOOKUP(B709,[1]Sheet1!$A:$I,9,0)","v":"76.50"},{"$f":"VLOOKUP(B709,[2]少数民族加分!$C$1:$E$65536,3,FALSE)","v":2},{"v":162,"d":"162.00"}]
[708,"1152270501401","张文森","311独山县麻尾镇安全生产监督管理站","01工作人员",{"$f":"VLOOKUP(B710,[1]Sheet1!$A:$I,8,0)","v":"85.50"},{"$f":"VLOOKUP(B710,[1]Sheet1!$A:$I,9,0)","v":"74.00"},{"$f":"VLOOKUP(B710,[2]少数民族加分!$C$1:$E$65536,3,FALSE)","v":2},{"v":161.5,"d":"161.50"}]
[709,"1152270501629","冷朝鑫","311独山县麻尾镇安全生产监督管理站","01工作人员",{"$f":"VLOOKUP(B711,[1]Sheet1!$A:$I,8,0)","v":"89.50"},{"$f":"VLOOKUP(B711,[1]Sheet1!$A:$I,9,0)","v":"69.00"},{"$f":"VLOOKUP(B711,[2]少数民族加分!$C$1:$E$65536,3,FALSE)","v":2},{"v":160.5,"d":"160.50"}]
[710,"1152270500115","白家培","311独山县麻尾镇安全生产监督管理站","01工作人员",{"$f":"VLOOKUP(B712,[1]Sheet1!$A:$I,8,0)","v":"61.00"},{"$f":"VLOOKUP(B712,[1]Sheet1!$A:$I,9,0)","v":"95.00"},{"$f":"VLOOKUP(B712,[2]少数民族加分!$C$1:$E$65536,3,FALSE)","v":2},{"v":158,"d":"158.00"}]
[712,"1152270601910","唐德皇","311独山县麻尾镇安全生产监督管理站","01工作人员",{"$f":"VLOOKUP(B713,[1]Sheet1!$A:$I,8,0)","v":"79.50"},{"$f":"VLOOKUP(B713,[1]Sheet1!$A:$I,9,0)","v":"74.00"},{"$f":"VLOOKUP(B713,[2]少数民族加分!$C$1:$E$65536,3,FALSE)","v":2},{"v":155.5,"d":"155.50"}]
[711,"1152270500529","张平","311独山县麻尾镇安全生产监督管理站","01工作人员",{"$f":"VLOOKUP(B714,[1]Sheet1!$A:$I,8,0)","v":"79.00"},{"$f":"VLOOKUP(B714,[1]Sheet1!$A:$I,9,0)","v":"74.50"},null,{"v":153.5,"d":"153.50"}]
[714,"1152270602517","刘兴旺","311独山县麻尾镇安全生产监督管理站","01工作人员",{"$f":"VLOOKUP(B715,[1]Sheet1!$A:$I,8,0)","v":"78.50"},{"$f":"VLOOKUP(B715,[1]Sheet1!$A:$I,9,0)","v":"72.00"},{"$f":"VLOOKUP(B715,[2]少数民族加分!$C$1:$E$65536,3,FALSE)","v":2},{"v":152.5,"d":"152.50"}]
[713,"1152270600222","刘恩磊","311独山县麻尾镇安全生产监督管理站","01工作人员",{"$f":"VLOOKUP(B716,[1]Sheet1!$A:$I,8,0)","v":"85.00"},{"$f":"VLOOKUP(B716,[1]Sheet1!$A:$I,9,0)","v":"66.50"},null,{"v":151.5,"d":"151.50"}]
[715,"1152270501416","熊雄","311独山县麻尾镇安全生产监督管理站","01工作人员",{"$f":"VLOOKUP(B717,[1]Sheet1!$A:$I,8,0)","v":"68.00"},{"$f":"VLOOKUP(B717,[1]Sheet1!$A:$I,9,0)","v":"78.00"},null,{"v":146,"d":"146.00"}]
[716,"1152270500218","吴国全","311独山县麻尾镇安全生产监督管理站","01工作人员",{"$f":"VLOOKUP(B718,[1]Sheet1!$A:$I,8,0)","v":"60.50"},{"$f":"VLOOKUP(B718,[1]Sheet1!$A:$I,9,0)","v":"83.00"},{"$f":"VLOOKUP(B718,[2]少数民族加分!$C$1:$E$65536,3,FALSE)","v":2},{"v":145.5,"d":"145.50"}]
[717,"1152270601611","廖芝文","311独山县麻尾镇安全生产监督管理站","01工作人员",{"$f":"VLOOKUP(B719,[1]Sheet1!$A:$I,8,0)","v":"68.50"},{"$f":"VLOOKUP(B719,[1]Sheet1!$A:$I,9,0)","v":"75.00"},{"$f":"VLOOKUP(B719,[2]少数民族加分!$C$1:$E$65536,3,FALSE)","v":2},{"v":145.5,"d":"145.50"}]
[718,"1152270501412","马青云","311独山县麻尾镇安全生产监督管理站","01工作人员",{"$f":"VLOOKUP(B720,[1]Sheet1!$A:$I,8,0)","v":"68.00"},{"$f":"VLOOKUP(B720,[1]Sheet1!$A:$I,9,0)","v":"73.00"},{"$f":"VLOOKUP(B720,[2]少数民族加分!$C$1:$E$65536,3,FALSE)","v":2},{"v":143,"d":"143.00"}]
[719,"1152270600907","龙智成","311独山县麻尾镇安全生产监督管理站","01工作人员",{"$f":"VLOOKUP(B721,[1]Sheet1!$A:$I,8,0)","v":"65.50"},{"$f":"VLOOKUP(B721,[1]Sheet1!$A:$I,9,0)","v":"75.00"},{"$f":"VLOOKUP(B721,[2]少数民族加分!$C$1:$E$65536,3,FALSE)","v":2},{"v":142.5,"d":"142.50"}]
[720,"1152270601513","韦明斯","311独山县麻尾镇安全生产监督管理站","01工作人员",{"$f":"VLOOKUP(B722,[1]Sheet1!$A:$I,8,0)","v":"78.50"},{"$f":"VLOOKUP(B722,[1]Sheet1!$A:$I,9,0)","v":"60.00"},{"$f":"VLOOKUP(B722,[2]少数民族加分!$C$1:$E$65536,3,FALSE)","v":2},{"v":140.5,"d":"140.50"}]
[721,"1152270602314","徐瑞丹","311独山县麻尾镇安全生产监督管理站","01工作人员",{"$f":"VLOOKUP(B723,[1]Sheet1!$A:$I,8,0)","v":"79.00"},{"$f":"VLOOKUP(B723,[1]Sheet1!$A:$I,9,0)","v":"59.00"},{"$f":"VLOOKUP(B723,[2]少数民族加分!$C$1:$E$65536,3,FALSE)","v":2},{"v":140,"d":"140.00"}]
[722,"1152270500828","王慧","311独山县麻尾镇安全生产监督管理站","01工作人员",{"$f":"VLOOKUP(B724,[1]Sheet1!$A:$I,8,0)","v":"62.00"},{"$f":"VLOOKUP(B724,[1]Sheet1!$A:$I,9,0)","v":"74.00"},{"$f":"VLOOKUP(B724,[2]少数民族加分!$C$1:$E$65536,3,FALSE)","v":2},{"v":138,"d":"138.00"}]
[723,"1152270601005","孟运涛","311独山县麻尾镇安全生产监督管理站","01工作人员",{"$f":"VLOOKUP(B725,[1]Sheet1!$A:$I,8,0)","v":"69.50"},{"$f":"VLOOKUP(B725,[1]Sheet1!$A:$I,9,0)","v":"66.00"},{"$f":"VLOOKUP(B725,[2]少数民族加分!$C$1:$E$65536,3,FALSE)","v":2},{"v":137.5,"d":"137.50"}]
[724,"1152270602528","胡依芳","311独山县麻尾镇安全生产监督管理站","01工作人员",{"$f":"VLOOKUP(B726,[1]Sheet1!$A:$I,8,0)","v":"53.50"},{"$f":"VLOOKUP(B726,[1]Sheet1!$A:$I,9,0)","v":"80.00"},null,{"v":133.5,"d":"133.50"}]
[726,"1152270602523","韦朝宇","311独山县麻尾镇安全生产监督管理站","01工作人员",{"$f":"VLOOKUP(B727,[1]Sheet1!$A:$I,8,0)","v":"56.50"},{"$f":"VLOOKUP(B727,[1]Sheet1!$A:$I,9,0)","v":"74.00"},{"$f":"VLOOKUP(B727,[2]少数民族加分!$C$1:$E$65536,3,FALSE)","v":2},{"v":132.5,"d":"132.50"}]
[725,"1152270501226","陈相燃","311独山县麻尾镇安全生产监督管理站","01工作人员",{"$f":"VLOOKUP(B728,[1]Sheet1!$A:$I,8,0)","v":"61.00"},{"$f":"VLOOKUP(B728,[1]Sheet1!$A:$I,9,0)","v":"71.00"},null,{"v":132,"d":"132.00"}]
[727,"1152270501022","陈兴飞","311独山县麻尾镇安全生产监督管理站","01工作人员",{"$f":"VLOOKUP(B729,[1]Sheet1!$A:$I,8,0)","v":"62.00"},{"$f":"VLOOKUP(B729,[1]Sheet1!$A:$I,9,0)","v":"68.00"},{"$f":"VLOOKUP(B729,[2]少数民族加分!$C$1:$E$65536,3,FALSE)","v":2},{"v":132,"d":"132.00"}]
[728,"1152270600509","赵亮海","311独山县麻尾镇安全生产监督管理站","01工作人员",{"$f":"VLOOKUP(B730,[1]Sheet1!$A:$I,8,0)","v":"67.00"},{"$f":"VLOOKUP(B730,[1]Sheet1!$A:$I,9,0)","v":"63.00"},{"$f":"VLOOKUP(B730,[2]少数民族加分!$C$1:$E$65536,3,FALSE)","v":2},{"v":132,"d":"132.00"}]
[729,"1152270601007","卢治安","311独山县麻尾镇安全生产监督管理站","01工作人员",{"$f":"VLOOKUP(B731,[1]Sheet1!$A:$I,8,0)","v":"69.50"},{"$f":"VLOOKUP(B731,[1]Sheet1!$A:$I,9,0)","v":"58.00"},{"$f":"VLOOKUP(B731,[2]少数民族加分!$C$1:$E$65536,3,FALSE)","v":2},{"v":129.5,"d":"129.50"}]
[730,"1152270600330","秦洁","311独山县麻尾镇安全生产监督管理站","01工作人员",{"$f":"VLOOKUP(B732,[1]Sheet1!$A:$I,8,0)","v":"61.50"},{"$f":"VLOOKUP(B732,[1]Sheet1!$A:$I,9,0)","v":"65.00"},{"$f":"VLOOKUP(B732,[2]少数民族加分!$C$1:$E$65536,3,FALSE)","v":2},{"v":128.5,"d":"128.50"}]
[731,"1152270601619","祝勇","311独山县麻尾镇安全生产监督管理站","01工作人员",{"$f":"VLOOKUP(B733,[1]Sheet1!$A:$I,8,0)","v":"70.00"},{"$f":"VLOOKUP(B733,[1]Sheet1!$A:$I,9,0)","v":"56.00"},{"$f":"VLOOKUP(B733,[2]少数民族加分!$C$1:$E$65536,3,FALSE)","v":2},{"v":128,"d":"128.00"}]
[732,"1152270602227","朱明明","311独山县麻尾镇安全生产监督管理站","01工作人员",{"$f":"VLOOKUP(B734,[1]Sheet1!$A:$I,8,0)","v":"63.00"},{"$f":"VLOOKUP(B734,[1]Sheet1!$A:$I,9,0)","v":"61.00"},{"$f":"VLOOKUP(B734,[2]少数民族加分!$C$1:$E$65536,3,FALSE)","v":2},{"v":126,"d":"126.00"}]
[733,"1152270501409","顾安炳","311独山县麻尾镇安全生产监督管理站","01工作人员",{"$f":"VLOOKUP(B735,[1]Sheet1!$A:$I,8,0)","v":"57.50"},{"$f":"VLOOKUP(B735,[1]Sheet1!$A:$I,9,0)","v":"65.00"},null,{"v":122.5,"d":"122.50"}]
[734,"1152270600404","张云","311独山县麻尾镇安全生产监督管理站","01工作人员",{"$f":"VLOOKUP(B736,[1]Sheet1!$A:$I,8,0)","v":"53.50"},{"$f":"VLOOKUP(B736,[1]Sheet1!$A:$I,9,0)","v":"67.00"},null,{"v":120.5,"d":"120.50"}]
[735,"1152270601626","陈文刚","311独山县麻尾镇安全生产监督管理站","01工作人员",{"$f":"VLOOKUP(B737,[1]Sheet1!$A:$I,8,0)","v":"54.00"},{"$f":"VLOOKUP(B737,[1]Sheet1!$A:$I,9,0)","v":"64.00"},{"$f":"VLOOKUP(B737,[2]少数民族加分!$C$1:$E$65536,3,FALSE)","v":2},{"v":120,"d":"120.00"}]
[736,"1152270500621","姜序顺","311独山县麻尾镇安全生产监督管理站","01工作人员",{"$f":"VLOOKUP(B738,[1]Sheet1!$A:$I,8,0)","v":"65.50"},{"$f":"VLOOKUP(B738,[1]Sheet1!$A:$I,9,0)","v":"51.00"},{"$f":"VLOOKUP(B738,[2]少数民族加分!$C$1:$E$65536,3,FALSE)","v":2},{"v":118.5,"d":"118.50"}]
[737,"1152270602217","彭春文","311独山县麻尾镇安全生产监督管理站","01工作人员",{"$f":"VLOOKUP(B739,[1]Sheet1!$A:$I,8,0)","v":"48.00"},{"$f":"VLOOKUP(B739,[1]Sheet1!$A:$I,9,0)","v":"54.00"},{"$f":"VLOOKUP(B739,[2]少数民族加分!$C$1:$E$65536,3,FALSE)","v":2},{"v":104,"d":"104.00"}]
[738,"1152270500908","吴胜智","311独山县麻尾镇安全生产监督管理站","01工作人员",{"$f":"VLOOKUP(B740,[1]Sheet1!$A:$I,8,0)","v":"58.00"},{"$f":"VLOOKUP(B740,[1]Sheet1!$A:$I,9,0)","v":"42.00"},{"$f":"VLOOKUP(B740,[2]少数民族加分!$C$1:$E$65536,3,FALSE)","v":2},{"v":102,"d":"102.00"}]
[739,"1152270500608","黄楷诚","311独山县麻尾镇安全生产监督管理站","01工作人员",{"$f":"VLOOKUP(B741,[1]Sheet1!$A:$I,8,0)","v":"0.00"},{"$f":"VLOOKUP(B741,[1]Sheet1!$A:$I,9,0)","v":"0.00"},null,"缺考"]
[740,"1152270500708","顾成成","311独山县麻尾镇安全生产监督管理站","01工作人员",{"$f":"VLOOKUP(B742,[1]Sheet1!$A:$I,8,0)","v":"0.00"},{"$f":"VLOOKUP(B742,[1]Sheet1!$A:$I,9,0)","v":"0.00"},{"$f":"VLOOKUP(B742,[2]少数民族加分!$C$1:$E$65536,3,FALSE)","v":2},"缺考"]
[741,"1152270501008","潘龙威","311独山县麻尾镇安全生产监督管理站","01工作人员",{"$f":"VLOOKUP(B743,[1]Sheet1!$A:$I,8,0)","v":"0.00"},{"$f":"VLOOKUP(B743,[1]Sheet1!$A:$I,9,0)","v":"0.00"},{"$f":"VLOOKUP(B743,[2]少数民族加分!$C$1:$E$65536,3,FALSE)","v":2},"缺考"]
[742,"1152270501330","覃念述","311独山县麻尾镇安全生产监督管理站","01工作人员",{"$f":"VLOOKUP(B744,[1]Sheet1!$A:$I,8,0)","v":"0.00"},{"$f":"VLOOKUP(B744,[1]Sheet1!$A:$I,9,0)","v":"0.00"},{"$f":"VLOOKUP(B744,[2]少数民族加分!$C$1:$E$65536,3,FALSE)","v":2},"缺考"]
[743,"1152270601411","何邦","311独山县麻尾镇安全生产监督管理站","01工作人员",{"$f":"VLOOKUP(B745,[1]Sheet1!$A:$I,8,0)","v":"0.00"},{"$f":"VLOOKUP(B745,[1]Sheet1!$A:$I,9,0)","v":"0.00"},{"$f":"VLOOKUP(B745,[2]少数民族加分!$C$1:$E$65536,3,FALSE)","v":2},"缺考"]
[744,"1152270601507","李展","311独山县麻尾镇安全生产监督管理站","01工作人员",{"$f":"VLOOKUP(B746,[1]Sheet1!$A:$I,8,0)","v":"0.00"},{"$f":"VLOOKUP(B746,[1]Sheet1!$A:$I,9,0)","v":"0.00"},{"$f":"VLOOKUP(B746,[2]少数民族加分!$C$1:$E$65536,3,FALSE)","v":2},"缺考"]
[745,"1152270601605","郑文","311独山县麻尾镇安全生产监督管理站","01工作人员",{"$f":"VLOOKUP(B747,[1]Sheet1!$A:$I,8,0)","v":"0.00"},{"$f":"VLOOKUP(B747,[1]Sheet1!$A:$I,9,0)","v":"0.00"},{"$f":"VLOOKUP(B747,[2]少数民族加分!$C$1:$E$65536,3,FALSE)","v":2},"缺考"]
[746,"1152270601825","李松","311独山县麻尾镇安全生产监督管理站","01工作人员",{"$f":"VLOOKUP(B748,[1]Sheet1!$A:$I,8,0)","v":"0.00"},{"$f":"VLOOKUP(B748,[1]Sheet1!$A:$I,9,0)","v":"0.00"},{"$f":"VLOOKUP(B748,[2]少数民族加分!$C$1:$E$65536,3,FALSE)","v":2},"缺考"]
[747,"1152270602522","明再学","311独山县麻尾镇安全生产监督管理站","01工作人员",{"$f":"VLOOKUP(B749,[1]Sheet1!$A:$I,8,0)","v":"0.00"},{"$f":"VLOOKUP(B749,[1]Sheet1!$A:$I,9,0)","v":"0.00"},{"$f":"VLOOKUP(B749,[2]少数民族加分!$C$1:$E$65536,3,FALSE)","v":2},"缺考"]
[748,"1152270500113","刘超文","311独山县麻尾镇安全生产监督管理站","01工作人员",{"$f":"VLOOKUP(B750,[1]Sheet1!$A:$I,8,0)","v":"0.00"},{"$f":"VLOOKUP(B750,[1]Sheet1!$A:$I,9,0)","v":"0.00"},null,"缺考"]
[749,"4152270604928","李友春","312独山县第一幼儿园","01幼儿教师",{"$f":"VLOOKUP(B751,[1]Sheet1!$A:$I,8,0)","v":"74.00"},{"$f":"VLOOKUP(B751,[1]Sheet1!$A:$I,9,0)","v":"103.00"},null,{"v":177,"d":"177.00"}]
[750,"4152270603006","唐念","312独山县第一幼儿园","01幼儿教师",{"$f":"VLOOKUP(B752,[1]Sheet1!$A:$I,8,0)","v":"86.00"},{"$f":"VLOOKUP(B752,[1]Sheet1!$A:$I,9,0)","v":"88.50"},{"$f":"VLOOKUP(B752,[2]少数民族加分!$C$1:$E$65536,3,FALSE)","v":2},{"v":176.5,"d":"176.50"}]
[751,"4152270700414","莫面旬","312独山县第一幼儿园","01幼儿教师",{"$f":"VLOOKUP(B753,[1]Sheet1!$A:$I,8,0)","v":"85.00"},{"$f":"VLOOKUP(B753,[1]Sheet1!$A:$I,9,0)","v":"89.50"},{"$f":"VLOOKUP(B753,[2]少数民族加分!$C$1:$E$65536,3,FALSE)","v":2},{"v":176.5,"d":"176.50"}]
[753,"4152270700822","潘春黎","312独山县第一幼儿园","01幼儿教师",{"$f":"VLOOKUP(B754,[1]Sheet1!$A:$I,8,0)","v":"85.50"},{"$f":"VLOOKUP(B754,[1]Sheet1!$A:$I,9,0)","v":"79.00"},{"$f":"VLOOKUP(B754,[2]少数民族加分!$C$1:$E$65536,3,FALSE)","v":2},{"v":166.5,"d":"166.50"}]
[752,"4152270700219","黄光珍","312独山县第一幼儿园","01幼儿教师",{"$f":"VLOOKUP(B755,[1]Sheet1!$A:$I,8,0)","v":"79.50"},{"$f":"VLOOKUP(B755,[1]Sheet1!$A:$I,9,0)","v":"86.00"},null,{"v":165.5,"d":"165.50"}]
[755,"4152270604019","罗忠利","312独山县第一幼儿园","01幼儿教师",{"$f":"VLOOKUP(B756,[1]Sheet1!$A:$I,8,0)","v":"79.00"},{"$f":"VLOOKUP(B756,[1]Sheet1!$A:$I,9,0)","v":"82.00"},{"$f":"VLOOKUP(B756,[2]少数民族加分!$C$1:$E$65536,3,FALSE)","v":2},{"v":163,"d":"163.00"}]
[754,"4152270605414","冯菲","312独山县第一幼儿园","01幼儿教师",{"$f":"VLOOKUP(B757,[1]Sheet1!$A:$I,8,0)","v":"80.50"},{"$f":"VLOOKUP(B757,[1]Sheet1!$A:$I,9,0)","v":"82.00"},null,{"v":162.5,"d":"162.50"}]
[758,"4152270700103","谢明聪","312独山县第一幼儿园","01幼儿教师",{"$f":"VLOOKUP(B758,[1]Sheet1!$A:$I,8,0)","v":"68.50"},{"$f":"VLOOKUP(B758,[1]Sheet1!$A:$I,9,0)","v":"89.00"},{"$f":"VLOOKUP(B758,[2]少数民族加分!$C$1:$E$65536,3,FALSE)","v":2},{"v":159.5,"d":"159.50"}]
[756,"4152270604330","余云倩","312独山县第一幼儿园","01幼儿教师",{"$f":"VLOOKUP(B759,[1]Sheet1!$A:$I,8,0)","v":"76.00"},{"$f":"VLOOKUP(B759,[1]Sheet1!$A:$I,9,0)","v":"83.00"},null,{"v":159,"d":"159.00"}]
[759,"4152270605417","王霞","312独山县第一幼儿园","01幼儿教师",{"$f":"VLOOKUP(B760,[1]Sheet1!$A:$I,8,0)","v":"71.00"},{"$f":"VLOOKUP(B760,[1]Sheet1!$A:$I,9,0)","v":"86.00"},{"$f":"VLOOKUP(B760,[2]少数民族加分!$C$1:$E$65536,3,FALSE)","v":2},{"v":159,"d":"159.00"}]
[760,"4152270604610","梅梅","312独山县第一幼儿园","01幼儿教师",{"$f":"VLOOKUP(B761,[1]Sheet1!$A:$I,8,0)","v":"84.00"},{"$f":"VLOOKUP(B761,[1]Sheet1!$A:$I,9,0)","v":"72.50"},{"$f":"VLOOKUP(B761,[2]少数民族加分!$C$1:$E$65536,3,FALSE)","v":2},{"v":158.5,"d":"158.50"}]
[757,"4152270603921","黄英露","312独山县第一幼儿园","01幼儿教师",{"$f":"VLOOKUP(B762,[1]Sheet1!$A:$I,8,0)","v":"83.50"},{"$f":"VLOOKUP(B762,[1]Sheet1!$A:$I,9,0)","v":"74.00"},null,{"v":157.5,"d":"157.50"}]
[761,"4152270700711","王静雯","312独山县第一幼儿园","01幼儿教师",{"$f":"VLOOKUP(B763,[1]Sheet1!$A:$I,8,0)","v":"86.50"},{"$f":"VLOOKUP(B763,[1]Sheet1!$A:$I,9,0)","v":"69.50"},null,{"v":156,"d":"156.00"}]
[762,"4152270700821","莫仁虾","312独山县第一幼儿园","01幼儿教师",{"$f":"VLOOKUP(B764,[1]Sheet1!$A:$I,8,0)","v":"73.00"},{"$f":"VLOOKUP(B764,[1]Sheet1!$A:$I,9,0)","v":"80.50"},{"$f":"VLOOKUP(B764,[2]少数民族加分!$C$1:$E$65536,3,FALSE)","v":2},{"v":155.5,"d":"155.50"}]
[764,"4152270700301","杨欢欣","312独山县第一幼儿园","01幼儿教师",{"$f":"VLOOKUP(B765,[1]Sheet1!$A:$I,8,0)","v":"77.50"},{"$f":"VLOOKUP(B765,[1]Sheet1!$A:$I,9,0)","v":"75.00"},{"$f":"VLOOKUP(B765,[2]少数民族加分!$C$1:$E$65536,3,FALSE)","v":2},{"v":154.5,"d":"154.50"}]
[765,"4152270603015","吴苇芗","312独山县第一幼儿园","01幼儿教师",{"$f":"VLOOKUP(B766,[1]Sheet1!$A:$I,8,0)","v":"73.00"},{"$f":"VLOOKUP(B766,[1]Sheet1!$A:$I,9,0)","v":"79.50"},{"$f":"VLOOKUP(B766,[2]少数民族加分!$C$1:$E$65536,3,FALSE)","v":2},{"v":154.5,"d":"154.50"}]
[766,"4152270604930","龙兴群","312独山县第一幼儿园","01幼儿教师",{"$f":"VLOOKUP(B767,[1]Sheet1!$A:$I,8,0)","v":"77.50"},{"$f":"VLOOKUP(B767,[1]Sheet1!$A:$I,9,0)","v":"75.00"},{"$f":"VLOOKUP(B767,[2]少数民族加分!$C$1:$E$65536,3,FALSE)","v":2},{"v":154.5,"d":"154.50"}]
[767,"4152270605317","赵明明","312独山县第一幼儿园","01幼儿教师",{"$f":"VLOOKUP(B768,[1]Sheet1!$A:$I,8,0)","v":"68.50"},{"$f":"VLOOKUP(B768,[1]Sheet1!$A:$I,9,0)","v":"83.50"},{"$f":"VLOOKUP(B768,[2]少数民族加分!$C$1:$E$65536,3,FALSE)","v":2},{"v":154,"d":"154.00"}]
[763,"4152270700914","陈芳芳","312独山县第一幼儿园","01幼儿教师",{"$f":"VLOOKUP(B769,[1]Sheet1!$A:$I,8,0)","v":"73.00"},{"$f":"VLOOKUP(B769,[1]Sheet1!$A:$I,9,0)","v":"80.50"},null,{"v":153.5,"d":"153.50"}]
[768,"4152270700407","周家颖","312独山县第一幼儿园","01幼儿教师",{"$f":"VLOOKUP(B770,[1]Sheet1!$A:$I,8,0)","v":"77.50"},{"$f":"VLOOKUP(B770,[1]Sheet1!$A:$I,9,0)","v":"74.00"},{"$f":"VLOOKUP(B770,[2]少数民族加分!$C$1:$E$65536,3,FALSE)","v":2},{"v":153.5,"d":"153.50"}]
[769,"4152270701127","陆双","312独山县第一幼儿园","01幼儿教师",{"$f":"VLOOKUP(B771,[1]Sheet1!$A:$I,8,0)","v":"72.00"},{"$f":"VLOOKUP(B771,[1]Sheet1!$A:$I,9,0)","v":"79.50"},{"$f":"VLOOKUP(B771,[2]少数民族加分!$C$1:$E$65536,3,FALSE)","v":2},{"v":153.5,"d":"153.50"}]
[770,"4152270603016","胡明艳","312独山县第一幼儿园","01幼儿教师",{"$f":"VLOOKUP(B772,[1]Sheet1!$A:$I,8,0)","v":"73.00"},{"$f":"VLOOKUP(B772,[1]Sheet1!$A:$I,9,0)","v":"76.50"},{"$f":"VLOOKUP(B772,[2]少数民族加分!$C$1:$E$65536,3,FALSE)","v":2},{"v":151.5,"d":"151.50"}]
[771,"4152270604013","杨竹","312独山县第一幼儿园","01幼儿教师",{"$f":"VLOOKUP(B773,[1]Sheet1!$A:$I,8,0)","v":"76.50"},{"$f":"VLOOKUP(B773,[1]Sheet1!$A:$I,9,0)","v":"72.50"},{"$f":"VLOOKUP(B773,[2]少数民族加分!$C$1:$E$65536,3,FALSE)","v":2},{"v":151,"d":"151.00"}]
[772,"4152270605027","廖国敏","312独山县第一幼儿园","01幼儿教师",{"$f":"VLOOKUP(B774,[1]Sheet1!$A:$I,8,0)","v":"85.00"},{"$f":"VLOOKUP(B774,[1]Sheet1!$A:$I,9,0)","v":"64.00"},{"$f":"VLOOKUP(B774,[2]少数民族加分!$C$1:$E$65536,3,FALSE)","v":2},{"v":151,"d":"151.00"}]
[773,"4152270605413","杨小兰","312独山县第一幼儿园","01幼儿教师",{"$f":"VLOOKUP(B775,[1]Sheet1!$A:$I,8,0)","v":"94.00"},{"$f":"VLOOKUP(B775,[1]Sheet1!$A:$I,9,0)","v":"54.50"},{"$f":"VLOOKUP(B775,[2]少数民族加分!$C$1:$E$65536,3,FALSE)","v":2},{"v":150.5,"d":"150.50"}]
[775,"4152270700222","张维","312独山县第一幼儿园","01幼儿教师",{"$f":"VLOOKUP(B776,[1]Sheet1!$A:$I,8,0)","v":"75.50"},{"$f":"VLOOKUP(B776,[1]Sheet1!$A:$I,9,0)","v":"72.00"},{"$f":"VLOOKUP(B776,[2]少数民族加分!$C$1:$E$65536,3,FALSE)","v":2},{"v":149.5,"d":"149.50"}]
[776,"4152270604121","班泽瑶","312独山县第一幼儿园","01幼儿教师",{"$f":"VLOOKUP(B777,[1]Sheet1!$A:$I,8,0)","v":"86.00"},{"$f":"VLOOKUP(B777,[1]Sheet1!$A:$I,9,0)","v":"61.50"},{"$f":"VLOOKUP(B777,[2]少数民族加分!$C$1:$E$65536,3,FALSE)","v":2},{"v":149.5,"d":"149.50"}]
[777,"4152270700701","吴梅","312独山县第一幼儿园","01幼儿教师",{"$f":"VLOOKUP(B778,[1]Sheet1!$A:$I,8,0)","v":"76.00"},{"$f":"VLOOKUP(B778,[1]Sheet1!$A:$I,9,0)","v":"71.00"},{"$f":"VLOOKUP(B778,[2]少数民族加分!$C$1:$E$65536,3,FALSE)","v":2},{"v":149,"d":"149.00"}]
[778,"4152270700111","梁颖","312独山县第一幼儿园","01幼儿教师",{"$f":"VLOOKUP(B779,[1]Sheet1!$A:$I,8,0)","v":"79.00"},{"$f":"VLOOKUP(B779,[1]Sheet1!$A:$I,9,0)","v":"67.50"},{"$f":"VLOOKUP(B779,[2]少数民族加分!$C$1:$E$65536,3,FALSE)","v":2},{"v":148.5,"d":"148.50"}]
[774,"4152270700518","郑建梅","312独山县第一幼儿园","01幼儿教师",{"$f":"VLOOKUP(B780,[1]Sheet1!$A:$I,8,0)","v":"75.00"},{"$f":"VLOOKUP(B780,[1]Sheet1!$A:$I,9,0)","v":"73.00"},null,{"v":148,"d":"148.00"}]
[779,"4152270700824","余彩","312独山县第一幼儿园","01幼儿教师",{"$f":"VLOOKUP(B781,[1]Sheet1!$A:$I,8,0)","v":"97.00"},{"$f":"VLOOKUP(B781,[1]Sheet1!$A:$I,9,0)","v":"48.50"},{"$f":"VLOOKUP(B781,[2]少数民族加分!$C$1:$E$65536,3,FALSE)","v":2},{"v":147.5,"d":"147.50"}]
[780,"4152270603029","石惠","312独山县第一幼儿园","01幼儿教师",{"$f":"VLOOKUP(B782,[1]Sheet1!$A:$I,8,0)","v":"76.50"},{"$f":"VLOOKUP(B782,[1]Sheet1!$A:$I,9,0)","v":"69.00"},{"$f":"VLOOKUP(B782,[2]少数民族加分!$C$1:$E$65536,3,FALSE)","v":2},{"v":147.5,"d":"147.50"}]
[782,"4152270603202","张兰兰","312独山县第一幼儿园","01幼儿教师",{"$f":"VLOOKUP(B783,[1]Sheet1!$A:$I,8,0)","v":"70.50"},{"$f":"VLOOKUP(B783,[1]Sheet1!$A:$I,9,0)","v":"74.50"},{"$f":"VLOOKUP(B783,[2]少数民族加分!$C$1:$E$65536,3,FALSE)","v":2},{"v":147,"d":"147.00"}]
[783,"4152270602701","田甜","312独山县第一幼儿园","01幼儿教师",{"$f":"VLOOKUP(B784,[1]Sheet1!$A:$I,8,0)","v":"86.00"},{"$f":"VLOOKUP(B784,[1]Sheet1!$A:$I,9,0)","v":"58.50"},{"$f":"VLOOKUP(B784,[2]少数民族加分!$C$1:$E$65536,3,FALSE)","v":2},{"v":146.5,"d":"146.50"}]
[784,"4152270603609","韦丽芝","312独山县第一幼儿园","01幼儿教师",{"$f":"VLOOKUP(B785,[1]Sheet1!$A:$I,8,0)","v":"71.50"},{"$f":"VLOOKUP(B785,[1]Sheet1!$A:$I,9,0)","v":"73.00"},{"$f":"VLOOKUP(B785,[2]少数民族加分!$C$1:$E$65536,3,FALSE)","v":2},{"v":146.5,"d":"146.50"}]
[786,"4152270605113","杨香荣","312独山县第一幼儿园","01幼儿教师",{"$f":"VLOOKUP(B786,[1]Sheet1!$A:$I,8,0)","v":"77.50"},{"$f":"VLOOKUP(B786,[1]Sheet1!$A:$I,9,0)","v":"66.50"},{"$f":"VLOOKUP(B786,[2]少数民族加分!$C$1:$E$65536,3,FALSE)","v":2},{"v":146,"d":"146.00"}]
[781,"4152270604008","王丹丹","312独山县第一幼儿园","01幼儿教师",{"$f":"VLOOKUP(B787,[1]Sheet1!$A:$I,8,0)","v":"72.00"},{"$f":"VLOOKUP(B787,[1]Sheet1!$A:$I,9,0)","v":"73.50"},null,{"v":145.5,"d":"145.50"}]
[788,"4152270604813","王巧","312独山县第一幼儿园","01幼儿教师",{"$f":"VLOOKUP(B788,[1]Sheet1!$A:$I,8,0)","v":"81.00"},{"$f":"VLOOKUP(B788,[1]Sheet1!$A:$I,9,0)","v":"62.00"},{"$f":"VLOOKUP(B788,[2]少数民族加分!$C$1:$E$65536,3,FALSE)","v":2},{"v":145,"d":"145.00"}]
[789,"4152270604018","梁永琴","312独山县第一幼儿园","01幼儿教师",{"$f":"VLOOKUP(B789,[1]Sheet1!$A:$I,8,0)","v":"77.00"},{"$f":"VLOOKUP(B789,[1]Sheet1!$A:$I,9,0)","v":"65.50"},{"$f":"VLOOKUP(B789,[2]少数民族加分!$C$1:$E$65536,3,FALSE)","v":2},{"v":144.5,"d":"144.50"}]
[785,"4152270603502","谢泽秀","312独山县第一幼儿园","01幼儿教师",{"$f":"VLOOKUP(B790,[1]Sheet1!$A:$I,8,0)","v":"76.50"},{"$f":"VLOOKUP(B790,[1]Sheet1!$A:$I,9,0)","v":"67.50"},null,{"v":144,"d":"144.00"}]
[790,"4152270605617","石龄樾","312独山县第一幼儿园","01幼儿教师",{"$f":"VLOOKUP(B791,[1]Sheet1!$A:$I,8,0)","v":"71.50"},{"$f":"VLOOKUP(B791,[1]Sheet1!$A:$I,9,0)","v":"70.50"},{"$f":"VLOOKUP(B791,[2]少数民族加分!$C$1:$E$65536,3,FALSE)","v":2},{"v":144,"d":"144.00"}]
[787,"4152270602801","蒲露杰","312独山县第一幼儿园","01幼儿教师",{"$f":"VLOOKUP(B792,[1]Sheet1!$A:$I,8,0)","v":"75.50"},{"$f":"VLOOKUP(B792,[1]Sheet1!$A:$I,9,0)","v":"67.50"},null,{"v":143,"d":"143.00"}]
[793,"4152270603709","潘成英","312独山县第一幼儿园","01幼儿教师",{"$f":"VLOOKUP(B793,[1]Sheet1!$A:$I,8,0)","v":"79.00"},{"$f":"VLOOKUP(B793,[1]Sheet1!$A:$I,9,0)","v":"61.50"},{"$f":"VLOOKUP(B793,[2]少数民族加分!$C$1:$E$65536,3,FALSE)","v":2},{"v":142.5,"d":"142.50"}]
[794,"4152270603829","彭艺","312独山县第一幼儿园","01幼儿教师",{"$f":"VLOOKUP(B794,[1]Sheet1!$A:$I,8,0)","v":"66.50"},{"$f":"VLOOKUP(B794,[1]Sheet1!$A:$I,9,0)","v":"73.50"},{"$f":"VLOOKUP(B794,[2]少数民族加分!$C$1:$E$65536,3,FALSE)","v":2},{"v":142,"d":"142.00"}]
[791,"4152270701216","彭秀梅","312独山县第一幼儿园","01幼儿教师",{"$f":"VLOOKUP(B795,[1]Sheet1!$A:$I,8,0)","v":"73.00"},{"$f":"VLOOKUP(B795,[1]Sheet1!$A:$I,9,0)","v":"68.00"},null,{"v":141,"d":"141.00"}]
[795,"4152270701110","杨雨芬","312独山县第一幼儿园","01幼儿教师",{"$f":"VLOOKUP(B796,[1]Sheet1!$A:$I,8,0)","v":"68.00"},{"$f":"VLOOKUP(B796,[1]Sheet1!$A:$I,9,0)","v":"71.00"},{"$f":"VLOOKUP(B796,[2]少数民族加分!$C$1:$E$65536,3,FALSE)","v":2},{"v":141,"d":"141.00"}]
[792,"4152270605520","徐玮","312独山县第一幼儿园","01幼儿教师",{"$f":"VLOOKUP(B797,[1]Sheet1!$A:$I,8,0)","v":"72.00"},{"$f":"VLOOKUP(B797,[1]Sheet1!$A:$I,9,0)","v":"68.50"},null,{"v":140.5,"d":"140.50"}]
[796,"4152270603027","贺国兰","312独山县第一幼儿园","01幼儿教师",{"$f":"VLOOKUP(B798,[1]Sheet1!$A:$I,8,0)","v":"79.00"},{"$f":"VLOOKUP(B798,[1]Sheet1!$A:$I,9,0)","v":"59.50"},{"$f":"VLOOKUP(B798,[2]少数民族加分!$C$1:$E$65536,3,FALSE)","v":2},{"v":140.5,"d":"140.50"}]
[797,"4152270604730","莫高慧","312独山县第一幼儿园","01幼儿教师",{"$f":"VLOOKUP(B799,[1]Sheet1!$A:$I,8,0)","v":"63.50"},{"$f":"VLOOKUP(B799,[1]Sheet1!$A:$I,9,0)","v":"75.00"},{"$f":"VLOOKUP(B799,[2]少数民族加分!$C$1:$E$65536,3,FALSE)","v":2},{"v":140.5,"d":"140.50"}]
[798,"4152270604618","符婕","312独山县第一幼儿园","01幼儿教师",{"$f":"VLOOKUP(B800,[1]Sheet1!$A:$I,8,0)","v":"72.50"},{"$f":"VLOOKUP(B800,[1]Sheet1!$A:$I,9,0)","v":"65.50"},{"$f":"VLOOKUP(B800,[2]少数民族加分!$C$1:$E$65536,3,FALSE)","v":2},{"v":140,"d":"140.00"}]
[799,"4152270603220","简定涛","312独山县第一幼儿园","01幼儿教师",{"$f":"VLOOKUP(B801,[1]Sheet1!$A:$I,8,0)","v":"67.00"},{"$f":"VLOOKUP(B801,[1]Sheet1!$A:$I,9,0)","v":"70.50"},{"$f":"VLOOKUP(B801,[2]少数民族加分!$C$1:$E$65536,3,FALSE)","v":2},{"v":139.5,"d":"139.50"}]
[801,"4152270604209","罗沙沙","312独山县第一幼儿园","01幼儿教师",{"$f":"VLOOKUP(B802,[1]Sheet1!$A:$I,8,0)","v":"62.00"},{"$f":"VLOOKUP(B802,[1]Sheet1!$A:$I,9,0)","v":"75.00"},{"$f":"VLOOKUP(B802,[2]少数民族加分!$C$1:$E$65536,3,FALSE)","v":2},{"v":139,"d":"139.00"}]
[803,"4152270700526","陈青波","312独山县第一幼儿园","01幼儿教师",{"$f":"VLOOKUP(B803,[1]Sheet1!$A:$I,8,0)","v":"69.50"},{"$f":"VLOOKUP(B803,[1]Sheet1!$A:$I,9,0)","v":"67.00"},{"$f":"VLOOKUP(B803,[2]少数民族加分!$C$1:$E$65536,3,FALSE)","v":2},{"v":138.5,"d":"138.50"}]
[804,"4152270602721","喻由粉","312独山县第一幼儿园","01幼儿教师",{"$f":"VLOOKUP(B804,[1]Sheet1!$A:$I,8,0)","v":"59.50"},{"$f":"VLOOKUP(B804,[1]Sheet1!$A:$I,9,0)","v":"77.00"},{"$f":"VLOOKUP(B804,[2]少数民族加分!$C$1:$E$65536,3,FALSE)","v":2},{"v":138.5,"d":"138.50"}]
[805,"4152270604321","陈梦思","312独山县第一幼儿园","01幼儿教师",{"$f":"VLOOKUP(B805,[1]Sheet1!$A:$I,8,0)","v":"64.50"},{"$f":"VLOOKUP(B805,[1]Sheet1!$A:$I,9,0)","v":"72.00"},{"$f":"VLOOKUP(B805,[2]少数民族加分!$C$1:$E$65536,3,FALSE)","v":2},{"v":138.5,"d":"138.50"}]
[806,"4152270603816","杨小米","312独山县第一幼儿园","01幼儿教师",{"$f":"VLOOKUP(B806,[1]Sheet1!$A:$I,8,0)","v":"65.50"},{"$f":"VLOOKUP(B806,[1]Sheet1!$A:$I,9,0)","v":"70.50"},{"$f":"VLOOKUP(B806,[2]少数民族加分!$C$1:$E$65536,3,FALSE)","v":2},{"v":138,"d":"138.00"}]
[800,"4152270604415","杨得琴","312独山县第一幼儿园","01幼儿教师",{"$f":"VLOOKUP(B807,[1]Sheet1!$A:$I,8,0)","v":"79.00"},{"$f":"VLOOKUP(B807,[1]Sheet1!$A:$I,9,0)","v":"58.50"},null,{"v":137.5,"d":"137.50"}]
[807,"4152270604628","余亭","312独山县第一幼儿园","01幼儿教师",{"$f":"VLOOKUP(B808,[1]Sheet1!$A:$I,8,0)","v":"68.00"},{"$f":"VLOOKUP(B808,[1]Sheet1!$A:$I,9,0)","v":"67.50"},{"$f":"VLOOKUP(B808,[2]少数民族加分!$C$1:$E$65536,3,FALSE)","v":2},{"v":137.5,"d":"137.50"}]
[808,"4152270700517","刘庆莲","312独山县第一幼儿园","01幼儿教师",{"$f":"VLOOKUP(B809,[1]Sheet1!$A:$I,8,0)","v":"67.50"},{"$f":"VLOOKUP(B809,[1]Sheet1!$A:$I,9,0)","v":"68.00"},{"$f":"VLOOKUP(B809,[2]少数民族加分!$C$1:$E$65536,3,FALSE)","v":2},{"v":137.5,"d":"137.50"}]
[802,"4152270700513","杨盛冬","312独山县第一幼儿园","01幼儿教师",{"$f":"VLOOKUP(B810,[1]Sheet1!$A:$I,8,0)","v":"64.00"},{"$f":"VLOOKUP(B810,[1]Sheet1!$A:$I,9,0)","v":"73.00"},null,{"v":137,"d":"137.00"}]
[809,"4152270700612","何永陶","312独山县第一幼儿园","01幼儿教师",{"$f":"VLOOKUP(B811,[1]Sheet1!$A:$I,8,0)","v":"65.50"},{"$f":"VLOOKUP(B811,[1]Sheet1!$A:$I,9,0)","v":"69.00"},{"$f":"VLOOKUP(B811,[2]少数民族加分!$C$1:$E$65536,3,FALSE)","v":2},{"v":136.5,"d":"136.50"}]
[811,"4152270603216","杨凤","312独山县第一幼儿园","01幼儿教师",{"$f":"VLOOKUP(B812,[1]Sheet1!$A:$I,8,0)","v":"75.50"},{"$f":"VLOOKUP(B812,[1]Sheet1!$A:$I,9,0)","v":"58.50"},{"$f":"VLOOKUP(B812,[2]少数民族加分!$C$1:$E$65536,3,FALSE)","v":2},{"v":136,"d":"136.00"}]
[813,"4152270604920","王庆军","312独山县第一幼儿园","01幼儿教师",{"$f":"VLOOKUP(B813,[1]Sheet1!$A:$I,8,0)","v":"64.50"},{"$f":"VLOOKUP(B813,[1]Sheet1!$A:$I,9,0)","v":"69.00"},{"$f":"VLOOKUP(B813,[2]少数民族加分!$C$1:$E$65536,3,FALSE)","v":2},{"v":135.5,"d":"135.50"}]
[816,"4152270602707","毛启珍","312独山县第一幼儿园","01幼儿教师",{"$f":"VLOOKUP(B814,[1]Sheet1!$A:$I,8,0)","v":"60.50"},{"$f":"VLOOKUP(B814,[1]Sheet1!$A:$I,9,0)","v":"72.00"},{"$f":"VLOOKUP(B814,[2]少数民族加分!$C$1:$E$65536,3,FALSE)","v":2},{"v":134.5,"d":"134.50"}]
[817,"4152270604923","沈森卉","312独山县第一幼儿园","01幼儿教师",{"$f":"VLOOKUP(B815,[1]Sheet1!$A:$I,8,0)","v":"67.00"},{"$f":"VLOOKUP(B815,[1]Sheet1!$A:$I,9,0)","v":"65.50"},{"$f":"VLOOKUP(B815,[2]少数民族加分!$C$1:$E$65536,3,FALSE)","v":2},{"v":134.5,"d":"134.50"}]
[810,"4152270700220","代章菊","312独山县第一幼儿园","01幼儿教师",{"$f":"VLOOKUP(B816,[1]Sheet1!$A:$I,8,0)","v":"74.50"},{"$f":"VLOOKUP(B816,[1]Sheet1!$A:$I,9,0)","v":"59.50"},null,{"v":134,"d":"134.00"}]
[812,"4152270603508","姚露","312独山县第一幼儿园","01幼儿教师",{"$f":"VLOOKUP(B817,[1]Sheet1!$A:$I,8,0)","v":"78.00"},{"$f":"VLOOKUP(B817,[1]Sheet1!$A:$I,9,0)","v":"56.00"},null,{"v":134,"d":"134.00"}]
[814,"4152270605329","袁艳","312独山县第一幼儿园","01幼儿教师",{"$f":"VLOOKUP(B818,[1]Sheet1!$A:$I,8,0)","v":"63.50"},{"$f":"VLOOKUP(B818,[1]Sheet1!$A:$I,9,0)","v":"70.00"},null,{"v":133.5,"d":"133.50"}]
[815,"4152270700719","王娟","312独山县第一幼儿园","01幼儿教师",{"$f":"VLOOKUP(B819,[1]Sheet1!$A:$I,8,0)","v":"65.50"},{"$f":"VLOOKUP(B819,[1]Sheet1!$A:$I,9,0)","v":"68.00"},null,{"v":133.5,"d":"133.50"}]
[819,"4152270701010","徐燕燕","312独山县第一幼儿园","01幼儿教师",{"$f":"VLOOKUP(B820,[1]Sheet1!$A:$I,8,0)","v":"63.50"},{"$f":"VLOOKUP(B820,[1]Sheet1!$A:$I,9,0)","v":"68.00"},{"$f":"VLOOKUP(B820,[2]少数民族加分!$C$1:$E$65536,3,FALSE)","v":2},{"v":133.5,"d":"133.50"}]
[820,"4152270602904","金星菊","312独山县第一幼儿园","01幼儿教师",{"$f":"VLOOKUP(B821,[1]Sheet1!$A:$I,8,0)","v":"66.00"},{"$f":"VLOOKUP(B821,[1]Sheet1!$A:$I,9,0)","v":"65.50"},{"$f":"VLOOKUP(B821,[2]少数民族加分!$C$1:$E$65536,3,FALSE)","v":2},{"v":133.5,"d":"133.50"}]
[822,"4152270700907","侯美芝","312独山县第一幼儿园","01幼儿教师",{"$f":"VLOOKUP(B822,[1]Sheet1!$A:$I,8,0)","v":"70.00"},{"$f":"VLOOKUP(B822,[1]Sheet1!$A:$I,9,0)","v":"61.00"},{"$f":"VLOOKUP(B822,[2]少数民族加分!$C$1:$E$65536,3,FALSE)","v":2},{"v":133,"d":"133.00"}]
[823,"4152270700509","何秋程","312独山县第一幼儿园","01幼儿教师",{"$f":"VLOOKUP(B823,[1]Sheet1!$A:$I,8,0)","v":"65.50"},{"$f":"VLOOKUP(B823,[1]Sheet1!$A:$I,9,0)","v":"65.00"},{"$f":"VLOOKUP(B823,[2]少数民族加分!$C$1:$E$65536,3,FALSE)","v":2},{"v":132.5,"d":"132.50"}]
[818,"4152270700908","彭璐","312独山县第一幼儿园","01幼儿教师",{"$f":"VLOOKUP(B824,[1]Sheet1!$A:$I,8,0)","v":"69.00"},{"$f":"VLOOKUP(B824,[1]Sheet1!$A:$I,9,0)","v":"63.00"},null,{"v":132,"d":"132.00"}]
[824,"4152270700814","陆倩","312独山县第一幼儿园","01幼儿教师",{"$f":"VLOOKUP(B825,[1]Sheet1!$A:$I,8,0)","v":"62.00"},{"$f":"VLOOKUP(B825,[1]Sheet1!$A:$I,9,0)","v":"68.00"},{"$f":"VLOOKUP(B825,[2]少数民族加分!$C$1:$E$65536,3,FALSE)","v":2},{"v":132,"d":"132.00"}]
[825,"4152270603621","任春丽","312独山县第一幼儿园","01幼儿教师",{"$f":"VLOOKUP(B826,[1]Sheet1!$A:$I,8,0)","v":"74.50"},{"$f":"VLOOKUP(B826,[1]Sheet1!$A:$I,9,0)","v":"55.50"},{"$f":"VLOOKUP(B826,[2]少数民族加分!$C$1:$E$65536,3,FALSE)","v":2},{"v":132,"d":"132.00"}]
[826,"4152270604109","岑妍","312独山县第一幼儿园","01幼儿教师",{"$f":"VLOOKUP(B827,[1]Sheet1!$A:$I,8,0)","v":"68.00"},{"$f":"VLOOKUP(B827,[1]Sheet1!$A:$I,9,0)","v":"62.00"},{"$f":"VLOOKUP(B827,[2]少数民族加分!$C$1:$E$65536,3,FALSE)","v":2},{"v":132,"d":"132.00"}]
[821,"4152270603815","袁丹","312独山县第一幼儿园","01幼儿教师",{"$f":"VLOOKUP(B828,[1]Sheet1!$A:$I,8,0)","v":"76.50"},{"$f":"VLOOKUP(B828,[1]Sheet1!$A:$I,9,0)","v":"55.00"},null,{"v":131.5,"d":"131.50"}]
[827,"4152270604029","陈晓卿","312独山县第一幼儿园","01幼儿教师",{"$f":"VLOOKUP(B829,[1]Sheet1!$A:$I,8,0)","v":"65.00"},{"$f":"VLOOKUP(B829,[1]Sheet1!$A:$I,9,0)","v":"64.00"},{"$f":"VLOOKUP(B829,[2]少数民族加分!$C$1:$E$65536,3,FALSE)","v":2},{"v":131,"d":"131.00"}]
[831,"4152270700602","罗珍连","312独山县第一幼儿园","01幼儿教师",{"$f":"VLOOKUP(B830,[1]Sheet1!$A:$I,8,0)","v":"68.00"},{"$f":"VLOOKUP(B830,[1]Sheet1!$A:$I,9,0)","v":"59.50"},{"$f":"VLOOKUP(B830,[2]少数民族加分!$C$1:$E$65536,3,FALSE)","v":2},{"v":129.5,"d":"129.50"}]
[828,"4152270605225","王亚","312独山县第一幼儿园","01幼儿教师",{"$f":"VLOOKUP(B831,[1]Sheet1!$A:$I,8,0)","v":"64.00"},{"$f":"VLOOKUP(B831,[1]Sheet1!$A:$I,9,0)","v":"65.00"},null,{"v":129,"d":"129.00"}]
[833,"4152270605428","蒋龄","312独山县第一幼儿园","01幼儿教师",{"$f":"VLOOKUP(B832,[1]Sheet1!$A:$I,8,0)","v":"65.00"},{"$f":"VLOOKUP(B832,[1]Sheet1!$A:$I,9,0)","v":"62.00"},{"$f":"VLOOKUP(B832,[2]少数民族加分!$C$1:$E$65536,3,FALSE)","v":2},{"v":129,"d":"129.00"}]
[834,"4152270700730","陈春燕","312独山县第一幼儿园","01幼儿教师",{"$f":"VLOOKUP(B833,[1]Sheet1!$A:$I,8,0)","v":"65.50"},{"$f":"VLOOKUP(B833,[1]Sheet1!$A:$I,9,0)","v":"61.50"},{"$f":"VLOOKUP(B833,[2]少数民族加分!$C$1:$E$65536,3,FALSE)","v":2},{"v":129,"d":"129.00"}]
[835,"4152270602804","杨青","312独山县第一幼儿园","01幼儿教师",{"$f":"VLOOKUP(B834,[1]Sheet1!$A:$I,8,0)","v":"67.00"},{"$f":"VLOOKUP(B834,[1]Sheet1!$A:$I,9,0)","v":"60.00"},{"$f":"VLOOKUP(B834,[2]少数民族加分!$C$1:$E$65536,3,FALSE)","v":2},{"v":129,"d":"129.00"}]
[836,"4152270603207","潘现方","312独山县第一幼儿园","01幼儿教师",{"$f":"VLOOKUP(B835,[1]Sheet1!$A:$I,8,0)","v":"69.00"},{"$f":"VLOOKUP(B835,[1]Sheet1!$A:$I,9,0)","v":"58.00"},{"$f":"VLOOKUP(B835,[2]少数民族加分!$C$1:$E$65536,3,FALSE)","v":2},{"v":129,"d":"129.00"}]
[829,"4152270700928","张武燕","312独山县第一幼儿园","01幼儿教师",{"$f":"VLOOKUP(B836,[1]Sheet1!$A:$I,8,0)","v":"66.50"},{"$f":"VLOOKUP(B836,[1]Sheet1!$A:$I,9,0)","v":"62.00"},null,{"v":128.5,"d":"128.50"}]
[837,"4152270604914","韦三叶","312独山县第一幼儿园","01幼儿教师",{"$f":"VLOOKUP(B837,[1]Sheet1!$A:$I,8,0)","v":"56.50"},{"$f":"VLOOKUP(B837,[1]Sheet1!$A:$I,9,0)","v":"70.00"},{"$f":"VLOOKUP(B837,[2]少数民族加分!$C$1:$E$65536,3,FALSE)","v":2},{"v":128.5,"d":"128.50"}]
[838,"4152270700903","王晓兰","312独山县第一幼儿园","01幼儿教师",{"$f":"VLOOKUP(B838,[1]Sheet1!$A:$I,8,0)","v":"65.50"},{"$f":"VLOOKUP(B838,[1]Sheet1!$A:$I,9,0)","v":"61.00"},{"$f":"VLOOKUP(B838,[2]少数民族加分!$C$1:$E$65536,3,FALSE)","v":2},{"v":128.5,"d":"128.50"}]
[830,"4152270605530","夏漂","312独山县第一幼儿园","01幼儿教师",{"$f":"VLOOKUP(B839,[1]Sheet1!$A:$I,8,0)","v":"64.50"},{"$f":"VLOOKUP(B839,[1]Sheet1!$A:$I,9,0)","v":"63.00"},null,{"v":127.5,"d":"127.50"}]
[832,"4152270701025","曹礼礼","312独山县第一幼儿园","01幼儿教师",{"$f":"VLOOKUP(B840,[1]Sheet1!$A:$I,8,0)","v":"68.50"},{"$f":"VLOOKUP(B840,[1]Sheet1!$A:$I,9,0)","v":"59.00"},null,{"v":127.5,"d":"127.50"}]
[839,"4152270605217","韦国晴","312独山县第一幼儿园","01幼儿教师",{"$f":"VLOOKUP(B841,[1]Sheet1!$A:$I,8,0)","v":"54.50"},{"$f":"VLOOKUP(B841,[1]Sheet1!$A:$I,9,0)","v":"71.00"},{"$f":"VLOOKUP(B841,[2]少数民族加分!$C$1:$E$65536,3,FALSE)","v":2},{"v":127.5,"d":"127.50"}]
[842,"4152270605318","张惠敏","312独山县第一幼儿园","01幼儿教师",{"$f":"VLOOKUP(B842,[1]Sheet1!$A:$I,8,0)","v":"60.00"},{"$f":"VLOOKUP(B842,[1]Sheet1!$A:$I,9,0)","v":"65.00"},{"$f":"VLOOKUP(B842,[2]少数民族加分!$C$1:$E$65536,3,FALSE)","v":2},{"v":127,"d":"127.00"}]
[843,"4152270700902","吴雪梅","312独山县第一幼儿园","01幼儿教师",{"$f":"VLOOKUP(B843,[1]Sheet1!$A:$I,8,0)","v":"58.50"},{"$f":"VLOOKUP(B843,[1]Sheet1!$A:$I,9,0)","v":"66.00"},{"$f":"VLOOKUP(B843,[2]少数民族加分!$C$1:$E$65536,3,FALSE)","v":2},{"v":126.5,"d":"126.50"}]
[844,"4152270605002","杨桃春","312独山县第一幼儿园","01幼儿教师",{"$f":"VLOOKUP(B844,[1]Sheet1!$A:$I,8,0)","v":"64.00"},{"$f":"VLOOKUP(B844,[1]Sheet1!$A:$I,9,0)","v":"60.00"},{"$f":"VLOOKUP(B844,[2]少数民族加分!$C$1:$E$65536,3,FALSE)","v":2},{"v":126,"d":"126.00"}]
[840,"4152270700312","白云","312独山县第一幼儿园","01幼儿教师",{"$f":"VLOOKUP(B845,[1]Sheet1!$A:$I,8,0)","v":"70.00"},{"$f":"VLOOKUP(B845,[1]Sheet1!$A:$I,9,0)","v":"55.50"},null,{"v":125.5,"d":"125.50"}]
[841,"4152270700503","李先荣","312独山县第一幼儿园","01幼儿教师",{"$f":"VLOOKUP(B846,[1]Sheet1!$A:$I,8,0)","v":"68.50"},{"$f":"VLOOKUP(B846,[1]Sheet1!$A:$I,9,0)","v":"57.00"},null,{"v":125.5,"d":"125.50"}]
[845,"4152270605128","杨萧","312独山县第一幼儿园","01幼儿教师",{"$f":"VLOOKUP(B847,[1]Sheet1!$A:$I,8,0)","v":"41.50"},{"$f":"VLOOKUP(B847,[1]Sheet1!$A:$I,9,0)","v":"82.00"},{"$f":"VLOOKUP(B847,[2]少数民族加分!$C$1:$E$65536,3,FALSE)","v":2},{"v":125.5,"d":"125.50"}]
[846,"4152270700809","杨曼","312独山县第一幼儿园","01幼儿教师",{"$f":"VLOOKUP(B848,[1]Sheet1!$A:$I,8,0)","v":"73.50"},{"$f":"VLOOKUP(B848,[1]Sheet1!$A:$I,9,0)","v":"49.50"},{"$f":"VLOOKUP(B848,[2]少数民族加分!$C$1:$E$65536,3,FALSE)","v":2},{"v":125,"d":"125.00"}]
[848,"4152270700604","文荣丽","312独山县第一幼儿园","01幼儿教师",{"$f":"VLOOKUP(B849,[1]Sheet1!$A:$I,8,0)","v":"70.00"},{"$f":"VLOOKUP(B849,[1]Sheet1!$A:$I,9,0)","v":"52.00"},{"$f":"VLOOKUP(B849,[2]少数民族加分!$C$1:$E$65536,3,FALSE)","v":2},{"v":124,"d":"124.00"}]
[850,"4152270602910","覃亮力","312独山县第一幼儿园","01幼儿教师",{"$f":"VLOOKUP(B850,[1]Sheet1!$A:$I,8,0)","v":"66.50"},{"$f":"VLOOKUP(B850,[1]Sheet1!$A:$I,9,0)","v":"55.00"},{"$f":"VLOOKUP(B850,[2]少数民族加分!$C$1:$E$65536,3,FALSE)","v":2},{"v":123.5,"d":"123.50"}]
[847,"4152270701217","梁素娴","312独山县第一幼儿园","01幼儿教师",{"$f":"VLOOKUP(B851,[1]Sheet1!$A:$I,8,0)","v":"63.00"},{"$f":"VLOOKUP(B851,[1]Sheet1!$A:$I,9,0)","v":"60.00"},null,{"v":123,"d":"123.00"}]
[852,"4152270700108","韦丽伍","312独山县第一幼儿园","01幼儿教师",{"$f":"VLOOKUP(B852,[1]Sheet1!$A:$I,8,0)","v":"65.00"},{"$f":"VLOOKUP(B852,[1]Sheet1!$A:$I,9,0)","v":"56.00"},{"$f":"VLOOKUP(B852,[2]少数民族加分!$C$1:$E$65536,3,FALSE)","v":2},{"v":123,"d":"123.00"}]
[853,"4152270700202","吴安绮","312独山县第一幼儿园","01幼儿教师",{"$f":"VLOOKUP(B853,[1]Sheet1!$A:$I,8,0)","v":"75.50"},{"$f":"VLOOKUP(B853,[1]Sheet1!$A:$I,9,0)","v":"45.00"},{"$f":"VLOOKUP(B853,[2]少数民族加分!$C$1:$E$65536,3,FALSE)","v":2},{"v":122.5,"d":"122.50"}]
[849,"4152270701123","顾怀线","312独山县第一幼儿园","01幼儿教师",{"$f":"VLOOKUP(B854,[1]Sheet1!$A:$I,8,0)","v":"57.00"},{"$f":"VLOOKUP(B854,[1]Sheet1!$A:$I,9,0)","v":"65.00"},null,{"v":122,"d":"122.00"}]
[854,"4152270605306","吴华琴","312独山县第一幼儿园","01幼儿教师",{"$f":"VLOOKUP(B855,[1]Sheet1!$A:$I,8,0)","v":"57.00"},{"$f":"VLOOKUP(B855,[1]Sheet1!$A:$I,9,0)","v":"63.00"},{"$f":"VLOOKUP(B855,[2]少数民族加分!$C$1:$E$65536,3,FALSE)","v":2},{"v":122,"d":"122.00"}]
[856,"4152270605209","彭色英","312独山县第一幼儿园","01幼儿教师",{"$f":"VLOOKUP(B856,[1]Sheet1!$A:$I,8,0)","v":"75.50"},{"$f":"VLOOKUP(B856,[1]Sheet1!$A:$I,9,0)","v":"44.50"},{"$f":"VLOOKUP(B856,[2]少数民族加分!$C$1:$E$65536,3,FALSE)","v":2},{"v":122,"d":"122.00"}]
[851,"4152270604218","罗荣艳","312独山县第一幼儿园","01幼儿教师",{"$f":"VLOOKUP(B857,[1]Sheet1!$A:$I,8,0)","v":"62.00"},{"$f":"VLOOKUP(B857,[1]Sheet1!$A:$I,9,0)","v":"59.00"},null,{"v":121,"d":"121.00"}]
[857,"4152270604307","杨巧妹","312独山县第一幼儿园","01幼儿教师",{"$f":"VLOOKUP(B858,[1]Sheet1!$A:$I,8,0)","v":"63.00"},{"$f":"VLOOKUP(B858,[1]Sheet1!$A:$I,9,0)","v":"56.00"},{"$f":"VLOOKUP(B858,[2]少数民族加分!$C$1:$E$65536,3,FALSE)","v":2},{"v":121,"d":"121.00"}]
[858,"4152270603915","王科涛","312独山县第一幼儿园","01幼儿教师",{"$f":"VLOOKUP(B859,[1]Sheet1!$A:$I,8,0)","v":"61.50"},{"$f":"VLOOKUP(B859,[1]Sheet1!$A:$I,9,0)","v":"57.00"},{"$f":"VLOOKUP(B859,[2]少数民族加分!$C$1:$E$65536,3,FALSE)","v":2},{"v":120.5,"d":"120.50"}]
[859,"4152270605030","张花","312独山县第一幼儿园","01幼儿教师",{"$f":"VLOOKUP(B860,[1]Sheet1!$A:$I,8,0)","v":"64.50"},{"$f":"VLOOKUP(B860,[1]Sheet1!$A:$I,9,0)","v":"54.00"},{"$f":"VLOOKUP(B860,[2]少数民族加分!$C$1:$E$65536,3,FALSE)","v":2},{"v":120.5,"d":"120.50"}]
[855,"4152270605028","李杰","312独山县第一幼儿园","01幼儿教师",{"$f":"VLOOKUP(B861,[1]Sheet1!$A:$I,8,0)","v":"50.00"},{"$f":"VLOOKUP(B861,[1]Sheet1!$A:$I,9,0)","v":"70.00"},null,{"v":120,"d":"120.00"}]
[862,"4152270604802","文芳","312独山县第一幼儿园","01幼儿教师",{"$f":"VLOOKUP(B862,[1]Sheet1!$A:$I,8,0)","v":"65.50"},{"$f":"VLOOKUP(B862,[1]Sheet1!$A:$I,9,0)","v":"52.00"},{"$f":"VLOOKUP(B862,[2]少数民族加分!$C$1:$E$65536,3,FALSE)","v":2},{"v":119.5,"d":"119.50"}]
[860,"4152270603608","周静","312独山县第一幼儿园","01幼儿教师",{"$f":"VLOOKUP(B863,[1]Sheet1!$A:$I,8,0)","v":"59.00"},{"$f":"VLOOKUP(B863,[1]Sheet1!$A:$I,9,0)","v":"59.00"},null,{"v":118,"d":"118.00"}]
[861,"4152270605416","张天琴","312独山县第一幼儿园","01幼儿教师",{"$f":"VLOOKUP(B864,[1]Sheet1!$A:$I,8,0)","v":"60.00"},{"$f":"VLOOKUP(B864,[1]Sheet1!$A:$I,9,0)","v":"58.00"},null,{"v":118,"d":"118.00"}]
[865,"4152270700511","罗曼","312独山县第一幼儿园","01幼儿教师",{"$f":"VLOOKUP(B865,[1]Sheet1!$A:$I,8,0)","v":"63.00"},{"$f":"VLOOKUP(B865,[1]Sheet1!$A:$I,9,0)","v":"53.00"},{"$f":"VLOOKUP(B865,[2]少数民族加分!$C$1:$E$65536,3,FALSE)","v":2},{"v":118,"d":"118.00"}]
[866,"4152270700603","吴书慧","312独山县第一幼儿园","01幼儿教师",{"$f":"VLOOKUP(B866,[1]Sheet1!$A:$I,8,0)","v":"68.00"},{"$f":"VLOOKUP(B866,[1]Sheet1!$A:$I,9,0)","v":"48.00"},{"$f":"VLOOKUP(B866,[2]少数民族加分!$C$1:$E$65536,3,FALSE)","v":2},{"v":118,"d":"118.00"}]
[867,"4152270701220","马庆龄","312独山县第一幼儿园","01幼儿教师",{"$f":"VLOOKUP(B867,[1]Sheet1!$A:$I,8,0)","v":"59.50"},{"$f":"VLOOKUP(B867,[1]Sheet1!$A:$I,9,0)","v":"56.00"},{"$f":"VLOOKUP(B867,[2]少数民族加分!$C$1:$E$65536,3,FALSE)","v":2},{"v":117.5,"d":"117.50"}]
[863,"4152270604729","伍娥","312独山县第一幼儿园","01幼儿教师",{"$f":"VLOOKUP(B868,[1]Sheet1!$A:$I,8,0)","v":"64.00"},{"$f":"VLOOKUP(B868,[1]Sheet1!$A:$I,9,0)","v":"53.00"},null,{"v":117,"d":"117.00"}]
[864,"4152270603221","周倩","312独山县第一幼儿园","01幼儿教师",{"$f":"VLOOKUP(B869,[1]Sheet1!$A:$I,8,0)","v":"69.50"},{"$f":"VLOOKUP(B869,[1]Sheet1!$A:$I,9,0)","v":"46.50"},null,{"v":116,"d":"116.00"}]
[871,"4152270603411","罗冬秀","312独山县第一幼儿园","01幼儿教师",{"$f":"VLOOKUP(B870,[1]Sheet1!$A:$I,8,0)","v":"47.50"},{"$f":"VLOOKUP(B870,[1]Sheet1!$A:$I,9,0)","v":"66.00"},{"$f":"VLOOKUP(B870,[2]少数民族加分!$C$1:$E$65536,3,FALSE)","v":2},{"v":115.5,"d":"115.50"}]
[868,"4152270700403","陶冬梅","312独山县第一幼儿园","01幼儿教师",{"$f":"VLOOKUP(B871,[1]Sheet1!$A:$I,8,0)","v":"50.00"},{"$f":"VLOOKUP(B871,[1]Sheet1!$A:$I,9,0)","v":"65.00"},null,{"v":115,"d":"115.00"}]
[873,"4152270605023","陈元薇","312独山县第一幼儿园","01幼儿教师",{"$f":"VLOOKUP(B872,[1]Sheet1!$A:$I,8,0)","v":"63.00"},{"$f":"VLOOKUP(B872,[1]Sheet1!$A:$I,9,0)","v":"50.00"},{"$f":"VLOOKUP(B872,[2]少数民族加分!$C$1:$E$65536,3,FALSE)","v":2},{"v":115,"d":"115.00"}]
[869,"4152270602610","余雷雷","312独山县第一幼儿园","01幼儿教师",{"$f":"VLOOKUP(B873,[1]Sheet1!$A:$I,8,0)","v":"54.50"},{"$f":"VLOOKUP(B873,[1]Sheet1!$A:$I,9,0)","v":"60.00"},null,{"v":114.5,"d":"114.50"}]
[874,"4152270603803","林安线","312独山县第一幼儿园","01幼儿教师",{"$f":"VLOOKUP(B874,[1]Sheet1!$A:$I,8,0)","v":"55.50"},{"$f":"VLOOKUP(B874,[1]Sheet1!$A:$I,9,0)","v":"57.00"},{"$f":"VLOOKUP(B874,[2]少数民族加分!$C$1:$E$65536,3,FALSE)","v":2},{"v":114.5,"d":"114.50"}]
[875,"4152270700829","石倩","312独山县第一幼儿园","01幼儿教师",{"$f":"VLOOKUP(B875,[1]Sheet1!$A:$I,8,0)","v":"56.50"},{"$f":"VLOOKUP(B875,[1]Sheet1!$A:$I,9,0)","v":"56.00"},{"$f":"VLOOKUP(B875,[2]少数民族加分!$C$1:$E$65536,3,FALSE)","v":2},{"v":114.5,"d":"114.50"}]
[877,"4152270602603","罗金京","312独山县第一幼儿园","01幼儿教师",{"$f":"VLOOKUP(B876,[1]Sheet1!$A:$I,8,0)","v":"57.00"},{"$f":"VLOOKUP(B876,[1]Sheet1!$A:$I,9,0)","v":"55.00"},{"$f":"VLOOKUP(B876,[2]少数民族加分!$C$1:$E$65536,3,FALSE)","v":2},{"v":114,"d":"114.00"}]
[870,"4152270602706","李睿","312独山县第一幼儿园","01幼儿教师",{"$f":"VLOOKUP(B877,[1]Sheet1!$A:$I,8,0)","v":"51.50"},{"$f":"VLOOKUP(B877,[1]Sheet1!$A:$I,9,0)","v":"62.00"},null,{"v":113.5,"d":"113.50"}]
[872,"4152270604122","杨小蛟","312独山县第一幼儿园","01幼儿教师",{"$f":"VLOOKUP(B878,[1]Sheet1!$A:$I,8,0)","v":"50.50"},{"$f":"VLOOKUP(B878,[1]Sheet1!$A:$I,9,0)","v":"63.00"},null,{"v":113.5,"d":"113.50"}]
[879,"4152270700415","王应双","312独山县第一幼儿园","01幼儿教师",{"$f":"VLOOKUP(B879,[1]Sheet1!$A:$I,8,0)","v":"68.00"},{"$f":"VLOOKUP(B879,[1]Sheet1!$A:$I,9,0)","v":"43.50"},{"$f":"VLOOKUP(B879,[2]少数民族加分!$C$1:$E$65536,3,FALSE)","v":2},{"v":113.5,"d":"113.50"}]
[880,"4152270701213","黎欢","312独山县第一幼儿园","01幼儿教师",{"$f":"VLOOKUP(B880,[1]Sheet1!$A:$I,8,0)","v":"59.00"},{"$f":"VLOOKUP(B880,[1]Sheet1!$A:$I,9,0)","v":"52.00"},{"$f":"VLOOKUP(B880,[2]少数民族加分!$C$1:$E$65536,3,FALSE)","v":2},{"v":113,"d":"113.00"}]
[881,"4152270602820","何忠利","312独山县第一幼儿园","01幼儿教师",{"$f":"VLOOKUP(B881,[1]Sheet1!$A:$I,8,0)","v":"62.00"},{"$f":"VLOOKUP(B881,[1]Sheet1!$A:$I,9,0)","v":"49.00"},{"$f":"VLOOKUP(B881,[2]少数民族加分!$C$1:$E$65536,3,FALSE)","v":2},{"v":113,"d":"113.00"}]
[882,"4152270701021","王思思","312独山县第一幼儿园","01幼儿教师",{"$f":"VLOOKUP(B882,[1]Sheet1!$A:$I,8,0)","v":"58.50"},{"$f":"VLOOKUP(B882,[1]Sheet1!$A:$I,9,0)","v":"52.00"},{"$f":"VLOOKUP(B882,[2]少数民族加分!$C$1:$E$65536,3,FALSE)","v":2},{"v":112.5,"d":"112.50"}]
[876,"4152270605603","吴晓","312独山县第一幼儿园","01幼儿教师",{"$f":"VLOOKUP(B883,[1]Sheet1!$A:$I,8,0)","v":"53.00"},{"$f":"VLOOKUP(B883,[1]Sheet1!$A:$I,9,0)","v":"59.00"},null,{"v":112,"d":"112.00"}]
[878,"4152270604606","付克红","312独山县第一幼儿园","01幼儿教师",{"$f":"VLOOKUP(B884,[1]Sheet1!$A:$I,8,0)","v":"57.50"},{"$f":"VLOOKUP(B884,[1]Sheet1!$A:$I,9,0)","v":"54.00"},null,{"v":111.5,"d":"111.50"}]
[883,"4152270700702","陆金香","312独山县第一幼儿园","01幼儿教师",{"$f":"VLOOKUP(B885,[1]Sheet1!$A:$I,8,0)","v":"52.50"},{"$f":"VLOOKUP(B885,[1]Sheet1!$A:$I,9,0)","v":"57.00"},{"$f":"VLOOKUP(B885,[2]少数民族加分!$C$1:$E$65536,3,FALSE)","v":2},{"v":111.5,"d":"111.50"}]
[884,"4152270603610","王兴","312独山县第一幼儿园","01幼儿教师",{"$f":"VLOOKUP(B886,[1]Sheet1!$A:$I,8,0)","v":"56.50"},{"$f":"VLOOKUP(B886,[1]Sheet1!$A:$I,9,0)","v":"53.00"},{"$f":"VLOOKUP(B886,[2]少数民族加分!$C$1:$E$65536,3,FALSE)","v":2},{"v":111.5,"d":"111.50"}]
[885,"4152270604622","陆金娜","312独山县第一幼儿园","01幼儿教师",{"$f":"VLOOKUP(B887,[1]Sheet1!$A:$I,8,0)","v":"61.00"},{"$f":"VLOOKUP(B887,[1]Sheet1!$A:$I,9,0)","v":"48.00"},{"$f":"VLOOKUP(B887,[2]少数民族加分!$C$1:$E$65536,3,FALSE)","v":2},{"v":111,"d":"111.00"}]
[887,"4152270604521","韦青池","312独山县第一幼儿园","01幼儿教师",{"$f":"VLOOKUP(B888,[1]Sheet1!$A:$I,8,0)","v":"58.00"},{"$f":"VLOOKUP(B888,[1]Sheet1!$A:$I,9,0)","v":"49.00"},{"$f":"VLOOKUP(B888,[2]少数民族加分!$C$1:$E$65536,3,FALSE)","v":2},{"v":109,"d":"109.00"}]
[886,"4152270605119","张媛","312独山县第一幼儿园","01幼儿教师",{"$f":"VLOOKUP(B889,[1]Sheet1!$A:$I,8,0)","v":"57.50"},{"$f":"VLOOKUP(B889,[1]Sheet1!$A:$I,9,0)","v":"51.00"},null,{"v":108.5,"d":"108.50"}]
[888,"4152270700913","杨红","312独山县第一幼儿园","01幼儿教师",{"$f":"VLOOKUP(B890,[1]Sheet1!$A:$I,8,0)","v":"59.50"},{"$f":"VLOOKUP(B890,[1]Sheet1!$A:$I,9,0)","v":"47.00"},{"$f":"VLOOKUP(B890,[2]少数民族加分!$C$1:$E$65536,3,FALSE)","v":2},{"v":108.5,"d":"108.50"}]
[889,"4152270700321","黄仕趣","312独山县第一幼儿园","01幼儿教师",{"$f":"VLOOKUP(B891,[1]Sheet1!$A:$I,8,0)","v":"61.00"},{"$f":"VLOOKUP(B891,[1]Sheet1!$A:$I,9,0)","v":"45.00"},{"$f":"VLOOKUP(B891,[2]少数民族加分!$C$1:$E$65536,3,FALSE)","v":2},{"v":108,"d":"108.00"}]
[890,"4152270602813","吴俊秋","312独山县第一幼儿园","01幼儿教师",{"$f":"VLOOKUP(B892,[1]Sheet1!$A:$I,8,0)","v":"65.00"},{"$f":"VLOOKUP(B892,[1]Sheet1!$A:$I,9,0)","v":"41.00"},{"$f":"VLOOKUP(B892,[2]少数民族加分!$C$1:$E$65536,3,FALSE)","v":2},{"v":108,"d":"108.00"}]
[892,"4152270700127","杨桂芬","312独山县第一幼儿园","01幼儿教师",{"$f":"VLOOKUP(B893,[1]Sheet1!$A:$I,8,0)","v":"60.00"},{"$f":"VLOOKUP(B893,[1]Sheet1!$A:$I,9,0)","v":"45.00"},{"$f":"VLOOKUP(B893,[2]少数民族加分!$C$1:$E$65536,3,FALSE)","v":2},{"v":107,"d":"107.00"}]
[891,"4152270602607","何德芳","312独山县第一幼儿园","01幼儿教师",{"$f":"VLOOKUP(B894,[1]Sheet1!$A:$I,8,0)","v":"53.50"},{"$f":"VLOOKUP(B894,[1]Sheet1!$A:$I,9,0)","v":"52.00"},null,{"v":105.5,"d":"105.50"}]
[895,"4152270604325","黎成丹","312独山县第一幼儿园","01幼儿教师",{"$f":"VLOOKUP(B895,[1]Sheet1!$A:$I,8,0)","v":"56.50"},{"$f":"VLOOKUP(B895,[1]Sheet1!$A:$I,9,0)","v":"46.00"},{"$f":"VLOOKUP(B895,[2]少数民族加分!$C$1:$E$65536,3,FALSE)","v":2},{"v":104.5,"d":"104.50"}]
[896,"4152270604524","付常莉","312独山县第一幼儿园","01幼儿教师",{"$f":"VLOOKUP(B896,[1]Sheet1!$A:$I,8,0)","v":"42.50"},{"$f":"VLOOKUP(B896,[1]Sheet1!$A:$I,9,0)","v":"60.00"},{"$f":"VLOOKUP(B896,[2]少数民族加分!$C$1:$E$65536,3,FALSE)","v":2},{"v":104.5,"d":"104.50"}]
[893,"4152270603713","周萍","312独山县第一幼儿园","01幼儿教师",{"$f":"VLOOKUP(B897,[1]Sheet1!$A:$I,8,0)","v":"57.50"},{"$f":"VLOOKUP(B897,[1]Sheet1!$A:$I,9,0)","v":"46.00"},null,{"v":103.5,"d":"103.50"}]
[897,"4152270602626","袁子菊","312独山县第一幼儿园","01幼儿教师",{"$f":"VLOOKUP(B898,[1]Sheet1!$A:$I,8,0)","v":"47.50"},{"$f":"VLOOKUP(B898,[1]Sheet1!$A:$I,9,0)","v":"54.00"},{"$f":"VLOOKUP(B898,[2]少数民族加分!$C$1:$E$65536,3,FALSE)","v":2},{"v":103.5,"d":"103.50"}]
[898,"4152270700817","何佳慧","312独山县第一幼儿园","01幼儿教师",{"$f":"VLOOKUP(B899,[1]Sheet1!$A:$I,8,0)","v":"47.50"},{"$f":"VLOOKUP(B899,[1]Sheet1!$A:$I,9,0)","v":"54.00"},{"$f":"VLOOKUP(B899,[2]少数民族加分!$C$1:$E$65536,3,FALSE)","v":2},{"v":103.5,"d":"103.50"}]
[894,"4152270603017","冯元丽","312独山县第一幼儿园","01幼儿教师",{"$f":"VLOOKUP(B900,[1]Sheet1!$A:$I,8,0)","v":"52.00"},{"$f":"VLOOKUP(B900,[1]Sheet1!$A:$I,9,0)","v":"51.00"},null,{"v":103,"d":"103.00"}]
[899,"4152270701026","韦仕漂","312独山县第一幼儿园","01幼儿教师",{"$f":"VLOOKUP(B901,[1]Sheet1!$A:$I,8,0)","v":"51.00"},{"$f":"VLOOKUP(B901,[1]Sheet1!$A:$I,9,0)","v":"48.00"},{"$f":"VLOOKUP(B901,[2]少数民族加分!$C$1:$E$65536,3,FALSE)","v":2},{"v":101,"d":"101.00"}]
[901,"4152270603419","潘江琴","312独山县第一幼儿园","01幼儿教师",{"$f":"VLOOKUP(B902,[1]Sheet1!$A:$I,8,0)","v":"48.50"},{"$f":"VLOOKUP(B902,[1]Sheet1!$A:$I,9,0)","v":"50.00"},{"$f":"VLOOKUP(B902,[2]少数民族加分!$C$1:$E$65536,3,FALSE)","v":2},{"v":100.5,"d":"100.50"}]
[900,"4152270700302","蒙泽倩","312独山县第一幼儿园","01幼儿教师",{"$f":"VLOOKUP(B903,[1]Sheet1!$A:$I,8,0)","v":"53.50"},{"$f":"VLOOKUP(B903,[1]Sheet1!$A:$I,9,0)","v":"45.00"},null,{"v":98.5,"d":"98.50"}]
[902,"4152270604129","赵春花","312独山县第一幼儿园","01幼儿教师",{"$f":"VLOOKUP(B904,[1]Sheet1!$A:$I,8,0)","v":"46.50"},{"$f":"VLOOKUP(B904,[1]Sheet1!$A:$I,9,0)","v":"52.00"},null,{"v":98.5,"d":"98.50"}]
[903,"4152270602613","孟响欢","312独山县第一幼儿园","01幼儿教师",{"$f":"VLOOKUP(B905,[1]Sheet1!$A:$I,8,0)","v":"41.00"},{"$f":"VLOOKUP(B905,[1]Sheet1!$A:$I,9,0)","v":"55.00"},{"$f":"VLOOKUP(B905,[2]少数民族加分!$C$1:$E$65536,3,FALSE)","v":2},{"v":98,"d":"98.00"}]
[904,"4152270603704","罗添香","312独山县第一幼儿园","01幼儿教师",{"$f":"VLOOKUP(B906,[1]Sheet1!$A:$I,8,0)","v":"39.50"},{"$f":"VLOOKUP(B906,[1]Sheet1!$A:$I,9,0)","v":"55.00"},{"$f":"VLOOKUP(B906,[2]少数民族加分!$C$1:$E$65536,3,FALSE)","v":2},{"v":96.5,"d":"96.50"}]
[905,"4152270604130","龙正莲","312独山县第一幼儿园","01幼儿教师",{"$f":"VLOOKUP(B907,[1]Sheet1!$A:$I,8,0)","v":"39.50"},{"$f":"VLOOKUP(B907,[1]Sheet1!$A:$I,9,0)","v":"52.00"},{"$f":"VLOOKUP(B907,[2]少数民族加分!$C$1:$E$65536,3,FALSE)","v":2},{"v":93.5,"d":"93.50"}]
[906,"4152270603928","潘立沙","312独山县第一幼儿园","01幼儿教师",{"$f":"VLOOKUP(B908,[1]Sheet1!$A:$I,8,0)","v":"41.00"},{"$f":"VLOOKUP(B908,[1]Sheet1!$A:$I,9,0)","v":"50.00"},{"$f":"VLOOKUP(B908,[2]少数民族加分!$C$1:$E$65536,3,FALSE)","v":2},{"v":93,"d":"93.00"}]
[907,"4152270602927","罗兆转","312独山县第一幼儿园","01幼儿教师",{"$f":"VLOOKUP(B909,[1]Sheet1!$A:$I,8,0)","v":"52.00"},{"$f":"VLOOKUP(B909,[1]Sheet1!$A:$I,9,0)","v":"33.00"},{"$f":"VLOOKUP(B909,[2]少数民族加分!$C$1:$E$65536,3,FALSE)","v":2},{"v":87,"d":"87.00"}]
[908,"4152270604615","李鹏","312独山县第一幼儿园","01幼儿教师",{"$f":"VLOOKUP(B910,[1]Sheet1!$A:$I,8,0)","v":"51.00"},{"$f":"VLOOKUP(B910,[1]Sheet1!$A:$I,9,0)","v":"34.00"},{"$f":"VLOOKUP(B910,[2]少数民族加分!$C$1:$E$65536,3,FALSE)","v":2},{"v":87,"d":"87.00"}]
[909,"4152270604412","赵元芝","312独山县第一幼儿园","01幼儿教师",{"$f":"VLOOKUP(B911,[1]Sheet1!$A:$I,8,0)","v":"32.50"},{"$f":"VLOOKUP(B911,[1]Sheet1!$A:$I,9,0)","v":"51.00"},{"$f":"VLOOKUP(B911,[2]少数民族加分!$C$1:$E$65536,3,FALSE)","v":2},{"v":85.5,"d":"85.50"}]
[910,"4152270605216","黄再云","312独山县第一幼儿园","01幼儿教师",{"$f":"VLOOKUP(B912,[1]Sheet1!$A:$I,8,0)","v":"54.50"},{"$f":"VLOOKUP(B912,[1]Sheet1!$A:$I,9,0)","v":"28.00"},{"$f":"VLOOKUP(B912,[2]少数民族加分!$C$1:$E$65536,3,FALSE)","v":2},{"v":84.5,"d":"84.50"}]
[911,"4152270605302","李燕","312独山县第一幼儿园","01幼儿教师",{"$f":"VLOOKUP(B913,[1]Sheet1!$A:$I,8,0)","v":"52.50"},{"$f":"VLOOKUP(B913,[1]Sheet1!$A:$I,9,0)","v":"30.00"},{"$f":"VLOOKUP(B913,[2]少数民族加分!$C$1:$E$65536,3,FALSE)","v":2},{"v":84.5,"d":"84.50"}]
[912,"4152270605509","曹菊","312独山县第一幼儿园","01幼儿教师",{"$f":"VLOOKUP(B914,[1]Sheet1!$A:$I,8,0)","v":"47.50"},{"$f":"VLOOKUP(B914,[1]Sheet1!$A:$I,9,0)","v":"35.00"},null,{"v":82.5,"d":"82.50"}]
[913,"4152270604820","邰再琴","312独山县第一幼儿园","01幼儿教师",{"$f":"VLOOKUP(B915,[1]Sheet1!$A:$I,8,0)","v":"50.00"},{"$f":"VLOOKUP(B915,[1]Sheet1!$A:$I,9,0)","v":"30.00"},{"$f":"VLOOKUP(B915,[2]少数民族加分!$C$1:$E$65536,3,FALSE)","v":2},{"v":82,"d":"82.00"}]
[914,"4152270604821","王苁秋","312独山县第一幼儿园","01幼儿教师",{"$f":"VLOOKUP(B916,[1]Sheet1!$A:$I,8,0)","v":"29.50"},{"$f":"VLOOKUP(B916,[1]Sheet1!$A:$I,9,0)","v":"42.00"},null,{"v":71.5,"d":"71.50"}]
[915,"4152270602827","陆品芝","312独山县第一幼儿园","01幼儿教师",{"$f":"VLOOKUP(B917,[1]Sheet1!$A:$I,8,0)","v":"30.00"},{"$f":"VLOOKUP(B917,[1]Sheet1!$A:$I,9,0)","v":"37.00"},{"$f":"VLOOKUP(B917,[2]少数民族加分!$C$1:$E$65536,3,FALSE)","v":2},{"v":69,"d":"69.00"}]
[916,"4152270605204","韦燕华","312独山县第一幼儿园","01幼儿教师",{"$f":"VLOOKUP(B918,[1]Sheet1!$A:$I,8,0)","v":"42.00"},{"$f":"VLOOKUP(B918,[1]Sheet1!$A:$I,9,0)","v":"20.00"},{"$f":"VLOOKUP(B918,[2]少数民族加分!$C$1:$E$65536,3,FALSE)","v":2},{"v":64,"d":"64.00"}]
[917,"4152270604414","杨鹏","312独山县第一幼儿园","01幼儿教师",{"$f":"VLOOKUP(B919,[1]Sheet1!$A:$I,8,0)","v":"35.50"},{"$f":"VLOOKUP(B919,[1]Sheet1!$A:$I,9,0)","v":"17.00"},{"$f":"VLOOKUP(B919,[2]少数民族加分!$C$1:$E$65536,3,FALSE)","v":2},{"v":54.5,"d":"54.50"}]
[918,"4152270602716","陆光欢","312独山县第一幼儿园","01幼儿教师",{"$f":"VLOOKUP(B920,[1]Sheet1!$A:$I,8,0)","v":"0.00"},{"$f":"VLOOKUP(B920,[1]Sheet1!$A:$I,9,0)","v":"0.00"},{"$f":"VLOOKUP(B920,[2]少数民族加分!$C$1:$E$65536,3,FALSE)","v":2},"缺考"]
[919,"4152270602825","黄薇洁","312独山县第一幼儿园","01幼儿教师",{"$f":"VLOOKUP(B921,[1]Sheet1!$A:$I,8,0)","v":"0.00"},{"$f":"VLOOKUP(B921,[1]Sheet1!$A:$I,9,0)","v":"0.00"},{"$f":"VLOOKUP(B921,[2]少数民族加分!$C$1:$E$65536,3,FALSE)","v":2},"缺考"]
[920,"4152270602925","王选文","312独山县第一幼儿园","01幼儿教师",{"$f":"VLOOKUP(B922,[1]Sheet1!$A:$I,8,0)","v":"0.00"},{"$f":"VLOOKUP(B922,[1]Sheet1!$A:$I,9,0)","v":"0.00"},{"$f":"VLOOKUP(B922,[2]少数民族加分!$C$1:$E$65536,3,FALSE)","v":2},"缺考"]
[921,"4152270603325","杨昌美","312独山县第一幼儿园","01幼儿教师",{"$f":"VLOOKUP(B923,[1]Sheet1!$A:$I,8,0)","v":"0.00"},{"$f":"VLOOKUP(B923,[1]Sheet1!$A:$I,9,0)","v":"0.00"},{"$f":"VLOOKUP(B923,[2]少数民族加分!$C$1:$E$65536,3,FALSE)","v":2},"缺考"]
[922,"4152270603718","姜香桃","312独山县第一幼儿园","01幼儿教师",{"$f":"VLOOKUP(B924,[1]Sheet1!$A:$I,8,0)","v":"0.00"},{"$f":"VLOOKUP(B924,[1]Sheet1!$A:$I,9,0)","v":"0.00"},{"$f":"VLOOKUP(B924,[2]少数民族加分!$C$1:$E$65536,3,FALSE)","v":2},"缺考"]
[923,"4152270604228","吴雪花","312独山县第一幼儿园","01幼儿教师",{"$f":"VLOOKUP(B925,[1]Sheet1!$A:$I,8,0)","v":"0.00"},{"$f":"VLOOKUP(B925,[1]Sheet1!$A:$I,9,0)","v":"0.00"},{"$f":"VLOOKUP(B925,[2]少数民族加分!$C$1:$E$65536,3,FALSE)","v":2},"缺考"]
[924,"4152270604707","陈洪莲","312独山县第一幼儿园","01幼儿教师",{"$f":"VLOOKUP(B926,[1]Sheet1!$A:$I,8,0)","v":"0.00"},{"$f":"VLOOKUP(B926,[1]Sheet1!$A:$I,9,0)","v":"0.00"},{"$f":"VLOOKUP(B926,[2]少数民族加分!$C$1:$E$65536,3,FALSE)","v":2},"缺考"]
[925,"4152270605010","严敏","312独山县第一幼儿园","01幼儿教师",{"$f":"VLOOKUP(B927,[1]Sheet1!$A:$I,8,0)","v":"0.00"},{"$f":"VLOOKUP(B927,[1]Sheet1!$A:$I,9,0)","v":"0.00"},null,"缺考"]
[926,"4152270605218","付孝梅","312独山县第一幼儿园","01幼儿教师",{"$f":"VLOOKUP(B928,[1]Sheet1!$A:$I,8,0)","v":"0.00"},{"$f":"VLOOKUP(B928,[1]Sheet1!$A:$I,9,0)","v":"0.00"},null,"缺考"]
[927,"4152270605220","莫询耐","312独山县第一幼儿园","01幼儿教师",{"$f":"VLOOKUP(B929,[1]Sheet1!$A:$I,8,0)","v":"0.00"},{"$f":"VLOOKUP(B929,[1]Sheet1!$A:$I,9,0)","v":"0.00"},{"$f":"VLOOKUP(B929,[2]少数民族加分!$C$1:$E$65536,3,FALSE)","v":2},"缺考"]
[928,"4152270605515","李仲敏","312独山县第一幼儿园","01幼儿教师",{"$f":"VLOOKUP(B930,[1]Sheet1!$A:$I,8,0)","v":"0.00"},{"$f":"VLOOKUP(B930,[1]Sheet1!$A:$I,9,0)","v":"0.00"},null,"缺考"]
[929,"4152270700107","杨思佳","312独山县第一幼儿园","01幼儿教师",{"$f":"VLOOKUP(B931,[1]Sheet1!$A:$I,8,0)","v":"0.00"},{"$f":"VLOOKUP(B931,[1]Sheet1!$A:$I,9,0)","v":"0.00"},null,"缺考"]
[930,"4152270700409","陈贵茜","312独山县第一幼儿园","01幼儿教师",{"$f":"VLOOKUP(B932,[1]Sheet1!$A:$I,8,0)","v":"0.00"},{"$f":"VLOOKUP(B932,[1]Sheet1!$A:$I,9,0)","v":"0.00"},{"$f":"VLOOKUP(B932,[2]少数民族加分!$C$1:$E$65536,3,FALSE)","v":2},"缺考"]
[931,"4152270700423","李应芬","312独山县第一幼儿园","01幼儿教师",{"$f":"VLOOKUP(B933,[1]Sheet1!$A:$I,8,0)","v":"0.00"},{"$f":"VLOOKUP(B933,[1]Sheet1!$A:$I,9,0)","v":"0.00"},null,"缺考"]
[932,"4152270700717","杨敏","312独山县第一幼儿园","01幼儿教师",{"$f":"VLOOKUP(B934,[1]Sheet1!$A:$I,8,0)","v":"0.00"},{"$f":"VLOOKUP(B934,[1]Sheet1!$A:$I,9,0)","v":"0.00"},{"$f":"VLOOKUP(B934,[2]少数民族加分!$C$1:$E$65536,3,FALSE)","v":2},"缺考"]
[933,"4152270700905","吴宗婷","312独山县第一幼儿园","01幼儿教师",{"$f":"VLOOKUP(B935,[1]Sheet1!$A:$I,8,0)","v":"0.00"},{"$f":"VLOOKUP(B935,[1]Sheet1!$A:$I,9,0)","v":"0.00"},{"$f":"VLOOKUP(B935,[2]少数民族加分!$C$1:$E$65536,3,FALSE)","v":2},"缺考"]
[935,"4152270701112","韦雪梅","313独山县第二幼儿园","01幼儿教师",{"$f":"VLOOKUP(B936,[1]Sheet1!$A:$I,8,0)","v":"99.50"},{"$f":"VLOOKUP(B936,[1]Sheet1!$A:$I,9,0)","v":"89.00"},{"$f":"VLOOKUP(B936,[2]少数民族加分!$C$1:$E$65536,3,FALSE)","v":2},{"v":190.5,"d":"190.50"}]
[936,"4152270603512","吴木连","313独山县第二幼儿园","01幼儿教师",{"$f":"VLOOKUP(B937,[1]Sheet1!$A:$I,8,0)","v":"93.50"},{"$f":"VLOOKUP(B937,[1]Sheet1!$A:$I,9,0)","v":"94.00"},{"$f":"VLOOKUP(B937,[2]少数民族加分!$C$1:$E$65536,3,FALSE)","v":2},{"v":189.5,"d":"189.50"}]
[934,"4152270701027","李檬","313独山县第二幼儿园","01幼儿教师",{"$f":"VLOOKUP(B938,[1]Sheet1!$A:$I,8,0)","v":"94.50"},{"$f":"VLOOKUP(B938,[1]Sheet1!$A:$I,9,0)","v":"94.00"},null,{"v":188.5,"d":"188.50"}]
[938,"4152270604711","韦水仙","313独山县第二幼儿园","01幼儿教师",{"$f":"VLOOKUP(B939,[1]Sheet1!$A:$I,8,0)","v":"96.50"},{"$f":"VLOOKUP(B939,[1]Sheet1!$A:$I,9,0)","v":"84.50"},{"$f":"VLOOKUP(B939,[2]少数民族加分!$C$1:$E$65536,3,FALSE)","v":2},{"v":183,"d":"183.00"}]
[937,"4152270603402","何光敏","313独山县第二幼儿园","01幼儿教师",{"$f":"VLOOKUP(B940,[1]Sheet1!$A:$I,8,0)","v":"83.50"},{"$f":"VLOOKUP(B940,[1]Sheet1!$A:$I,9,0)","v":"98.00"},null,{"v":181.5,"d":"181.50"}]
[939,"4152270604530","蒙云贵","313独山县第二幼儿园","01幼儿教师",{"$f":"VLOOKUP(B941,[1]Sheet1!$A:$I,8,0)","v":"100.00"},{"$f":"VLOOKUP(B941,[1]Sheet1!$A:$I,9,0)","v":"79.00"},{"$f":"VLOOKUP(B941,[2]少数民族加分!$C$1:$E$65536,3,FALSE)","v":2},{"v":181,"d":"181.00"}]
[940,"4152270604005","潘柳枝","313独山县第二幼儿园","01幼儿教师",{"$f":"VLOOKUP(B942,[1]Sheet1!$A:$I,8,0)","v":"96.50"},{"$f":"VLOOKUP(B942,[1]Sheet1!$A:$I,9,0)","v":"77.00"},{"$f":"VLOOKUP(B942,[2]少数民族加分!$C$1:$E$65536,3,FALSE)","v":2},{"v":175.5,"d":"175.50"}]
[941,"4152270700621","罗春丽","313独山县第二幼儿园","01幼儿教师",{"$f":"VLOOKUP(B943,[1]Sheet1!$A:$I,8,0)","v":"81.50"},{"$f":"VLOOKUP(B943,[1]Sheet1!$A:$I,9,0)","v":"90.00"},null,{"v":171.5,"d":"171.50"}]
[942,"4152270604312","杨清","313独山县第二幼儿园","01幼儿教师",{"$f":"VLOOKUP(B944,[1]Sheet1!$A:$I,8,0)","v":"92.00"},{"$f":"VLOOKUP(B944,[1]Sheet1!$A:$I,9,0)","v":"79.00"},null,{"v":171,"d":"171.00"}]
[944,"4152270604219","杨慧","313独山县第二幼儿园","01幼儿教师",{"$f":"VLOOKUP(B945,[1]Sheet1!$A:$I,8,0)","v":"83.50"},{"$f":"VLOOKUP(B945,[1]Sheet1!$A:$I,9,0)","v":"85.50"},{"$f":"VLOOKUP(B945,[2]少数民族加分!$C$1:$E$65536,3,FALSE)","v":2},{"v":171,"d":"171.00"}]
[945,"4152270604715","申红萍","313独山县第二幼儿园","01幼儿教师",{"$f":"VLOOKUP(B946,[1]Sheet1!$A:$I,8,0)","v":"83.00"},{"$f":"VLOOKUP(B946,[1]Sheet1!$A:$I,9,0)","v":"86.00"},{"$f":"VLOOKUP(B946,[2]少数民族加分!$C$1:$E$65536,3,FALSE)","v":2},{"v":171,"d":"171.00"}]
[946,"4152270603211","蒙文洁","313独山县第二幼儿园","01幼儿教师",{"$f":"VLOOKUP(B947,[1]Sheet1!$A:$I,8,0)","v":"81.00"},{"$f":"VLOOKUP(B947,[1]Sheet1!$A:$I,9,0)","v":"87.00"},{"$f":"VLOOKUP(B947,[2]少数民族加分!$C$1:$E$65536,3,FALSE)","v":2},{"v":170,"d":"170.00"}]
[943,"4152270603930","商小艺","313独山县第二幼儿园","01幼儿教师",{"$f":"VLOOKUP(B948,[1]Sheet1!$A:$I,8,0)","v":"81.00"},{"$f":"VLOOKUP(B948,[1]Sheet1!$A:$I,9,0)","v":"88.00"},null,{"v":169,"d":"169.00"}]
[947,"4152270700930","周载敏","313独山县第二幼儿园","01幼儿教师",{"$f":"VLOOKUP(B949,[1]Sheet1!$A:$I,8,0)","v":"86.00"},{"$f":"VLOOKUP(B949,[1]Sheet1!$A:$I,9,0)","v":"81.00"},null,{"v":167,"d":"167.00"}]
[949,"4152270700924","姚璇","313独山县第二幼儿园","01幼儿教师",{"$f":"VLOOKUP(B950,[1]Sheet1!$A:$I,8,0)","v":"79.50"},{"$f":"VLOOKUP(B950,[1]Sheet1!$A:$I,9,0)","v":"85.50"},{"$f":"VLOOKUP(B950,[2]少数民族加分!$C$1:$E$65536,3,FALSE)","v":2},{"v":167,"d":"167.00"}]
[948,"4152270604202","梁文丽","313独山县第二幼儿园","01幼儿教师",{"$f":"VLOOKUP(B951,[1]Sheet1!$A:$I,8,0)","v":"84.50"},{"$f":"VLOOKUP(B951,[1]Sheet1!$A:$I,9,0)","v":"81.00"},null,{"v":165.5,"d":"165.50"}]
[951,"4152270605604","熊久玉","313独山县第二幼儿园","01幼儿教师",{"$f":"VLOOKUP(B952,[1]Sheet1!$A:$I,8,0)","v":"93.50"},{"$f":"VLOOKUP(B952,[1]Sheet1!$A:$I,9,0)","v":"69.00"},{"$f":"VLOOKUP(B952,[2]少数民族加分!$C$1:$E$65536,3,FALSE)","v":2},{"v":164.5,"d":"164.50"}]
[950,"4152270603302","张丽","313独山县第二幼儿园","01幼儿教师",{"$f":"VLOOKUP(B953,[1]Sheet1!$A:$I,8,0)","v":"83.00"},{"$f":"VLOOKUP(B953,[1]Sheet1!$A:$I,9,0)","v":"81.00"},null,{"v":164,"d":"164.00"}]
[952,"4152270700726","杨木丹","313独山县第二幼儿园","01幼儿教师",{"$f":"VLOOKUP(B954,[1]Sheet1!$A:$I,8,0)","v":"86.00"},{"$f":"VLOOKUP(B954,[1]Sheet1!$A:$I,9,0)","v":"74.50"},{"$f":"VLOOKUP(B954,[2]少数民族加分!$C$1:$E$65536,3,FALSE)","v":2},{"v":162.5,"d":"162.50"}]
[953,"4152270605409","刘丹丹","313独山县第二幼儿园","01幼儿教师",{"$f":"VLOOKUP(B955,[1]Sheet1!$A:$I,8,0)","v":"76.00"},{"$f":"VLOOKUP(B955,[1]Sheet1!$A:$I,9,0)","v":"84.00"},{"$f":"VLOOKUP(B955,[2]少数民族加分!$C$1:$E$65536,3,FALSE)","v":2},{"v":162,"d":"162.00"}]
[956,"4152270604115","张义慧","313独山县第二幼儿园","01幼儿教师",{"$f":"VLOOKUP(B956,[1]Sheet1!$A:$I,8,0)","v":"90.50"},{"$f":"VLOOKUP(B956,[1]Sheet1!$A:$I,9,0)","v":"69.00"},{"$f":"VLOOKUP(B956,[2]少数民族加分!$C$1:$E$65536,3,FALSE)","v":2},{"v":161.5,"d":"161.50"}]
[958,"4152270603714","何昌美","313独山县第二幼儿园","01幼儿教师",{"$f":"VLOOKUP(B957,[1]Sheet1!$A:$I,8,0)","v":"81.50"},{"$f":"VLOOKUP(B957,[1]Sheet1!$A:$I,9,0)","v":"77.00"},{"$f":"VLOOKUP(B957,[2]少数民族加分!$C$1:$E$65536,3,FALSE)","v":2},{"v":160.5,"d":"160.50"}]
[954,"4152270602609","王倩","313独山县第二幼儿园","01幼儿教师",{"$f":"VLOOKUP(B958,[1]Sheet1!$A:$I,8,0)","v":"78.50"},{"$f":"VLOOKUP(B958,[1]Sheet1!$A:$I,9,0)","v":"81.50"},null,{"v":160,"d":"160.00"}]
[955,"4152270603912","陈仲福","313独山县第二幼儿园","01幼儿教师",{"$f":"VLOOKUP(B959,[1]Sheet1!$A:$I,8,0)","v":"87.50"},{"$f":"VLOOKUP(B959,[1]Sheet1!$A:$I,9,0)","v":"72.50"},null,{"v":160,"d":"160.00"}]
[960,"4152270700605","杨化瑞","313独山县第二幼儿园","01幼儿教师",{"$f":"VLOOKUP(B960,[1]Sheet1!$A:$I,8,0)","v":"87.50"},{"$f":"VLOOKUP(B960,[1]Sheet1!$A:$I,9,0)","v":"70.00"},{"$f":"VLOOKUP(B960,[2]少数民族加分!$C$1:$E$65536,3,FALSE)","v":2},{"v":159.5,"d":"159.50"}]
[961,"4152270700915","刘子娣","313独山县第二幼儿园","01幼儿教师",{"$f":"VLOOKUP(B961,[1]Sheet1!$A:$I,8,0)","v":"85.00"},{"$f":"VLOOKUP(B961,[1]Sheet1!$A:$I,9,0)","v":"72.50"},{"$f":"VLOOKUP(B961,[2]少数民族加分!$C$1:$E$65536,3,FALSE)","v":2},{"v":159.5,"d":"159.50"}]
[957,"4152270605514","任晓耗","313独山县第二幼儿园","01幼儿教师",{"$f":"VLOOKUP(B962,[1]Sheet1!$A:$I,8,0)","v":"90.00"},{"$f":"VLOOKUP(B962,[1]Sheet1!$A:$I,9,0)","v":"69.00"},null,{"v":159,"d":"159.00"}]
[962,"4152270700303","石朝艳","313独山县第二幼儿园","01幼儿教师",{"$f":"VLOOKUP(B963,[1]Sheet1!$A:$I,8,0)","v":"69.00"},{"$f":"VLOOKUP(B963,[1]Sheet1!$A:$I,9,0)","v":"87.50"},{"$f":"VLOOKUP(B963,[2]少数民族加分!$C$1:$E$65536,3,FALSE)","v":2},{"v":158.5,"d":"158.50"}]
[963,"4152270701218","龙宇薇","313独山县第二幼儿园","01幼儿教师",{"$f":"VLOOKUP(B964,[1]Sheet1!$A:$I,8,0)","v":"81.50"},{"$f":"VLOOKUP(B964,[1]Sheet1!$A:$I,9,0)","v":"75.00"},{"$f":"VLOOKUP(B964,[2]少数民族加分!$C$1:$E$65536,3,FALSE)","v":2},{"v":158.5,"d":"158.50"}]
[964,"4152270602703","王有巧","313独山县第二幼儿园","01幼儿教师",{"$f":"VLOOKUP(B965,[1]Sheet1!$A:$I,8,0)","v":"77.00"},{"$f":"VLOOKUP(B965,[1]Sheet1!$A:$I,9,0)","v":"79.50"},{"$f":"VLOOKUP(B965,[2]少数民族加分!$C$1:$E$65536,3,FALSE)","v":2},{"v":158.5,"d":"158.50"}]
[965,"4152270602823","王邦会","313独山县第二幼儿园","01幼儿教师",{"$f":"VLOOKUP(B966,[1]Sheet1!$A:$I,8,0)","v":"72.00"},{"$f":"VLOOKUP(B966,[1]Sheet1!$A:$I,9,0)","v":"84.50"},{"$f":"VLOOKUP(B966,[2]少数民族加分!$C$1:$E$65536,3,FALSE)","v":2},{"v":158.5,"d":"158.50"}]
[959,"4152270605112","毛青","313独山县第二幼儿园","01幼儿教师",{"$f":"VLOOKUP(B967,[1]Sheet1!$A:$I,8,0)","v":"71.00"},{"$f":"VLOOKUP(B967,[1]Sheet1!$A:$I,9,0)","v":"87.00"},null,{"v":158,"d":"158.00"}]
[966,"4152270604822","陆平美","313独山县第二幼儿园","01幼儿教师",{"$f":"VLOOKUP(B968,[1]Sheet1!$A:$I,8,0)","v":"82.00"},{"$f":"VLOOKUP(B968,[1]Sheet1!$A:$I,9,0)","v":"74.00"},{"$f":"VLOOKUP(B968,[2]少数民族加分!$C$1:$E$65536,3,FALSE)","v":2},{"v":158,"d":"158.00"}]
[968,"4152270603719","吴邦就","313独山县第二幼儿园","01幼儿教师",{"$f":"VLOOKUP(B969,[1]Sheet1!$A:$I,8,0)","v":"75.50"},{"$f":"VLOOKUP(B969,[1]Sheet1!$A:$I,9,0)","v":"79.00"},{"$f":"VLOOKUP(B969,[2]少数民族加分!$C$1:$E$65536,3,FALSE)","v":2},{"v":156.5,"d":"156.50"}]
[967,"4152270605103","张湘湘","313独山县第二幼儿园","01幼儿教师",{"$f":"VLOOKUP(B970,[1]Sheet1!$A:$I,8,0)","v":"67.00"},{"$f":"VLOOKUP(B970,[1]Sheet1!$A:$I,9,0)","v":"88.50"},null,{"v":155.5,"d":"155.50"}]
[970,"4152270605207","王婷婷","313独山县第二幼儿园","01幼儿教师",{"$f":"VLOOKUP(B971,[1]Sheet1!$A:$I,8,0)","v":"71.50"},{"$f":"VLOOKUP(B971,[1]Sheet1!$A:$I,9,0)","v":"82.00"},{"$f":"VLOOKUP(B971,[2]少数民族加分!$C$1:$E$65536,3,FALSE)","v":2},{"v":155.5,"d":"155.50"}]
[971,"4152270605305","罗进","313独山县第二幼儿园","01幼儿教师",{"$f":"VLOOKUP(B972,[1]Sheet1!$A:$I,8,0)","v":"91.50"},{"$f":"VLOOKUP(B972,[1]Sheet1!$A:$I,9,0)","v":"61.00"},{"$f":"VLOOKUP(B972,[2]少数民族加分!$C$1:$E$65536,3,FALSE)","v":2},{"v":154.5,"d":"154.50"}]
[972,"4152270700109","王青青","313独山县第二幼儿园","01幼儿教师",{"$f":"VLOOKUP(B973,[1]Sheet1!$A:$I,8,0)","v":"75.50"},{"$f":"VLOOKUP(B973,[1]Sheet1!$A:$I,9,0)","v":"77.00"},{"$f":"VLOOKUP(B973,[2]少数民族加分!$C$1:$E$65536,3,FALSE)","v":2},{"v":154.5,"d":"154.50"}]
[969,"4152270603514","欧玉兰","313独山县第二幼儿园","01幼儿教师",{"$f":"VLOOKUP(B974,[1]Sheet1!$A:$I,8,0)","v":"84.50"},{"$f":"VLOOKUP(B974,[1]Sheet1!$A:$I,9,0)","v":"69.50"},null,{"v":154,"d":"154.00"}]
[973,"4152270604416","杨发莉","313独山县第二幼儿园","01幼儿教师",{"$f":"VLOOKUP(B975,[1]Sheet1!$A:$I,8,0)","v":"68.00"},{"$f":"VLOOKUP(B975,[1]Sheet1!$A:$I,9,0)","v":"84.00"},{"$f":"VLOOKUP(B975,[2]少数民族加分!$C$1:$E$65536,3,FALSE)","v":2},{"v":154,"d":"154.00"}]
[974,"4152270602915","梁慧敏","313独山县第二幼儿园","01幼儿教师",{"$f":"VLOOKUP(B976,[1]Sheet1!$A:$I,8,0)","v":"85.00"},{"$f":"VLOOKUP(B976,[1]Sheet1!$A:$I,9,0)","v":"66.50"},{"$f":"VLOOKUP(B976,[2]少数民族加分!$C$1:$E$65536,3,FALSE)","v":2},{"v":153.5,"d":"153.50"}]
[975,"4152270604717","陆开洁","313独山县第二幼儿园","01幼儿教师",{"$f":"VLOOKUP(B977,[1]Sheet1!$A:$I,8,0)","v":"71.50"},{"$f":"VLOOKUP(B977,[1]Sheet1!$A:$I,9,0)","v":"79.50"},{"$f":"VLOOKUP(B977,[2]少数民族加分!$C$1:$E$65536,3,FALSE)","v":2},{"v":153,"d":"153.00"}]
[979,"4152270605129","吴光霞","313独山县第二幼儿园","01幼儿教师",{"$f":"VLOOKUP(B978,[1]Sheet1!$A:$I,8,0)","v":"80.50"},{"$f":"VLOOKUP(B978,[1]Sheet1!$A:$I,9,0)","v":"69.50"},{"$f":"VLOOKUP(B978,[2]少数民族加分!$C$1:$E$65536,3,FALSE)","v":2},{"v":152,"d":"152.00"}]
[976,"4152270605601","周彦余","313独山县第二幼儿园","01幼儿教师",{"$f":"VLOOKUP(B979,[1]Sheet1!$A:$I,8,0)","v":"88.00"},{"$f":"VLOOKUP(B979,[1]Sheet1!$A:$I,9,0)","v":"63.00"},null,{"v":151,"d":"151.00"}]
[981,"4152270700801","龙美凤","313独山县第二幼儿园","01幼儿教师",{"$f":"VLOOKUP(B980,[1]Sheet1!$A:$I,8,0)","v":"73.50"},{"$f":"VLOOKUP(B980,[1]Sheet1!$A:$I,9,0)","v":"75.50"},{"$f":"VLOOKUP(B980,[2]少数民族加分!$C$1:$E$65536,3,FALSE)","v":2},{"v":151,"d":"151.00"}]
[982,"4152270701201","潘胜爽","313独山县第二幼儿园","01幼儿教师",{"$f":"VLOOKUP(B981,[1]Sheet1!$A:$I,8,0)","v":"82.00"},{"$f":"VLOOKUP(B981,[1]Sheet1!$A:$I,9,0)","v":"66.50"},{"$f":"VLOOKUP(B981,[2]少数民族加分!$C$1:$E$65536,3,FALSE)","v":2},{"v":150.5,"d":"150.50"}]
[977,"4152270602710","李远红","313独山县第二幼儿园","01幼儿教师",{"$f":"VLOOKUP(B982,[1]Sheet1!$A:$I,8,0)","v":"83.50"},{"$f":"VLOOKUP(B982,[1]Sheet1!$A:$I,9,0)","v":"66.50"},null,{"v":150,"d":"150.00"}]
[978,"4152270602911","田茂琳","313独山县第二幼儿园","01幼儿教师",{"$f":"VLOOKUP(B983,[1]Sheet1!$A:$I,8,0)","v":"82.00"},{"$f":"VLOOKUP(B983,[1]Sheet1!$A:$I,9,0)","v":"68.00"},null,{"v":150,"d":"150.00"}]
[980,"4152270604828","张晓寒","313独山县第二幼儿园","01幼儿教师",{"$f":"VLOOKUP(B984,[1]Sheet1!$A:$I,8,0)","v":"86.00"},{"$f":"VLOOKUP(B984,[1]Sheet1!$A:$I,9,0)","v":"63.50"},null,{"v":149.5,"d":"149.50"}]
[985,"4152270700104","杨月彩","313独山县第二幼儿园","01幼儿教师",{"$f":"VLOOKUP(B985,[1]Sheet1!$A:$I,8,0)","v":"73.50"},{"$f":"VLOOKUP(B985,[1]Sheet1!$A:$I,9,0)","v":"73.00"},{"$f":"VLOOKUP(B985,[2]少数民族加分!$C$1:$E$65536,3,FALSE)","v":2},{"v":148.5,"d":"148.50"}]
[986,"4152270700215","王秋萍","313独山县第二幼儿园","01幼儿教师",{"$f":"VLOOKUP(B986,[1]Sheet1!$A:$I,8,0)","v":"70.00"},{"$f":"VLOOKUP(B986,[1]Sheet1!$A:$I,9,0)","v":"76.50"},{"$f":"VLOOKUP(B986,[2]少数民族加分!$C$1:$E$65536,3,FALSE)","v":2},{"v":148.5,"d":"148.50"}]
[987,"4152270701002","潘悦","313独山县第二幼儿园","01幼儿教师",{"$f":"VLOOKUP(B987,[1]Sheet1!$A:$I,8,0)","v":"72.50"},{"$f":"VLOOKUP(B987,[1]Sheet1!$A:$I,9,0)","v":"74.00"},{"$f":"VLOOKUP(B987,[2]少数民族加分!$C$1:$E$65536,3,FALSE)","v":2},{"v":148.5,"d":"148.50"}]
[988,"4152270605322","潘成秀","313独山县第二幼儿园","01幼儿教师",{"$f":"VLOOKUP(B988,[1]Sheet1!$A:$I,8,0)","v":"58.00"},{"$f":"VLOOKUP(B988,[1]Sheet1!$A:$I,9,0)","v":"88.00"},{"$f":"VLOOKUP(B988,[2]少数民族加分!$C$1:$E$65536,3,FALSE)","v":2},{"v":148,"d":"148.00"}]
[989,"4152270700620","石宗颖","313独山县第二幼儿园","01幼儿教师",{"$f":"VLOOKUP(B989,[1]Sheet1!$A:$I,8,0)","v":"77.50"},{"$f":"VLOOKUP(B989,[1]Sheet1!$A:$I,9,0)","v":"68.50"},{"$f":"VLOOKUP(B989,[2]少数民族加分!$C$1:$E$65536,3,FALSE)","v":2},{"v":148,"d":"148.00"}]
[983,"4152270604418","安思宇","313独山县第二幼儿园","01幼儿教师",{"$f":"VLOOKUP(B990,[1]Sheet1!$A:$I,8,0)","v":"77.00"},{"$f":"VLOOKUP(B990,[1]Sheet1!$A:$I,9,0)","v":"70.50"},null,{"v":147.5,"d":"147.50"}]
[992,"4152270602907","姚艳艳","313独山县第二幼儿园","01幼儿教师",{"$f":"VLOOKUP(B991,[1]Sheet1!$A:$I,8,0)","v":"64.50"},{"$f":"VLOOKUP(B991,[1]Sheet1!$A:$I,9,0)","v":"81.00"},{"$f":"VLOOKUP(B991,[2]少数民族加分!$C$1:$E$65536,3,FALSE)","v":2},{"v":147.5,"d":"147.50"}]
[984,"4152270603517","董建霞","313独山县第二幼儿园","01幼儿教师",{"$f":"VLOOKUP(B992,[1]Sheet1!$A:$I,8,0)","v":"74.50"},{"$f":"VLOOKUP(B992,[1]Sheet1!$A:$I,9,0)","v":"72.00"},null,{"v":146.5,"d":"146.50"}]
[993,"4152270701209","罗昌雪","313独山县第二幼儿园","01幼儿教师",{"$f":"VLOOKUP(B993,[1]Sheet1!$A:$I,8,0)","v":"72.50"},{"$f":"VLOOKUP(B993,[1]Sheet1!$A:$I,9,0)","v":"72.00"},{"$f":"VLOOKUP(B993,[2]少数民族加分!$C$1:$E$65536,3,FALSE)","v":2},{"v":146.5,"d":"146.50"}]
[990,"4152270701203","吴秋雨","313独山县第二幼儿园","01幼儿教师",{"$f":"VLOOKUP(B994,[1]Sheet1!$A:$I,8,0)","v":"67.00"},{"$f":"VLOOKUP(B994,[1]Sheet1!$A:$I,9,0)","v":"79.00"},null,{"v":146,"d":"146.00"}]
[991,"4152270602725","陈依依","313独山县第二幼儿园","01幼儿教师",{"$f":"VLOOKUP(B995,[1]Sheet1!$A:$I,8,0)","v":"80.50"},{"$f":"VLOOKUP(B995,[1]Sheet1!$A:$I,9,0)","v":"65.50"},null,{"v":146,"d":"146.00"}]
[995,"4152270605029","旷梨娟","313独山县第二幼儿园","01幼儿教师",{"$f":"VLOOKUP(B996,[1]Sheet1!$A:$I,8,0)","v":"78.00"},{"$f":"VLOOKUP(B996,[1]Sheet1!$A:$I,9,0)","v":"66.00"},{"$f":"VLOOKUP(B996,[2]少数民族加分!$C$1:$E$65536,3,FALSE)","v":2},{"v":146,"d":"146.00"}]
[996,"4152270602602","徐自娜","313独山县第二幼儿园","01幼儿教师",{"$f":"VLOOKUP(B997,[1]Sheet1!$A:$I,8,0)","v":"68.50"},{"$f":"VLOOKUP(B997,[1]Sheet1!$A:$I,9,0)","v":"75.00"},{"$f":"VLOOKUP(B997,[2]少数民族加分!$C$1:$E$65536,3,FALSE)","v":2},{"v":145.5,"d":"145.50"}]
[997,"4152270604311","班国桃","313独山县第二幼儿园","01幼儿教师",{"$f":"VLOOKUP(B998,[1]Sheet1!$A:$I,8,0)","v":"66.00"},{"$f":"VLOOKUP(B998,[1]Sheet1!$A:$I,9,0)","v":"77.50"},{"$f":"VLOOKUP(B998,[2]少数民族加分!$C$1:$E$65536,3,FALSE)","v":2},{"v":145.5,"d":"145.50"}]
[998,"4152270604710","覃荣青","313独山县第二幼儿园","01幼儿教师",{"$f":"VLOOKUP(B999,[1]Sheet1!$A:$I,8,0)","v":"76.00"},{"$f":"VLOOKUP(B999,[1]Sheet1!$A:$I,9,0)","v":"67.50"},{"$f":"VLOOKUP(B999,[2]少数民族加分!$C$1:$E$65536,3,FALSE)","v":2},{"v":145.5,"d":"145.50"}]
[1001,"4152270700402","李素梅","313独山县第二幼儿园","01幼儿教师",{"$f":"VLOOKUP(B1000,[1]Sheet1!$A:$I,8,0)","v":"84.00"},{"$f":"VLOOKUP(B1000,[1]Sheet1!$A:$I,9,0)","v":"59.00"},{"$f":"VLOOKUP(B1000,[2]少数民族加分!$C$1:$E$65536,3,FALSE)","v":2},{"v":145,"d":"145.00"}]
[1003,"4152270604921","潘次黎","313独山县第二幼儿园","01幼儿教师",{"$f":"VLOOKUP(B1001,[1]Sheet1!$A:$I,8,0)","v":"72.00"},{"$f":"VLOOKUP(B1001,[1]Sheet1!$A:$I,9,0)","v":"71.00"},{"$f":"VLOOKUP(B1001,[2]少数民族加分!$C$1:$E$65536,3,FALSE)","v":2},{"v":145,"d":"145.00"}]
[994,"4152270603014","袁晓仙","313独山县第二幼儿园","01幼儿教师",{"$f":"VLOOKUP(B1002,[1]Sheet1!$A:$I,8,0)","v":"66.00"},{"$f":"VLOOKUP(B1002,[1]Sheet1!$A:$I,9,0)","v":"78.00"},null,{"v":144,"d":"144.00"}]
[1007,"4152270701215","覃建珊","313独山县第二幼儿园","01幼儿教师",{"$f":"VLOOKUP(B1003,[1]Sheet1!$A:$I,8,0)","v":"70.50"},{"$f":"VLOOKUP(B1003,[1]Sheet1!$A:$I,9,0)","v":"71.50"},{"$f":"VLOOKUP(B1003,[2]少数民族加分!$C$1:$E$65536,3,FALSE)","v":2},{"v":144,"d":"144.00"}]
[1008,"4152270603229","杨小艳","313独山县第二幼儿园","01幼儿教师",{"$f":"VLOOKUP(B1004,[1]Sheet1!$A:$I,8,0)","v":"59.00"},{"$f":"VLOOKUP(B1004,[1]Sheet1!$A:$I,9,0)","v":"83.00"},{"$f":"VLOOKUP(B1004,[2]少数民族加分!$C$1:$E$65536,3,FALSE)","v":2},{"v":144,"d":"144.00"}]
[999,"4152270700704","吕启芳","313独山县第二幼儿园","01幼儿教师",{"$f":"VLOOKUP(B1005,[1]Sheet1!$A:$I,8,0)","v":"83.50"},{"$f":"VLOOKUP(B1005,[1]Sheet1!$A:$I,9,0)","v":"60.00"},null,{"v":143.5,"d":"143.50"}]
[1000,"4152270700906","徐莹霄","313独山县第二幼儿园","01幼儿教师",{"$f":"VLOOKUP(B1006,[1]Sheet1!$A:$I,8,0)","v":"80.00"},{"$f":"VLOOKUP(B1006,[1]Sheet1!$A:$I,9,0)","v":"63.50"},null,{"v":143.5,"d":"143.50"}]
[1002,"4152270701101","邢辰","313独山县第二幼儿园","01幼儿教师",{"$f":"VLOOKUP(B1007,[1]Sheet1!$A:$I,8,0)","v":"75.00"},{"$f":"VLOOKUP(B1007,[1]Sheet1!$A:$I,9,0)","v":"68.00"},null,{"v":143,"d":"143.00"}]
[1009,"4152270603214","潘应芝","313独山县第二幼儿园","01幼儿教师",{"$f":"VLOOKUP(B1008,[1]Sheet1!$A:$I,8,0)","v":"74.00"},{"$f":"VLOOKUP(B1008,[1]Sheet1!$A:$I,9,0)","v":"67.00"},{"$f":"VLOOKUP(B1008,[2]少数民族加分!$C$1:$E$65536,3,FALSE)","v":2},{"v":143,"d":"143.00"}]
[1010,"4152270603218","陆小珍","313独山县第二幼儿园","01幼儿教师",{"$f":"VLOOKUP(B1009,[1]Sheet1!$A:$I,8,0)","v":"69.00"},{"$f":"VLOOKUP(B1009,[1]Sheet1!$A:$I,9,0)","v":"72.00"},{"$f":"VLOOKUP(B1009,[2]少数民族加分!$C$1:$E$65536,3,FALSE)","v":2},{"v":143,"d":"143.00"}]
[1011,"4152270604221","罗德鹃","313独山县第二幼儿园","01幼儿教师",{"$f":"VLOOKUP(B1010,[1]Sheet1!$A:$I,8,0)","v":"71.50"},{"$f":"VLOOKUP(B1010,[1]Sheet1!$A:$I,9,0)","v":"69.50"},{"$f":"VLOOKUP(B1010,[2]少数民族加分!$C$1:$E$65536,3,FALSE)","v":2},{"v":143,"d":"143.00"}]
[1004,"4152270603120","杨晓凤","313独山县第二幼儿园","01幼儿教师",{"$f":"VLOOKUP(B1011,[1]Sheet1!$A:$I,8,0)","v":"70.50"},{"$f":"VLOOKUP(B1011,[1]Sheet1!$A:$I,9,0)","v":"72.00"},null,{"v":142.5,"d":"142.50"}]
[1005,"4152270700521","胡兰娟","313独山县第二幼儿园","01幼儿教师",{"$f":"VLOOKUP(B1012,[1]Sheet1!$A:$I,8,0)","v":"71.00"},{"$f":"VLOOKUP(B1012,[1]Sheet1!$A:$I,9,0)","v":"71.50"},null,{"v":142.5,"d":"142.50"}]
[1006,"4152270700923","徐明燕","313独山县第二幼儿园","01幼儿教师",{"$f":"VLOOKUP(B1013,[1]Sheet1!$A:$I,8,0)","v":"77.50"},{"$f":"VLOOKUP(B1013,[1]Sheet1!$A:$I,9,0)","v":"65.00"},null,{"v":142.5,"d":"142.50"}]
[1013,"4152270603808","潘宇舟","313独山县第二幼儿园","01幼儿教师",{"$f":"VLOOKUP(B1014,[1]Sheet1!$A:$I,8,0)","v":"78.00"},{"$f":"VLOOKUP(B1014,[1]Sheet1!$A:$I,9,0)","v":"62.50"},{"$f":"VLOOKUP(B1014,[2]少数民族加分!$C$1:$E$65536,3,FALSE)","v":2},{"v":142.5,"d":"142.50"}]
[1014,"4152270604627","李蓉","313独山县第二幼儿园","01幼儿教师",{"$f":"VLOOKUP(B1015,[1]Sheet1!$A:$I,8,0)","v":"82.00"},{"$f":"VLOOKUP(B1015,[1]Sheet1!$A:$I,9,0)","v":"58.00"},{"$f":"VLOOKUP(B1015,[2]少数民族加分!$C$1:$E$65536,3,FALSE)","v":2},{"v":142,"d":"142.00"}]
[1015,"4152270604908","韦祖查","313独山县第二幼儿园","01幼儿教师",{"$f":"VLOOKUP(B1016,[1]Sheet1!$A:$I,8,0)","v":"67.00"},{"$f":"VLOOKUP(B1016,[1]Sheet1!$A:$I,9,0)","v":"73.00"},{"$f":"VLOOKUP(B1016,[2]少数民族加分!$C$1:$E$65536,3,FALSE)","v":2},{"v":142,"d":"142.00"}]
[1016,"4152270700808","陈长满","313独山县第二幼儿园","01幼儿教师",{"$f":"VLOOKUP(B1017,[1]Sheet1!$A:$I,8,0)","v":"64.00"},{"$f":"VLOOKUP(B1017,[1]Sheet1!$A:$I,9,0)","v":"76.00"},{"$f":"VLOOKUP(B1017,[2]少数民族加分!$C$1:$E$65536,3,FALSE)","v":2},{"v":142,"d":"142.00"}]
[1019,"4152270604120","郭芳芳","313独山县第二幼儿园","01幼儿教师",{"$f":"VLOOKUP(B1018,[1]Sheet1!$A:$I,8,0)","v":"75.00"},{"$f":"VLOOKUP(B1018,[1]Sheet1!$A:$I,9,0)","v":"64.50"},{"$f":"VLOOKUP(B1018,[2]少数民族加分!$C$1:$E$65536,3,FALSE)","v":2},{"v":141.5,"d":"141.50"}]
[1012,"4152270700514","陆长青","313独山县第二幼儿园","01幼儿教师",{"$f":"VLOOKUP(B1019,[1]Sheet1!$A:$I,8,0)","v":"81.50"},{"$f":"VLOOKUP(B1019,[1]Sheet1!$A:$I,9,0)","v":"59.50"},null,{"v":141,"d":"141.00"}]
[1021,"4152270603230","江梦","313独山县第二幼儿园","01幼儿教师",{"$f":"VLOOKUP(B1020,[1]Sheet1!$A:$I,8,0)","v":"64.00"},{"$f":"VLOOKUP(B1020,[1]Sheet1!$A:$I,9,0)","v":"75.00"},{"$f":"VLOOKUP(B1020,[2]少数民族加分!$C$1:$E$65536,3,FALSE)","v":2},{"v":141,"d":"141.00"}]
[1023,"4152270603622","吴帮雪","313独山县第二幼儿园","01幼儿教师",{"$f":"VLOOKUP(B1021,[1]Sheet1!$A:$I,8,0)","v":"58.50"},{"$f":"VLOOKUP(B1021,[1]Sheet1!$A:$I,9,0)","v":"80.00"},{"$f":"VLOOKUP(B1021,[2]少数民族加分!$C$1:$E$65536,3,FALSE)","v":2},{"v":140.5,"d":"140.50"}]
[1024,"4152270603809","李倩","313独山县第二幼儿园","01幼儿教师",{"$f":"VLOOKUP(B1022,[1]Sheet1!$A:$I,8,0)","v":"80.50"},{"$f":"VLOOKUP(B1022,[1]Sheet1!$A:$I,9,0)","v":"57.50"},{"$f":"VLOOKUP(B1022,[2]少数民族加分!$C$1:$E$65536,3,FALSE)","v":2},{"v":140,"d":"140.00"}]
[1025,"4152270605526","王国东","313独山县第二幼儿园","01幼儿教师",{"$f":"VLOOKUP(B1023,[1]Sheet1!$A:$I,8,0)","v":"79.00"},{"$f":"VLOOKUP(B1023,[1]Sheet1!$A:$I,9,0)","v":"59.00"},{"$f":"VLOOKUP(B1023,[2]少数民族加分!$C$1:$E$65536,3,FALSE)","v":2},{"v":140,"d":"140.00"}]
[1026,"4152270700901","梁琴","313独山县第二幼儿园","01幼儿教师",{"$f":"VLOOKUP(B1024,[1]Sheet1!$A:$I,8,0)","v":"62.00"},{"$f":"VLOOKUP(B1024,[1]Sheet1!$A:$I,9,0)","v":"76.00"},{"$f":"VLOOKUP(B1024,[2]少数民族加分!$C$1:$E$65536,3,FALSE)","v":2},{"v":140,"d":"140.00"}]
[1017,"4152270700428","赵泽云","313独山县第二幼儿园","01幼儿教师",{"$f":"VLOOKUP(B1025,[1]Sheet1!$A:$I,8,0)","v":"72.50"},{"$f":"VLOOKUP(B1025,[1]Sheet1!$A:$I,9,0)","v":"67.00"},null,{"v":139.5,"d":"139.50"}]
[1018,"4152270701015","祝梅","313独山县第二幼儿园","01幼儿教师",{"$f":"VLOOKUP(B1026,[1]Sheet1!$A:$I,8,0)","v":"74.50"},{"$f":"VLOOKUP(B1026,[1]Sheet1!$A:$I,9,0)","v":"65.00"},null,{"v":139.5,"d":"139.50"}]
[1028,"4152270602908","潘雪梅","313独山县第二幼儿园","01幼儿教师",{"$f":"VLOOKUP(B1027,[1]Sheet1!$A:$I,8,0)","v":"74.00"},{"$f":"VLOOKUP(B1027,[1]Sheet1!$A:$I,9,0)","v":"63.50"},{"$f":"VLOOKUP(B1027,[2]少数民族加分!$C$1:$E$65536,3,FALSE)","v":2},{"v":139.5,"d":"139.50"}]
[1029,"4152270604527","罗玉龄","313独山县第二幼儿园","01幼儿教师",{"$f":"VLOOKUP(B1028,[1]Sheet1!$A:$I,8,0)","v":"76.50"},{"$f":"VLOOKUP(B1028,[1]Sheet1!$A:$I,9,0)","v":"61.00"},{"$f":"VLOOKUP(B1028,[2]少数民族加分!$C$1:$E$65536,3,FALSE)","v":2},{"v":139.5,"d":"139.50"}]
[1020,"4152270603104","李江琴","313独山县第二幼儿园","01幼儿教师",{"$f":"VLOOKUP(B1029,[1]Sheet1!$A:$I,8,0)","v":"56.00"},{"$f":"VLOOKUP(B1029,[1]Sheet1!$A:$I,9,0)","v":"83.00"},null,{"v":139,"d":"139.00"}]
[1022,"4152270603720","朱蓉","313独山县第二幼儿园","01幼儿教师",{"$f":"VLOOKUP(B1030,[1]Sheet1!$A:$I,8,0)","v":"78.50"},{"$f":"VLOOKUP(B1030,[1]Sheet1!$A:$I,9,0)","v":"60.50"},null,{"v":139,"d":"139.00"}]
[1031,"4152270602615","马小清","313独山县第二幼儿园","01幼儿教师",{"$f":"VLOOKUP(B1031,[1]Sheet1!$A:$I,8,0)","v":"73.00"},{"$f":"VLOOKUP(B1031,[1]Sheet1!$A:$I,9,0)","v":"64.00"},{"$f":"VLOOKUP(B1031,[2]少数民族加分!$C$1:$E$65536,3,FALSE)","v":2},{"v":139,"d":"139.00"}]
[1032,"4152270603427","杨兆慧","313独山县第二幼儿园","01幼儿教师",{"$f":"VLOOKUP(B1032,[1]Sheet1!$A:$I,8,0)","v":"74.50"},{"$f":"VLOOKUP(B1032,[1]Sheet1!$A:$I,9,0)","v":"62.50"},{"$f":"VLOOKUP(B1032,[2]少数民族加分!$C$1:$E$65536,3,FALSE)","v":2},{"v":139,"d":"139.00"}]
[1033,"4152270604327","杨双双","313独山县第二幼儿园","01幼儿教师",{"$f":"VLOOKUP(B1033,[1]Sheet1!$A:$I,8,0)","v":"66.00"},{"$f":"VLOOKUP(B1033,[1]Sheet1!$A:$I,9,0)","v":"71.00"},{"$f":"VLOOKUP(B1033,[2]少数民族加分!$C$1:$E$65536,3,FALSE)","v":2},{"v":139,"d":"139.00"}]
[1034,"4152270605612","陈灿灿","313独山县第二幼儿园","01幼儿教师",{"$f":"VLOOKUP(B1034,[1]Sheet1!$A:$I,8,0)","v":"72.50"},{"$f":"VLOOKUP(B1034,[1]Sheet1!$A:$I,9,0)","v":"64.50"},{"$f":"VLOOKUP(B1034,[2]少数民族加分!$C$1:$E$65536,3,FALSE)","v":2},{"v":139,"d":"139.00"}]
[1036,"4152270701007","杨虹","313独山县第二幼儿园","01幼儿教师",{"$f":"VLOOKUP(B1035,[1]Sheet1!$A:$I,8,0)","v":"64.50"},{"$f":"VLOOKUP(B1035,[1]Sheet1!$A:$I,9,0)","v":"72.00"},{"$f":"VLOOKUP(B1035,[2]少数民族加分!$C$1:$E$65536,3,FALSE)","v":2},{"v":138.5,"d":"138.50"}]
[1037,"4152270603625","罗祖蓉","313独山县第二幼儿园","01幼儿教师",{"$f":"VLOOKUP(B1036,[1]Sheet1!$A:$I,8,0)","v":"62.50"},{"$f":"VLOOKUP(B1036,[1]Sheet1!$A:$I,9,0)","v":"74.00"},{"$f":"VLOOKUP(B1036,[2]少数民族加分!$C$1:$E$65536,3,FALSE)","v":2},{"v":138.5,"d":"138.50"}]
[1038,"4152270602901","金文航","313独山县第二幼儿园","01幼儿教师",{"$f":"VLOOKUP(B1037,[1]Sheet1!$A:$I,8,0)","v":"70.50"},{"$f":"VLOOKUP(B1037,[1]Sheet1!$A:$I,9,0)","v":"65.50"},{"$f":"VLOOKUP(B1037,[2]少数民族加分!$C$1:$E$65536,3,FALSE)","v":2},{"v":138,"d":"138.00"}]
[1039,"4152270604010","李启花","313独山县第二幼儿园","01幼儿教师",{"$f":"VLOOKUP(B1038,[1]Sheet1!$A:$I,8,0)","v":"64.00"},{"$f":"VLOOKUP(B1038,[1]Sheet1!$A:$I,9,0)","v":"72.00"},{"$f":"VLOOKUP(B1038,[2]少数民族加分!$C$1:$E$65536,3,FALSE)","v":2},{"v":138,"d":"138.00"}]
[1040,"4152270604904","蒙炳霞","313独山县第二幼儿园","01幼儿教师",{"$f":"VLOOKUP(B1039,[1]Sheet1!$A:$I,8,0)","v":"73.50"},{"$f":"VLOOKUP(B1039,[1]Sheet1!$A:$I,9,0)","v":"62.50"},{"$f":"VLOOKUP(B1039,[2]少数民族加分!$C$1:$E$65536,3,FALSE)","v":2},{"v":138,"d":"138.00"}]
[1041,"4152270605121","严佳珍","313独山县第二幼儿园","01幼儿教师",{"$f":"VLOOKUP(B1040,[1]Sheet1!$A:$I,8,0)","v":"76.00"},{"$f":"VLOOKUP(B1040,[1]Sheet1!$A:$I,9,0)","v":"60.00"},{"$f":"VLOOKUP(B1040,[2]少数民族加分!$C$1:$E$65536,3,FALSE)","v":2},{"v":138,"d":"138.00"}]
[1027,"4152270700713","龚成玉","313独山县第二幼儿园","01幼儿教师",{"$f":"VLOOKUP(B1041,[1]Sheet1!$A:$I,8,0)","v":"70.00"},{"$f":"VLOOKUP(B1041,[1]Sheet1!$A:$I,9,0)","v":"67.50"},null,{"v":137.5,"d":"137.50"}]
[1030,"4152270604808","赵清琴","313独山县第二幼儿园","01幼儿教师",{"$f":"VLOOKUP(B1042,[1]Sheet1!$A:$I,8,0)","v":"70.50"},{"$f":"VLOOKUP(B1042,[1]Sheet1!$A:$I,9,0)","v":"67.00"},null,{"v":137.5,"d":"137.50"}]
[1043,"4152270603317","王振荣","313独山县第二幼儿园","01幼儿教师",{"$f":"VLOOKUP(B1043,[1]Sheet1!$A:$I,8,0)","v":"57.50"},{"$f":"VLOOKUP(B1043,[1]Sheet1!$A:$I,9,0)","v":"78.00"},{"$f":"VLOOKUP(B1043,[2]少数民族加分!$C$1:$E$65536,3,FALSE)","v":2},{"v":137.5,"d":"137.50"}]
[1035,"4152270700126","奚启超","313独山县第二幼儿园","01幼儿教师",{"$f":"VLOOKUP(B1044,[1]Sheet1!$A:$I,8,0)","v":"72.50"},{"$f":"VLOOKUP(B1044,[1]Sheet1!$A:$I,9,0)","v":"64.00"},null,{"v":136.5,"d":"136.50"}]
[1045,"4152270700727","吴佳祯","313独山县第二幼儿园","01幼儿教师",{"$f":"VLOOKUP(B1045,[1]Sheet1!$A:$I,8,0)","v":"57.50"},{"$f":"VLOOKUP(B1045,[1]Sheet1!$A:$I,9,0)","v":"77.00"},{"$f":"VLOOKUP(B1045,[2]少数民族加分!$C$1:$E$65536,3,FALSE)","v":2},{"v":136.5,"d":"136.50"}]
[1042,"4152270700119","任茜","313独山县第二幼儿园","01幼儿教师",{"$f":"VLOOKUP(B1046,[1]Sheet1!$A:$I,8,0)","v":"86.50"},{"$f":"VLOOKUP(B1046,[1]Sheet1!$A:$I,9,0)","v":"49.50"},null,{"v":136,"d":"136.00"}]
[1046,"4152270700217","吴华沙","313独山县第二幼儿园","01幼儿教师",{"$f":"VLOOKUP(B1047,[1]Sheet1!$A:$I,8,0)","v":"57.00"},{"$f":"VLOOKUP(B1047,[1]Sheet1!$A:$I,9,0)","v":"77.00"},{"$f":"VLOOKUP(B1047,[2]少数民族加分!$C$1:$E$65536,3,FALSE)","v":2},{"v":136,"d":"136.00"}]
[1044,"4152270603724","李家梅","313独山县第二幼儿园","01幼儿教师",{"$f":"VLOOKUP(B1048,[1]Sheet1!$A:$I,8,0)","v":"57.50"},{"$f":"VLOOKUP(B1048,[1]Sheet1!$A:$I,9,0)","v":"78.00"},null,{"v":135.5,"d":"135.50"}]
[1048,"4152270603603","陈加娟","313独山县第二幼儿园","01幼儿教师",{"$f":"VLOOKUP(B1049,[1]Sheet1!$A:$I,8,0)","v":"69.50"},{"$f":"VLOOKUP(B1049,[1]Sheet1!$A:$I,9,0)","v":"64.00"},{"$f":"VLOOKUP(B1049,[2]少数民族加分!$C$1:$E$65536,3,FALSE)","v":2},{"v":135.5,"d":"135.50"}]
[1049,"4152270603907","李佳佳","313独山县第二幼儿园","01幼儿教师",{"$f":"VLOOKUP(B1050,[1]Sheet1!$A:$I,8,0)","v":"65.00"},{"$f":"VLOOKUP(B1050,[1]Sheet1!$A:$I,9,0)","v":"68.50"},{"$f":"VLOOKUP(B1050,[2]少数民族加分!$C$1:$E$65536,3,FALSE)","v":2},{"v":135.5,"d":"135.50"}]
[1052,"4152270700807","蒙仕姗","313独山县第二幼儿园","01幼儿教师",{"$f":"VLOOKUP(B1051,[1]Sheet1!$A:$I,8,0)","v":"65.00"},{"$f":"VLOOKUP(B1051,[1]Sheet1!$A:$I,9,0)","v":"68.00"},{"$f":"VLOOKUP(B1051,[2]少数民族加分!$C$1:$E$65536,3,FALSE)","v":2},{"v":135,"d":"135.00"}]
[1053,"4152270603326","杨先就","313独山县第二幼儿园","01幼儿教师",{"$f":"VLOOKUP(B1052,[1]Sheet1!$A:$I,8,0)","v":"65.00"},{"$f":"VLOOKUP(B1052,[1]Sheet1!$A:$I,9,0)","v":"68.00"},{"$f":"VLOOKUP(B1052,[2]少数民族加分!$C$1:$E$65536,3,FALSE)","v":2},{"v":135,"d":"135.00"}]
[1054,"4152270604320","黄承媛","313独山县第二幼儿园","01幼儿教师",{"$f":"VLOOKUP(B1053,[1]Sheet1!$A:$I,8,0)","v":"71.50"},{"$f":"VLOOKUP(B1053,[1]Sheet1!$A:$I,9,0)","v":"61.50"},{"$f":"VLOOKUP(B1053,[2]少数民族加分!$C$1:$E$65536,3,FALSE)","v":2},{"v":135,"d":"135.00"}]
[1056,"4152270700705","覃方娟","313独山县第二幼儿园","01幼儿教师",{"$f":"VLOOKUP(B1054,[1]Sheet1!$A:$I,8,0)","v":"61.50"},{"$f":"VLOOKUP(B1054,[1]Sheet1!$A:$I,9,0)","v":"71.00"},{"$f":"VLOOKUP(B1054,[2]少数民族加分!$C$1:$E$65536,3,FALSE)","v":2},{"v":134.5,"d":"134.50"}]
[1057,"4152270701012","程宇翔","313独山县第二幼儿园","01幼儿教师",{"$f":"VLOOKUP(B1055,[1]Sheet1!$A:$I,8,0)","v":"83.50"},{"$f":"VLOOKUP(B1055,[1]Sheet1!$A:$I,9,0)","v":"49.00"},{"$f":"VLOOKUP(B1055,[2]少数民族加分!$C$1:$E$65536,3,FALSE)","v":2},{"v":134.5,"d":"134.50"}]
[1047,"4152270602929","陆玉梅","313独山县第二幼儿园","01幼儿教师",{"$f":"VLOOKUP(B1056,[1]Sheet1!$A:$I,8,0)","v":"75.50"},{"$f":"VLOOKUP(B1056,[1]Sheet1!$A:$I,9,0)","v":"58.50"},null,{"v":134,"d":"134.00"}]
[1058,"4152270700508","吴朝娟","313独山县第二幼儿园","01幼儿教师",{"$f":"VLOOKUP(B1057,[1]Sheet1!$A:$I,8,0)","v":"66.00"},{"$f":"VLOOKUP(B1057,[1]Sheet1!$A:$I,9,0)","v":"66.00"},{"$f":"VLOOKUP(B1057,[2]少数民族加分!$C$1:$E$65536,3,FALSE)","v":2},{"v":134,"d":"134.00"}]
[1059,"4152270701210","金国设","313独山县第二幼儿园","01幼儿教师",{"$f":"VLOOKUP(B1058,[1]Sheet1!$A:$I,8,0)","v":"76.50"},{"$f":"VLOOKUP(B1058,[1]Sheet1!$A:$I,9,0)","v":"55.50"},{"$f":"VLOOKUP(B1058,[2]少数民族加分!$C$1:$E$65536,3,FALSE)","v":2},{"v":134,"d":"134.00"}]
[1060,"4152270603123","卢业荷","313独山县第二幼儿园","01幼儿教师",{"$f":"VLOOKUP(B1059,[1]Sheet1!$A:$I,8,0)","v":"57.00"},{"$f":"VLOOKUP(B1059,[1]Sheet1!$A:$I,9,0)","v":"75.00"},{"$f":"VLOOKUP(B1059,[2]少数民族加分!$C$1:$E$65536,3,FALSE)","v":2},{"v":134,"d":"134.00"}]
[1061,"4152270603910","莫利朵","313独山县第二幼儿园","01幼儿教师",{"$f":"VLOOKUP(B1060,[1]Sheet1!$A:$I,8,0)","v":"66.50"},{"$f":"VLOOKUP(B1060,[1]Sheet1!$A:$I,9,0)","v":"65.50"},{"$f":"VLOOKUP(B1060,[2]少数民族加分!$C$1:$E$65536,3,FALSE)","v":2},{"v":134,"d":"134.00"}]
[1050,"4152270604824","范文雯","313独山县第二幼儿园","01幼儿教师",{"$f":"VLOOKUP(B1061,[1]Sheet1!$A:$I,8,0)","v":"70.00"},{"$f":"VLOOKUP(B1061,[1]Sheet1!$A:$I,9,0)","v":"63.50"},null,{"v":133.5,"d":"133.50"}]
[1051,"4152270605404","帅雪琴","313独山县第二幼儿园","01幼儿教师",{"$f":"VLOOKUP(B1062,[1]Sheet1!$A:$I,8,0)","v":"54.50"},{"$f":"VLOOKUP(B1062,[1]Sheet1!$A:$I,9,0)","v":"79.00"},null,{"v":133.5,"d":"133.50"}]
[1062,"4152270603416","杨梅","313独山县第二幼儿园","01幼儿教师",{"$f":"VLOOKUP(B1063,[1]Sheet1!$A:$I,8,0)","v":"65.00"},{"$f":"VLOOKUP(B1063,[1]Sheet1!$A:$I,9,0)","v":"66.50"},{"$f":"VLOOKUP(B1063,[2]少数民族加分!$C$1:$E$65536,3,FALSE)","v":2},{"v":133.5,"d":"133.50"}]
[1064,"4152270700614","杨梨花","313独山县第二幼儿园","01幼儿教师",{"$f":"VLOOKUP(B1064,[1]Sheet1!$A:$I,8,0)","v":"85.50"},{"$f":"VLOOKUP(B1064,[1]Sheet1!$A:$I,9,0)","v":"45.50"},{"$f":"VLOOKUP(B1064,[2]少数民族加分!$C$1:$E$65536,3,FALSE)","v":2},{"v":133,"d":"133.00"}]
[1055,"4152270605511","周洪艳","313独山县第二幼儿园","01幼儿教师",{"$f":"VLOOKUP(B1065,[1]Sheet1!$A:$I,8,0)","v":"58.50"},{"$f":"VLOOKUP(B1065,[1]Sheet1!$A:$I,9,0)","v":"74.00"},null,{"v":132.5,"d":"132.50"}]
[1067,"4152270603515","吴薇","313独山县第二幼儿园","01幼儿教师",{"$f":"VLOOKUP(B1066,[1]Sheet1!$A:$I,8,0)","v":"68.00"},{"$f":"VLOOKUP(B1066,[1]Sheet1!$A:$I,9,0)","v":"62.50"},{"$f":"VLOOKUP(B1066,[2]少数民族加分!$C$1:$E$65536,3,FALSE)","v":2},{"v":132.5,"d":"132.50"}]
[1068,"4152270603615","姜迎","313独山县第二幼儿园","01幼儿教师",{"$f":"VLOOKUP(B1067,[1]Sheet1!$A:$I,8,0)","v":"69.50"},{"$f":"VLOOKUP(B1067,[1]Sheet1!$A:$I,9,0)","v":"61.00"},{"$f":"VLOOKUP(B1067,[2]少数民族加分!$C$1:$E$65536,3,FALSE)","v":2},{"v":132.5,"d":"132.50"}]
[1069,"4152270604706","詹毅","313独山县第二幼儿园","01幼儿教师",{"$f":"VLOOKUP(B1068,[1]Sheet1!$A:$I,8,0)","v":"57.50"},{"$f":"VLOOKUP(B1068,[1]Sheet1!$A:$I,9,0)","v":"73.00"},{"$f":"VLOOKUP(B1068,[2]少数民族加分!$C$1:$E$65536,3,FALSE)","v":2},{"v":132.5,"d":"132.50"}]
[1070,"4152270604106","柏泽姗","313独山县第二幼儿园","01幼儿教师",{"$f":"VLOOKUP(B1069,[1]Sheet1!$A:$I,8,0)","v":"66.00"},{"$f":"VLOOKUP(B1069,[1]Sheet1!$A:$I,9,0)","v":"64.00"},{"$f":"VLOOKUP(B1069,[2]少数民族加分!$C$1:$E$65536,3,FALSE)","v":2},{"v":132,"d":"132.00"}]
[1071,"4152270604810","左婷","313独山县第二幼儿园","01幼儿教师",{"$f":"VLOOKUP(B1070,[1]Sheet1!$A:$I,8,0)","v":"63.00"},{"$f":"VLOOKUP(B1070,[1]Sheet1!$A:$I,9,0)","v":"67.00"},{"$f":"VLOOKUP(B1070,[2]少数民族加分!$C$1:$E$65536,3,FALSE)","v":2},{"v":132,"d":"132.00"}]
[1063,"4152270605425","华盛兰","313独山县第二幼儿园","01幼儿教师",{"$f":"VLOOKUP(B1071,[1]Sheet1!$A:$I,8,0)","v":"57.50"},{"$f":"VLOOKUP(B1071,[1]Sheet1!$A:$I,9,0)","v":"74.00"},null,{"v":131.5,"d":"131.50"}]
[1076,"4152270603025","张仙菜","313独山县第二幼儿园","01幼儿教师",{"$f":"VLOOKUP(B1072,[1]Sheet1!$A:$I,8,0)","v":"53.00"},{"$f":"VLOOKUP(B1072,[1]Sheet1!$A:$I,9,0)","v":"76.00"},{"$f":"VLOOKUP(B1072,[2]少数民族加分!$C$1:$E$65536,3,FALSE)","v":2},{"v":131,"d":"131.00"}]
[1077,"4152270604403","曹娜","313独山县第二幼儿园","01幼儿教师",{"$f":"VLOOKUP(B1073,[1]Sheet1!$A:$I,8,0)","v":"67.50"},{"$f":"VLOOKUP(B1073,[1]Sheet1!$A:$I,9,0)","v":"61.50"},{"$f":"VLOOKUP(B1073,[2]少数民族加分!$C$1:$E$65536,3,FALSE)","v":2},{"v":131,"d":"131.00"}]
[1079,"4152270700828","彭灵兰","313独山县第二幼儿园","01幼儿教师",{"$f":"VLOOKUP(B1074,[1]Sheet1!$A:$I,8,0)","v":"67.50"},{"$f":"VLOOKUP(B1074,[1]Sheet1!$A:$I,9,0)","v":"61.50"},{"$f":"VLOOKUP(B1074,[2]少数民族加分!$C$1:$E$65536,3,FALSE)","v":2},{"v":131,"d":"131.00"}]
[1065,"4152270701212","张后雪","313独山县第二幼儿园","01幼儿教师",{"$f":"VLOOKUP(B1075,[1]Sheet1!$A:$I,8,0)","v":"75.50"},{"$f":"VLOOKUP(B1075,[1]Sheet1!$A:$I,9,0)","v":"55.00"},null,{"v":130.5,"d":"130.50"}]
[1066,"4152270603111","龙仲洪","313独山县第二幼儿园","01幼儿教师",{"$f":"VLOOKUP(B1076,[1]Sheet1!$A:$I,8,0)","v":"68.00"},{"$f":"VLOOKUP(B1076,[1]Sheet1!$A:$I,9,0)","v":"62.50"},null,{"v":130.5,"d":"130.50"}]
[1081,"4152270603812","杨先脸","313独山县第二幼儿园","01幼儿教师",{"$f":"VLOOKUP(B1077,[1]Sheet1!$A:$I,8,0)","v":"61.50"},{"$f":"VLOOKUP(B1077,[1]Sheet1!$A:$I,9,0)","v":"67.00"},{"$f":"VLOOKUP(B1077,[2]少数民族加分!$C$1:$E$65536,3,FALSE)","v":2},{"v":130.5,"d":"130.50"}]
[1072,"4152270700825","王梅","313独山县第二幼儿园","01幼儿教师",{"$f":"VLOOKUP(B1078,[1]Sheet1!$A:$I,8,0)","v":"65.00"},{"$f":"VLOOKUP(B1078,[1]Sheet1!$A:$I,9,0)","v":"65.00"},null,{"v":130,"d":"130.00"}]
[1083,"4152270603209","毕道英","313独山县第二幼儿园","01幼儿教师",{"$f":"VLOOKUP(B1079,[1]Sheet1!$A:$I,8,0)","v":"63.00"},{"$f":"VLOOKUP(B1079,[1]Sheet1!$A:$I,9,0)","v":"65.00"},{"$f":"VLOOKUP(B1079,[2]少数民族加分!$C$1:$E$65536,3,FALSE)","v":2},{"v":130,"d":"130.00"}]
[1085,"4152270700201","曾令芬","313独山县第二幼儿园","01幼儿教师",{"$f":"VLOOKUP(B1080,[1]Sheet1!$A:$I,8,0)","v":"70.00"},{"$f":"VLOOKUP(B1080,[1]Sheet1!$A:$I,9,0)","v":"58.00"},{"$f":"VLOOKUP(B1080,[2]少数民族加分!$C$1:$E$65536,3,FALSE)","v":2},{"v":130,"d":"130.00"}]
[1073,"4152270602627","朱胜媛","313独山县第二幼儿园","01幼儿教师",{"$f":"VLOOKUP(B1081,[1]Sheet1!$A:$I,8,0)","v":"68.00"},{"$f":"VLOOKUP(B1081,[1]Sheet1!$A:$I,9,0)","v":"61.50"},null,{"v":129.5,"d":"129.50"}]
[1074,"4152270602705","郑巧","313独山县第二幼儿园","01幼儿教师",{"$f":"VLOOKUP(B1082,[1]Sheet1!$A:$I,8,0)","v":"55.50"},{"$f":"VLOOKUP(B1082,[1]Sheet1!$A:$I,9,0)","v":"74.00"},null,{"v":129.5,"d":"129.50"}]
[1075,"4152270604203","宋丽","313独山县第二幼儿园","01幼儿教师",{"$f":"VLOOKUP(B1083,[1]Sheet1!$A:$I,8,0)","v":"65.50"},{"$f":"VLOOKUP(B1083,[1]Sheet1!$A:$I,9,0)","v":"64.00"},null,{"v":129.5,"d":"129.50"}]
[1087,"4152270701129","吴小金","313独山县第二幼儿园","01幼儿教师",{"$f":"VLOOKUP(B1084,[1]Sheet1!$A:$I,8,0)","v":"65.50"},{"$f":"VLOOKUP(B1084,[1]Sheet1!$A:$I,9,0)","v":"62.00"},{"$f":"VLOOKUP(B1084,[2]少数民族加分!$C$1:$E$65536,3,FALSE)","v":2},{"v":129.5,"d":"129.50"}]
[1088,"4152270603010","石金绒","313独山县第二幼儿园","01幼儿教师",{"$f":"VLOOKUP(B1085,[1]Sheet1!$A:$I,8,0)","v":"60.50"},{"$f":"VLOOKUP(B1085,[1]Sheet1!$A:$I,9,0)","v":"67.00"},{"$f":"VLOOKUP(B1085,[2]少数民族加分!$C$1:$E$65536,3,FALSE)","v":2},{"v":129.5,"d":"129.50"}]
[1090,"4152270604620","韦方静","313独山县第二幼儿园","01幼儿教师",{"$f":"VLOOKUP(B1086,[1]Sheet1!$A:$I,8,0)","v":"48.50"},{"$f":"VLOOKUP(B1086,[1]Sheet1!$A:$I,9,0)","v":"79.00"},{"$f":"VLOOKUP(B1086,[2]少数民族加分!$C$1:$E$65536,3,FALSE)","v":2},{"v":129.5,"d":"129.50"}]
[1078,"4152270605319","付谦","313独山县第二幼儿园","01幼儿教师",{"$f":"VLOOKUP(B1087,[1]Sheet1!$A:$I,8,0)","v":"65.50"},{"$f":"VLOOKUP(B1087,[1]Sheet1!$A:$I,9,0)","v":"63.50"},null,{"v":129,"d":"129.00"}]
[1093,"4152270605008","胡宏袁","313独山县第二幼儿园","01幼儿教师",{"$f":"VLOOKUP(B1088,[1]Sheet1!$A:$I,8,0)","v":"64.00"},{"$f":"VLOOKUP(B1088,[1]Sheet1!$A:$I,9,0)","v":"63.00"},{"$f":"VLOOKUP(B1088,[2]少数民族加分!$C$1:$E$65536,3,FALSE)","v":2},{"v":129,"d":"129.00"}]
[1080,"4152270603315","肖再辉","313独山县第二幼儿园","01幼儿教师",{"$f":"VLOOKUP(B1089,[1]Sheet1!$A:$I,8,0)","v":"64.50"},{"$f":"VLOOKUP(B1089,[1]Sheet1!$A:$I,9,0)","v":"64.00"},null,{"v":128.5,"d":"128.50"}]
[1082,"4152270604119","周慧","313独山县第二幼儿园","01幼儿教师",{"$f":"VLOOKUP(B1090,[1]Sheet1!$A:$I,8,0)","v":"73.00"},{"$f":"VLOOKUP(B1090,[1]Sheet1!$A:$I,9,0)","v":"55.50"},null,{"v":128.5,"d":"128.50"}]
[1094,"4152270603814","杨光慧","313独山县第二幼儿园","01幼儿教师",{"$f":"VLOOKUP(B1091,[1]Sheet1!$A:$I,8,0)","v":"69.00"},{"$f":"VLOOKUP(B1091,[1]Sheet1!$A:$I,9,0)","v":"57.50"},{"$f":"VLOOKUP(B1091,[2]少数民族加分!$C$1:$E$65536,3,FALSE)","v":2},{"v":128.5,"d":"128.50"}]
[1084,"4152270603522","王媛媛","313独山县第二幼儿园","01幼儿教师",{"$f":"VLOOKUP(B1092,[1]Sheet1!$A:$I,8,0)","v":"82.50"},{"$f":"VLOOKUP(B1092,[1]Sheet1!$A:$I,9,0)","v":"45.50"},null,{"v":128,"d":"128.00"}]
[1086,"4152270700818","钟婷","313独山县第二幼儿园","01幼儿教师",{"$f":"VLOOKUP(B1093,[1]Sheet1!$A:$I,8,0)","v":"58.00"},{"$f":"VLOOKUP(B1093,[1]Sheet1!$A:$I,9,0)","v":"70.00"},null,{"v":128,"d":"128.00"}]
[1095,"4152270700611","罗贵英","313独山县第二幼儿园","01幼儿教师",{"$f":"VLOOKUP(B1094,[1]Sheet1!$A:$I,8,0)","v":"64.00"},{"$f":"VLOOKUP(B1094,[1]Sheet1!$A:$I,9,0)","v":"62.00"},{"$f":"VLOOKUP(B1094,[2]少数民族加分!$C$1:$E$65536,3,FALSE)","v":2},{"v":128,"d":"128.00"}]
[1089,"4152270604408","张美于","313独山县第二幼儿园","01幼儿教师",{"$f":"VLOOKUP(B1095,[1]Sheet1!$A:$I,8,0)","v":"67.00"},{"$f":"VLOOKUP(B1095,[1]Sheet1!$A:$I,9,0)","v":"60.50"},null,{"v":127.5,"d":"127.50"}]
[1096,"4152270605618","陈木兰","313独山县第二幼儿园","01幼儿教师",{"$f":"VLOOKUP(B1096,[1]Sheet1!$A:$I,8,0)","v":"65.00"},{"$f":"VLOOKUP(B1096,[1]Sheet1!$A:$I,9,0)","v":"60.50"},{"$f":"VLOOKUP(B1096,[2]少数民族加分!$C$1:$E$65536,3,FALSE)","v":2},{"v":127.5,"d":"127.50"}]
[1098,"4152270604505","程艳琼","313独山县第二幼儿园","01幼儿教师",{"$f":"VLOOKUP(B1097,[1]Sheet1!$A:$I,8,0)","v":"68.00"},{"$f":"VLOOKUP(B1097,[1]Sheet1!$A:$I,9,0)","v":"57.50"},{"$f":"VLOOKUP(B1097,[2]少数民族加分!$C$1:$E$65536,3,FALSE)","v":2},{"v":127.5,"d":"127.50"}]
[1099,"4152270605118","刘世卿","313独山县第二幼儿园","01幼儿教师",{"$f":"VLOOKUP(B1098,[1]Sheet1!$A:$I,8,0)","v":"62.50"},{"$f":"VLOOKUP(B1098,[1]Sheet1!$A:$I,9,0)","v":"63.00"},{"$f":"VLOOKUP(B1098,[2]少数民族加分!$C$1:$E$65536,3,FALSE)","v":2},{"v":127.5,"d":"127.50"}]
[1091,"4152270602807","林家丽","313独山县第二幼儿园","01幼儿教师",{"$f":"VLOOKUP(B1099,[1]Sheet1!$A:$I,8,0)","v":"73.00"},{"$f":"VLOOKUP(B1099,[1]Sheet1!$A:$I,9,0)","v":"54.00"},null,{"v":127,"d":"127.00"}]
[1092,"4152270603507","蒙蕊","313独山县第二幼儿园","01幼儿教师",{"$f":"VLOOKUP(B1100,[1]Sheet1!$A:$I,8,0)","v":"70.00"},{"$f":"VLOOKUP(B1100,[1]Sheet1!$A:$I,9,0)","v":"57.00"},null,{"v":127,"d":"127.00"}]
[1101,"4152270604016","周洁","313独山县第二幼儿园","01幼儿教师",{"$f":"VLOOKUP(B1101,[1]Sheet1!$A:$I,8,0)","v":"56.00"},{"$f":"VLOOKUP(B1101,[1]Sheet1!$A:$I,9,0)","v":"69.00"},{"$f":"VLOOKUP(B1101,[2]少数民族加分!$C$1:$E$65536,3,FALSE)","v":2},{"v":127,"d":"127.00"}]
[1102,"4152270604208","潘强燕","313独山县第二幼儿园","01幼儿教师",{"$f":"VLOOKUP(B1102,[1]Sheet1!$A:$I,8,0)","v":"76.00"},{"$f":"VLOOKUP(B1102,[1]Sheet1!$A:$I,9,0)","v":"49.00"},{"$f":"VLOOKUP(B1102,[2]少数民族加分!$C$1:$E$65536,3,FALSE)","v":2},{"v":127,"d":"127.00"}]
[1103,"4152270605510","王麟","313独山县第二幼儿园","01幼儿教师",{"$f":"VLOOKUP(B1103,[1]Sheet1!$A:$I,8,0)","v":"65.00"},{"$f":"VLOOKUP(B1103,[1]Sheet1!$A:$I,9,0)","v":"60.00"},{"$f":"VLOOKUP(B1103,[2]少数民族加分!$C$1:$E$65536,3,FALSE)","v":2},{"v":127,"d":"127.00"}]
[1104,"4152270602608","梁箬玲","313独山县第二幼儿园","01幼儿教师",{"$f":"VLOOKUP(B1104,[1]Sheet1!$A:$I,8,0)","v":"57.50"},{"$f":"VLOOKUP(B1104,[1]Sheet1!$A:$I,9,0)","v":"67.00"},{"$f":"VLOOKUP(B1104,[2]少数民族加分!$C$1:$E$65536,3,FALSE)","v":2},{"v":126.5,"d":"126.50"}]
[1097,"4152270701202","李莎","313独山县第二幼儿园","01幼儿教师",{"$f":"VLOOKUP(B1105,[1]Sheet1!$A:$I,8,0)","v":"57.50"},{"$f":"VLOOKUP(B1105,[1]Sheet1!$A:$I,9,0)","v":"68.00"},null,{"v":125.5,"d":"125.50"}]
[1111,"4152270604205","白广腊","313独山县第二幼儿园","01幼儿教师",{"$f":"VLOOKUP(B1106,[1]Sheet1!$A:$I,8,0)","v":"52.50"},{"$f":"VLOOKUP(B1106,[1]Sheet1!$A:$I,9,0)","v":"71.00"},{"$f":"VLOOKUP(B1106,[2]少数民族加分!$C$1:$E$65536,3,FALSE)","v":2},{"v":125.5,"d":"125.50"}]
[1100,"4152270602730","周贵婷","313独山县第二幼儿园","01幼儿教师",{"$f":"VLOOKUP(B1107,[1]Sheet1!$A:$I,8,0)","v":"66.50"},{"$f":"VLOOKUP(B1107,[1]Sheet1!$A:$I,9,0)","v":"58.50"},null,{"v":125,"d":"125.00"}]
[1112,"4152270700630","钟成蕾","313独山县第二幼儿园","01幼儿教师",{"$f":"VLOOKUP(B1108,[1]Sheet1!$A:$I,8,0)","v":"73.00"},{"$f":"VLOOKUP(B1108,[1]Sheet1!$A:$I,9,0)","v":"50.00"},{"$f":"VLOOKUP(B1108,[2]少数民族加分!$C$1:$E$65536,3,FALSE)","v":2},{"v":125,"d":"125.00"}]
[1105,"4152270603506","曾昭娆","313独山县第二幼儿园","01幼儿教师",{"$f":"VLOOKUP(B1109,[1]Sheet1!$A:$I,8,0)","v":"66.00"},{"$f":"VLOOKUP(B1109,[1]Sheet1!$A:$I,9,0)","v":"58.50"},null,{"v":124.5,"d":"124.50"}]
[1106,"4152270604213","杨选珍","313独山县第二幼儿园","01幼儿教师",{"$f":"VLOOKUP(B1110,[1]Sheet1!$A:$I,8,0)","v":"55.50"},{"$f":"VLOOKUP(B1110,[1]Sheet1!$A:$I,9,0)","v":"69.00"},null,{"v":124.5,"d":"124.50"}]
[1115,"4152270605018","覃敏伞","313独山县第二幼儿园","01幼儿教师",{"$f":"VLOOKUP(B1111,[1]Sheet1!$A:$I,8,0)","v":"58.50"},{"$f":"VLOOKUP(B1111,[1]Sheet1!$A:$I,9,0)","v":"64.00"},{"$f":"VLOOKUP(B1111,[2]少数民族加分!$C$1:$E$65536,3,FALSE)","v":2},{"v":124.5,"d":"124.50"}]
[1107,"4152270700102","吉庆华","313独山县第二幼儿园","01幼儿教师",{"$f":"VLOOKUP(B1112,[1]Sheet1!$A:$I,8,0)","v":"61.00"},{"$f":"VLOOKUP(B1112,[1]Sheet1!$A:$I,9,0)","v":"63.00"},null,{"v":124,"d":"124.00"}]
[1118,"4152270700207","罗海璐","313独山县第二幼儿园","01幼儿教师",{"$f":"VLOOKUP(B1113,[1]Sheet1!$A:$I,8,0)","v":"72.50"},{"$f":"VLOOKUP(B1113,[1]Sheet1!$A:$I,9,0)","v":"49.50"},{"$f":"VLOOKUP(B1113,[2]少数民族加分!$C$1:$E$65536,3,FALSE)","v":2},{"v":124,"d":"124.00"}]
[1108,"4152270701011","聂盼盼","313独山县第二幼儿园","01幼儿教师",{"$f":"VLOOKUP(B1114,[1]Sheet1!$A:$I,8,0)","v":"61.50"},{"$f":"VLOOKUP(B1114,[1]Sheet1!$A:$I,9,0)","v":"62.00"},null,{"v":123.5,"d":"123.50"}]
[1109,"4152270603224","向光兰","313独山县第二幼儿园","01幼儿教师",{"$f":"VLOOKUP(B1115,[1]Sheet1!$A:$I,8,0)","v":"60.50"},{"$f":"VLOOKUP(B1115,[1]Sheet1!$A:$I,9,0)","v":"63.00"},null,{"v":123.5,"d":"123.50"}]
[1110,"4152270603620","陈健微","313独山县第二幼儿园","01幼儿教师",{"$f":"VLOOKUP(B1116,[1]Sheet1!$A:$I,8,0)","v":"59.50"},{"$f":"VLOOKUP(B1116,[1]Sheet1!$A:$I,9,0)","v":"64.00"},null,{"v":123.5,"d":"123.50"}]
[1113,"4152270700520","李章健","313独山县第二幼儿园","01幼儿教师",{"$f":"VLOOKUP(B1117,[1]Sheet1!$A:$I,8,0)","v":"68.50"},{"$f":"VLOOKUP(B1117,[1]Sheet1!$A:$I,9,0)","v":"54.00"},null,{"v":122.5,"d":"122.50"}]
[1114,"4152270700625","冯雪","313独山县第二幼儿园","01幼儿教师",{"$f":"VLOOKUP(B1118,[1]Sheet1!$A:$I,8,0)","v":"68.00"},{"$f":"VLOOKUP(B1118,[1]Sheet1!$A:$I,9,0)","v":"54.50"},null,{"v":122.5,"d":"122.50"}]
[1119,"4152270605423","王娇娇","313独山县第二幼儿园","01幼儿教师",{"$f":"VLOOKUP(B1119,[1]Sheet1!$A:$I,8,0)","v":"62.50"},{"$f":"VLOOKUP(B1119,[1]Sheet1!$A:$I,9,0)","v":"58.00"},{"$f":"VLOOKUP(B1119,[2]少数民族加分!$C$1:$E$65536,3,FALSE)","v":2},{"v":122.5,"d":"122.50"}]
[1116,"4152270603918","罗华丽","313独山县第二幼儿园","01幼儿教师",{"$f":"VLOOKUP(B1120,[1]Sheet1!$A:$I,8,0)","v":"58.00"},{"$f":"VLOOKUP(B1120,[1]Sheet1!$A:$I,9,0)","v":"64.00"},null,{"v":122,"d":"122.00"}]
[1117,"4152270604916","简华飞","313独山县第二幼儿园","01幼儿教师",{"$f":"VLOOKUP(B1121,[1]Sheet1!$A:$I,8,0)","v":"58.00"},{"$f":"VLOOKUP(B1121,[1]Sheet1!$A:$I,9,0)","v":"64.00"},null,{"v":122,"d":"122.00"}]
[1122,"4152270605011","何芬芳","313独山县第二幼儿园","01幼儿教师",{"$f":"VLOOKUP(B1122,[1]Sheet1!$A:$I,8,0)","v":"61.00"},{"$f":"VLOOKUP(B1122,[1]Sheet1!$A:$I,9,0)","v":"59.00"},{"$f":"VLOOKUP(B1122,[2]少数民族加分!$C$1:$E$65536,3,FALSE)","v":2},{"v":122,"d":"122.00"}]
[1123,"4152270602803","韦宣","313独山县第二幼儿园","01幼儿教师",{"$f":"VLOOKUP(B1123,[1]Sheet1!$A:$I,8,0)","v":"66.00"},{"$f":"VLOOKUP(B1123,[1]Sheet1!$A:$I,9,0)","v":"53.50"},{"$f":"VLOOKUP(B1123,[2]少数民族加分!$C$1:$E$65536,3,FALSE)","v":2},{"v":121.5,"d":"121.50"}]
[1124,"4152270603820","黄莲","313独山县第二幼儿园","01幼儿教师",{"$f":"VLOOKUP(B1124,[1]Sheet1!$A:$I,8,0)","v":"63.50"},{"$f":"VLOOKUP(B1124,[1]Sheet1!$A:$I,9,0)","v":"56.00"},{"$f":"VLOOKUP(B1124,[2]少数民族加分!$C$1:$E$65536,3,FALSE)","v":2},{"v":121.5,"d":"121.50"}]
[1125,"4152270604913","向宇馨","313独山县第二幼儿园","01幼儿教师",{"$f":"VLOOKUP(B1125,[1]Sheet1!$A:$I,8,0)","v":"68.00"},{"$f":"VLOOKUP(B1125,[1]Sheet1!$A:$I,9,0)","v":"51.50"},{"$f":"VLOOKUP(B1125,[2]少数民族加分!$C$1:$E$65536,3,FALSE)","v":2},{"v":121.5,"d":"121.50"}]
[1126,"4152270603403","龙祥艳","313独山县第二幼儿园","01幼儿教师",{"$f":"VLOOKUP(B1126,[1]Sheet1!$A:$I,8,0)","v":"53.00"},{"$f":"VLOOKUP(B1126,[1]Sheet1!$A:$I,9,0)","v":"66.00"},{"$f":"VLOOKUP(B1126,[2]少数民族加分!$C$1:$E$65536,3,FALSE)","v":2},{"v":121,"d":"121.00"}]
[1127,"4152270605001","刘文倩","313独山县第二幼儿园","01幼儿教师",{"$f":"VLOOKUP(B1127,[1]Sheet1!$A:$I,8,0)","v":"55.00"},{"$f":"VLOOKUP(B1127,[1]Sheet1!$A:$I,9,0)","v":"64.00"},{"$f":"VLOOKUP(B1127,[2]少数民族加分!$C$1:$E$65536,3,FALSE)","v":2},{"v":121,"d":"121.00"}]
[1120,"4152270603228","葛红艳","313独山县第二幼儿园","01幼儿教师",{"$f":"VLOOKUP(B1128,[1]Sheet1!$A:$I,8,0)","v":"60.50"},{"$f":"VLOOKUP(B1128,[1]Sheet1!$A:$I,9,0)","v":"60.00"},null,{"v":120.5,"d":"120.50"}]
[1128,"4152270603707","唐显梦","313独山县第二幼儿园","01幼儿教师",{"$f":"VLOOKUP(B1129,[1]Sheet1!$A:$I,8,0)","v":"51.50"},{"$f":"VLOOKUP(B1129,[1]Sheet1!$A:$I,9,0)","v":"67.00"},{"$f":"VLOOKUP(B1129,[2]少数民族加分!$C$1:$E$65536,3,FALSE)","v":2},{"v":120.5,"d":"120.50"}]
[1129,"4152270603827","文丹","313独山县第二幼儿园","01幼儿教师",{"$f":"VLOOKUP(B1130,[1]Sheet1!$A:$I,8,0)","v":"61.50"},{"$f":"VLOOKUP(B1130,[1]Sheet1!$A:$I,9,0)","v":"57.00"},{"$f":"VLOOKUP(B1130,[2]少数民族加分!$C$1:$E$65536,3,FALSE)","v":2},{"v":120.5,"d":"120.50"}]
[1121,"4152270603628","邓天娥","313独山县第二幼儿园","01幼儿教师",{"$f":"VLOOKUP(B1131,[1]Sheet1!$A:$I,8,0)","v":"66.00"},{"$f":"VLOOKUP(B1131,[1]Sheet1!$A:$I,9,0)","v":"54.00"},null,{"v":120,"d":"120.00"}]
[1130,"4152270602724","杨芳","313独山县第二幼儿园","01幼儿教师",{"$f":"VLOOKUP(B1132,[1]Sheet1!$A:$I,8,0)","v":"49.00"},{"$f":"VLOOKUP(B1132,[1]Sheet1!$A:$I,9,0)","v":"69.00"},{"$f":"VLOOKUP(B1132,[2]少数民族加分!$C$1:$E$65536,3,FALSE)","v":2},{"v":120,"d":"120.00"}]
[1131,"4152270604227","韦恩露","313独山县第二幼儿园","01幼儿教师",{"$f":"VLOOKUP(B1133,[1]Sheet1!$A:$I,8,0)","v":"56.00"},{"$f":"VLOOKUP(B1133,[1]Sheet1!$A:$I,9,0)","v":"62.00"},{"$f":"VLOOKUP(B1133,[2]少数民族加分!$C$1:$E$65536,3,FALSE)","v":2},{"v":120,"d":"120.00"}]
[1132,"4152270602727","陈世红","313独山县第二幼儿园","01幼儿教师",{"$f":"VLOOKUP(B1134,[1]Sheet1!$A:$I,8,0)","v":"58.50"},{"$f":"VLOOKUP(B1134,[1]Sheet1!$A:$I,9,0)","v":"59.00"},{"$f":"VLOOKUP(B1134,[2]少数民族加分!$C$1:$E$65536,3,FALSE)","v":2},{"v":119.5,"d":"119.50"}]
[1133,"4152270605211","王帮英","313独山县第二幼儿园","01幼儿教师",{"$f":"VLOOKUP(B1135,[1]Sheet1!$A:$I,8,0)","v":"60.50"},{"$f":"VLOOKUP(B1135,[1]Sheet1!$A:$I,9,0)","v":"57.00"},{"$f":"VLOOKUP(B1135,[2]少数民族加分!$C$1:$E$65536,3,FALSE)","v":2},{"v":119.5,"d":"119.50"}]
[1134,"4152270701206","周灵佩","313独山县第二幼儿园","01幼儿教师",{"$f":"VLOOKUP(B1136,[1]Sheet1!$A:$I,8,0)","v":"53.50"},{"$f":"VLOOKUP(B1136,[1]Sheet1!$A:$I,9,0)","v":"64.00"},{"$f":"VLOOKUP(B1136,[2]少数民族加分!$C$1:$E$65536,3,FALSE)","v":2},{"v":119.5,"d":"119.50"}]
[1135,"4152270604626","卢爱兰","313独山县第二幼儿园","01幼儿教师",{"$f":"VLOOKUP(B1137,[1]Sheet1!$A:$I,8,0)","v":"55.00"},{"$f":"VLOOKUP(B1137,[1]Sheet1!$A:$I,9,0)","v":"62.00"},{"$f":"VLOOKUP(B1137,[2]少数民族加分!$C$1:$E$65536,3,FALSE)","v":2},{"v":119,"d":"119.00"}]
[1136,"4152270605109","杨露","313独山县第二幼儿园","01幼儿教师",{"$f":"VLOOKUP(B1138,[1]Sheet1!$A:$I,8,0)","v":"63.00"},{"$f":"VLOOKUP(B1138,[1]Sheet1!$A:$I,9,0)","v":"54.00"},{"$f":"VLOOKUP(B1138,[2]少数民族加分!$C$1:$E$65536,3,FALSE)","v":2},{"v":119,"d":"119.00"}]
[1137,"4152270604220","黄丽","313独山县第二幼儿园","01幼儿教师",{"$f":"VLOOKUP(B1139,[1]Sheet1!$A:$I,8,0)","v":"58.50"},{"$f":"VLOOKUP(B1139,[1]Sheet1!$A:$I,9,0)","v":"58.00"},{"$f":"VLOOKUP(B1139,[2]少数民族加分!$C$1:$E$65536,3,FALSE)","v":2},{"v":118.5,"d":"118.50"}]
[1138,"4152270602711","汪进","313独山县第二幼儿园","01幼儿教师",{"$f":"VLOOKUP(B1140,[1]Sheet1!$A:$I,8,0)","v":"60.00"},{"$f":"VLOOKUP(B1140,[1]Sheet1!$A:$I,9,0)","v":"56.00"},{"$f":"VLOOKUP(B1140,[2]少数民族加分!$C$1:$E$65536,3,FALSE)","v":2},{"v":118,"d":"118.00"}]
[1139,"4152270604427","韩啟慧","313独山县第二幼儿园","01幼儿教师",{"$f":"VLOOKUP(B1141,[1]Sheet1!$A:$I,8,0)","v":"62.50"},{"$f":"VLOOKUP(B1141,[1]Sheet1!$A:$I,9,0)","v":"53.00"},{"$f":"VLOOKUP(B1141,[2]少数民族加分!$C$1:$E$65536,3,FALSE)","v":2},{"v":117.5,"d":"117.50"}]
[1141,"4152270701004","易泽萍","313独山县第二幼儿园","01幼儿教师",{"$f":"VLOOKUP(B1142,[1]Sheet1!$A:$I,8,0)","v":"55.00"},{"$f":"VLOOKUP(B1142,[1]Sheet1!$A:$I,9,0)","v":"60.00"},{"$f":"VLOOKUP(B1142,[2]少数民族加分!$C$1:$E$65536,3,FALSE)","v":2},{"v":117,"d":"117.00"}]
[1142,"4152270700325","潘灵丽","313独山县第二幼儿园","01幼儿教师",{"$f":"VLOOKUP(B1143,[1]Sheet1!$A:$I,8,0)","v":"58.00"},{"$f":"VLOOKUP(B1143,[1]Sheet1!$A:$I,9,0)","v":"56.00"},{"$f":"VLOOKUP(B1143,[2]少数民族加分!$C$1:$E$65536,3,FALSE)","v":2},{"v":116,"d":"116.00"}]
[1143,"4152270701130","雷春桃","313独山县第二幼儿园","01幼儿教师",{"$f":"VLOOKUP(B1144,[1]Sheet1!$A:$I,8,0)","v":"54.00"},{"$f":"VLOOKUP(B1144,[1]Sheet1!$A:$I,9,0)","v":"60.00"},{"$f":"VLOOKUP(B1144,[2]少数民族加分!$C$1:$E$65536,3,FALSE)","v":2},{"v":116,"d":"116.00"}]
[1144,"4152270603412","白雨露","313独山县第二幼儿园","01幼儿教师",{"$f":"VLOOKUP(B1145,[1]Sheet1!$A:$I,8,0)","v":"49.00"},{"$f":"VLOOKUP(B1145,[1]Sheet1!$A:$I,9,0)","v":"65.00"},{"$f":"VLOOKUP(B1145,[2]少数民族加分!$C$1:$E$65536,3,FALSE)","v":2},{"v":116,"d":"116.00"}]
[1140,"4152270700118","舒娅","313独山县第二幼儿园","01幼儿教师",{"$f":"VLOOKUP(B1146,[1]Sheet1!$A:$I,8,0)","v":"63.00"},{"$f":"VLOOKUP(B1146,[1]Sheet1!$A:$I,9,0)","v":"52.00"},null,{"v":115,"d":"115.00"}]
[1146,"4152270700716","韦南竹","313独山县第二幼儿园","01幼儿教师",{"$f":"VLOOKUP(B1147,[1]Sheet1!$A:$I,8,0)","v":"59.00"},{"$f":"VLOOKUP(B1147,[1]Sheet1!$A:$I,9,0)","v":"54.00"},{"$f":"VLOOKUP(B1147,[2]少数民族加分!$C$1:$E$65536,3,FALSE)","v":2},{"v":115,"d":"115.00"}]
[1149,"4152270603222","杨姣","313独山县第二幼儿园","01幼儿教师",{"$f":"VLOOKUP(B1148,[1]Sheet1!$A:$I,8,0)","v":"54.50"},{"$f":"VLOOKUP(B1148,[1]Sheet1!$A:$I,9,0)","v":"58.00"},{"$f":"VLOOKUP(B1148,[2]少数民族加分!$C$1:$E$65536,3,FALSE)","v":2},{"v":114.5,"d":"114.50"}]
[1150,"4152270603926","黄再珊","313独山县第二幼儿园","01幼儿教师",{"$f":"VLOOKUP(B1149,[1]Sheet1!$A:$I,8,0)","v":"58.50"},{"$f":"VLOOKUP(B1149,[1]Sheet1!$A:$I,9,0)","v":"54.00"},{"$f":"VLOOKUP(B1149,[2]少数民族加分!$C$1:$E$65536,3,FALSE)","v":2},{"v":114.5,"d":"114.50"}]
[1152,"4152270604819","李绍娟","313独山县第二幼儿园","01幼儿教师",{"$f":"VLOOKUP(B1150,[1]Sheet1!$A:$I,8,0)","v":"66.00"},{"$f":"VLOOKUP(B1150,[1]Sheet1!$A:$I,9,0)","v":"46.50"},{"$f":"VLOOKUP(B1150,[2]少数民族加分!$C$1:$E$65536,3,FALSE)","v":2},{"v":114.5,"d":"114.50"}]
[1153,"4152270602629","蒋仙梅","313独山县第二幼儿园","01幼儿教师",{"$f":"VLOOKUP(B1151,[1]Sheet1!$A:$I,8,0)","v":"69.50"},{"$f":"VLOOKUP(B1151,[1]Sheet1!$A:$I,9,0)","v":"42.50"},{"$f":"VLOOKUP(B1151,[2]少数民族加分!$C$1:$E$65536,3,FALSE)","v":2},{"v":114,"d":"114.00"}]
[1145,"4152270604604","袁洪丽","313独山县第二幼儿园","01幼儿教师",{"$f":"VLOOKUP(B1152,[1]Sheet1!$A:$I,8,0)","v":"66.50"},{"$f":"VLOOKUP(B1152,[1]Sheet1!$A:$I,9,0)","v":"47.00"},null,{"v":113.5,"d":"113.50"}]
[1154,"4152270603314","莫宗莉","313独山县第二幼儿园","01幼儿教师",{"$f":"VLOOKUP(B1153,[1]Sheet1!$A:$I,8,0)","v":"51.50"},{"$f":"VLOOKUP(B1153,[1]Sheet1!$A:$I,9,0)","v":"60.00"},{"$f":"VLOOKUP(B1153,[2]少数民族加分!$C$1:$E$65536,3,FALSE)","v":2},{"v":113.5,"d":"113.50"}]
[1155,"4152270701120","罗青梅","313独山县第二幼儿园","01幼儿教师",{"$f":"VLOOKUP(B1154,[1]Sheet1!$A:$I,8,0)","v":"51.50"},{"$f":"VLOOKUP(B1154,[1]Sheet1!$A:$I,9,0)","v":"60.00"},{"$f":"VLOOKUP(B1154,[2]少数民族加分!$C$1:$E$65536,3,FALSE)","v":2},{"v":113.5,"d":"113.50"}]
[1157,"4152270701117","石瑞丹","313独山县第二幼儿园","01幼儿教师",{"$f":"VLOOKUP(B1155,[1]Sheet1!$A:$I,8,0)","v":"59.00"},{"$f":"VLOOKUP(B1155,[1]Sheet1!$A:$I,9,0)","v":"52.00"},{"$f":"VLOOKUP(B1155,[2]少数民族加分!$C$1:$E$65536,3,FALSE)","v":2},{"v":113,"d":"113.00"}]
[1158,"4152270603811","张吉玉","313独山县第二幼儿园","01幼儿教师",{"$f":"VLOOKUP(B1156,[1]Sheet1!$A:$I,8,0)","v":"54.00"},{"$f":"VLOOKUP(B1156,[1]Sheet1!$A:$I,9,0)","v":"57.00"},{"$f":"VLOOKUP(B1156,[2]少数民族加分!$C$1:$E$65536,3,FALSE)","v":2},{"v":113,"d":"113.00"}]
[1159,"4152270604323","熊恋","313独山县第二幼儿园","01幼儿教师",{"$f":"VLOOKUP(B1157,[1]Sheet1!$A:$I,8,0)","v":"66.00"},{"$f":"VLOOKUP(B1157,[1]Sheet1!$A:$I,9,0)","v":"45.00"},{"$f":"VLOOKUP(B1157,[2]少数民族加分!$C$1:$E$65536,3,FALSE)","v":2},{"v":113,"d":"113.00"}]
[1147,"4152270605215","申仕青","313独山县第二幼儿园","01幼儿教师",{"$f":"VLOOKUP(B1158,[1]Sheet1!$A:$I,8,0)","v":"65.00"},{"$f":"VLOOKUP(B1158,[1]Sheet1!$A:$I,9,0)","v":"47.50"},null,{"v":112.5,"d":"112.50"}]
[1148,"4152270701116","周先菊","313独山县第二幼儿园","01幼儿教师",{"$f":"VLOOKUP(B1159,[1]Sheet1!$A:$I,8,0)","v":"56.50"},{"$f":"VLOOKUP(B1159,[1]Sheet1!$A:$I,9,0)","v":"56.00"},null,{"v":112.5,"d":"112.50"}]
[1151,"4152270604101","邓明菊","313独山县第二幼儿园","01幼儿教师",{"$f":"VLOOKUP(B1160,[1]Sheet1!$A:$I,8,0)","v":"49.50"},{"$f":"VLOOKUP(B1160,[1]Sheet1!$A:$I,9,0)","v":"63.00"},null,{"v":112.5,"d":"112.50"}]
[1160,"4152270603505","潘海月","313独山县第二幼儿园","01幼儿教师",{"$f":"VLOOKUP(B1161,[1]Sheet1!$A:$I,8,0)","v":"59.50"},{"$f":"VLOOKUP(B1161,[1]Sheet1!$A:$I,9,0)","v":"50.00"},{"$f":"VLOOKUP(B1161,[2]少数民族加分!$C$1:$E$65536,3,FALSE)","v":2},{"v":111.5,"d":"111.50"}]
[1161,"4152270604002","田敏","313独山县第二幼儿园","01幼儿教师",{"$f":"VLOOKUP(B1162,[1]Sheet1!$A:$I,8,0)","v":"52.50"},{"$f":"VLOOKUP(B1162,[1]Sheet1!$A:$I,9,0)","v":"57.00"},{"$f":"VLOOKUP(B1162,[2]少数民族加分!$C$1:$E$65536,3,FALSE)","v":2},{"v":111.5,"d":"111.50"}]
[1156,"4152270605324","付金娥","313独山县第二幼儿园","01幼儿教师",{"$f":"VLOOKUP(B1163,[1]Sheet1!$A:$I,8,0)","v":"53.00"},{"$f":"VLOOKUP(B1163,[1]Sheet1!$A:$I,9,0)","v":"58.00"},null,{"v":111,"d":"111.00"}]
[1162,"4152270604225","刘恩惠","313独山县第二幼儿园","01幼儿教师",{"$f":"VLOOKUP(B1164,[1]Sheet1!$A:$I,8,0)","v":"60.00"},{"$f":"VLOOKUP(B1164,[1]Sheet1!$A:$I,9,0)","v":"49.00"},{"$f":"VLOOKUP(B1164,[2]少数民族加分!$C$1:$E$65536,3,FALSE)","v":2},{"v":111,"d":"111.00"}]
[1164,"4152270700515","何情","313独山县第二幼儿园","01幼儿教师",{"$f":"VLOOKUP(B1165,[1]Sheet1!$A:$I,8,0)","v":"54.50"},{"$f":"VLOOKUP(B1165,[1]Sheet1!$A:$I,9,0)","v":"54.00"},{"$f":"VLOOKUP(B1165,[2]少数民族加分!$C$1:$E$65536,3,FALSE)","v":2},{"v":110.5,"d":"110.50"}]
[1165,"4152270700328","闵应娣","313独山县第二幼儿园","01幼儿教师",{"$f":"VLOOKUP(B1166,[1]Sheet1!$A:$I,8,0)","v":"60.00"},{"$f":"VLOOKUP(B1166,[1]Sheet1!$A:$I,9,0)","v":"48.00"},{"$f":"VLOOKUP(B1166,[2]少数民族加分!$C$1:$E$65536,3,FALSE)","v":2},{"v":110,"d":"110.00"}]
[1166,"4152270603012","王微","313独山县第二幼儿园","01幼儿教师",{"$f":"VLOOKUP(B1167,[1]Sheet1!$A:$I,8,0)","v":"57.00"},{"$f":"VLOOKUP(B1167,[1]Sheet1!$A:$I,9,0)","v":"51.00"},{"$f":"VLOOKUP(B1167,[2]少数民族加分!$C$1:$E$65536,3,FALSE)","v":2},{"v":110,"d":"110.00"}]
[1168,"4152270604611","杨通兰","313独山县第二幼儿园","01幼儿教师",{"$f":"VLOOKUP(B1168,[1]Sheet1!$A:$I,8,0)","v":"65.50"},{"$f":"VLOOKUP(B1168,[1]Sheet1!$A:$I,9,0)","v":"42.00"},{"$f":"VLOOKUP(B1168,[2]少数民族加分!$C$1:$E$65536,3,FALSE)","v":2},{"v":109.5,"d":"109.50"}]
[1169,"4152270605328","韦秀英","313独山县第二幼儿园","01幼儿教师",{"$f":"VLOOKUP(B1169,[1]Sheet1!$A:$I,8,0)","v":"58.50"},{"$f":"VLOOKUP(B1169,[1]Sheet1!$A:$I,9,0)","v":"49.00"},{"$f":"VLOOKUP(B1169,[2]少数民族加分!$C$1:$E$65536,3,FALSE)","v":2},{"v":109.5,"d":"109.50"}]
[1171,"4152270605304","顾美业","313独山县第二幼儿园","01幼儿教师",{"$f":"VLOOKUP(B1170,[1]Sheet1!$A:$I,8,0)","v":"49.00"},{"$f":"VLOOKUP(B1170,[1]Sheet1!$A:$I,9,0)","v":"58.00"},{"$f":"VLOOKUP(B1170,[2]少数民族加分!$C$1:$E$65536,3,FALSE)","v":2},{"v":109,"d":"109.00"}]
[1172,"4152270700313","王莉","313独山县第二幼儿园","01幼儿教师",{"$f":"VLOOKUP(B1171,[1]Sheet1!$A:$I,8,0)","v":"51.00"},{"$f":"VLOOKUP(B1171,[1]Sheet1!$A:$I,9,0)","v":"56.00"},{"$f":"VLOOKUP(B1171,[2]少数民族加分!$C$1:$E$65536,3,FALSE)","v":2},{"v":109,"d":"109.00"}]
[1163,"4152270700221","张茂","313独山县第二幼儿园","01幼儿教师",{"$f":"VLOOKUP(B1172,[1]Sheet1!$A:$I,8,0)","v":"59.50"},{"$f":"VLOOKUP(B1172,[1]Sheet1!$A:$I,9,0)","v":"49.00"},null,{"v":108.5,"d":"108.50"}]
[1173,"4152270605521","罗鲁川","313独山县第二幼儿园","01幼儿教师",{"$f":"VLOOKUP(B1173,[1]Sheet1!$A:$I,8,0)","v":"49.50"},{"$f":"VLOOKUP(B1173,[1]Sheet1!$A:$I,9,0)","v":"57.00"},{"$f":"VLOOKUP(B1173,[2]少数民族加分!$C$1:$E$65536,3,FALSE)","v":2},{"v":108.5,"d":"108.50"}]
[1174,"4152270700925","陈杏","313独山县第二幼儿园","01幼儿教师",{"$f":"VLOOKUP(B1174,[1]Sheet1!$A:$I,8,0)","v":"62.50"},{"$f":"VLOOKUP(B1174,[1]Sheet1!$A:$I,9,0)","v":"44.00"},{"$f":"VLOOKUP(B1174,[2]少数民族加分!$C$1:$E$65536,3,FALSE)","v":2},{"v":108.5,"d":"108.50"}]
[1175,"4152270604302","周小琴","313独山县第二幼儿园","01幼儿教师",{"$f":"VLOOKUP(B1175,[1]Sheet1!$A:$I,8,0)","v":"56.50"},{"$f":"VLOOKUP(B1175,[1]Sheet1!$A:$I,9,0)","v":"50.00"},{"$f":"VLOOKUP(B1175,[2]少数民族加分!$C$1:$E$65536,3,FALSE)","v":2},{"v":108.5,"d":"108.50"}]
[1167,"4152270604630","王颖","313独山县第二幼儿园","01幼儿教师",{"$f":"VLOOKUP(B1176,[1]Sheet1!$A:$I,8,0)","v":"63.00"},{"$f":"VLOOKUP(B1176,[1]Sheet1!$A:$I,9,0)","v":"45.00"},null,{"v":108,"d":"108.00"}]
[1176,"4152270603414","沈昌欢","313独山县第二幼儿园","01幼儿教师",{"$f":"VLOOKUP(B1177,[1]Sheet1!$A:$I,8,0)","v":"44.00"},{"$f":"VLOOKUP(B1177,[1]Sheet1!$A:$I,9,0)","v":"62.00"},{"$f":"VLOOKUP(B1177,[2]少数民族加分!$C$1:$E$65536,3,FALSE)","v":2},{"v":108,"d":"108.00"}]
[1170,"4152270605403","刘丹丹","313独山县第二幼儿园","01幼儿教师",{"$f":"VLOOKUP(B1178,[1]Sheet1!$A:$I,8,0)","v":"49.50"},{"$f":"VLOOKUP(B1178,[1]Sheet1!$A:$I,9,0)","v":"58.00"},null,{"v":107.5,"d":"107.50"}]
[1177,"4152270605504","潘佰欢","313独山县第二幼儿园","01幼儿教师",{"$f":"VLOOKUP(B1179,[1]Sheet1!$A:$I,8,0)","v":"63.00"},{"$f":"VLOOKUP(B1179,[1]Sheet1!$A:$I,9,0)","v":"42.00"},{"$f":"VLOOKUP(B1179,[2]少数民族加分!$C$1:$E$65536,3,FALSE)","v":2},{"v":107,"d":"107.00"}]
[1178,"4152270700426","蒙佳","313独山县第二幼儿园","01幼儿教师",{"$f":"VLOOKUP(B1180,[1]Sheet1!$A:$I,8,0)","v":"60.50"},{"$f":"VLOOKUP(B1180,[1]Sheet1!$A:$I,9,0)","v":"44.00"},{"$f":"VLOOKUP(B1180,[2]少数民族加分!$C$1:$E$65536,3,FALSE)","v":2},{"v":106.5,"d":"106.50"}]
[1181,"4152270604911","尹柔","313独山县第二幼儿园","01幼儿教师",{"$f":"VLOOKUP(B1181,[1]Sheet1!$A:$I,8,0)","v":"61.00"},{"$f":"VLOOKUP(B1181,[1]Sheet1!$A:$I,9,0)","v":"43.00"},{"$f":"VLOOKUP(B1181,[2]少数民族加分!$C$1:$E$65536,3,FALSE)","v":2},{"v":106,"d":"106.00"}]
[1183,"4152270700117","韦廷兰","313独山县第二幼儿园","01幼儿教师",{"$f":"VLOOKUP(B1182,[1]Sheet1!$A:$I,8,0)","v":"66.50"},{"$f":"VLOOKUP(B1182,[1]Sheet1!$A:$I,9,0)","v":"36.50"},{"$f":"VLOOKUP(B1182,[2]少数民族加分!$C$1:$E$65536,3,FALSE)","v":2},{"v":105,"d":"105.00"}]
[1179,"4152270604714","陈梦旖","313独山县第二幼儿园","01幼儿教师",{"$f":"VLOOKUP(B1183,[1]Sheet1!$A:$I,8,0)","v":"50.50"},{"$f":"VLOOKUP(B1183,[1]Sheet1!$A:$I,9,0)","v":"54.00"},null,{"v":104.5,"d":"104.50"}]
[1184,"4152270603726","韦建妮","313独山县第二幼儿园","01幼儿教师",{"$f":"VLOOKUP(B1184,[1]Sheet1!$A:$I,8,0)","v":"41.50"},{"$f":"VLOOKUP(B1184,[1]Sheet1!$A:$I,9,0)","v":"61.00"},{"$f":"VLOOKUP(B1184,[2]少数民族加分!$C$1:$E$65536,3,FALSE)","v":2},{"v":104.5,"d":"104.50"}]
[1180,"4152270604125","郑姣姣","313独山县第二幼儿园","01幼儿教师",{"$f":"VLOOKUP(B1185,[1]Sheet1!$A:$I,8,0)","v":"60.00"},{"$f":"VLOOKUP(B1185,[1]Sheet1!$A:$I,9,0)","v":"44.00"},null,{"v":104,"d":"104.00"}]
[1182,"4152270605307","冯梦婕","313独山县第二幼儿园","01幼儿教师",{"$f":"VLOOKUP(B1186,[1]Sheet1!$A:$I,8,0)","v":"60.00"},{"$f":"VLOOKUP(B1186,[1]Sheet1!$A:$I,9,0)","v":"44.00"},null,{"v":104,"d":"104.00"}]
[1186,"4152270602709","莫廷霞","313独山县第二幼儿园","01幼儿教师",{"$f":"VLOOKUP(B1187,[1]Sheet1!$A:$I,8,0)","v":"54.00"},{"$f":"VLOOKUP(B1187,[1]Sheet1!$A:$I,9,0)","v":"48.00"},{"$f":"VLOOKUP(B1187,[2]少数民族加分!$C$1:$E$65536,3,FALSE)","v":2},{"v":104,"d":"104.00"}]
[1187,"4152270604003","王海兰","313独山县第二幼儿园","01幼儿教师",{"$f":"VLOOKUP(B1188,[1]Sheet1!$A:$I,8,0)","v":"50.00"},{"$f":"VLOOKUP(B1188,[1]Sheet1!$A:$I,9,0)","v":"52.00"},{"$f":"VLOOKUP(B1188,[2]少数民族加分!$C$1:$E$65536,3,FALSE)","v":2},{"v":104,"d":"104.00"}]
[1188,"4152270700615","彭雪佳","313独山县第二幼儿园","01幼儿教师",{"$f":"VLOOKUP(B1189,[1]Sheet1!$A:$I,8,0)","v":"57.00"},{"$f":"VLOOKUP(B1189,[1]Sheet1!$A:$I,9,0)","v":"45.00"},{"$f":"VLOOKUP(B1189,[2]少数民族加分!$C$1:$E$65536,3,FALSE)","v":2},{"v":104,"d":"104.00"}]
[1190,"4152270602719","石钰","313独山县第二幼儿园","01幼儿教师",{"$f":"VLOOKUP(B1190,[1]Sheet1!$A:$I,8,0)","v":"59.00"},{"$f":"VLOOKUP(B1190,[1]Sheet1!$A:$I,9,0)","v":"42.00"},{"$f":"VLOOKUP(B1190,[2]少数民族加分!$C$1:$E$65536,3,FALSE)","v":2},{"v":103,"d":"103.00"}]
[1191,"4152270604501","石虹","313独山县第二幼儿园","01幼儿教师",{"$f":"VLOOKUP(B1191,[1]Sheet1!$A:$I,8,0)","v":"49.50"},{"$f":"VLOOKUP(B1191,[1]Sheet1!$A:$I,9,0)","v":"51.00"},{"$f":"VLOOKUP(B1191,[2]少数民族加分!$C$1:$E$65536,3,FALSE)","v":2},{"v":102.5,"d":"102.50"}]
[1192,"4152270605523","唐小凤","313独山县第二幼儿园","01幼儿教师",{"$f":"VLOOKUP(B1192,[1]Sheet1!$A:$I,8,0)","v":"49.50"},{"$f":"VLOOKUP(B1192,[1]Sheet1!$A:$I,9,0)","v":"51.00"},{"$f":"VLOOKUP(B1192,[2]少数民族加分!$C$1:$E$65536,3,FALSE)","v":2},{"v":102.5,"d":"102.50"}]
[1185,"4152270602604","朱情兰","313独山县第二幼儿园","01幼儿教师",{"$f":"VLOOKUP(B1193,[1]Sheet1!$A:$I,8,0)","v":"49.00"},{"$f":"VLOOKUP(B1193,[1]Sheet1!$A:$I,9,0)","v":"53.00"},null,{"v":102,"d":"102.00"}]
[1193,"4152270603526","龙静","313独山县第二幼儿园","01幼儿教师",{"$f":"VLOOKUP(B1194,[1]Sheet1!$A:$I,8,0)","v":"53.00"},{"$f":"VLOOKUP(B1194,[1]Sheet1!$A:$I,9,0)","v":"47.00"},{"$f":"VLOOKUP(B1194,[2]少数民族加分!$C$1:$E$65536,3,FALSE)","v":2},{"v":102,"d":"102.00"}]
[1189,"4152270604815","郝秋沙","313独山县第二幼儿园","01幼儿教师",{"$f":"VLOOKUP(B1195,[1]Sheet1!$A:$I,8,0)","v":"45.50"},{"$f":"VLOOKUP(B1195,[1]Sheet1!$A:$I,9,0)","v":"56.00"},null,{"v":101.5,"d":"101.50"}]
[1194,"4152270603504","潘小威","313独山县第二幼儿园","01幼儿教师",{"$f":"VLOOKUP(B1196,[1]Sheet1!$A:$I,8,0)","v":"49.00"},{"$f":"VLOOKUP(B1196,[1]Sheet1!$A:$I,9,0)","v":"50.00"},{"$f":"VLOOKUP(B1196,[2]少数民族加分!$C$1:$E$65536,3,FALSE)","v":2},{"v":101,"d":"101.00"}]
[1195,"4152270603204","潘祥萧","313独山县第二幼儿园","01幼儿教师",{"$f":"VLOOKUP(B1197,[1]Sheet1!$A:$I,8,0)","v":"47.50"},{"$f":"VLOOKUP(B1197,[1]Sheet1!$A:$I,9,0)","v":"51.00"},{"$f":"VLOOKUP(B1197,[2]少数民族加分!$C$1:$E$65536,3,FALSE)","v":2},{"v":100.5,"d":"100.50"}]
[1197,"4152270604224","岑君","313独山县第二幼儿园","01幼儿教师",{"$f":"VLOOKUP(B1198,[1]Sheet1!$A:$I,8,0)","v":"54.00"},{"$f":"VLOOKUP(B1198,[1]Sheet1!$A:$I,9,0)","v":"43.00"},{"$f":"VLOOKUP(B1198,[2]少数民族加分!$C$1:$E$65536,3,FALSE)","v":2},{"v":99,"d":"99.00"}]
[1198,"4152270604602","蒙春月","313独山县第二幼儿园","01幼儿教师",{"$f":"VLOOKUP(B1199,[1]Sheet1!$A:$I,8,0)","v":"47.00"},{"$f":"VLOOKUP(B1199,[1]Sheet1!$A:$I,9,0)","v":"50.00"},{"$f":"VLOOKUP(B1199,[2]少数民族加分!$C$1:$E$65536,3,FALSE)","v":2},{"v":99,"d":"99.00"}]
[1199,"4152270700816","杨明婷","313独山县第二幼儿园","01幼儿教师",{"$f":"VLOOKUP(B1200,[1]Sheet1!$A:$I,8,0)","v":"36.00"},{"$f":"VLOOKUP(B1200,[1]Sheet1!$A:$I,9,0)","v":"61.00"},{"$f":"VLOOKUP(B1200,[2]少数民族加分!$C$1:$E$65536,3,FALSE)","v":2},{"v":99,"d":"99.00"}]
[1201,"4152270604901","吴耀佳","313独山县第二幼儿园","01幼儿教师",{"$f":"VLOOKUP(B1201,[1]Sheet1!$A:$I,8,0)","v":"54.00"},{"$f":"VLOOKUP(B1201,[1]Sheet1!$A:$I,9,0)","v":"42.00"},{"$f":"VLOOKUP(B1201,[2]少数民族加分!$C$1:$E$65536,3,FALSE)","v":2},{"v":98,"d":"98.00"}]
[1196,"4152270602815","刘宇","313独山县第二幼儿园","01幼儿教师",{"$f":"VLOOKUP(B1202,[1]Sheet1!$A:$I,8,0)","v":"59.50"},{"$f":"VLOOKUP(B1202,[1]Sheet1!$A:$I,9,0)","v":"38.00"},null,{"v":97.5,"d":"97.50"}]
[1200,"4152270603329","冉进丽","313独山县第二幼儿园","01幼儿教师",{"$f":"VLOOKUP(B1203,[1]Sheet1!$A:$I,8,0)","v":"51.50"},{"$f":"VLOOKUP(B1203,[1]Sheet1!$A:$I,9,0)","v":"45.00"},null,{"v":96.5,"d":"96.50"}]
[1202,"4152270604526","白清梅","313独山县第二幼儿园","01幼儿教师",{"$f":"VLOOKUP(B1204,[1]Sheet1!$A:$I,8,0)","v":"49.50"},{"$f":"VLOOKUP(B1204,[1]Sheet1!$A:$I,9,0)","v":"45.00"},{"$f":"VLOOKUP(B1204,[2]少数民族加分!$C$1:$E$65536,3,FALSE)","v":2},{"v":96.5,"d":"96.50"}]
[1204,"4152270605230","谭成欢","313独山县第二幼儿园","01幼儿教师",{"$f":"VLOOKUP(B1205,[1]Sheet1!$A:$I,8,0)","v":"39.50"},{"$f":"VLOOKUP(B1205,[1]Sheet1!$A:$I,9,0)","v":"54.00"},{"$f":"VLOOKUP(B1205,[2]少数民族加分!$C$1:$E$65536,3,FALSE)","v":2},{"v":95.5,"d":"95.50"}]
[1205,"4152270701023","张东月","313独山县第二幼儿园","01幼儿教师",{"$f":"VLOOKUP(B1206,[1]Sheet1!$A:$I,8,0)","v":"47.00"},{"$f":"VLOOKUP(B1206,[1]Sheet1!$A:$I,9,0)","v":"46.00"},{"$f":"VLOOKUP(B1206,[2]少数民族加分!$C$1:$E$65536,3,FALSE)","v":2},{"v":95,"d":"95.00"}]
[1203,"4152270602930","李燕丽","313独山县第二幼儿园","01幼儿教师",{"$f":"VLOOKUP(B1207,[1]Sheet1!$A:$I,8,0)","v":"35.00"},{"$f":"VLOOKUP(B1207,[1]Sheet1!$A:$I,9,0)","v":"59.00"},null,{"v":94,"d":"94.00"}]
[1206,"4152270602913","吴有玲","313独山县第二幼儿园","01幼儿教师",{"$f":"VLOOKUP(B1208,[1]Sheet1!$A:$I,8,0)","v":"62.00"},{"$f":"VLOOKUP(B1208,[1]Sheet1!$A:$I,9,0)","v":"30.00"},{"$f":"VLOOKUP(B1208,[2]少数民族加分!$C$1:$E$65536,3,FALSE)","v":2},{"v":94,"d":"94.00"}]
[1207,"4152270604529","刘绍芝","313独山县第二幼儿园","01幼儿教师",{"$f":"VLOOKUP(B1209,[1]Sheet1!$A:$I,8,0)","v":"53.50"},{"$f":"VLOOKUP(B1209,[1]Sheet1!$A:$I,9,0)","v":"38.00"},{"$f":"VLOOKUP(B1209,[2]少数民族加分!$C$1:$E$65536,3,FALSE)","v":2},{"v":93.5,"d":"93.50"}]
[1208,"4152270700616","罗红琴","313独山县第二幼儿园","01幼儿教师",{"$f":"VLOOKUP(B1210,[1]Sheet1!$A:$I,8,0)","v":"52.00"},{"$f":"VLOOKUP(B1210,[1]Sheet1!$A:$I,9,0)","v":"39.00"},{"$f":"VLOOKUP(B1210,[2]少数民族加分!$C$1:$E$65536,3,FALSE)","v":2},{"v":93,"d":"93.00"}]
[1209,"4152270604922","孙万灵","313独山县第二幼儿园","01幼儿教师",{"$f":"VLOOKUP(B1211,[1]Sheet1!$A:$I,8,0)","v":"63.50"},{"$f":"VLOOKUP(B1211,[1]Sheet1!$A:$I,9,0)","v":"27.00"},{"$f":"VLOOKUP(B1211,[2]少数民族加分!$C$1:$E$65536,3,FALSE)","v":2},{"v":92.5,"d":"92.50"}]
[1210,"4152270605123","杨土英","313独山县第二幼儿园","01幼儿教师",{"$f":"VLOOKUP(B1212,[1]Sheet1!$A:$I,8,0)","v":"38.50"},{"$f":"VLOOKUP(B1212,[1]Sheet1!$A:$I,9,0)","v":"52.00"},{"$f":"VLOOKUP(B1212,[2]少数民族加分!$C$1:$E$65536,3,FALSE)","v":2},{"v":92.5,"d":"92.50"}]
[1211,"4152270603001","刘昌蕾","313独山县第二幼儿园","01幼儿教师",{"$f":"VLOOKUP(B1213,[1]Sheet1!$A:$I,8,0)","v":"44.00"},{"$f":"VLOOKUP(B1213,[1]Sheet1!$A:$I,9,0)","v":"46.00"},null,{"v":90,"d":"90.00"}]
[1212,"4152270603530","郭梦亚","313独山县第二幼儿园","01幼儿教师",{"$f":"VLOOKUP(B1214,[1]Sheet1!$A:$I,8,0)","v":"45.50"},{"$f":"VLOOKUP(B1214,[1]Sheet1!$A:$I,9,0)","v":"40.00"},{"$f":"VLOOKUP(B1214,[2]少数民族加分!$C$1:$E$65536,3,FALSE)","v":2},{"v":87.5,"d":"87.50"}]
[1214,"4152270603802","杨思如","313独山县第二幼儿园","01幼儿教师",{"$f":"VLOOKUP(B1215,[1]Sheet1!$A:$I,8,0)","v":"44.00"},{"$f":"VLOOKUP(B1215,[1]Sheet1!$A:$I,9,0)","v":"39.00"},{"$f":"VLOOKUP(B1215,[2]少数民族加分!$C$1:$E$65536,3,FALSE)","v":2},{"v":85,"d":"85.00"}]
[1213,"4152270604827","罗毅","313独山县第二幼儿园","01幼儿教师",{"$f":"VLOOKUP(B1216,[1]Sheet1!$A:$I,8,0)","v":"58.00"},{"$f":"VLOOKUP(B1216,[1]Sheet1!$A:$I,9,0)","v":"26.00"},null,{"v":84,"d":"84.00"}]
[1215,"4152270603028","彭琴","313独山县第二幼儿园","01幼儿教师",{"$f":"VLOOKUP(B1217,[1]Sheet1!$A:$I,8,0)","v":"33.00"},{"$f":"VLOOKUP(B1217,[1]Sheet1!$A:$I,9,0)","v":"49.00"},{"$f":"VLOOKUP(B1217,[2]少数民族加分!$C$1:$E$65536,3,FALSE)","v":2},{"v":84,"d":"84.00"}]
[1216,"4152270605408","韦丹","313独山县第二幼儿园","01幼儿教师",{"$f":"VLOOKUP(B1218,[1]Sheet1!$A:$I,8,0)","v":"49.00"},{"$f":"VLOOKUP(B1218,[1]Sheet1!$A:$I,9,0)","v":"33.00"},{"$f":"VLOOKUP(B1218,[2]少数民族加分!$C$1:$E$65536,3,FALSE)","v":2},{"v":84,"d":"84.00"}]
[1218,"4152270700803","刘信","313独山县第二幼儿园","01幼儿教师",{"$f":"VLOOKUP(B1219,[1]Sheet1!$A:$I,8,0)","v":"56.50"},{"$f":"VLOOKUP(B1219,[1]Sheet1!$A:$I,9,0)","v":"24.00"},{"$f":"VLOOKUP(B1219,[2]少数民族加分!$C$1:$E$65536,3,FALSE)","v":2},{"v":82.5,"d":"82.50"}]
[1217,"4152270604024","张建","313独山县第二幼儿园","01幼儿教师",{"$f":"VLOOKUP(B1220,[1]Sheet1!$A:$I,8,0)","v":"39.50"},{"$f":"VLOOKUP(B1220,[1]Sheet1!$A:$I,9,0)","v":"42.00"},null,{"v":81.5,"d":"81.50"}]
[1219,"4152270701214","陈星","313独山县第二幼儿园","01幼儿教师",{"$f":"VLOOKUP(B1221,[1]Sheet1!$A:$I,8,0)","v":"35.50"},{"$f":"VLOOKUP(B1221,[1]Sheet1!$A:$I,9,0)","v":"44.00"},{"$f":"VLOOKUP(B1221,[2]少数民族加分!$C$1:$E$65536,3,FALSE)","v":2},{"v":81.5,"d":"81.50"}]
[1220,"4152270602806","罗明红","313独山县第二幼儿园","01幼儿教师",{"$f":"VLOOKUP(B1222,[1]Sheet1!$A:$I,8,0)","v":"43.50"},{"$f":"VLOOKUP(B1222,[1]Sheet1!$A:$I,9,0)","v":"35.00"},{"$f":"VLOOKUP(B1222,[2]少数民族加分!$C$1:$E$65536,3,FALSE)","v":2},{"v":80.5,"d":"80.50"}]
[1221,"4152270700324","应富欢","313独山县第二幼儿园","01幼儿教师",{"$f":"VLOOKUP(B1223,[1]Sheet1!$A:$I,8,0)","v":"44.50"},{"$f":"VLOOKUP(B1223,[1]Sheet1!$A:$I,9,0)","v":"30.00"},{"$f":"VLOOKUP(B1223,[2]少数民族加分!$C$1:$E$65536,3,FALSE)","v":2},{"v":76.5,"d":"76.50"}]
[1222,"4152270700608","莫春燕","313独山县第二幼儿园","01幼儿教师",{"$f":"VLOOKUP(B1224,[1]Sheet1!$A:$I,8,0)","v":"59.50"},{"$f":"VLOOKUP(B1224,[1]Sheet1!$A:$I,9,0)","v":"14.00"},{"$f":"VLOOKUP(B1224,[2]少数民族加分!$C$1:$E$65536,3,FALSE)","v":2},{"v":75.5,"d":"75.50"}]
[1223,"4152270602819","吴玉鹏","313独山县第二幼儿园","01幼儿教师",{"$f":"VLOOKUP(B1225,[1]Sheet1!$A:$I,8,0)","v":"41.50"},{"$f":"VLOOKUP(B1225,[1]Sheet1!$A:$I,9,0)","v":"27.00"},{"$f":"VLOOKUP(B1225,[2]少数民族加分!$C$1:$E$65536,3,FALSE)","v":2},{"v":70.5,"d":"70.50"}]
[1224,"4152270604426","胡乐","313独山县第二幼儿园","01幼儿教师",{"$f":"VLOOKUP(B1226,[1]Sheet1!$A:$I,8,0)","v":"37.50"},{"$f":"VLOOKUP(B1226,[1]Sheet1!$A:$I,9,0)","v":"31.00"},{"$f":"VLOOKUP(B1226,[2]少数民族加分!$C$1:$E$65536,3,FALSE)","v":2},{"v":70.5,"d":"70.50"}]
[1225,"4152270605228","潘秀银","313独山县第二幼儿园","01幼儿教师",{"$f":"VLOOKUP(B1227,[1]Sheet1!$A:$I,8,0)","v":"45.00"},{"$f":"VLOOKUP(B1227,[1]Sheet1!$A:$I,9,0)","v":"13.00"},{"$f":"VLOOKUP(B1227,[2]少数民族加分!$C$1:$E$65536,3,FALSE)","v":2},{"v":60,"d":"60.00"}]
[1226,"4152270605303","宋居亚","313独山县第二幼儿园","01幼儿教师",{"$f":"VLOOKUP(B1228,[1]Sheet1!$A:$I,8,0)","v":"0.00"},{"$f":"VLOOKUP(B1228,[1]Sheet1!$A:$I,9,0)","v":"0.00"},null,"缺考"]
[1227,"4152270605308","韦廷杰","313独山县第二幼儿园","01幼儿教师",{"$f":"VLOOKUP(B1229,[1]Sheet1!$A:$I,8,0)","v":"0.00"},{"$f":"VLOOKUP(B1229,[1]Sheet1!$A:$I,9,0)","v":"0.00"},{"$f":"VLOOKUP(B1229,[2]少数民族加分!$C$1:$E$65536,3,FALSE)","v":2},"缺考"]
[1228,"4152270605309","陈旺","313独山县第二幼儿园","01幼儿教师",{"$f":"VLOOKUP(B1230,[1]Sheet1!$A:$I,8,0)","v":"0.00"},{"$f":"VLOOKUP(B1230,[1]Sheet1!$A:$I,9,0)","v":"0.00"},null,"缺考"]
[1229,"4152270605421","罗晶","313独山县第二幼儿园","01幼儿教师",{"$f":"VLOOKUP(B1231,[1]Sheet1!$A:$I,8,0)","v":"0.00"},{"$f":"VLOOKUP(B1231,[1]Sheet1!$A:$I,9,0)","v":"0.00"},{"$f":"VLOOKUP(B1231,[2]少数民族加分!$C$1:$E$65536,3,FALSE)","v":2},"缺考"]
[1230,"4152270605610","余芳","313独山县第二幼儿园","01幼儿教师",{"$f":"VLOOKUP(B1232,[1]Sheet1!$A:$I,8,0)","v":"0.00"},{"$f":"VLOOKUP(B1232,[1]Sheet1!$A:$I,9,0)","v":"0.00"},{"$f":"VLOOKUP(B1232,[2]少数民族加分!$C$1:$E$65536,3,FALSE)","v":2},"缺考"]
[1231,"4152270700125","杨模","313独山县第二幼儿园","01幼儿教师",{"$f":"VLOOKUP(B1233,[1]Sheet1!$A:$I,8,0)","v":"0.00"},{"$f":"VLOOKUP(B1233,[1]Sheet1!$A:$I,9,0)","v":"0.00"},{"$f":"VLOOKUP(B1233,[2]少数民族加分!$C$1:$E$65536,3,FALSE)","v":2},"缺考"]
[1232,"4152270700307","龙梅","313独山县第二幼儿园","01幼儿教师",{"$f":"VLOOKUP(B1234,[1]Sheet1!$A:$I,8,0)","v":"0.00"},{"$f":"VLOOKUP(B1234,[1]Sheet1!$A:$I,9,0)","v":"0.00"},null,"缺考"]
[1233,"4152270700419","江文琴","313独山县第二幼儿园","01幼儿教师",{"$f":"VLOOKUP(B1235,[1]Sheet1!$A:$I,8,0)","v":"0.00"},{"$f":"VLOOKUP(B1235,[1]Sheet1!$A:$I,9,0)","v":"0.00"},{"$f":"VLOOKUP(B1235,[2]少数民族加分!$C$1:$E$65536,3,FALSE)","v":2},"缺考"]
[1234,"4152270700507","李丽","313独山县第二幼儿园","01幼儿教师",{"$f":"VLOOKUP(B1236,[1]Sheet1!$A:$I,8,0)","v":"0.00"},{"$f":"VLOOKUP(B1236,[1]Sheet1!$A:$I,9,0)","v":"0.00"},null,"缺考"]
[1235,"4152270700618","杨昌艳","313独山县第二幼儿园","01幼儿教师",{"$f":"VLOOKUP(B1237,[1]Sheet1!$A:$I,8,0)","v":"0.00"},{"$f":"VLOOKUP(B1237,[1]Sheet1!$A:$I,9,0)","v":"0.00"},{"$f":"VLOOKUP(B1237,[2]少数民族加分!$C$1:$E$65536,3,FALSE)","v":2},"缺考"]
[1236,"4152270700708","左微","313独山县第二幼儿园","01幼儿教师",{"$f":"VLOOKUP(B1238,[1]Sheet1!$A:$I,8,0)","v":"0.00"},{"$f":"VLOOKUP(B1238,[1]Sheet1!$A:$I,9,0)","v":"0.00"},{"$f":"VLOOKUP(B1238,[2]少数民族加分!$C$1:$E$65536,3,FALSE)","v":2},"缺考"]
[1237,"4152270700810","黄颖","313独山县第二幼儿园","01幼儿教师",{"$f":"VLOOKUP(B1239,[1]Sheet1!$A:$I,8,0)","v":"0.00"},{"$f":"VLOOKUP(B1239,[1]Sheet1!$A:$I,9,0)","v":"0.00"},null,"缺考"]
[1238,"4152270701006","文书枝","313独山县第二幼儿园","01幼儿教师",{"$f":"VLOOKUP(B1240,[1]Sheet1!$A:$I,8,0)","v":"0.00"},{"$f":"VLOOKUP(B1240,[1]Sheet1!$A:$I,9,0)","v":"0.00"},{"$f":"VLOOKUP(B1240,[2]少数民族加分!$C$1:$E$65536,3,FALSE)","v":2},"缺考"]
[1239,"4152270701113","柏九菊","313独山县第二幼儿园","01幼儿教师",{"$f":"VLOOKUP(B1241,[1]Sheet1!$A:$I,8,0)","v":"0.00"},{"$f":"VLOOKUP(B1241,[1]Sheet1!$A:$I,9,0)","v":"0.00"},{"$f":"VLOOKUP(B1241,[2]少数民族加分!$C$1:$E$65536,3,FALSE)","v":2},"缺考"]
[1240,"4152270701204","岑祖飞","313独山县第二幼儿园","01幼儿教师",{"$f":"VLOOKUP(B1242,[1]Sheet1!$A:$I,8,0)","v":"0.00"},{"$f":"VLOOKUP(B1242,[1]Sheet1!$A:$I,9,0)","v":"0.00"},{"$f":"VLOOKUP(B1242,[2]少数民族加分!$C$1:$E$65536,3,FALSE)","v":2},"缺考"]
[1241,"4152270602619","姚丹","313独山县第二幼儿园","01幼儿教师",{"$f":"VLOOKUP(B1243,[1]Sheet1!$A:$I,8,0)","v":"0.00"},{"$f":"VLOOKUP(B1243,[1]Sheet1!$A:$I,9,0)","v":"0.00"},{"$f":"VLOOKUP(B1243,[2]少数民族加分!$C$1:$E$65536,3,FALSE)","v":2},"缺考"]
[1242,"4152270602702","侯琦","313独山县第二幼儿园","01幼儿教师",{"$f":"VLOOKUP(B1244,[1]Sheet1!$A:$I,8,0)","v":"0.00"},{"$f":"VLOOKUP(B1244,[1]Sheet1!$A:$I,9,0)","v":"0.00"},{"$f":"VLOOKUP(B1244,[2]少数民族加分!$C$1:$E$65536,3,FALSE)","v":2},"缺考"]
[1243,"4152270603013","谭泽美","313独山县第二幼儿园","01幼儿教师",{"$f":"VLOOKUP(B1245,[1]Sheet1!$A:$I,8,0)","v":"0.00"},{"$f":"VLOOKUP(B1245,[1]Sheet1!$A:$I,9,0)","v":"0.00"},{"$f":"VLOOKUP(B1245,[2]少数民族加分!$C$1:$E$65536,3,FALSE)","v":2},"缺考"]
[1244,"4152270603101","王化香","313独山县第二幼儿园","01幼儿教师",{"$f":"VLOOKUP(B1246,[1]Sheet1!$A:$I,8,0)","v":"0.00"},{"$f":"VLOOKUP(B1246,[1]Sheet1!$A:$I,9,0)","v":"0.00"},{"$f":"VLOOKUP(B1246,[2]少数民族加分!$C$1:$E$65536,3,FALSE)","v":2},"缺考"]
[1245,"4152270603205","黄启露","313独山县第二幼儿园","01幼儿教师",{"$f":"VLOOKUP(B1247,[1]Sheet1!$A:$I,8,0)","v":"0.00"},{"$f":"VLOOKUP(B1247,[1]Sheet1!$A:$I,9,0)","v":"0.00"},{"$f":"VLOOKUP(B1247,[2]少数民族加分!$C$1:$E$65536,3,FALSE)","v":2},"缺考"]
[1246,"4152270603219","谢丹","313独山县第二幼儿园","01幼儿教师",{"$f":"VLOOKUP(B1248,[1]Sheet1!$A:$I,8,0)","v":"0.00"},{"$f":"VLOOKUP(B1248,[1]Sheet1!$A:$I,9,0)","v":"0.00"},null,"缺考"]
[1247,"4152270603305","李亚如","313独山县第二幼儿园","01幼儿教师",{"$f":"VLOOKUP(B1249,[1]Sheet1!$A:$I,8,0)","v":"0.00"},{"$f":"VLOOKUP(B1249,[1]Sheet1!$A:$I,9,0)","v":"0.00"},null,"缺考"]
[1248,"4152270603422","陈克贤","313独山县第二幼儿园","01幼儿教师",{"$f":"VLOOKUP(B1250,[1]Sheet1!$A:$I,8,0)","v":"0.00"},{"$f":"VLOOKUP(B1250,[1]Sheet1!$A:$I,9,0)","v":"0.00"},null,"缺考"]
[1249,"4152270603510","雷嘉","313独山县第二幼儿园","01幼儿教师",{"$f":"VLOOKUP(B1251,[1]Sheet1!$A:$I,8,0)","v":"0.00"},{"$f":"VLOOKUP(B1251,[1]Sheet1!$A:$I,9,0)","v":"0.00"},{"$f":"VLOOKUP(B1251,[2]少数民族加分!$C$1:$E$65536,3,FALSE)","v":2},"缺考"]
[1250,"4152270603901","吴艳丽","313独山县第二幼儿园","01幼儿教师",{"$f":"VLOOKUP(B1252,[1]Sheet1!$A:$I,8,0)","v":"0.00"},{"$f":"VLOOKUP(B1252,[1]Sheet1!$A:$I,9,0)","v":"0.00"},null,"缺考"]
[1251,"4152270603916","杨丽红","313独山县第二幼儿园","01幼儿教师",{"$f":"VLOOKUP(B1253,[1]Sheet1!$A:$I,8,0)","v":"0.00"},{"$f":"VLOOKUP(B1253,[1]Sheet1!$A:$I,9,0)","v":"0.00"},{"$f":"VLOOKUP(B1253,[2]少数民族加分!$C$1:$E$65536,3,FALSE)","v":2},"缺考"]
[1252,"4152270603923","李筹婷","313独山县第二幼儿园","01幼儿教师",{"$f":"VLOOKUP(B1254,[1]Sheet1!$A:$I,8,0)","v":"0.00"},{"$f":"VLOOKUP(B1254,[1]Sheet1!$A:$I,9,0)","v":"0.00"},{"$f":"VLOOKUP(B1254,[2]少数民族加分!$C$1:$E$65536,3,FALSE)","v":2},"缺考"]
[1253,"4152270604230","欧华研","313独山县第二幼儿园","01幼儿教师",{"$f":"VLOOKUP(B1255,[1]Sheet1!$A:$I,8,0)","v":"0.00"},{"$f":"VLOOKUP(B1255,[1]Sheet1!$A:$I,9,0)","v":"0.00"},{"$f":"VLOOKUP(B1255,[2]少数民族加分!$C$1:$E$65536,3,FALSE)","v":2},"缺考"]
[1254,"4152270604314","石显玉","313独山县第二幼儿园","01幼儿教师",{"$f":"VLOOKUP(B1256,[1]Sheet1!$A:$I,8,0)","v":"0.00"},{"$f":"VLOOKUP(B1256,[1]Sheet1!$A:$I,9,0)","v":"0.00"},{"$f":"VLOOKUP(B1256,[2]少数民族加分!$C$1:$E$65536,3,FALSE)","v":2},"缺考"]
[1255,"4152270604318","冉梦慧","313独山县第二幼儿园","01幼儿教师",{"$f":"VLOOKUP(B1257,[1]Sheet1!$A:$I,8,0)","v":"0.00"},{"$f":"VLOOKUP(B1257,[1]Sheet1!$A:$I,9,0)","v":"0.00"},{"$f":"VLOOKUP(B1257,[2]少数民族加分!$C$1:$E$65536,3,FALSE)","v":2},"缺考"]
[1256,"4152270604405","高倩","313独山县第二幼儿园","01幼儿教师",{"$f":"VLOOKUP(B1258,[1]Sheet1!$A:$I,8,0)","v":"0.00"},{"$f":"VLOOKUP(B1258,[1]Sheet1!$A:$I,9,0)","v":"0.00"},null,"缺考"]
[1257,"4152270604423","尚晓燕","313独山县第二幼儿园","01幼儿教师",{"$f":"VLOOKUP(B1259,[1]Sheet1!$A:$I,8,0)","v":"0.00"},{"$f":"VLOOKUP(B1259,[1]Sheet1!$A:$I,9,0)","v":"0.00"},{"$f":"VLOOKUP(B1259,[2]少数民族加分!$C$1:$E$65536,3,FALSE)","v":2},"缺考"]
[1258,"4152270604702","吴丽芝","313独山县第二幼儿园","01幼儿教师",{"$f":"VLOOKUP(B1260,[1]Sheet1!$A:$I,8,0)","v":"0.00"},{"$f":"VLOOKUP(B1260,[1]Sheet1!$A:$I,9,0)","v":"0.00"},{"$f":"VLOOKUP(B1260,[2]少数民族加分!$C$1:$E$65536,3,FALSE)","v":2},"缺考"]
[1259,"4152270604713","谭龙飞","313独山县第二幼儿园","01幼儿教师",{"$f":"VLOOKUP(B1261,[1]Sheet1!$A:$I,8,0)","v":"0.00"},{"$f":"VLOOKUP(B1261,[1]Sheet1!$A:$I,9,0)","v":"0.00"},null,"缺考"]
[1260,"4152270604719","蒙正琴","313独山县第二幼儿园","01幼儿教师",{"$f":"VLOOKUP(B1262,[1]Sheet1!$A:$I,8,0)","v":"0.00"},{"$f":"VLOOKUP(B1262,[1]Sheet1!$A:$I,9,0)","v":"0.00"},{"$f":"VLOOKUP(B1262,[2]少数民族加分!$C$1:$E$65536,3,FALSE)","v":2},"缺考"]
[1261,"4152270604724","陶胜芳","313独山县第二幼儿园","01幼儿教师",{"$f":"VLOOKUP(B1263,[1]Sheet1!$A:$I,8,0)","v":"0.00"},{"$f":"VLOOKUP(B1263,[1]Sheet1!$A:$I,9,0)","v":"0.00"},{"$f":"VLOOKUP(B1263,[2]少数民族加分!$C$1:$E$65536,3,FALSE)","v":2},"缺考"]
[1262,"4152270604807","严媛","313独山县第二幼儿园","01幼儿教师",{"$f":"VLOOKUP(B1264,[1]Sheet1!$A:$I,8,0)","v":"0.00"},{"$f":"VLOOKUP(B1264,[1]Sheet1!$A:$I,9,0)","v":"0.00"},{"$f":"VLOOKUP(B1264,[2]少数民族加分!$C$1:$E$65536,3,FALSE)","v":2},"缺考"]
[1263,"4152270604917","雷诗宇","313独山县第二幼儿园","01幼儿教师",{"$f":"VLOOKUP(B1265,[1]Sheet1!$A:$I,8,0)","v":"0.00"},{"$f":"VLOOKUP(B1265,[1]Sheet1!$A:$I,9,0)","v":"0.00"},null,"缺考"]
[1264,"4152270604925","李世星","313独山县第二幼儿园","01幼儿教师",{"$f":"VLOOKUP(B1266,[1]Sheet1!$A:$I,8,0)","v":"0.00"},{"$f":"VLOOKUP(B1266,[1]Sheet1!$A:$I,9,0)","v":"0.00"},{"$f":"VLOOKUP(B1266,[2]少数民族加分!$C$1:$E$65536,3,FALSE)","v":2},"缺考"]
[1265,"4152270604927","邓成莹","313独山县第二幼儿园","01幼儿教师",{"$f":"VLOOKUP(B1267,[1]Sheet1!$A:$I,8,0)","v":"0.00"},{"$f":"VLOOKUP(B1267,[1]Sheet1!$A:$I,9,0)","v":"0.00"},null,"缺考"]
[1266,"4152270605013","白全稳","313独山县第二幼儿园","01幼儿教师",{"$f":"VLOOKUP(B1268,[1]Sheet1!$A:$I,8,0)","v":"0.00"},{"$f":"VLOOKUP(B1268,[1]Sheet1!$A:$I,9,0)","v":"0.00"},{"$f":"VLOOKUP(B1268,[2]少数民族加分!$C$1:$E$65536,3,FALSE)","v":2},"缺考"]
[1267,"4152270605016","方蓉","313独山县第二幼儿园","01幼儿教师",{"$f":"VLOOKUP(B1269,[1]Sheet1!$A:$I,8,0)","v":"0.00"},{"$f":"VLOOKUP(B1269,[1]Sheet1!$A:$I,9,0)","v":"0.00"},{"$f":"VLOOKUP(B1269,[2]少数民族加分!$C$1:$E$65536,3,FALSE)","v":2},"缺考"]
[1268,"4152270605125","姚燕娅","313独山县第二幼儿园","01幼儿教师",{"$f":"VLOOKUP(B1270,[1]Sheet1!$A:$I,8,0)","v":"0.00"},{"$f":"VLOOKUP(B1270,[1]Sheet1!$A:$I,9,0)","v":"0.00"},{"$f":"VLOOKUP(B1270,[2]少数民族加分!$C$1:$E$65536,3,FALSE)","v":2},"缺考"]
[1269,"4152270700424","韦依","314独山县第三幼儿园","01幼儿教师",{"$f":"VLOOKUP(B1271,[1]Sheet1!$A:$I,8,0)","v":"95.00"},{"$f":"VLOOKUP(B1271,[1]Sheet1!$A:$I,9,0)","v":"98.00"},{"$f":"VLOOKUP(B1271,[2]少数民族加分!$C$1:$E$65536,3,FALSE)","v":2},{"v":195,"d":"195.00"}]
[1270,"4152270603511","张丽婷","314独山县第三幼儿园","01幼儿教师",{"$f":"VLOOKUP(B1272,[1]Sheet1!$A:$I,8,0)","v":"100.50"},{"$f":"VLOOKUP(B1272,[1]Sheet1!$A:$I,9,0)","v":"92.00"},{"$f":"VLOOKUP(B1272,[2]少数民族加分!$C$1:$E$65536,3,FALSE)","v":2},{"v":194.5,"d":"194.50"}]
[1271,"4152270604612","李红瑞","314独山县第三幼儿园","01幼儿教师",{"$f":"VLOOKUP(B1273,[1]Sheet1!$A:$I,8,0)","v":"104.00"},{"$f":"VLOOKUP(B1273,[1]Sheet1!$A:$I,9,0)","v":"86.50"},{"$f":"VLOOKUP(B1273,[2]少数民族加分!$C$1:$E$65536,3,FALSE)","v":2},{"v":192.5,"d":"192.50"}]
[1272,"4152270605616","莫秋露","314独山县第三幼儿园","01幼儿教师",{"$f":"VLOOKUP(B1274,[1]Sheet1!$A:$I,8,0)","v":"99.50"},{"$f":"VLOOKUP(B1274,[1]Sheet1!$A:$I,9,0)","v":"87.00"},{"$f":"VLOOKUP(B1274,[2]少数民族加分!$C$1:$E$65536,3,FALSE)","v":2},{"v":188.5,"d":"188.50"}]
[1273,"4152270603712","莫树娟","314独山县第三幼儿园","01幼儿教师",{"$f":"VLOOKUP(B1275,[1]Sheet1!$A:$I,8,0)","v":"100.50"},{"$f":"VLOOKUP(B1275,[1]Sheet1!$A:$I,9,0)","v":"81.00"},{"$f":"VLOOKUP(B1275,[2]少数民族加分!$C$1:$E$65536,3,FALSE)","v":2},{"v":183.5,"d":"183.50"}]
[1275,"4152270700227","周琴","314独山县第三幼儿园","01幼儿教师",{"$f":"VLOOKUP(B1276,[1]Sheet1!$A:$I,8,0)","v":"80.00"},{"$f":"VLOOKUP(B1276,[1]Sheet1!$A:$I,9,0)","v":"98.00"},{"$f":"VLOOKUP(B1276,[2]少数民族加分!$C$1:$E$65536,3,FALSE)","v":2},{"v":180,"d":"180.00"}]
[1274,"4152270603415","刘景香","314独山县第三幼儿园","01幼儿教师",{"$f":"VLOOKUP(B1277,[1]Sheet1!$A:$I,8,0)","v":"85.00"},{"$f":"VLOOKUP(B1277,[1]Sheet1!$A:$I,9,0)","v":"93.50"},null,{"v":178.5,"d":"178.50"}]
[1276,"4152270604528","朱子兰","314独山县第三幼儿园","01幼儿教师",{"$f":"VLOOKUP(B1278,[1]Sheet1!$A:$I,8,0)","v":"91.00"},{"$f":"VLOOKUP(B1278,[1]Sheet1!$A:$I,9,0)","v":"85.00"},{"$f":"VLOOKUP(B1278,[2]少数民族加分!$C$1:$E$65536,3,FALSE)","v":2},{"v":178,"d":"178.00"}]
[1277,"4152270602726","杨秋妹","314独山县第三幼儿园","01幼儿教师",{"$f":"VLOOKUP(B1279,[1]Sheet1!$A:$I,8,0)","v":"81.00"},{"$f":"VLOOKUP(B1279,[1]Sheet1!$A:$I,9,0)","v":"94.50"},{"$f":"VLOOKUP(B1279,[2]少数民族加分!$C$1:$E$65536,3,FALSE)","v":2},{"v":177.5,"d":"177.50"}]
[1278,"4152270604514","王玉珍","314独山县第三幼儿园","01幼儿教师",{"$f":"VLOOKUP(B1280,[1]Sheet1!$A:$I,8,0)","v":"81.00"},{"$f":"VLOOKUP(B1280,[1]Sheet1!$A:$I,9,0)","v":"93.50"},{"$f":"VLOOKUP(B1280,[2]少数民族加分!$C$1:$E$65536,3,FALSE)","v":2},{"v":176.5,"d":"176.50"}]
[1279,"4152270603721","朱晓琴","314独山县第三幼儿园","01幼儿教师",{"$f":"VLOOKUP(B1281,[1]Sheet1!$A:$I,8,0)","v":"66.50"},{"$f":"VLOOKUP(B1281,[1]Sheet1!$A:$I,9,0)","v":"106.00"},{"$f":"VLOOKUP(B1281,[2]少数民族加分!$C$1:$E$65536,3,FALSE)","v":2},{"v":174.5,"d":"174.50"}]
[1280,"4152270603922","韦倩倩","314独山县第三幼儿园","01幼儿教师",{"$f":"VLOOKUP(B1282,[1]Sheet1!$A:$I,8,0)","v":"94.00"},{"$f":"VLOOKUP(B1282,[1]Sheet1!$A:$I,9,0)","v":"78.00"},{"$f":"VLOOKUP(B1282,[2]少数民族加分!$C$1:$E$65536,3,FALSE)","v":2},{"v":174,"d":"174.00"}]
[1281,"4152270605024","杨华英","314独山县第三幼儿园","01幼儿教师",{"$f":"VLOOKUP(B1283,[1]Sheet1!$A:$I,8,0)","v":"96.00"},{"$f":"VLOOKUP(B1283,[1]Sheet1!$A:$I,9,0)","v":"74.00"},{"$f":"VLOOKUP(B1283,[2]少数民族加分!$C$1:$E$65536,3,FALSE)","v":2},{"v":172,"d":"172.00"}]
[1283,"4152270604814","冉光娥","314独山县第三幼儿园","01幼儿教师",{"$f":"VLOOKUP(B1284,[1]Sheet1!$A:$I,8,0)","v":"82.00"},{"$f":"VLOOKUP(B1284,[1]Sheet1!$A:$I,9,0)","v":"86.50"},{"$f":"VLOOKUP(B1284,[2]少数民族加分!$C$1:$E$65536,3,FALSE)","v":2},{"v":170.5,"d":"170.50"}]
[1282,"4152270700203","颜健子","314独山县第三幼儿园","01幼儿教师",{"$f":"VLOOKUP(B1285,[1]Sheet1!$A:$I,8,0)","v":"86.00"},{"$f":"VLOOKUP(B1285,[1]Sheet1!$A:$I,9,0)","v":"84.00"},null,{"v":170,"d":"170.00"}]
[1284,"4152270700904","韦秀","314独山县第三幼儿园","01幼儿教师",{"$f":"VLOOKUP(B1286,[1]Sheet1!$A:$I,8,0)","v":"93.00"},{"$f":"VLOOKUP(B1286,[1]Sheet1!$A:$I,9,0)","v":"74.50"},{"$f":"VLOOKUP(B1286,[2]少数民族加分!$C$1:$E$65536,3,FALSE)","v":2},{"v":169.5,"d":"169.50"}]
[1285,"4152270605420","何芝芳","314独山县第三幼儿园","01幼儿教师",{"$f":"VLOOKUP(B1287,[1]Sheet1!$A:$I,8,0)","v":"68.00"},{"$f":"VLOOKUP(B1287,[1]Sheet1!$A:$I,9,0)","v":"98.00"},{"$f":"VLOOKUP(B1287,[2]少数民族加分!$C$1:$E$65536,3,FALSE)","v":2},{"v":168,"d":"168.00"}]
[1286,"4152270603914","韦芝","314独山县第三幼儿园","01幼儿教师",{"$f":"VLOOKUP(B1288,[1]Sheet1!$A:$I,8,0)","v":"72.00"},{"$f":"VLOOKUP(B1288,[1]Sheet1!$A:$I,9,0)","v":"94.00"},{"$f":"VLOOKUP(B1288,[2]少数民族加分!$C$1:$E$65536,3,FALSE)","v":2},{"v":168,"d":"168.00"}]
[1287,"4152270604613","黎云飞","314独山县第三幼儿园","01幼儿教师",{"$f":"VLOOKUP(B1289,[1]Sheet1!$A:$I,8,0)","v":"71.00"},{"$f":"VLOOKUP(B1289,[1]Sheet1!$A:$I,9,0)","v":"94.00"},{"$f":"VLOOKUP(B1289,[2]少数民族加分!$C$1:$E$65536,3,FALSE)","v":2},{"v":167,"d":"167.00"}]
[1288,"4152270602918","石本仙","314独山县第三幼儿园","01幼儿教师",{"$f":"VLOOKUP(B1290,[1]Sheet1!$A:$I,8,0)","v":"95.00"},{"$f":"VLOOKUP(B1290,[1]Sheet1!$A:$I,9,0)","v":"67.50"},{"$f":"VLOOKUP(B1290,[2]少数民族加分!$C$1:$E$65536,3,FALSE)","v":2},{"v":164.5,"d":"164.50"}]
[1289,"4152270603410","舒凤","314独山县第三幼儿园","01幼儿教师",{"$f":"VLOOKUP(B1291,[1]Sheet1!$A:$I,8,0)","v":"68.00"},{"$f":"VLOOKUP(B1291,[1]Sheet1!$A:$I,9,0)","v":"94.00"},{"$f":"VLOOKUP(B1291,[2]少数民族加分!$C$1:$E$65536,3,FALSE)","v":2},{"v":164,"d":"164.00"}]
[1290,"4152270604906","潘祖查","314独山县第三幼儿园","01幼儿教师",{"$f":"VLOOKUP(B1292,[1]Sheet1!$A:$I,8,0)","v":"76.50"},{"$f":"VLOOKUP(B1292,[1]Sheet1!$A:$I,9,0)","v":"85.50"},{"$f":"VLOOKUP(B1292,[2]少数民族加分!$C$1:$E$65536,3,FALSE)","v":2},{"v":164,"d":"164.00"}]
[1291,"4152270603805","李国娟","314独山县第三幼儿园","01幼儿教师",{"$f":"VLOOKUP(B1293,[1]Sheet1!$A:$I,8,0)","v":"77.00"},{"$f":"VLOOKUP(B1293,[1]Sheet1!$A:$I,9,0)","v":"84.50"},null,{"v":161.5,"d":"161.50"}]
[1292,"4152270604226","彭俊雪","314独山县第三幼儿园","01幼儿教师",{"$f":"VLOOKUP(B1294,[1]Sheet1!$A:$I,8,0)","v":"83.00"},{"$f":"VLOOKUP(B1294,[1]Sheet1!$A:$I,9,0)","v":"78.50"},null,{"v":161.5,"d":"161.50"}]
[1293,"4152270700211","王林","314独山县第三幼儿园","01幼儿教师",{"$f":"VLOOKUP(B1295,[1]Sheet1!$A:$I,8,0)","v":"90.50"},{"$f":"VLOOKUP(B1295,[1]Sheet1!$A:$I,9,0)","v":"71.00"},null,{"v":161.5,"d":"161.50"}]
[1294,"4152270700121","张魏","314独山县第三幼儿园","01幼儿教师",{"$f":"VLOOKUP(B1296,[1]Sheet1!$A:$I,8,0)","v":"92.50"},{"$f":"VLOOKUP(B1296,[1]Sheet1!$A:$I,9,0)","v":"68.50"},null,{"v":161,"d":"161.00"}]
[1295,"4152270700712","何治郸","314独山县第三幼儿园","01幼儿教师",{"$f":"VLOOKUP(B1297,[1]Sheet1!$A:$I,8,0)","v":"82.50"},{"$f":"VLOOKUP(B1297,[1]Sheet1!$A:$I,9,0)","v":"78.50"},null,{"v":161,"d":"161.00"}]
[1297,"4152270700504","邬能娟","314独山县第三幼儿园","01幼儿教师",{"$f":"VLOOKUP(B1298,[1]Sheet1!$A:$I,8,0)","v":"80.00"},{"$f":"VLOOKUP(B1298,[1]Sheet1!$A:$I,9,0)","v":"79.00"},{"$f":"VLOOKUP(B1298,[2]少数民族加分!$C$1:$E$65536,3,FALSE)","v":2},{"v":161,"d":"161.00"}]
[1298,"4152270700510","蒋忠美","314独山县第三幼儿园","01幼儿教师",{"$f":"VLOOKUP(B1299,[1]Sheet1!$A:$I,8,0)","v":"75.50"},{"$f":"VLOOKUP(B1299,[1]Sheet1!$A:$I,9,0)","v":"83.00"},{"$f":"VLOOKUP(B1299,[2]少数民族加分!$C$1:$E$65536,3,FALSE)","v":2},{"v":160.5,"d":"160.50"}]
[1299,"4152270603208","吴兴花","314独山县第三幼儿园","01幼儿教师",{"$f":"VLOOKUP(B1300,[1]Sheet1!$A:$I,8,0)","v":"76.50"},{"$f":"VLOOKUP(B1300,[1]Sheet1!$A:$I,9,0)","v":"81.50"},{"$f":"VLOOKUP(B1300,[2]少数民族加分!$C$1:$E$65536,3,FALSE)","v":2},{"v":160,"d":"160.00"}]
[1300,"4152270603711","胡诗雨","314独山县第三幼儿园","01幼儿教师",{"$f":"VLOOKUP(B1301,[1]Sheet1!$A:$I,8,0)","v":"91.00"},{"$f":"VLOOKUP(B1301,[1]Sheet1!$A:$I,9,0)","v":"67.00"},{"$f":"VLOOKUP(B1301,[2]少数民族加分!$C$1:$E$65536,3,FALSE)","v":2},{"v":160,"d":"160.00"}]
[1296,"4152270602805","杨秀桃","314独山县第三幼儿园","01幼儿教师",{"$f":"VLOOKUP(B1302,[1]Sheet1!$A:$I,8,0)","v":"72.50"},{"$f":"VLOOKUP(B1302,[1]Sheet1!$A:$I,9,0)","v":"87.00"},null,{"v":159.5,"d":"159.50"}]
[1301,"4152270603019","张红梅","314独山县第三幼儿园","01幼儿教师",{"$f":"VLOOKUP(B1303,[1]Sheet1!$A:$I,8,0)","v":"80.00"},{"$f":"VLOOKUP(B1303,[1]Sheet1!$A:$I,9,0)","v":"77.00"},{"$f":"VLOOKUP(B1303,[2]少数民族加分!$C$1:$E$65536,3,FALSE)","v":2},{"v":159,"d":"159.00"}]
[1303,"4152270603715","莫常云","314独山县第三幼儿园","01幼儿教师",{"$f":"VLOOKUP(B1304,[1]Sheet1!$A:$I,8,0)","v":"79.50"},{"$f":"VLOOKUP(B1304,[1]Sheet1!$A:$I,9,0)","v":"76.50"},{"$f":"VLOOKUP(B1304,[2]少数民族加分!$C$1:$E$65536,3,FALSE)","v":2},{"v":158,"d":"158.00"}]
[1304,"4152270604402","肖途丽","314独山县第三幼儿园","01幼儿教师",{"$f":"VLOOKUP(B1305,[1]Sheet1!$A:$I,8,0)","v":"84.50"},{"$f":"VLOOKUP(B1305,[1]Sheet1!$A:$I,9,0)","v":"71.50"},{"$f":"VLOOKUP(B1305,[2]少数民族加分!$C$1:$E$65536,3,FALSE)","v":2},{"v":158,"d":"158.00"}]
[1306,"4152270605301","姜红桃","314独山县第三幼儿园","01幼儿教师",{"$f":"VLOOKUP(B1306,[1]Sheet1!$A:$I,8,0)","v":"78.50"},{"$f":"VLOOKUP(B1306,[1]Sheet1!$A:$I,9,0)","v":"77.50"},{"$f":"VLOOKUP(B1306,[2]少数民族加分!$C$1:$E$65536,3,FALSE)","v":2},{"v":158,"d":"158.00"}]
[1307,"4152270603614","杨秀兰","314独山县第三幼儿园","01幼儿教师",{"$f":"VLOOKUP(B1307,[1]Sheet1!$A:$I,8,0)","v":"71.50"},{"$f":"VLOOKUP(B1307,[1]Sheet1!$A:$I,9,0)","v":"84.00"},{"$f":"VLOOKUP(B1307,[2]少数民族加分!$C$1:$E$65536,3,FALSE)","v":2},{"v":157.5,"d":"157.50"}]
[1302,"4152270604515","杨云飘","314独山县第三幼儿园","01幼儿教师",{"$f":"VLOOKUP(B1308,[1]Sheet1!$A:$I,8,0)","v":"75.50"},{"$f":"VLOOKUP(B1308,[1]Sheet1!$A:$I,9,0)","v":"81.50"},null,{"v":157,"d":"157.00"}]
[1308,"4152270700330","潘廷鸿","314独山县第三幼儿园","01幼儿教师",{"$f":"VLOOKUP(B1309,[1]Sheet1!$A:$I,8,0)","v":"81.00"},{"$f":"VLOOKUP(B1309,[1]Sheet1!$A:$I,9,0)","v":"74.00"},{"$f":"VLOOKUP(B1309,[2]少数民族加分!$C$1:$E$65536,3,FALSE)","v":2},{"v":157,"d":"157.00"}]
[1310,"4152270700628","杨景","314独山县第三幼儿园","01幼儿教师",{"$f":"VLOOKUP(B1310,[1]Sheet1!$A:$I,8,0)","v":"77.00"},{"$f":"VLOOKUP(B1310,[1]Sheet1!$A:$I,9,0)","v":"77.50"},{"$f":"VLOOKUP(B1310,[2]少数民族加分!$C$1:$E$65536,3,FALSE)","v":2},{"v":156.5,"d":"156.50"}]
[1311,"4152270701001","梁建娟","314独山县第三幼儿园","01幼儿教师",{"$f":"VLOOKUP(B1311,[1]Sheet1!$A:$I,8,0)","v":"82.50"},{"$f":"VLOOKUP(B1311,[1]Sheet1!$A:$I,9,0)","v":"72.00"},{"$f":"VLOOKUP(B1311,[2]少数民族加分!$C$1:$E$65536,3,FALSE)","v":2},{"v":156.5,"d":"156.50"}]
[1312,"4152270604425","蒙维","314独山县第三幼儿园","01幼儿教师",{"$f":"VLOOKUP(B1312,[1]Sheet1!$A:$I,8,0)","v":"75.50"},{"$f":"VLOOKUP(B1312,[1]Sheet1!$A:$I,9,0)","v":"79.00"},{"$f":"VLOOKUP(B1312,[2]少数民族加分!$C$1:$E$65536,3,FALSE)","v":2},{"v":156.5,"d":"156.50"}]
[1305,"4152270605107","李奉丹","314独山县第三幼儿园","01幼儿教师",{"$f":"VLOOKUP(B1313,[1]Sheet1!$A:$I,8,0)","v":"80.50"},{"$f":"VLOOKUP(B1313,[1]Sheet1!$A:$I,9,0)","v":"75.50"},null,{"v":156,"d":"156.00"}]
[1309,"4152270701024","喻耀红","314独山县第三幼儿园","01幼儿教师",{"$f":"VLOOKUP(B1314,[1]Sheet1!$A:$I,8,0)","v":"83.50"},{"$f":"VLOOKUP(B1314,[1]Sheet1!$A:$I,9,0)","v":"71.50"},null,{"v":155,"d":"155.00"}]
[1313,"4152270700916","郭春红","314独山县第三幼儿园","01幼儿教师",{"$f":"VLOOKUP(B1315,[1]Sheet1!$A:$I,8,0)","v":"79.50"},{"$f":"VLOOKUP(B1315,[1]Sheet1!$A:$I,9,0)","v":"72.50"},{"$f":"VLOOKUP(B1315,[2]少数民族加分!$C$1:$E$65536,3,FALSE)","v":2},{"v":154,"d":"154.00"}]
[1314,"4152270604509","王蓉","314独山县第三幼儿园","01幼儿教师",{"$f":"VLOOKUP(B1316,[1]Sheet1!$A:$I,8,0)","v":"68.50"},{"$f":"VLOOKUP(B1316,[1]Sheet1!$A:$I,9,0)","v":"83.00"},{"$f":"VLOOKUP(B1316,[2]少数民族加分!$C$1:$E$65536,3,FALSE)","v":2},{"v":153.5,"d":"153.50"}]
[1315,"4152270603601","王菲","314独山县第三幼儿园","01幼儿教师",{"$f":"VLOOKUP(B1317,[1]Sheet1!$A:$I,8,0)","v":"78.50"},{"$f":"VLOOKUP(B1317,[1]Sheet1!$A:$I,9,0)","v":"71.50"},{"$f":"VLOOKUP(B1317,[2]少数民族加分!$C$1:$E$65536,3,FALSE)","v":2},{"v":152,"d":"152.00"}]
[1316,"4152270605524","王丽娟","314独山县第三幼儿园","01幼儿教师",{"$f":"VLOOKUP(B1318,[1]Sheet1!$A:$I,8,0)","v":"72.50"},{"$f":"VLOOKUP(B1318,[1]Sheet1!$A:$I,9,0)","v":"77.00"},{"$f":"VLOOKUP(B1318,[2]少数民族加分!$C$1:$E$65536,3,FALSE)","v":2},{"v":151.5,"d":"151.50"}]
[1317,"4152270701014","王飞燕","314独山县第三幼儿园","01幼儿教师",{"$f":"VLOOKUP(B1319,[1]Sheet1!$A:$I,8,0)","v":"83.00"},{"$f":"VLOOKUP(B1319,[1]Sheet1!$A:$I,9,0)","v":"66.50"},{"$f":"VLOOKUP(B1319,[2]少数民族加分!$C$1:$E$65536,3,FALSE)","v":2},{"v":151.5,"d":"151.50"}]
[1319,"4152270603821","龙雪","314独山县第三幼儿园","01幼儿教师",{"$f":"VLOOKUP(B1320,[1]Sheet1!$A:$I,8,0)","v":"71.50"},{"$f":"VLOOKUP(B1320,[1]Sheet1!$A:$I,9,0)","v":"77.00"},{"$f":"VLOOKUP(B1320,[2]少数民族加分!$C$1:$E$65536,3,FALSE)","v":2},{"v":150.5,"d":"150.50"}]
[1320,"4152270700317","潘丽娅","314独山县第三幼儿园","01幼儿教师",{"$f":"VLOOKUP(B1321,[1]Sheet1!$A:$I,8,0)","v":"79.00"},{"$f":"VLOOKUP(B1321,[1]Sheet1!$A:$I,9,0)","v":"69.00"},{"$f":"VLOOKUP(B1321,[2]少数民族加分!$C$1:$E$65536,3,FALSE)","v":2},{"v":150,"d":"150.00"}]
[1318,"4152270603024","孙丽红","314独山县第三幼儿园","01幼儿教师",{"$f":"VLOOKUP(B1322,[1]Sheet1!$A:$I,8,0)","v":"70.00"},{"$f":"VLOOKUP(B1322,[1]Sheet1!$A:$I,9,0)","v":"79.00"},null,{"v":149,"d":"149.00"}]
[1322,"4152270603217","陈文","314独山县第三幼儿园","01幼儿教师",{"$f":"VLOOKUP(B1323,[1]Sheet1!$A:$I,8,0)","v":"83.00"},{"$f":"VLOOKUP(B1323,[1]Sheet1!$A:$I,9,0)","v":"64.00"},{"$f":"VLOOKUP(B1323,[2]少数民族加分!$C$1:$E$65536,3,FALSE)","v":2},{"v":149,"d":"149.00"}]
[1321,"4152270605516","杨秀娥","314独山县第三幼儿园","01幼儿教师",{"$f":"VLOOKUP(B1324,[1]Sheet1!$A:$I,8,0)","v":"81.00"},{"$f":"VLOOKUP(B1324,[1]Sheet1!$A:$I,9,0)","v":"66.50"},null,{"v":147.5,"d":"147.50"}]
[1323,"4152270605528","金贵英","314独山县第三幼儿园","01幼儿教师",{"$f":"VLOOKUP(B1325,[1]Sheet1!$A:$I,8,0)","v":"77.50"},{"$f":"VLOOKUP(B1325,[1]Sheet1!$A:$I,9,0)","v":"68.00"},{"$f":"VLOOKUP(B1325,[2]少数民族加分!$C$1:$E$65536,3,FALSE)","v":2},{"v":147.5,"d":"147.50"}]
[1324,"4152270605224","王丽慧","314独山县第三幼儿园","01幼儿教师",{"$f":"VLOOKUP(B1326,[1]Sheet1!$A:$I,8,0)","v":"73.00"},{"$f":"VLOOKUP(B1326,[1]Sheet1!$A:$I,9,0)","v":"71.00"},{"$f":"VLOOKUP(B1326,[2]少数民族加分!$C$1:$E$65536,3,FALSE)","v":2},{"v":146,"d":"146.00"}]
[1325,"4152270700410","金秀苹","314独山县第三幼儿园","01幼儿教师",{"$f":"VLOOKUP(B1327,[1]Sheet1!$A:$I,8,0)","v":"75.00"},{"$f":"VLOOKUP(B1327,[1]Sheet1!$A:$I,9,0)","v":"69.00"},{"$f":"VLOOKUP(B1327,[2]少数民族加分!$C$1:$E$65536,3,FALSE)","v":2},{"v":146,"d":"146.00"}]
[1326,"4152270700110","王焕颖","314独山县第三幼儿园","01幼儿教师",{"$f":"VLOOKUP(B1328,[1]Sheet1!$A:$I,8,0)","v":"77.00"},{"$f":"VLOOKUP(B1328,[1]Sheet1!$A:$I,9,0)","v":"66.50"},{"$f":"VLOOKUP(B1328,[2]少数民族加分!$C$1:$E$65536,3,FALSE)","v":2},{"v":145.5,"d":"145.50"}]
[1327,"4152270700703","邱红生","314独山县第三幼儿园","01幼儿教师",{"$f":"VLOOKUP(B1329,[1]Sheet1!$A:$I,8,0)","v":"85.50"},{"$f":"VLOOKUP(B1329,[1]Sheet1!$A:$I,9,0)","v":"57.50"},{"$f":"VLOOKUP(B1329,[2]少数民族加分!$C$1:$E$65536,3,FALSE)","v":2},{"v":145,"d":"145.00"}]
[1329,"4152270604629","常昌香","314独山县第三幼儿园","01幼儿教师",{"$f":"VLOOKUP(B1330,[1]Sheet1!$A:$I,8,0)","v":"70.00"},{"$f":"VLOOKUP(B1330,[1]Sheet1!$A:$I,9,0)","v":"73.00"},{"$f":"VLOOKUP(B1330,[2]少数民族加分!$C$1:$E$65536,3,FALSE)","v":2},{"v":145,"d":"145.00"}]
[1332,"4152270603206","石玉欢","314独山县第三幼儿园","01幼儿教师",{"$f":"VLOOKUP(B1331,[1]Sheet1!$A:$I,8,0)","v":"80.50"},{"$f":"VLOOKUP(B1331,[1]Sheet1!$A:$I,9,0)","v":"61.00"},{"$f":"VLOOKUP(B1331,[2]少数民族加分!$C$1:$E$65536,3,FALSE)","v":2},{"v":143.5,"d":"143.50"}]
[1328,"4152270603906","周泰询","314独山县第三幼儿园","01幼儿教师",{"$f":"VLOOKUP(B1332,[1]Sheet1!$A:$I,8,0)","v":"68.00"},{"$f":"VLOOKUP(B1332,[1]Sheet1!$A:$I,9,0)","v":"75.00"},null,{"v":143,"d":"143.00"}]
[1330,"4152270603701","张蕊","314独山县第三幼儿园","01幼儿教师",{"$f":"VLOOKUP(B1333,[1]Sheet1!$A:$I,8,0)","v":"63.50"},{"$f":"VLOOKUP(B1333,[1]Sheet1!$A:$I,9,0)","v":"79.00"},null,{"v":142.5,"d":"142.50"}]
[1331,"4152270604105","宋颖","314独山县第三幼儿园","01幼儿教师",{"$f":"VLOOKUP(B1334,[1]Sheet1!$A:$I,8,0)","v":"65.50"},{"$f":"VLOOKUP(B1334,[1]Sheet1!$A:$I,9,0)","v":"77.00"},null,{"v":142.5,"d":"142.50"}]
[1333,"4152270604829","罗集琼","314独山县第三幼儿园","01幼儿教师",{"$f":"VLOOKUP(B1335,[1]Sheet1!$A:$I,8,0)","v":"71.50"},{"$f":"VLOOKUP(B1335,[1]Sheet1!$A:$I,9,0)","v":"69.00"},{"$f":"VLOOKUP(B1335,[2]少数民族加分!$C$1:$E$65536,3,FALSE)","v":2},{"v":142.5,"d":"142.50"}]
[1334,"4152270700310","吴一帆","314独山县第三幼儿园","01幼儿教师",{"$f":"VLOOKUP(B1336,[1]Sheet1!$A:$I,8,0)","v":"85.50"},{"$f":"VLOOKUP(B1336,[1]Sheet1!$A:$I,9,0)","v":"54.50"},{"$f":"VLOOKUP(B1336,[2]少数民族加分!$C$1:$E$65536,3,FALSE)","v":2},{"v":142,"d":"142.00"}]
[1335,"4152270603524","刘晶晶","314独山县第三幼儿园","01幼儿教师",{"$f":"VLOOKUP(B1337,[1]Sheet1!$A:$I,8,0)","v":"77.50"},{"$f":"VLOOKUP(B1337,[1]Sheet1!$A:$I,9,0)","v":"62.00"},{"$f":"VLOOKUP(B1337,[2]少数民族加分!$C$1:$E$65536,3,FALSE)","v":2},{"v":141.5,"d":"141.50"}]
[1337,"4152270700113","韦飘","314独山县第三幼儿园","01幼儿教师",{"$f":"VLOOKUP(B1338,[1]Sheet1!$A:$I,8,0)","v":"74.00"},{"$f":"VLOOKUP(B1338,[1]Sheet1!$A:$I,9,0)","v":"65.00"},{"$f":"VLOOKUP(B1338,[2]少数民族加分!$C$1:$E$65536,3,FALSE)","v":2},{"v":141,"d":"141.00"}]
[1338,"4152270700709","田雨晴","314独山县第三幼儿园","01幼儿教师",{"$f":"VLOOKUP(B1339,[1]Sheet1!$A:$I,8,0)","v":"65.00"},{"$f":"VLOOKUP(B1339,[1]Sheet1!$A:$I,9,0)","v":"74.00"},{"$f":"VLOOKUP(B1339,[2]少数民族加分!$C$1:$E$65536,3,FALSE)","v":2},{"v":141,"d":"141.00"}]
[1340,"4152270602817","彭周玲","314独山县第三幼儿园","01幼儿教师",{"$f":"VLOOKUP(B1340,[1]Sheet1!$A:$I,8,0)","v":"77.50"},{"$f":"VLOOKUP(B1340,[1]Sheet1!$A:$I,9,0)","v":"60.50"},{"$f":"VLOOKUP(B1340,[2]少数民族加分!$C$1:$E$65536,3,FALSE)","v":2},{"v":140,"d":"140.00"}]
[1336,"4152270604025","张涛","314独山县第三幼儿园","01幼儿教师",{"$f":"VLOOKUP(B1341,[1]Sheet1!$A:$I,8,0)","v":"60.50"},{"$f":"VLOOKUP(B1341,[1]Sheet1!$A:$I,9,0)","v":"79.00"},null,{"v":139.5,"d":"139.50"}]
[1342,"4152270603824","梁丹","314独山县第三幼儿园","01幼儿教师",{"$f":"VLOOKUP(B1342,[1]Sheet1!$A:$I,8,0)","v":"75.50"},{"$f":"VLOOKUP(B1342,[1]Sheet1!$A:$I,9,0)","v":"62.00"},{"$f":"VLOOKUP(B1342,[2]少数民族加分!$C$1:$E$65536,3,FALSE)","v":2},{"v":139.5,"d":"139.50"}]
[1344,"4152270605418","龙琴","314独山县第三幼儿园","01幼儿教师",{"$f":"VLOOKUP(B1343,[1]Sheet1!$A:$I,8,0)","v":"59.00"},{"$f":"VLOOKUP(B1343,[1]Sheet1!$A:$I,9,0)","v":"78.00"},{"$f":"VLOOKUP(B1343,[2]少数民族加分!$C$1:$E$65536,3,FALSE)","v":2},{"v":139,"d":"139.00"}]
[1339,"4152270700815","姚遥","314独山县第三幼儿园","01幼儿教师",{"$f":"VLOOKUP(B1344,[1]Sheet1!$A:$I,8,0)","v":"65.00"},{"$f":"VLOOKUP(B1344,[1]Sheet1!$A:$I,9,0)","v":"73.00"},null,{"v":138,"d":"138.00"}]
[1341,"4152270603023","吴章霞","314独山县第三幼儿园","01幼儿教师",{"$f":"VLOOKUP(B1345,[1]Sheet1!$A:$I,8,0)","v":"66.00"},{"$f":"VLOOKUP(B1345,[1]Sheet1!$A:$I,9,0)","v":"72.00"},null,{"v":138,"d":"138.00"}]
[1346,"4152270603310","熊桃","314独山县第三幼儿园","01幼儿教师",{"$f":"VLOOKUP(B1346,[1]Sheet1!$A:$I,8,0)","v":"60.50"},{"$f":"VLOOKUP(B1346,[1]Sheet1!$A:$I,9,0)","v":"75.00"},{"$f":"VLOOKUP(B1346,[2]少数民族加分!$C$1:$E$65536,3,FALSE)","v":2},{"v":137.5,"d":"137.50"}]
[1343,"4152270605014","向念","314独山县第三幼儿园","01幼儿教师",{"$f":"VLOOKUP(B1347,[1]Sheet1!$A:$I,8,0)","v":"63.00"},{"$f":"VLOOKUP(B1347,[1]Sheet1!$A:$I,9,0)","v":"74.00"},null,{"v":137,"d":"137.00"}]
[1348,"4152270602920","李桂腊","314独山县第三幼儿园","01幼儿教师",{"$f":"VLOOKUP(B1348,[1]Sheet1!$A:$I,8,0)","v":"75.00"},{"$f":"VLOOKUP(B1348,[1]Sheet1!$A:$I,9,0)","v":"60.00"},{"$f":"VLOOKUP(B1348,[2]少数民族加分!$C$1:$E$65536,3,FALSE)","v":2},{"v":137,"d":"137.00"}]
[1349,"4152270700919","王永梅","314独山县第三幼儿园","01幼儿教师",{"$f":"VLOOKUP(B1349,[1]Sheet1!$A:$I,8,0)","v":"71.50"},{"$f":"VLOOKUP(B1349,[1]Sheet1!$A:$I,9,0)","v":"63.00"},{"$f":"VLOOKUP(B1349,[2]少数民族加分!$C$1:$E$65536,3,FALSE)","v":2},{"v":136.5,"d":"136.50"}]
[1345,"4152270605312","周丽莎","314独山县第三幼儿园","01幼儿教师",{"$f":"VLOOKUP(B1350,[1]Sheet1!$A:$I,8,0)","v":"75.00"},{"$f":"VLOOKUP(B1350,[1]Sheet1!$A:$I,9,0)","v":"61.00"},null,{"v":136,"d":"136.00"}]
[1347,"4152270605126","黄坚","314独山县第三幼儿园","01幼儿教师",{"$f":"VLOOKUP(B1351,[1]Sheet1!$A:$I,8,0)","v":"67.50"},{"$f":"VLOOKUP(B1351,[1]Sheet1!$A:$I,9,0)","v":"68.00"},null,{"v":135.5,"d":"135.50"}]
[1352,"4152270701028","杨林凤","314独山县第三幼儿园","01幼儿教师",{"$f":"VLOOKUP(B1352,[1]Sheet1!$A:$I,8,0)","v":"66.50"},{"$f":"VLOOKUP(B1352,[1]Sheet1!$A:$I,9,0)","v":"66.00"},{"$f":"VLOOKUP(B1352,[2]少数民族加分!$C$1:$E$65536,3,FALSE)","v":2},{"v":134.5,"d":"134.50"}]
[1350,"4152270602818","张雪","314独山县第三幼儿园","01幼儿教师",{"$f":"VLOOKUP(B1353,[1]Sheet1!$A:$I,8,0)","v":"59.00"},{"$f":"VLOOKUP(B1353,[1]Sheet1!$A:$I,9,0)","v":"75.00"},null,{"v":134,"d":"134.00"}]
[1351,"4152270603128","熊飘","314独山县第三幼儿园","01幼儿教师",{"$f":"VLOOKUP(B1354,[1]Sheet1!$A:$I,8,0)","v":"74.00"},{"$f":"VLOOKUP(B1354,[1]Sheet1!$A:$I,9,0)","v":"60.00"},null,{"v":134,"d":"134.00"}]
[1353,"4152270603616","徐茜","314独山县第三幼儿园","01幼儿教师",{"$f":"VLOOKUP(B1355,[1]Sheet1!$A:$I,8,0)","v":"69.00"},{"$f":"VLOOKUP(B1355,[1]Sheet1!$A:$I,9,0)","v":"62.00"},{"$f":"VLOOKUP(B1355,[2]少数民族加分!$C$1:$E$65536,3,FALSE)","v":2},{"v":133,"d":"133.00"}]
[1354,"4152270605116","龙秀英","314独山县第三幼儿园","01幼儿教师",{"$f":"VLOOKUP(B1356,[1]Sheet1!$A:$I,8,0)","v":"72.00"},{"$f":"VLOOKUP(B1356,[1]Sheet1!$A:$I,9,0)","v":"59.00"},{"$f":"VLOOKUP(B1356,[2]少数民族加分!$C$1:$E$65536,3,FALSE)","v":2},{"v":133,"d":"133.00"}]
[1355,"4152270605327","龙冬梅","314独山县第三幼儿园","01幼儿教师",{"$f":"VLOOKUP(B1357,[1]Sheet1!$A:$I,8,0)","v":"70.50"},{"$f":"VLOOKUP(B1357,[1]Sheet1!$A:$I,9,0)","v":"60.00"},{"$f":"VLOOKUP(B1357,[2]少数民族加分!$C$1:$E$65536,3,FALSE)","v":2},{"v":132.5,"d":"132.50"}]
[1356,"4152270701013","陈开仙","314独山县第三幼儿园","01幼儿教师",{"$f":"VLOOKUP(B1358,[1]Sheet1!$A:$I,8,0)","v":"69.50"},{"$f":"VLOOKUP(B1358,[1]Sheet1!$A:$I,9,0)","v":"61.00"},{"$f":"VLOOKUP(B1358,[2]少数民族加分!$C$1:$E$65536,3,FALSE)","v":2},{"v":132.5,"d":"132.50"}]
[1357,"4152270701109","韦国栋","314独山县第三幼儿园","01幼儿教师",{"$f":"VLOOKUP(B1359,[1]Sheet1!$A:$I,8,0)","v":"64.00"},{"$f":"VLOOKUP(B1359,[1]Sheet1!$A:$I,9,0)","v":"66.00"},{"$f":"VLOOKUP(B1359,[2]少数民族加分!$C$1:$E$65536,3,FALSE)","v":2},{"v":132,"d":"132.00"}]
[1358,"4152270603710","吴季军","314独山县第三幼儿园","01幼儿教师",{"$f":"VLOOKUP(B1360,[1]Sheet1!$A:$I,8,0)","v":"76.50"},{"$f":"VLOOKUP(B1360,[1]Sheet1!$A:$I,9,0)","v":"52.50"},{"$f":"VLOOKUP(B1360,[2]少数民族加分!$C$1:$E$65536,3,FALSE)","v":2},{"v":131,"d":"131.00"}]
[1360,"4152270604424","任丫丫","314独山县第三幼儿园","01幼儿教师",{"$f":"VLOOKUP(B1361,[1]Sheet1!$A:$I,8,0)","v":"72.50"},{"$f":"VLOOKUP(B1361,[1]Sheet1!$A:$I,9,0)","v":"56.00"},{"$f":"VLOOKUP(B1361,[2]少数民族加分!$C$1:$E$65536,3,FALSE)","v":2},{"v":130.5,"d":"130.50"}]
[1361,"4152270700912","袁锡梅","314独山县第三幼儿园","01幼儿教师",{"$f":"VLOOKUP(B1362,[1]Sheet1!$A:$I,8,0)","v":"72.50"},{"$f":"VLOOKUP(B1362,[1]Sheet1!$A:$I,9,0)","v":"56.00"},{"$f":"VLOOKUP(B1362,[2]少数民族加分!$C$1:$E$65536,3,FALSE)","v":2},{"v":130.5,"d":"130.50"}]
[1359,"4152270604001","潘丽琴","314独山县第三幼儿园","01幼儿教师",{"$f":"VLOOKUP(B1363,[1]Sheet1!$A:$I,8,0)","v":"65.00"},{"$f":"VLOOKUP(B1363,[1]Sheet1!$A:$I,9,0)","v":"64.00"},null,{"v":129,"d":"129.00"}]
[1363,"4152270700806","黄勇芬","314独山县第三幼儿园","01幼儿教师",{"$f":"VLOOKUP(B1364,[1]Sheet1!$A:$I,8,0)","v":"67.00"},{"$f":"VLOOKUP(B1364,[1]Sheet1!$A:$I,9,0)","v":"60.00"},{"$f":"VLOOKUP(B1364,[2]少数民族加分!$C$1:$E$65536,3,FALSE)","v":2},{"v":129,"d":"129.00"}]
[1362,"4152270605527","李婷婷","314独山县第三幼儿园","01幼儿教师",{"$f":"VLOOKUP(B1365,[1]Sheet1!$A:$I,8,0)","v":"62.00"},{"$f":"VLOOKUP(B1365,[1]Sheet1!$A:$I,9,0)","v":"65.00"},null,{"v":127,"d":"127.00"}]
[1366,"4152270603130","兰永红","314独山县第三幼儿园","01幼儿教师",{"$f":"VLOOKUP(B1366,[1]Sheet1!$A:$I,8,0)","v":"53.00"},{"$f":"VLOOKUP(B1366,[1]Sheet1!$A:$I,9,0)","v":"72.00"},{"$f":"VLOOKUP(B1366,[2]少数民族加分!$C$1:$E$65536,3,FALSE)","v":2},{"v":127,"d":"127.00"}]
[1364,"4152270602605","吴雪","314独山县第三幼儿园","01幼儿教师",{"$f":"VLOOKUP(B1367,[1]Sheet1!$A:$I,8,0)","v":"62.50"},{"$f":"VLOOKUP(B1367,[1]Sheet1!$A:$I,9,0)","v":"64.00"},null,{"v":126.5,"d":"126.50"}]
[1368,"4152270700721","陈彦润","314独山县第三幼儿园","01幼儿教师",{"$f":"VLOOKUP(B1368,[1]Sheet1!$A:$I,8,0)","v":"65.50"},{"$f":"VLOOKUP(B1368,[1]Sheet1!$A:$I,9,0)","v":"59.00"},{"$f":"VLOOKUP(B1368,[2]少数民族加分!$C$1:$E$65536,3,FALSE)","v":2},{"v":126.5,"d":"126.50"}]
[1365,"4152270700122","余苯源","314独山县第三幼儿园","01幼儿教师",{"$f":"VLOOKUP(B1369,[1]Sheet1!$A:$I,8,0)","v":"71.00"},{"$f":"VLOOKUP(B1369,[1]Sheet1!$A:$I,9,0)","v":"55.00"},null,{"v":126,"d":"126.00"}]
[1367,"4152270603904","唐思","314独山县第三幼儿园","01幼儿教师",{"$f":"VLOOKUP(B1370,[1]Sheet1!$A:$I,8,0)","v":"66.00"},{"$f":"VLOOKUP(B1370,[1]Sheet1!$A:$I,9,0)","v":"59.00"},null,{"v":125,"d":"125.00"}]
[1369,"4152270603313","杨汝秀","314独山县第三幼儿园","01幼儿教师",{"$f":"VLOOKUP(B1371,[1]Sheet1!$A:$I,8,0)","v":"46.00"},{"$f":"VLOOKUP(B1371,[1]Sheet1!$A:$I,9,0)","v":"74.00"},{"$f":"VLOOKUP(B1371,[2]少数民族加分!$C$1:$E$65536,3,FALSE)","v":2},{"v":122,"d":"122.00"}]
[1370,"4152270604830","石明竹","314独山县第三幼儿园","01幼儿教师",{"$f":"VLOOKUP(B1372,[1]Sheet1!$A:$I,8,0)","v":"50.50"},{"$f":"VLOOKUP(B1372,[1]Sheet1!$A:$I,9,0)","v":"69.00"},{"$f":"VLOOKUP(B1372,[2]少数民族加分!$C$1:$E$65536,3,FALSE)","v":2},{"v":121.5,"d":"121.50"}]
[1371,"4152270604926","韦运露","314独山县第三幼儿园","01幼儿教师",{"$f":"VLOOKUP(B1373,[1]Sheet1!$A:$I,8,0)","v":"59.00"},{"$f":"VLOOKUP(B1373,[1]Sheet1!$A:$I,9,0)","v":"58.00"},{"$f":"VLOOKUP(B1373,[2]少数民族加分!$C$1:$E$65536,3,FALSE)","v":2},{"v":119,"d":"119.00"}]
[1372,"4152270701221","吴梅","314独山县第三幼儿园","01幼儿教师",{"$f":"VLOOKUP(B1374,[1]Sheet1!$A:$I,8,0)","v":"67.00"},{"$f":"VLOOKUP(B1374,[1]Sheet1!$A:$I,9,0)","v":"46.00"},{"$f":"VLOOKUP(B1374,[2]少数民族加分!$C$1:$E$65536,3,FALSE)","v":2},{"v":115,"d":"115.00"}]
[1373,"4152270603613","张雪靓","314独山县第三幼儿园","01幼儿教师",{"$f":"VLOOKUP(B1375,[1]Sheet1!$A:$I,8,0)","v":"64.50"},{"$f":"VLOOKUP(B1375,[1]Sheet1!$A:$I,9,0)","v":"46.00"},{"$f":"VLOOKUP(B1375,[2]少数民族加分!$C$1:$E$65536,3,FALSE)","v":2},{"v":112.5,"d":"112.50"}]
[1374,"4152270605314","杨学英","314独山县第三幼儿园","01幼儿教师",{"$f":"VLOOKUP(B1376,[1]Sheet1!$A:$I,8,0)","v":"52.00"},{"$f":"VLOOKUP(B1376,[1]Sheet1!$A:$I,9,0)","v":"58.00"},{"$f":"VLOOKUP(B1376,[2]少数民族加分!$C$1:$E$65536,3,FALSE)","v":2},{"v":112,"d":"112.00"}]
[1375,"4152270604022","李杨","314独山县第三幼儿园","01幼儿教师",{"$f":"VLOOKUP(B1377,[1]Sheet1!$A:$I,8,0)","v":"56.00"},{"$f":"VLOOKUP(B1377,[1]Sheet1!$A:$I,9,0)","v":"53.00"},{"$f":"VLOOKUP(B1377,[2]少数民族加分!$C$1:$E$65536,3,FALSE)","v":2},{"v":111,"d":"111.00"}]
[1376,"4152270603127","郭莎","314独山县第三幼儿园","01幼儿教师",{"$f":"VLOOKUP(B1378,[1]Sheet1!$A:$I,8,0)","v":"64.50"},{"$f":"VLOOKUP(B1378,[1]Sheet1!$A:$I,9,0)","v":"44.00"},{"$f":"VLOOKUP(B1378,[2]少数民族加分!$C$1:$E$65536,3,FALSE)","v":2},{"v":110.5,"d":"110.50"}]
[1377,"4152270604123","杨宗雪","314独山县第三幼儿园","01幼儿教师",{"$f":"VLOOKUP(B1379,[1]Sheet1!$A:$I,8,0)","v":"64.00"},{"$f":"VLOOKUP(B1379,[1]Sheet1!$A:$I,9,0)","v":"44.00"},{"$f":"VLOOKUP(B1379,[2]少数民族加分!$C$1:$E$65536,3,FALSE)","v":2},{"v":110,"d":"110.00"}]
[1378,"4152270604210","周小兰","314独山县第三幼儿园","01幼儿教师",{"$f":"VLOOKUP(B1380,[1]Sheet1!$A:$I,8,0)","v":"48.00"},{"$f":"VLOOKUP(B1380,[1]Sheet1!$A:$I,9,0)","v":"59.00"},null,{"v":107,"d":"107.00"}]
[1379,"4152270602816","吴义娟","314独山县第三幼儿园","01幼儿教师",{"$f":"VLOOKUP(B1381,[1]Sheet1!$A:$I,8,0)","v":"57.00"},{"$f":"VLOOKUP(B1381,[1]Sheet1!$A:$I,9,0)","v":"47.00"},null,{"v":104,"d":"104.00"}]
[1380,"4152270604517","韦秀莎","314独山县第三幼儿园","01幼儿教师",{"$f":"VLOOKUP(B1382,[1]Sheet1!$A:$I,8,0)","v":"42.50"},{"$f":"VLOOKUP(B1382,[1]Sheet1!$A:$I,9,0)","v":"58.00"},{"$f":"VLOOKUP(B1382,[2]少数民族加分!$C$1:$E$65536,3,FALSE)","v":2},{"v":102.5,"d":"102.50"}]
[1381,"4152270602614","蒙正桃","314独山县第三幼儿园","01幼儿教师",{"$f":"VLOOKUP(B1383,[1]Sheet1!$A:$I,8,0)","v":"42.00"},{"$f":"VLOOKUP(B1383,[1]Sheet1!$A:$I,9,0)","v":"43.00"},{"$f":"VLOOKUP(B1383,[2]少数民族加分!$C$1:$E$65536,3,FALSE)","v":2},{"v":87,"d":"87.00"}]
[1382,"4152270605005","卢倩","314独山县第三幼儿园","01幼儿教师",{"$f":"VLOOKUP(B1384,[1]Sheet1!$A:$I,8,0)","v":"52.00"},{"$f":"VLOOKUP(B1384,[1]Sheet1!$A:$I,9,0)","v":"30.00"},{"$f":"VLOOKUP(B1384,[2]少数民族加分!$C$1:$E$65536,3,FALSE)","v":2},{"v":84,"d":"84.00"}]
[1383,"4152270602623","陈小英","314独山县第三幼儿园","01幼儿教师",{"$f":"VLOOKUP(B1385,[1]Sheet1!$A:$I,8,0)","v":"0.00"},{"$f":"VLOOKUP(B1385,[1]Sheet1!$A:$I,9,0)","v":"0.00"},{"$f":"VLOOKUP(B1385,[2]少数民族加分!$C$1:$E$65536,3,FALSE)","v":2},"缺考"]
[1384,"4152270602826","李婷","314独山县第三幼儿园","01幼儿教师",{"$f":"VLOOKUP(B1386,[1]Sheet1!$A:$I,8,0)","v":"0.00"},{"$f":"VLOOKUP(B1386,[1]Sheet1!$A:$I,9,0)","v":"0.00"},null,"缺考"]
[1385,"4152270602909","朱一唯","314独山县第三幼儿园","01幼儿教师",{"$f":"VLOOKUP(B1387,[1]Sheet1!$A:$I,8,0)","v":"0.00"},{"$f":"VLOOKUP(B1387,[1]Sheet1!$A:$I,9,0)","v":"0.00"},{"$f":"VLOOKUP(B1387,[2]少数民族加分!$C$1:$E$65536,3,FALSE)","v":2},"缺考"]
[1386,"4152270603107","陈茹","314独山县第三幼儿园","01幼儿教师",{"$f":"VLOOKUP(B1388,[1]Sheet1!$A:$I,8,0)","v":"0.00"},{"$f":"VLOOKUP(B1388,[1]Sheet1!$A:$I,9,0)","v":"0.00"},null,"缺考"]
[1387,"4152270603226","孔德江","314独山县第三幼儿园","01幼儿教师",{"$f":"VLOOKUP(B1389,[1]Sheet1!$A:$I,8,0)","v":"0.00"},{"$f":"VLOOKUP(B1389,[1]Sheet1!$A:$I,9,0)","v":"0.00"},null,"缺考"]
[1388,"4152270603602","梁美忠","314独山县第三幼儿园","01幼儿教师",{"$f":"VLOOKUP(B1390,[1]Sheet1!$A:$I,8,0)","v":"0.00"},{"$f":"VLOOKUP(B1390,[1]Sheet1!$A:$I,9,0)","v":"0.00"},{"$f":"VLOOKUP(B1390,[2]少数民族加分!$C$1:$E$65536,3,FALSE)","v":2},"缺考"]
[1389,"4152270603626","吴金香","314独山县第三幼儿园","01幼儿教师",{"$f":"VLOOKUP(B1391,[1]Sheet1!$A:$I,8,0)","v":"0.00"},{"$f":"VLOOKUP(B1391,[1]Sheet1!$A:$I,9,0)","v":"0.00"},{"$f":"VLOOKUP(B1391,[2]少数民族加分!$C$1:$E$65536,3,FALSE)","v":2},"缺考"]
[1390,"4152270604006","余星晨","314独山县第三幼儿园","01幼儿教师",{"$f":"VLOOKUP(B1392,[1]Sheet1!$A:$I,8,0)","v":"0.00"},{"$f":"VLOOKUP(B1392,[1]Sheet1!$A:$I,9,0)","v":"0.00"},{"$f":"VLOOKUP(B1392,[2]少数民族加分!$C$1:$E$65536,3,FALSE)","v":2},"缺考"]
[1391,"4152270604315","何睿","314独山县第三幼儿园","01幼儿教师",{"$f":"VLOOKUP(B1393,[1]Sheet1!$A:$I,8,0)","v":"0.00"},{"$f":"VLOOKUP(B1393,[1]Sheet1!$A:$I,9,0)","v":"0.00"},{"$f":"VLOOKUP(B1393,[2]少数民族加分!$C$1:$E$65536,3,FALSE)","v":2},"缺考"]
[1392,"4152270604708","向小芳","314独山县第三幼儿园","01幼儿教师",{"$f":"VLOOKUP(B1394,[1]Sheet1!$A:$I,8,0)","v":"0.00"},{"$f":"VLOOKUP(B1394,[1]Sheet1!$A:$I,9,0)","v":"0.00"},{"$f":"VLOOKUP(B1394,[2]少数民族加分!$C$1:$E$65536,3,FALSE)","v":2},"缺考"]
[1393,"4152270604812","胥冬梅","314独山县第三幼儿园","01幼儿教师",{"$f":"VLOOKUP(B1395,[1]Sheet1!$A:$I,8,0)","v":"0.00"},{"$f":"VLOOKUP(B1395,[1]Sheet1!$A:$I,9,0)","v":"0.00"},null,"缺考"]
[1394,"4152270604912","杨柳桃","314独山县第三幼儿园","01幼儿教师",{"$f":"VLOOKUP(B1396,[1]Sheet1!$A:$I,8,0)","v":"0.00"},{"$f":"VLOOKUP(B1396,[1]Sheet1!$A:$I,9,0)","v":"0.00"},{"$f":"VLOOKUP(B1396,[2]少数民族加分!$C$1:$E$65536,3,FALSE)","v":2},"缺考"]
[1395,"4152270605208","简维","314独山县第三幼儿园","01幼儿教师",{"$f":"VLOOKUP(B1397,[1]Sheet1!$A:$I,8,0)","v":"0.00"},{"$f":"VLOOKUP(B1397,[1]Sheet1!$A:$I,9,0)","v":"0.00"},null,"缺考"]
[1396,"4152270605621","张玲莉","314独山县第三幼儿园","01幼儿教师",{"$f":"VLOOKUP(B1398,[1]Sheet1!$A:$I,8,0)","v":"0.00"},{"$f":"VLOOKUP(B1398,[1]Sheet1!$A:$I,9,0)","v":"0.00"},{"$f":"VLOOKUP(B1398,[2]少数民族加分!$C$1:$E$65536,3,FALSE)","v":2},"缺考"]
[1397,"4152270700522","罗华","314独山县第三幼儿园","01幼儿教师",{"$f":"VLOOKUP(B1399,[1]Sheet1!$A:$I,8,0)","v":"0.00"},{"$f":"VLOOKUP(B1399,[1]Sheet1!$A:$I,9,0)","v":"0.00"},{"$f":"VLOOKUP(B1399,[2]少数民族加分!$C$1:$E$65536,3,FALSE)","v":2},"缺考"]
[1398,"4152270700524","杨桦","314独山县第三幼儿园","01幼儿教师",{"$f":"VLOOKUP(B1400,[1]Sheet1!$A:$I,8,0)","v":"0.00"},{"$f":"VLOOKUP(B1400,[1]Sheet1!$A:$I,9,0)","v":"0.00"},{"$f":"VLOOKUP(B1400,[2]少数民族加分!$C$1:$E$65536,3,FALSE)","v":2},"缺考"]
[1399,"4152270700527","王春英","314独山县第三幼儿园","01幼儿教师",{"$f":"VLOOKUP(B1401,[1]Sheet1!$A:$I,8,0)","v":"0.00"},{"$f":"VLOOKUP(B1401,[1]Sheet1!$A:$I,9,0)","v":"0.00"},{"$f":"VLOOKUP(B1401,[2]少数民族加分!$C$1:$E$65536,3,FALSE)","v":2},"缺考"]
[1400,"4152270700610","龙冬萍","314独山县第三幼儿园","01幼儿教师",{"$f":"VLOOKUP(B1402,[1]Sheet1!$A:$I,8,0)","v":"0.00"},{"$f":"VLOOKUP(B1402,[1]Sheet1!$A:$I,9,0)","v":"0.00"},{"$f":"VLOOKUP(B1402,[2]少数民族加分!$C$1:$E$65536,3,FALSE)","v":2},"缺考"]
[1401,"4152270700910","罗宏梅","314独山县第三幼儿园","01幼儿教师",{"$f":"VLOOKUP(B1403,[1]Sheet1!$A:$I,8,0)","v":"0.00"},{"$f":"VLOOKUP(B1403,[1]Sheet1!$A:$I,9,0)","v":"0.00"},{"$f":"VLOOKUP(B1403,[2]少数民族加分!$C$1:$E$65536,3,FALSE)","v":2},"缺考"]
[1402,"4152270602717","李雪莲","315独山县第四幼儿园","01幼儿教师",{"$f":"VLOOKUP(B1404,[1]Sheet1!$A:$I,8,0)","v":"91.00"},{"$f":"VLOOKUP(B1404,[1]Sheet1!$A:$I,9,0)","v":"86.00"},{"$f":"VLOOKUP(B1404,[2]少数民族加分!$C$1:$E$65536,3,FALSE)","v":2},{"v":179,"d":"179.00"}]
[1403,"4152270700607","谭开欢","315独山县第四幼儿园","01幼儿教师",{"$f":"VLOOKUP(B1405,[1]Sheet1!$A:$I,8,0)","v":"93.00"},{"$f":"VLOOKUP(B1405,[1]Sheet1!$A:$I,9,0)","v":"83.50"},{"$f":"VLOOKUP(B1405,[2]少数民族加分!$C$1:$E$65536,3,FALSE)","v":2},{"v":178.5,"d":"178.50"}]
[1404,"4152270700327","杨凤琼","315独山县第四幼儿园","01幼儿教师",{"$f":"VLOOKUP(B1406,[1]Sheet1!$A:$I,8,0)","v":"101.50"},{"$f":"VLOOKUP(B1406,[1]Sheet1!$A:$I,9,0)","v":"74.00"},{"$f":"VLOOKUP(B1406,[2]少数民族加分!$C$1:$E$65536,3,FALSE)","v":2},{"v":177.5,"d":"177.50"}]
[1405,"4152270602921","杨梅","315独山县第四幼儿园","01幼儿教师",{"$f":"VLOOKUP(B1407,[1]Sheet1!$A:$I,8,0)","v":"78.50"},{"$f":"VLOOKUP(B1407,[1]Sheet1!$A:$I,9,0)","v":"93.00"},null,{"v":171.5,"d":"171.50"}]
[1406,"4152270700617","刘慧","315独山县第四幼儿园","01幼儿教师",{"$f":"VLOOKUP(B1408,[1]Sheet1!$A:$I,8,0)","v":"93.00"},{"$f":"VLOOKUP(B1408,[1]Sheet1!$A:$I,9,0)","v":"71.00"},{"$f":"VLOOKUP(B1408,[2]少数民族加分!$C$1:$E$65536,3,FALSE)","v":2},{"v":166,"d":"166.00"}]
[1409,"4152270701107","王晓换","315独山县第四幼儿园","01幼儿教师",{"$f":"VLOOKUP(B1409,[1]Sheet1!$A:$I,8,0)","v":"78.00"},{"$f":"VLOOKUP(B1409,[1]Sheet1!$A:$I,9,0)","v":"85.00"},{"$f":"VLOOKUP(B1409,[2]少数民族加分!$C$1:$E$65536,3,FALSE)","v":2},{"v":165,"d":"165.00"}]
[1407,"4152270603408","郑呈堯","315独山县第四幼儿园","01幼儿教师",{"$f":"VLOOKUP(B1410,[1]Sheet1!$A:$I,8,0)","v":"81.00"},{"$f":"VLOOKUP(B1410,[1]Sheet1!$A:$I,9,0)","v":"82.50"},null,{"v":163.5,"d":"163.50"}]
[1408,"4152270604623","冯元芳","315独山县第四幼儿园","01幼儿教师",{"$f":"VLOOKUP(B1411,[1]Sheet1!$A:$I,8,0)","v":"82.00"},{"$f":"VLOOKUP(B1411,[1]Sheet1!$A:$I,9,0)","v":"81.00"},null,{"v":163,"d":"163.00"}]
[1410,"4152270700626","穆鑫","315独山县第四幼儿园","01幼儿教师",{"$f":"VLOOKUP(B1412,[1]Sheet1!$A:$I,8,0)","v":"71.00"},{"$f":"VLOOKUP(B1412,[1]Sheet1!$A:$I,9,0)","v":"91.00"},null,{"v":162,"d":"162.00"}]
[1411,"4152270605506","吴晓波","315独山县第四幼儿园","01幼儿教师",{"$f":"VLOOKUP(B1413,[1]Sheet1!$A:$I,8,0)","v":"82.50"},{"$f":"VLOOKUP(B1413,[1]Sheet1!$A:$I,9,0)","v":"77.50"},{"$f":"VLOOKUP(B1413,[2]少数民族加分!$C$1:$E$65536,3,FALSE)","v":2},{"v":162,"d":"162.00"}]
[1413,"4152270604301","杨芝江","315独山县第四幼儿园","01幼儿教师",{"$f":"VLOOKUP(B1414,[1]Sheet1!$A:$I,8,0)","v":"87.00"},{"$f":"VLOOKUP(B1414,[1]Sheet1!$A:$I,9,0)","v":"70.50"},{"$f":"VLOOKUP(B1414,[2]少数民族加分!$C$1:$E$65536,3,FALSE)","v":2},{"v":159.5,"d":"159.50"}]
[1412,"4152270603420","黎焕英","315独山县第四幼儿园","01幼儿教师",{"$f":"VLOOKUP(B1415,[1]Sheet1!$A:$I,8,0)","v":"90.00"},{"$f":"VLOOKUP(B1415,[1]Sheet1!$A:$I,9,0)","v":"69.00"},null,{"v":159,"d":"159.00"}]
[1414,"4152270603320","毛华琳","315独山县第四幼儿园","01幼儿教师",{"$f":"VLOOKUP(B1416,[1]Sheet1!$A:$I,8,0)","v":"75.50"},{"$f":"VLOOKUP(B1416,[1]Sheet1!$A:$I,9,0)","v":"81.50"},{"$f":"VLOOKUP(B1416,[2]少数民族加分!$C$1:$E$65536,3,FALSE)","v":2},{"v":159,"d":"159.00"}]
[1416,"4152270700729","王科慧","315独山县第四幼儿园","01幼儿教师",{"$f":"VLOOKUP(B1417,[1]Sheet1!$A:$I,8,0)","v":"83.50"},{"$f":"VLOOKUP(B1417,[1]Sheet1!$A:$I,9,0)","v":"73.00"},{"$f":"VLOOKUP(B1417,[2]少数民族加分!$C$1:$E$65536,3,FALSE)","v":2},{"v":158.5,"d":"158.50"}]
[1415,"4152270604328","王雁","315独山县第四幼儿园","01幼儿教师",{"$f":"VLOOKUP(B1418,[1]Sheet1!$A:$I,8,0)","v":"72.50"},{"$f":"VLOOKUP(B1418,[1]Sheet1!$A:$I,9,0)","v":"84.50"},null,{"v":157,"d":"157.00"}]
[1418,"4152270604319","潘海追","315独山县第四幼儿园","01幼儿教师",{"$f":"VLOOKUP(B1419,[1]Sheet1!$A:$I,8,0)","v":"77.00"},{"$f":"VLOOKUP(B1419,[1]Sheet1!$A:$I,9,0)","v":"78.00"},{"$f":"VLOOKUP(B1419,[2]少数民族加分!$C$1:$E$65536,3,FALSE)","v":2},{"v":157,"d":"157.00"}]
[1419,"4152270605313","李梅","315独山县第四幼儿园","01幼儿教师",{"$f":"VLOOKUP(B1420,[1]Sheet1!$A:$I,8,0)","v":"90.50"},{"$f":"VLOOKUP(B1420,[1]Sheet1!$A:$I,9,0)","v":"64.00"},{"$f":"VLOOKUP(B1420,[2]少数民族加分!$C$1:$E$65536,3,FALSE)","v":2},{"v":156.5,"d":"156.50"}]
[1421,"4152270700804","陶忠鸿","315独山县第四幼儿园","01幼儿教师",{"$f":"VLOOKUP(B1421,[1]Sheet1!$A:$I,8,0)","v":"74.00"},{"$f":"VLOOKUP(B1421,[1]Sheet1!$A:$I,9,0)","v":"80.00"},{"$f":"VLOOKUP(B1421,[2]少数民族加分!$C$1:$E$65536,3,FALSE)","v":2},{"v":156,"d":"156.00"}]
[1417,"4152270605507","刘明琰","315独山县第四幼儿园","01幼儿教师",{"$f":"VLOOKUP(B1422,[1]Sheet1!$A:$I,8,0)","v":"78.50"},{"$f":"VLOOKUP(B1422,[1]Sheet1!$A:$I,9,0)","v":"76.50"},null,{"v":155,"d":"155.00"}]
[1423,"4152270602903","毛银莹","315独山县第四幼儿园","01幼儿教师",{"$f":"VLOOKUP(B1423,[1]Sheet1!$A:$I,8,0)","v":"70.00"},{"$f":"VLOOKUP(B1423,[1]Sheet1!$A:$I,9,0)","v":"83.00"},{"$f":"VLOOKUP(B1423,[2]少数民族加分!$C$1:$E$65536,3,FALSE)","v":2},{"v":155,"d":"155.00"}]
[1420,"4152270700926","邬能云","315独山县第四幼儿园","01幼儿教师",{"$f":"VLOOKUP(B1424,[1]Sheet1!$A:$I,8,0)","v":"74.50"},{"$f":"VLOOKUP(B1424,[1]Sheet1!$A:$I,9,0)","v":"80.00"},null,{"v":154.5,"d":"154.50"}]
[1425,"4152270603830","罗加欢","315独山县第四幼儿园","01幼儿教师",{"$f":"VLOOKUP(B1425,[1]Sheet1!$A:$I,8,0)","v":"81.00"},{"$f":"VLOOKUP(B1425,[1]Sheet1!$A:$I,9,0)","v":"71.00"},{"$f":"VLOOKUP(B1425,[2]少数民族加分!$C$1:$E$65536,3,FALSE)","v":2},{"v":154,"d":"154.00"}]
[1426,"4152270605015","覃会省","315独山县第四幼儿园","01幼儿教师",{"$f":"VLOOKUP(B1426,[1]Sheet1!$A:$I,8,0)","v":"78.50"},{"$f":"VLOOKUP(B1426,[1]Sheet1!$A:$I,9,0)","v":"73.50"},{"$f":"VLOOKUP(B1426,[2]少数民族加分!$C$1:$E$65536,3,FALSE)","v":2},{"v":154,"d":"154.00"}]
[1422,"4152270605213","周林","315独山县第四幼儿园","01幼儿教师",{"$f":"VLOOKUP(B1427,[1]Sheet1!$A:$I,8,0)","v":"80.00"},{"$f":"VLOOKUP(B1427,[1]Sheet1!$A:$I,9,0)","v":"73.50"},null,{"v":153.5,"d":"153.50"}]
[1427,"4152270603501","杨秀朵","315独山县第四幼儿园","01幼儿教师",{"$f":"VLOOKUP(B1428,[1]Sheet1!$A:$I,8,0)","v":"76.00"},{"$f":"VLOOKUP(B1428,[1]Sheet1!$A:$I,9,0)","v":"75.50"},{"$f":"VLOOKUP(B1428,[2]少数民族加分!$C$1:$E$65536,3,FALSE)","v":2},{"v":153.5,"d":"153.50"}]
[1428,"4152270603605","韦丽娜","315独山县第四幼儿园","01幼儿教师",{"$f":"VLOOKUP(B1429,[1]Sheet1!$A:$I,8,0)","v":"83.00"},{"$f":"VLOOKUP(B1429,[1]Sheet1!$A:$I,9,0)","v":"68.00"},{"$f":"VLOOKUP(B1429,[2]少数民族加分!$C$1:$E$65536,3,FALSE)","v":2},{"v":153,"d":"153.00"}]
[1424,"4152270605424","刘芳芳","315独山县第四幼儿园","01幼儿教师",{"$f":"VLOOKUP(B1430,[1]Sheet1!$A:$I,8,0)","v":"78.00"},{"$f":"VLOOKUP(B1430,[1]Sheet1!$A:$I,9,0)","v":"74.50"},null,{"v":152.5,"d":"152.50"}]
[1429,"4152270603518","张春芳","315独山县第四幼儿园","01幼儿教师",{"$f":"VLOOKUP(B1431,[1]Sheet1!$A:$I,8,0)","v":"78.00"},{"$f":"VLOOKUP(B1431,[1]Sheet1!$A:$I,9,0)","v":"72.50"},{"$f":"VLOOKUP(B1431,[2]少数民族加分!$C$1:$E$65536,3,FALSE)","v":2},{"v":152.5,"d":"152.50"}]
[1432,"4152270700722","袁宇双","315独山县第四幼儿园","01幼儿教师",{"$f":"VLOOKUP(B1432,[1]Sheet1!$A:$I,8,0)","v":"83.00"},{"$f":"VLOOKUP(B1432,[1]Sheet1!$A:$I,9,0)","v":"67.00"},{"$f":"VLOOKUP(B1432,[2]少数民族加分!$C$1:$E$65536,3,FALSE)","v":2},{"v":152,"d":"152.00"}]
[1430,"4152270701104","刘祖碧","315独山县第四幼儿园","01幼儿教师",{"$f":"VLOOKUP(B1433,[1]Sheet1!$A:$I,8,0)","v":"77.00"},{"$f":"VLOOKUP(B1433,[1]Sheet1!$A:$I,9,0)","v":"73.50"},null,{"v":150.5,"d":"150.50"}]
[1431,"4152270700316","但忠美","315独山县第四幼儿园","01幼儿教师",{"$f":"VLOOKUP(B1434,[1]Sheet1!$A:$I,8,0)","v":"73.50"},{"$f":"VLOOKUP(B1434,[1]Sheet1!$A:$I,9,0)","v":"76.50"},null,{"v":150,"d":"150.00"}]
[1433,"4152270602822","岑沂青","315独山县第四幼儿园","01幼儿教师",{"$f":"VLOOKUP(B1435,[1]Sheet1!$A:$I,8,0)","v":"81.50"},{"$f":"VLOOKUP(B1435,[1]Sheet1!$A:$I,9,0)","v":"66.50"},{"$f":"VLOOKUP(B1435,[2]少数民族加分!$C$1:$E$65536,3,FALSE)","v":2},{"v":150,"d":"150.00"}]
[1434,"4152270602729","文廷耀","315独山县第四幼儿园","01幼儿教师",{"$f":"VLOOKUP(B1436,[1]Sheet1!$A:$I,8,0)","v":"80.50"},{"$f":"VLOOKUP(B1436,[1]Sheet1!$A:$I,9,0)","v":"66.50"},{"$f":"VLOOKUP(B1436,[2]少数民族加分!$C$1:$E$65536,3,FALSE)","v":2},{"v":149,"d":"149.00"}]
[1436,"4152270603110","王治凤","315独山县第四幼儿园","01幼儿教师",{"$f":"VLOOKUP(B1437,[1]Sheet1!$A:$I,8,0)","v":"61.00"},{"$f":"VLOOKUP(B1437,[1]Sheet1!$A:$I,9,0)","v":"86.00"},{"$f":"VLOOKUP(B1437,[2]少数民族加分!$C$1:$E$65536,3,FALSE)","v":2},{"v":149,"d":"149.00"}]
[1437,"4152270603612","王家燕","315独山县第四幼儿园","01幼儿教师",{"$f":"VLOOKUP(B1438,[1]Sheet1!$A:$I,8,0)","v":"72.50"},{"$f":"VLOOKUP(B1438,[1]Sheet1!$A:$I,9,0)","v":"74.50"},{"$f":"VLOOKUP(B1438,[2]少数民族加分!$C$1:$E$65536,3,FALSE)","v":2},{"v":149,"d":"149.00"}]
[1438,"4152270605503","李武俊","315独山县第四幼儿园","01幼儿教师",{"$f":"VLOOKUP(B1439,[1]Sheet1!$A:$I,8,0)","v":"73.50"},{"$f":"VLOOKUP(B1439,[1]Sheet1!$A:$I,9,0)","v":"73.50"},{"$f":"VLOOKUP(B1439,[2]少数民族加分!$C$1:$E$65536,3,FALSE)","v":2},{"v":149,"d":"149.00"}]
[1440,"4152270701111","潘小放","315独山县第四幼儿园","01幼儿教师",{"$f":"VLOOKUP(B1440,[1]Sheet1!$A:$I,8,0)","v":"76.00"},{"$f":"VLOOKUP(B1440,[1]Sheet1!$A:$I,9,0)","v":"70.50"},{"$f":"VLOOKUP(B1440,[2]少数民族加分!$C$1:$E$65536,3,FALSE)","v":2},{"v":148.5,"d":"148.50"}]
[1435,"4152270602905","周萍","315独山县第四幼儿园","01幼儿教师",{"$f":"VLOOKUP(B1441,[1]Sheet1!$A:$I,8,0)","v":"81.00"},{"$f":"VLOOKUP(B1441,[1]Sheet1!$A:$I,9,0)","v":"66.00"},null,{"v":147,"d":"147.00"}]
[1439,"4152270605508","陈群","315独山县第四幼儿园","01幼儿教师",{"$f":"VLOOKUP(B1442,[1]Sheet1!$A:$I,8,0)","v":"78.50"},{"$f":"VLOOKUP(B1442,[1]Sheet1!$A:$I,9,0)","v":"68.00"},null,{"v":146.5,"d":"146.50"}]
[1441,"4152270605124","吴云","315独山县第四幼儿园","01幼儿教师",{"$f":"VLOOKUP(B1443,[1]Sheet1!$A:$I,8,0)","v":"73.50"},{"$f":"VLOOKUP(B1443,[1]Sheet1!$A:$I,9,0)","v":"73.00"},null,{"v":146.5,"d":"146.50"}]
[1442,"4152270603404","何桂华","315独山县第四幼儿园","01幼儿教师",{"$f":"VLOOKUP(B1444,[1]Sheet1!$A:$I,8,0)","v":"72.50"},{"$f":"VLOOKUP(B1444,[1]Sheet1!$A:$I,9,0)","v":"73.50"},null,{"v":146,"d":"146.00"}]
[1443,"4152270700516","杨明月","315独山县第四幼儿园","01幼儿教师",{"$f":"VLOOKUP(B1445,[1]Sheet1!$A:$I,8,0)","v":"76.00"},{"$f":"VLOOKUP(B1445,[1]Sheet1!$A:$I,9,0)","v":"68.00"},{"$f":"VLOOKUP(B1445,[2]少数民族加分!$C$1:$E$65536,3,FALSE)","v":2},{"v":146,"d":"146.00"}]
[1444,"4152270605316","吴春晓","315独山县第四幼儿园","01幼儿教师",{"$f":"VLOOKUP(B1446,[1]Sheet1!$A:$I,8,0)","v":"69.50"},{"$f":"VLOOKUP(B1446,[1]Sheet1!$A:$I,9,0)","v":"74.00"},{"$f":"VLOOKUP(B1446,[2]少数民族加分!$C$1:$E$65536,3,FALSE)","v":2},{"v":145.5,"d":"145.50"}]
[1445,"4152270605402","周承丽","315独山县第四幼儿园","01幼儿教师",{"$f":"VLOOKUP(B1447,[1]Sheet1!$A:$I,8,0)","v":"66.50"},{"$f":"VLOOKUP(B1447,[1]Sheet1!$A:$I,9,0)","v":"77.00"},{"$f":"VLOOKUP(B1447,[2]少数民族加分!$C$1:$E$65536,3,FALSE)","v":2},{"v":145.5,"d":"145.50"}]
[1447,"4152270603727","莫让莎","315独山县第四幼儿园","01幼儿教师",{"$f":"VLOOKUP(B1448,[1]Sheet1!$A:$I,8,0)","v":"73.00"},{"$f":"VLOOKUP(B1448,[1]Sheet1!$A:$I,9,0)","v":"70.00"},{"$f":"VLOOKUP(B1448,[2]少数民族加分!$C$1:$E$65536,3,FALSE)","v":2},{"v":145,"d":"145.00"}]
[1448,"4152270604212","王倩","315独山县第四幼儿园","01幼儿教师",{"$f":"VLOOKUP(B1449,[1]Sheet1!$A:$I,8,0)","v":"85.00"},{"$f":"VLOOKUP(B1449,[1]Sheet1!$A:$I,9,0)","v":"57.00"},{"$f":"VLOOKUP(B1449,[2]少数民族加分!$C$1:$E$65536,3,FALSE)","v":2},{"v":144,"d":"144.00"}]
[1446,"4152270603717","李雪妃","315独山县第四幼儿园","01幼儿教师",{"$f":"VLOOKUP(B1450,[1]Sheet1!$A:$I,8,0)","v":"73.00"},{"$f":"VLOOKUP(B1450,[1]Sheet1!$A:$I,9,0)","v":"70.00"},null,{"v":143,"d":"143.00"}]
[1450,"4152270603519","赵成微","315独山县第四幼儿园","01幼儿教师",{"$f":"VLOOKUP(B1451,[1]Sheet1!$A:$I,8,0)","v":"76.00"},{"$f":"VLOOKUP(B1451,[1]Sheet1!$A:$I,9,0)","v":"65.00"},{"$f":"VLOOKUP(B1451,[2]少数民族加分!$C$1:$E$65536,3,FALSE)","v":2},{"v":143,"d":"143.00"}]
[1452,"4152270603118","杨兴美","315独山县第四幼儿园","01幼儿教师",{"$f":"VLOOKUP(B1452,[1]Sheet1!$A:$I,8,0)","v":"78.00"},{"$f":"VLOOKUP(B1452,[1]Sheet1!$A:$I,9,0)","v":"62.50"},{"$f":"VLOOKUP(B1452,[2]少数民族加分!$C$1:$E$65536,3,FALSE)","v":2},{"v":142.5,"d":"142.50"}]
[1453,"4152270603817","罗育焕","315独山县第四幼儿园","01幼儿教师",{"$f":"VLOOKUP(B1453,[1]Sheet1!$A:$I,8,0)","v":"73.50"},{"$f":"VLOOKUP(B1453,[1]Sheet1!$A:$I,9,0)","v":"67.00"},{"$f":"VLOOKUP(B1453,[2]少数民族加分!$C$1:$E$65536,3,FALSE)","v":2},{"v":142.5,"d":"142.50"}]
[1454,"4152270602922","陆玲","315独山县第四幼儿园","01幼儿教师",{"$f":"VLOOKUP(B1454,[1]Sheet1!$A:$I,8,0)","v":"65.50"},{"$f":"VLOOKUP(B1454,[1]Sheet1!$A:$I,9,0)","v":"74.50"},{"$f":"VLOOKUP(B1454,[2]少数民族加分!$C$1:$E$65536,3,FALSE)","v":2},{"v":142,"d":"142.00"}]
[1455,"4152270603722","韦廷倩","315独山县第四幼儿园","01幼儿教师",{"$f":"VLOOKUP(B1455,[1]Sheet1!$A:$I,8,0)","v":"79.50"},{"$f":"VLOOKUP(B1455,[1]Sheet1!$A:$I,9,0)","v":"60.50"},{"$f":"VLOOKUP(B1455,[2]少数民族加分!$C$1:$E$65536,3,FALSE)","v":2},{"v":142,"d":"142.00"}]
[1449,"4152270700820","杨继磊","315独山县第四幼儿园","01幼儿教师",{"$f":"VLOOKUP(B1456,[1]Sheet1!$A:$I,8,0)","v":"68.00"},{"$f":"VLOOKUP(B1456,[1]Sheet1!$A:$I,9,0)","v":"73.50"},null,{"v":141.5,"d":"141.50"}]
[1457,"4152270701108","陈燕","315独山县第四幼儿园","01幼儿教师",{"$f":"VLOOKUP(B1457,[1]Sheet1!$A:$I,8,0)","v":"78.50"},{"$f":"VLOOKUP(B1457,[1]Sheet1!$A:$I,9,0)","v":"61.00"},{"$f":"VLOOKUP(B1457,[2]少数民族加分!$C$1:$E$65536,3,FALSE)","v":2},{"v":141.5,"d":"141.50"}]
[1458,"4152270605223","张世仙","315独山县第四幼儿园","01幼儿教师",{"$f":"VLOOKUP(B1458,[1]Sheet1!$A:$I,8,0)","v":"82.00"},{"$f":"VLOOKUP(B1458,[1]Sheet1!$A:$I,9,0)","v":"57.00"},{"$f":"VLOOKUP(B1458,[2]少数民族加分!$C$1:$E$65536,3,FALSE)","v":2},{"v":141,"d":"141.00"}]
[1451,"4152270602625","徐璐","315独山县第四幼儿园","01幼儿教师",{"$f":"VLOOKUP(B1459,[1]Sheet1!$A:$I,8,0)","v":"76.50"},{"$f":"VLOOKUP(B1459,[1]Sheet1!$A:$I,9,0)","v":"64.00"},null,{"v":140.5,"d":"140.50"}]
[1460,"4152270700318","杨永涛","315独山县第四幼儿园","01幼儿教师",{"$f":"VLOOKUP(B1460,[1]Sheet1!$A:$I,8,0)","v":"65.50"},{"$f":"VLOOKUP(B1460,[1]Sheet1!$A:$I,9,0)","v":"73.00"},{"$f":"VLOOKUP(B1460,[2]少数民族加分!$C$1:$E$65536,3,FALSE)","v":2},{"v":140.5,"d":"140.50"}]
[1461,"4152270700501","张宽慧","315独山县第四幼儿园","01幼儿教师",{"$f":"VLOOKUP(B1461,[1]Sheet1!$A:$I,8,0)","v":"70.00"},{"$f":"VLOOKUP(B1461,[1]Sheet1!$A:$I,9,0)","v":"68.50"},{"$f":"VLOOKUP(B1461,[2]少数民族加分!$C$1:$E$65536,3,FALSE)","v":2},{"v":140.5,"d":"140.50"}]
[1463,"4152270604017","杨仁权","315独山县第四幼儿园","01幼儿教师",{"$f":"VLOOKUP(B1462,[1]Sheet1!$A:$I,8,0)","v":"61.50"},{"$f":"VLOOKUP(B1462,[1]Sheet1!$A:$I,9,0)","v":"77.00"},{"$f":"VLOOKUP(B1462,[2]少数民族加分!$C$1:$E$65536,3,FALSE)","v":2},{"v":140.5,"d":"140.50"}]
[1456,"4152270604421","汪乐","315独山县第四幼儿园","01幼儿教师",{"$f":"VLOOKUP(B1463,[1]Sheet1!$A:$I,8,0)","v":"69.00"},{"$f":"VLOOKUP(B1463,[1]Sheet1!$A:$I,9,0)","v":"70.50"},null,{"v":139.5,"d":"139.50"}]
[1465,"4152270602917","吴新雲","315独山县第四幼儿园","01幼儿教师",{"$f":"VLOOKUP(B1464,[1]Sheet1!$A:$I,8,0)","v":"76.00"},{"$f":"VLOOKUP(B1464,[1]Sheet1!$A:$I,9,0)","v":"61.50"},{"$f":"VLOOKUP(B1464,[2]少数民族加分!$C$1:$E$65536,3,FALSE)","v":2},{"v":139.5,"d":"139.50"}]
[1466,"4152270603223","陈红美","315独山县第四幼儿园","01幼儿教师",{"$f":"VLOOKUP(B1465,[1]Sheet1!$A:$I,8,0)","v":"73.00"},{"$f":"VLOOKUP(B1465,[1]Sheet1!$A:$I,9,0)","v":"64.50"},{"$f":"VLOOKUP(B1465,[2]少数民族加分!$C$1:$E$65536,3,FALSE)","v":2},{"v":139.5,"d":"139.50"}]
[1467,"4152270700106","刘欢","315独山县第四幼儿园","01幼儿教师",{"$f":"VLOOKUP(B1466,[1]Sheet1!$A:$I,8,0)","v":"74.00"},{"$f":"VLOOKUP(B1466,[1]Sheet1!$A:$I,9,0)","v":"63.50"},{"$f":"VLOOKUP(B1466,[2]少数民族加分!$C$1:$E$65536,3,FALSE)","v":2},{"v":139.5,"d":"139.50"}]
[1459,"4152270700401","周雨芳","315独山县第四幼儿园","01幼儿教师",{"$f":"VLOOKUP(B1467,[1]Sheet1!$A:$I,8,0)","v":"71.00"},{"$f":"VLOOKUP(B1467,[1]Sheet1!$A:$I,9,0)","v":"68.00"},null,{"v":139,"d":"139.00"}]
[1468,"4152270602708","潘影撇","315独山县第四幼儿园","01幼儿教师",{"$f":"VLOOKUP(B1468,[1]Sheet1!$A:$I,8,0)","v":"73.00"},{"$f":"VLOOKUP(B1468,[1]Sheet1!$A:$I,9,0)","v":"64.00"},{"$f":"VLOOKUP(B1468,[2]少数民族加分!$C$1:$E$65536,3,FALSE)","v":2},{"v":139,"d":"139.00"}]
[1462,"4152270701102","黄满琼","315独山县第四幼儿园","01幼儿教师",{"$f":"VLOOKUP(B1469,[1]Sheet1!$A:$I,8,0)","v":"66.00"},{"$f":"VLOOKUP(B1469,[1]Sheet1!$A:$I,9,0)","v":"72.50"},null,{"v":138.5,"d":"138.50"}]
[1470,"4152270604324","胡吉慧","315独山县第四幼儿园","01幼儿教师",{"$f":"VLOOKUP(B1470,[1]Sheet1!$A:$I,8,0)","v":"72.00"},{"$f":"VLOOKUP(B1470,[1]Sheet1!$A:$I,9,0)","v":"64.50"},{"$f":"VLOOKUP(B1470,[2]少数民族加分!$C$1:$E$65536,3,FALSE)","v":2},{"v":138.5,"d":"138.50"}]
[1464,"4152270602824","戴年玉","315独山县第四幼儿园","01幼儿教师",{"$f":"VLOOKUP(B1471,[1]Sheet1!$A:$I,8,0)","v":"66.00"},{"$f":"VLOOKUP(B1471,[1]Sheet1!$A:$I,9,0)","v":"72.00"},null,{"v":138,"d":"138.00"}]
[1473,"4152270700430","陈梅","315独山县第四幼儿园","01幼儿教师",{"$f":"VLOOKUP(B1472,[1]Sheet1!$A:$I,8,0)","v":"68.50"},{"$f":"VLOOKUP(B1472,[1]Sheet1!$A:$I,9,0)","v":"67.50"},{"$f":"VLOOKUP(B1472,[2]少数民族加分!$C$1:$E$65536,3,FALSE)","v":2},{"v":138,"d":"138.00"}]
[1474,"4152270602811","潘雯婧","315独山县第四幼儿园","01幼儿教师",{"$f":"VLOOKUP(B1473,[1]Sheet1!$A:$I,8,0)","v":"73.00"},{"$f":"VLOOKUP(B1473,[1]Sheet1!$A:$I,9,0)","v":"63.00"},{"$f":"VLOOKUP(B1473,[2]少数民族加分!$C$1:$E$65536,3,FALSE)","v":2},{"v":138,"d":"138.00"}]
[1475,"4152270604727","莫双婕","315独山县第四幼儿园","01幼儿教师",{"$f":"VLOOKUP(B1474,[1]Sheet1!$A:$I,8,0)","v":"77.50"},{"$f":"VLOOKUP(B1474,[1]Sheet1!$A:$I,9,0)","v":"58.50"},{"$f":"VLOOKUP(B1474,[2]少数民族加分!$C$1:$E$65536,3,FALSE)","v":2},{"v":138,"d":"138.00"}]
[1476,"4152270604718","莫银芝","315独山县第四幼儿园","01幼儿教师",{"$f":"VLOOKUP(B1475,[1]Sheet1!$A:$I,8,0)","v":"53.50"},{"$f":"VLOOKUP(B1475,[1]Sheet1!$A:$I,9,0)","v":"82.00"},{"$f":"VLOOKUP(B1475,[2]少数民族加分!$C$1:$E$65536,3,FALSE)","v":2},{"v":137.5,"d":"137.50"}]
[1477,"4152270700710","潘小丹","315独山县第四幼儿园","01幼儿教师",{"$f":"VLOOKUP(B1476,[1]Sheet1!$A:$I,8,0)","v":"62.50"},{"$f":"VLOOKUP(B1476,[1]Sheet1!$A:$I,9,0)","v":"73.00"},{"$f":"VLOOKUP(B1476,[2]少数民族加分!$C$1:$E$65536,3,FALSE)","v":2},{"v":137.5,"d":"137.50"}]
[1469,"4152270603009","陈橙","315独山县第四幼儿园","01幼儿教师",{"$f":"VLOOKUP(B1477,[1]Sheet1!$A:$I,8,0)","v":"83.50"},{"$f":"VLOOKUP(B1477,[1]Sheet1!$A:$I,9,0)","v":"53.50"},null,{"v":137,"d":"137.00"}]
[1478,"4152270605315","蒋兰英","315独山县第四幼儿园","01幼儿教师",{"$f":"VLOOKUP(B1478,[1]Sheet1!$A:$I,8,0)","v":"66.50"},{"$f":"VLOOKUP(B1478,[1]Sheet1!$A:$I,9,0)","v":"68.50"},{"$f":"VLOOKUP(B1478,[2]少数民族加分!$C$1:$E$65536,3,FALSE)","v":2},{"v":137,"d":"137.00"}]
[1471,"4152270700124","胡颖","315独山县第四幼儿园","01幼儿教师",{"$f":"VLOOKUP(B1479,[1]Sheet1!$A:$I,8,0)","v":"76.00"},{"$f":"VLOOKUP(B1479,[1]Sheet1!$A:$I,9,0)","v":"60.50"},null,{"v":136.5,"d":"136.50"}]
[1479,"4152270605611","岑紫萝","315独山县第四幼儿园","01幼儿教师",{"$f":"VLOOKUP(B1480,[1]Sheet1!$A:$I,8,0)","v":"78.00"},{"$f":"VLOOKUP(B1480,[1]Sheet1!$A:$I,9,0)","v":"56.50"},{"$f":"VLOOKUP(B1480,[2]少数民族加分!$C$1:$E$65536,3,FALSE)","v":2},{"v":136.5,"d":"136.50"}]
[1480,"4152270700728","潘瑛","315独山县第四幼儿园","01幼儿教师",{"$f":"VLOOKUP(B1481,[1]Sheet1!$A:$I,8,0)","v":"77.00"},{"$f":"VLOOKUP(B1481,[1]Sheet1!$A:$I,9,0)","v":"57.50"},{"$f":"VLOOKUP(B1481,[2]少数民族加分!$C$1:$E$65536,3,FALSE)","v":2},{"v":136.5,"d":"136.50"}]
[1472,"4152270700120","唐永宁","315独山县第四幼儿园","01幼儿教师",{"$f":"VLOOKUP(B1482,[1]Sheet1!$A:$I,8,0)","v":"63.00"},{"$f":"VLOOKUP(B1482,[1]Sheet1!$A:$I,9,0)","v":"73.00"},null,{"v":136,"d":"136.00"}]
[1481,"4152270603306","姚荣","315独山县第四幼儿园","01幼儿教师",{"$f":"VLOOKUP(B1483,[1]Sheet1!$A:$I,8,0)","v":"63.50"},{"$f":"VLOOKUP(B1483,[1]Sheet1!$A:$I,9,0)","v":"70.00"},{"$f":"VLOOKUP(B1483,[2]少数民族加分!$C$1:$E$65536,3,FALSE)","v":2},{"v":135.5,"d":"135.50"}]
[1482,"4152270603322","吴丹丹","315独山县第四幼儿园","01幼儿教师",{"$f":"VLOOKUP(B1484,[1]Sheet1!$A:$I,8,0)","v":"73.50"},{"$f":"VLOOKUP(B1484,[1]Sheet1!$A:$I,9,0)","v":"60.00"},{"$f":"VLOOKUP(B1484,[2]少数民族加分!$C$1:$E$65536,3,FALSE)","v":2},{"v":135.5,"d":"135.50"}]
[1483,"4152270603324","单飞云","315独山县第四幼儿园","01幼儿教师",{"$f":"VLOOKUP(B1485,[1]Sheet1!$A:$I,8,0)","v":"70.00"},{"$f":"VLOOKUP(B1485,[1]Sheet1!$A:$I,9,0)","v":"63.50"},{"$f":"VLOOKUP(B1485,[2]少数民族加分!$C$1:$E$65536,3,FALSE)","v":2},{"v":135.5,"d":"135.50"}]
[1484,"4152270603729","罗加美","315独山县第四幼儿园","01幼儿教师",{"$f":"VLOOKUP(B1486,[1]Sheet1!$A:$I,8,0)","v":"67.00"},{"$f":"VLOOKUP(B1486,[1]Sheet1!$A:$I,9,0)","v":"66.50"},{"$f":"VLOOKUP(B1486,[2]少数民族加分!$C$1:$E$65536,3,FALSE)","v":2},{"v":135.5,"d":"135.50"}]
[1485,"4152270700229","杨轶婷","315独山县第四幼儿园","01幼儿教师",{"$f":"VLOOKUP(B1487,[1]Sheet1!$A:$I,8,0)","v":"74.00"},{"$f":"VLOOKUP(B1487,[1]Sheet1!$A:$I,9,0)","v":"59.00"},{"$f":"VLOOKUP(B1487,[2]少数民族加分!$C$1:$E$65536,3,FALSE)","v":2},{"v":135,"d":"135.00"}]
[1486,"4152270605108","韦石英","315独山县第四幼儿园","01幼儿教师",{"$f":"VLOOKUP(B1488,[1]Sheet1!$A:$I,8,0)","v":"59.50"},{"$f":"VLOOKUP(B1488,[1]Sheet1!$A:$I,9,0)","v":"73.00"},{"$f":"VLOOKUP(B1488,[2]少数民族加分!$C$1:$E$65536,3,FALSE)","v":2},{"v":134.5,"d":"134.50"}]
[1487,"4152270603611","杨仁群","315独山县第四幼儿园","01幼儿教师",{"$f":"VLOOKUP(B1489,[1]Sheet1!$A:$I,8,0)","v":"73.50"},{"$f":"VLOOKUP(B1489,[1]Sheet1!$A:$I,9,0)","v":"58.50"},{"$f":"VLOOKUP(B1489,[2]少数民族加分!$C$1:$E$65536,3,FALSE)","v":2},{"v":134,"d":"134.00"}]
[1488,"4152270604417","花晓梦","315独山县第四幼儿园","01幼儿教师",{"$f":"VLOOKUP(B1490,[1]Sheet1!$A:$I,8,0)","v":"59.00"},{"$f":"VLOOKUP(B1490,[1]Sheet1!$A:$I,9,0)","v":"73.00"},{"$f":"VLOOKUP(B1490,[2]少数民族加分!$C$1:$E$65536,3,FALSE)","v":2},{"v":134,"d":"134.00"}]
[1491,"4152270701128","王淼","315独山县第四幼儿园","01幼儿教师",{"$f":"VLOOKUP(B1491,[1]Sheet1!$A:$I,8,0)","v":"69.00"},{"$f":"VLOOKUP(B1491,[1]Sheet1!$A:$I,9,0)","v":"63.00"},{"$f":"VLOOKUP(B1491,[2]少数民族加分!$C$1:$E$65536,3,FALSE)","v":2},{"v":134,"d":"134.00"}]
[1492,"4152270605009","杨正帮","315独山县第四幼儿园","01幼儿教师",{"$f":"VLOOKUP(B1492,[1]Sheet1!$A:$I,8,0)","v":"61.50"},{"$f":"VLOOKUP(B1492,[1]Sheet1!$A:$I,9,0)","v":"70.00"},{"$f":"VLOOKUP(B1492,[2]少数民族加分!$C$1:$E$65536,3,FALSE)","v":2},{"v":133.5,"d":"133.50"}]
[1493,"4152270603327","吴丫兰","315独山县第四幼儿园","01幼儿教师",{"$f":"VLOOKUP(B1493,[1]Sheet1!$A:$I,8,0)","v":"68.50"},{"$f":"VLOOKUP(B1493,[1]Sheet1!$A:$I,9,0)","v":"62.50"},{"$f":"VLOOKUP(B1493,[2]少数民族加分!$C$1:$E$65536,3,FALSE)","v":2},{"v":133,"d":"133.00"}]
[1495,"4152270604806","胡中秋","315独山县第四幼儿园","01幼儿教师",{"$f":"VLOOKUP(B1494,[1]Sheet1!$A:$I,8,0)","v":"69.50"},{"$f":"VLOOKUP(B1494,[1]Sheet1!$A:$I,9,0)","v":"61.00"},{"$f":"VLOOKUP(B1494,[2]少数民族加分!$C$1:$E$65536,3,FALSE)","v":2},{"v":132.5,"d":"132.50"}]
[1489,"4152270604619","周建梅","315独山县第四幼儿园","01幼儿教师",{"$f":"VLOOKUP(B1495,[1]Sheet1!$A:$I,8,0)","v":"65.00"},{"$f":"VLOOKUP(B1495,[1]Sheet1!$A:$I,9,0)","v":"67.00"},null,{"v":132,"d":"132.00"}]
[1490,"4152270604804","岑邦倩","315独山县第四幼儿园","01幼儿教师",{"$f":"VLOOKUP(B1496,[1]Sheet1!$A:$I,8,0)","v":"61.00"},{"$f":"VLOOKUP(B1496,[1]Sheet1!$A:$I,9,0)","v":"71.00"},null,{"v":132,"d":"132.00"}]
[1499,"4152270602617","牛会楼","315独山县第四幼儿园","01幼儿教师",{"$f":"VLOOKUP(B1497,[1]Sheet1!$A:$I,8,0)","v":"66.00"},{"$f":"VLOOKUP(B1497,[1]Sheet1!$A:$I,9,0)","v":"64.00"},{"$f":"VLOOKUP(B1497,[2]少数民族加分!$C$1:$E$65536,3,FALSE)","v":2},{"v":132,"d":"132.00"}]
[1500,"4152270603125","谢思思","315独山县第四幼儿园","01幼儿教师",{"$f":"VLOOKUP(B1498,[1]Sheet1!$A:$I,8,0)","v":"63.00"},{"$f":"VLOOKUP(B1498,[1]Sheet1!$A:$I,9,0)","v":"67.00"},{"$f":"VLOOKUP(B1498,[2]少数民族加分!$C$1:$E$65536,3,FALSE)","v":2},{"v":132,"d":"132.00"}]
[1501,"4152270603723","杨应立","315独山县第四幼儿园","01幼儿教师",{"$f":"VLOOKUP(B1499,[1]Sheet1!$A:$I,8,0)","v":"61.00"},{"$f":"VLOOKUP(B1499,[1]Sheet1!$A:$I,9,0)","v":"69.00"},{"$f":"VLOOKUP(B1499,[2]少数民族加分!$C$1:$E$65536,3,FALSE)","v":2},{"v":132,"d":"132.00"}]
[1503,"4152270700720","唐兴玉","315独山县第四幼儿园","01幼儿教师",{"$f":"VLOOKUP(B1500,[1]Sheet1!$A:$I,8,0)","v":"66.50"},{"$f":"VLOOKUP(B1500,[1]Sheet1!$A:$I,9,0)","v":"63.00"},{"$f":"VLOOKUP(B1500,[2]少数民族加分!$C$1:$E$65536,3,FALSE)","v":2},{"v":131.5,"d":"131.50"}]
[1504,"4152270700920","周洪梅","315独山县第四幼儿园","01幼儿教师",{"$f":"VLOOKUP(B1501,[1]Sheet1!$A:$I,8,0)","v":"69.00"},{"$f":"VLOOKUP(B1501,[1]Sheet1!$A:$I,9,0)","v":"60.50"},{"$f":"VLOOKUP(B1501,[2]少数民族加分!$C$1:$E$65536,3,FALSE)","v":2},{"v":131.5,"d":"131.50"}]
[1494,"4152270603623","袁雪","315独山县第四幼儿园","01幼儿教师",{"$f":"VLOOKUP(B1502,[1]Sheet1!$A:$I,8,0)","v":"66.50"},{"$f":"VLOOKUP(B1502,[1]Sheet1!$A:$I,9,0)","v":"64.50"},null,{"v":131,"d":"131.00"}]
[1505,"4152270605214","石红丽","315独山县第四幼儿园","01幼儿教师",{"$f":"VLOOKUP(B1503,[1]Sheet1!$A:$I,8,0)","v":"67.00"},{"$f":"VLOOKUP(B1503,[1]Sheet1!$A:$I,9,0)","v":"62.00"},{"$f":"VLOOKUP(B1503,[2]少数民族加分!$C$1:$E$65536,3,FALSE)","v":2},{"v":131,"d":"131.00"}]
[1496,"4152270700114","代昌雯","315独山县第四幼儿园","01幼儿教师",{"$f":"VLOOKUP(B1504,[1]Sheet1!$A:$I,8,0)","v":"65.00"},{"$f":"VLOOKUP(B1504,[1]Sheet1!$A:$I,9,0)","v":"65.50"},null,{"v":130.5,"d":"130.50"}]
[1507,"4152270602606","王艺","315独山县第四幼儿园","01幼儿教师",{"$f":"VLOOKUP(B1505,[1]Sheet1!$A:$I,8,0)","v":"67.00"},{"$f":"VLOOKUP(B1505,[1]Sheet1!$A:$I,9,0)","v":"61.50"},{"$f":"VLOOKUP(B1505,[2]少数民族加分!$C$1:$E$65536,3,FALSE)","v":2},{"v":130.5,"d":"130.50"}]
[1509,"4152270605412","阳江惠","315独山县第四幼儿园","01幼儿教师",{"$f":"VLOOKUP(B1506,[1]Sheet1!$A:$I,8,0)","v":"67.50"},{"$f":"VLOOKUP(B1506,[1]Sheet1!$A:$I,9,0)","v":"61.00"},{"$f":"VLOOKUP(B1506,[2]少数民族加分!$C$1:$E$65536,3,FALSE)","v":2},{"v":130.5,"d":"130.50"}]
[1510,"4152270700922","罗祖炼","315独山县第四幼儿园","01幼儿教师",{"$f":"VLOOKUP(B1507,[1]Sheet1!$A:$I,8,0)","v":"72.00"},{"$f":"VLOOKUP(B1507,[1]Sheet1!$A:$I,9,0)","v":"56.50"},{"$f":"VLOOKUP(B1507,[2]少数民族加分!$C$1:$E$65536,3,FALSE)","v":2},{"v":130.5,"d":"130.50"}]
[1497,"4152270605427","林春宏","315独山县第四幼儿园","01幼儿教师",{"$f":"VLOOKUP(B1508,[1]Sheet1!$A:$I,8,0)","v":"73.50"},{"$f":"VLOOKUP(B1508,[1]Sheet1!$A:$I,9,0)","v":"56.50"},null,{"v":130,"d":"130.00"}]
[1498,"4152270701019","李沛桃","315独山县第四幼儿园","01幼儿教师",{"$f":"VLOOKUP(B1509,[1]Sheet1!$A:$I,8,0)","v":"61.00"},{"$f":"VLOOKUP(B1509,[1]Sheet1!$A:$I,9,0)","v":"69.00"},null,{"v":130,"d":"130.00"}]
[1511,"4152270700512","王朝凤","315独山县第四幼儿园","01幼儿教师",{"$f":"VLOOKUP(B1510,[1]Sheet1!$A:$I,8,0)","v":"69.00"},{"$f":"VLOOKUP(B1510,[1]Sheet1!$A:$I,9,0)","v":"59.00"},{"$f":"VLOOKUP(B1510,[2]少数民族加分!$C$1:$E$65536,3,FALSE)","v":2},{"v":130,"d":"130.00"}]
[1512,"4152270603818","刘婷","315独山县第四幼儿园","01幼儿教师",{"$f":"VLOOKUP(B1511,[1]Sheet1!$A:$I,8,0)","v":"74.00"},{"$f":"VLOOKUP(B1511,[1]Sheet1!$A:$I,9,0)","v":"54.00"},{"$f":"VLOOKUP(B1511,[2]少数民族加分!$C$1:$E$65536,3,FALSE)","v":2},{"v":130,"d":"130.00"}]
[1502,"4152270603022","杨世韦","315独山县第四幼儿园","01幼儿教师",{"$f":"VLOOKUP(B1512,[1]Sheet1!$A:$I,8,0)","v":"66.50"},{"$f":"VLOOKUP(B1512,[1]Sheet1!$A:$I,9,0)","v":"63.00"},null,{"v":129.5,"d":"129.50"}]
[1506,"4152270604317","黄艳","315独山县第四幼儿园","01幼儿教师",{"$f":"VLOOKUP(B1513,[1]Sheet1!$A:$I,8,0)","v":"63.00"},{"$f":"VLOOKUP(B1513,[1]Sheet1!$A:$I,9,0)","v":"66.00"},null,{"v":129,"d":"129.00"}]
[1513,"4152270603703","吴昌桃","315独山县第四幼儿园","01幼儿教师",{"$f":"VLOOKUP(B1514,[1]Sheet1!$A:$I,8,0)","v":"68.50"},{"$f":"VLOOKUP(B1514,[1]Sheet1!$A:$I,9,0)","v":"58.50"},{"$f":"VLOOKUP(B1514,[2]少数民族加分!$C$1:$E$65536,3,FALSE)","v":2},{"v":129,"d":"129.00"}]
[1515,"4152270604503","杨惠惠","315独山县第四幼儿园","01幼儿教师",{"$f":"VLOOKUP(B1515,[1]Sheet1!$A:$I,8,0)","v":"64.00"},{"$f":"VLOOKUP(B1515,[1]Sheet1!$A:$I,9,0)","v":"63.00"},{"$f":"VLOOKUP(B1515,[2]少数民族加分!$C$1:$E$65536,3,FALSE)","v":2},{"v":129,"d":"129.00"}]
[1516,"4152270700918","潘雪芹","315独山县第四幼儿园","01幼儿教师",{"$f":"VLOOKUP(B1516,[1]Sheet1!$A:$I,8,0)","v":"63.00"},{"$f":"VLOOKUP(B1516,[1]Sheet1!$A:$I,9,0)","v":"64.00"},{"$f":"VLOOKUP(B1516,[2]少数民族加分!$C$1:$E$65536,3,FALSE)","v":2},{"v":129,"d":"129.00"}]
[1508,"4152270603108","张代燕","315独山县第四幼儿园","01幼儿教师",{"$f":"VLOOKUP(B1517,[1]Sheet1!$A:$I,8,0)","v":"68.50"},{"$f":"VLOOKUP(B1517,[1]Sheet1!$A:$I,9,0)","v":"60.00"},null,{"v":128.5,"d":"128.50"}]
[1517,"4152270604728","陈周霞","315独山县第四幼儿园","01幼儿教师",{"$f":"VLOOKUP(B1518,[1]Sheet1!$A:$I,8,0)","v":"61.50"},{"$f":"VLOOKUP(B1518,[1]Sheet1!$A:$I,9,0)","v":"65.00"},{"$f":"VLOOKUP(B1518,[2]少数民族加分!$C$1:$E$65536,3,FALSE)","v":2},{"v":128.5,"d":"128.50"}]
[1518,"4152270602713","杨秀霞","315独山县第四幼儿园","01幼儿教师",{"$f":"VLOOKUP(B1519,[1]Sheet1!$A:$I,8,0)","v":"66.00"},{"$f":"VLOOKUP(B1519,[1]Sheet1!$A:$I,9,0)","v":"60.00"},{"$f":"VLOOKUP(B1519,[2]少数民族加分!$C$1:$E$65536,3,FALSE)","v":2},{"v":128,"d":"128.00"}]
[1520,"4152270603525","韦影","315独山县第四幼儿园","01幼儿教师",{"$f":"VLOOKUP(B1520,[1]Sheet1!$A:$I,8,0)","v":"78.00"},{"$f":"VLOOKUP(B1520,[1]Sheet1!$A:$I,9,0)","v":"47.50"},{"$f":"VLOOKUP(B1520,[2]少数民族加分!$C$1:$E$65536,3,FALSE)","v":2},{"v":127.5,"d":"127.50"}]
[1514,"4152270603919","姚沙沙","315独山县第四幼儿园","01幼儿教师",{"$f":"VLOOKUP(B1521,[1]Sheet1!$A:$I,8,0)","v":"66.50"},{"$f":"VLOOKUP(B1521,[1]Sheet1!$A:$I,9,0)","v":"60.50"},null,{"v":127,"d":"127.00"}]
[1523,"4152270700805","韦祖月","315独山县第四幼儿园","01幼儿教师",{"$f":"VLOOKUP(B1522,[1]Sheet1!$A:$I,8,0)","v":"62.00"},{"$f":"VLOOKUP(B1522,[1]Sheet1!$A:$I,9,0)","v":"63.00"},{"$f":"VLOOKUP(B1522,[2]少数民族加分!$C$1:$E$65536,3,FALSE)","v":2},{"v":127,"d":"127.00"}]
[1526,"4152270604809","石芳卫","315独山县第四幼儿园","01幼儿教师",{"$f":"VLOOKUP(B1523,[1]Sheet1!$A:$I,8,0)","v":"56.00"},{"$f":"VLOOKUP(B1523,[1]Sheet1!$A:$I,9,0)","v":"69.00"},{"$f":"VLOOKUP(B1523,[2]少数民族加分!$C$1:$E$65536,3,FALSE)","v":2},{"v":127,"d":"127.00"}]
[1528,"4152270603008","黄世姗","315独山县第四幼儿园","01幼儿教师",{"$f":"VLOOKUP(B1524,[1]Sheet1!$A:$I,8,0)","v":"57.50"},{"$f":"VLOOKUP(B1524,[1]Sheet1!$A:$I,9,0)","v":"67.00"},{"$f":"VLOOKUP(B1524,[2]少数民族加分!$C$1:$E$65536,3,FALSE)","v":2},{"v":126.5,"d":"126.50"}]
[1529,"4152270603212","李安梅","315独山县第四幼儿园","01幼儿教师",{"$f":"VLOOKUP(B1525,[1]Sheet1!$A:$I,8,0)","v":"61.50"},{"$f":"VLOOKUP(B1525,[1]Sheet1!$A:$I,9,0)","v":"63.00"},{"$f":"VLOOKUP(B1525,[2]少数民族加分!$C$1:$E$65536,3,FALSE)","v":2},{"v":126.5,"d":"126.50"}]
[1530,"4152270700408","岑艳","315独山县第四幼儿园","01幼儿教师",{"$f":"VLOOKUP(B1526,[1]Sheet1!$A:$I,8,0)","v":"60.50"},{"$f":"VLOOKUP(B1526,[1]Sheet1!$A:$I,9,0)","v":"64.00"},{"$f":"VLOOKUP(B1526,[2]少数民族加分!$C$1:$E$65536,3,FALSE)","v":2},{"v":126.5,"d":"126.50"}]
[1532,"4152270700404","杨春英","315独山县第四幼儿园","01幼儿教师",{"$f":"VLOOKUP(B1527,[1]Sheet1!$A:$I,8,0)","v":"63.00"},{"$f":"VLOOKUP(B1527,[1]Sheet1!$A:$I,9,0)","v":"61.00"},{"$f":"VLOOKUP(B1527,[2]少数民族加分!$C$1:$E$65536,3,FALSE)","v":2},{"v":126,"d":"126.00"}]
[1519,"4152270603129","黎永","315独山县第四幼儿园","01幼儿教师",{"$f":"VLOOKUP(B1528,[1]Sheet1!$A:$I,8,0)","v":"70.50"},{"$f":"VLOOKUP(B1528,[1]Sheet1!$A:$I,9,0)","v":"55.00"},null,{"v":125.5,"d":"125.50"}]
[1521,"4152270604428","田祥威","315独山县第四幼儿园","01幼儿教师",{"$f":"VLOOKUP(B1529,[1]Sheet1!$A:$I,8,0)","v":"55.50"},{"$f":"VLOOKUP(B1529,[1]Sheet1!$A:$I,9,0)","v":"70.00"},null,{"v":125.5,"d":"125.50"}]
[1522,"4152270700525","张继云","315独山县第四幼儿园","01幼儿教师",{"$f":"VLOOKUP(B1530,[1]Sheet1!$A:$I,8,0)","v":"75.00"},{"$f":"VLOOKUP(B1530,[1]Sheet1!$A:$I,9,0)","v":"50.50"},null,{"v":125.5,"d":"125.50"}]
[1524,"4152270603401","杨金妹","315独山县第四幼儿园","01幼儿教师",{"$f":"VLOOKUP(B1531,[1]Sheet1!$A:$I,8,0)","v":"62.00"},{"$f":"VLOOKUP(B1531,[1]Sheet1!$A:$I,9,0)","v":"63.00"},null,{"v":125,"d":"125.00"}]
[1525,"4152270604805","岑琴","315独山县第四幼儿园","01幼儿教师",{"$f":"VLOOKUP(B1532,[1]Sheet1!$A:$I,8,0)","v":"62.00"},{"$f":"VLOOKUP(B1532,[1]Sheet1!$A:$I,9,0)","v":"63.00"},null,{"v":125,"d":"125.00"}]
[1527,"4152270604817","刘松梅","315独山县第四幼儿园","01幼儿教师",{"$f":"VLOOKUP(B1533,[1]Sheet1!$A:$I,8,0)","v":"65.50"},{"$f":"VLOOKUP(B1533,[1]Sheet1!$A:$I,9,0)","v":"59.50"},null,{"v":125,"d":"125.00"}]
[1533,"4152270700405","游富连","315独山县第四幼儿园","01幼儿教师",{"$f":"VLOOKUP(B1534,[1]Sheet1!$A:$I,8,0)","v":"61.00"},{"$f":"VLOOKUP(B1534,[1]Sheet1!$A:$I,9,0)","v":"62.00"},{"$f":"VLOOKUP(B1534,[2]少数民族加分!$C$1:$E$65536,3,FALSE)","v":2},{"v":125,"d":"125.00"}]
[1534,"4152270603330","杨杏","315独山县第四幼儿园","01幼儿教师",{"$f":"VLOOKUP(B1535,[1]Sheet1!$A:$I,8,0)","v":"69.50"},{"$f":"VLOOKUP(B1535,[1]Sheet1!$A:$I,9,0)","v":"53.50"},{"$f":"VLOOKUP(B1535,[2]少数民族加分!$C$1:$E$65536,3,FALSE)","v":2},{"v":125,"d":"125.00"}]
[1537,"4152270701016","蒙红霞","315独山县第四幼儿园","01幼儿教师",{"$f":"VLOOKUP(B1536,[1]Sheet1!$A:$I,8,0)","v":"60.50"},{"$f":"VLOOKUP(B1536,[1]Sheet1!$A:$I,9,0)","v":"62.00"},{"$f":"VLOOKUP(B1536,[2]少数民族加分!$C$1:$E$65536,3,FALSE)","v":2},{"v":124.5,"d":"124.50"}]
[1531,"4152270700212","徐盼","315独山县第四幼儿园","01幼儿教师",{"$f":"VLOOKUP(B1537,[1]Sheet1!$A:$I,8,0)","v":"71.50"},{"$f":"VLOOKUP(B1537,[1]Sheet1!$A:$I,9,0)","v":"52.50"},null,{"v":124,"d":"124.00"}]
[1538,"4152270604102","阳新美","315独山县第四幼儿园","01幼儿教师",{"$f":"VLOOKUP(B1538,[1]Sheet1!$A:$I,8,0)","v":"74.00"},{"$f":"VLOOKUP(B1538,[1]Sheet1!$A:$I,9,0)","v":"48.00"},{"$f":"VLOOKUP(B1538,[2]少数民族加分!$C$1:$E$65536,3,FALSE)","v":2},{"v":124,"d":"124.00"}]
[1535,"4152270605120","李艳","315独山县第四幼儿园","01幼儿教师",{"$f":"VLOOKUP(B1539,[1]Sheet1!$A:$I,8,0)","v":"65.00"},{"$f":"VLOOKUP(B1539,[1]Sheet1!$A:$I,9,0)","v":"58.00"},null,{"v":123,"d":"123.00"}]
[1540,"4152270700306","潘小嫽","315独山县第四幼儿园","01幼儿教师",{"$f":"VLOOKUP(B1540,[1]Sheet1!$A:$I,8,0)","v":"63.00"},{"$f":"VLOOKUP(B1540,[1]Sheet1!$A:$I,9,0)","v":"58.00"},{"$f":"VLOOKUP(B1540,[2]少数民族加分!$C$1:$E$65536,3,FALSE)","v":2},{"v":123,"d":"123.00"}]
[1541,"4152270700417","杨佳燕","315独山县第四幼儿园","01幼儿教师",{"$f":"VLOOKUP(B1541,[1]Sheet1!$A:$I,8,0)","v":"61.00"},{"$f":"VLOOKUP(B1541,[1]Sheet1!$A:$I,9,0)","v":"60.00"},{"$f":"VLOOKUP(B1541,[2]少数民族加分!$C$1:$E$65536,3,FALSE)","v":2},{"v":123,"d":"123.00"}]
[1536,"4152270700311","付应珊","315独山县第四幼儿园","01幼儿教师",{"$f":"VLOOKUP(B1542,[1]Sheet1!$A:$I,8,0)","v":"66.00"},{"$f":"VLOOKUP(B1542,[1]Sheet1!$A:$I,9,0)","v":"56.50"},null,{"v":122.5,"d":"122.50"}]
[1543,"4152270700927","杨通琴","315独山县第四幼儿园","01幼儿教师",{"$f":"VLOOKUP(B1543,[1]Sheet1!$A:$I,8,0)","v":"57.50"},{"$f":"VLOOKUP(B1543,[1]Sheet1!$A:$I,9,0)","v":"63.00"},{"$f":"VLOOKUP(B1543,[2]少数民族加分!$C$1:$E$65536,3,FALSE)","v":2},{"v":122.5,"d":"122.50"}]
[1546,"4152270603003","李云","315独山县第四幼儿园","01幼儿教师",{"$f":"VLOOKUP(B1544,[1]Sheet1!$A:$I,8,0)","v":"60.00"},{"$f":"VLOOKUP(B1544,[1]Sheet1!$A:$I,9,0)","v":"60.00"},{"$f":"VLOOKUP(B1544,[2]少数民族加分!$C$1:$E$65536,3,FALSE)","v":2},{"v":122,"d":"122.00"}]
[1547,"4152270605525","邓召桃","315独山县第四幼儿园","01幼儿教师",{"$f":"VLOOKUP(B1545,[1]Sheet1!$A:$I,8,0)","v":"61.00"},{"$f":"VLOOKUP(B1545,[1]Sheet1!$A:$I,9,0)","v":"59.00"},{"$f":"VLOOKUP(B1545,[2]少数民族加分!$C$1:$E$65536,3,FALSE)","v":2},{"v":122,"d":"122.00"}]
[1539,"4152270603002","杨波","315独山县第四幼儿园","01幼儿教师",{"$f":"VLOOKUP(B1546,[1]Sheet1!$A:$I,8,0)","v":"62.50"},{"$f":"VLOOKUP(B1546,[1]Sheet1!$A:$I,9,0)","v":"59.00"},null,{"v":121.5,"d":"121.50"}]
[1548,"4152270605426","杨爽","315独山县第四幼儿园","01幼儿教师",{"$f":"VLOOKUP(B1547,[1]Sheet1!$A:$I,8,0)","v":"76.00"},{"$f":"VLOOKUP(B1547,[1]Sheet1!$A:$I,9,0)","v":"43.50"},{"$f":"VLOOKUP(B1547,[2]少数民族加分!$C$1:$E$65536,3,FALSE)","v":2},{"v":121.5,"d":"121.50"}]
[1549,"4152270602830","罗凤雨","315独山县第四幼儿园","01幼儿教师",{"$f":"VLOOKUP(B1548,[1]Sheet1!$A:$I,8,0)","v":"62.00"},{"$f":"VLOOKUP(B1548,[1]Sheet1!$A:$I,9,0)","v":"57.00"},{"$f":"VLOOKUP(B1548,[2]少数民族加分!$C$1:$E$65536,3,FALSE)","v":2},{"v":121,"d":"121.00"}]
[1542,"4152270700622","陈可新","315独山县第四幼儿园","01幼儿教师",{"$f":"VLOOKUP(B1549,[1]Sheet1!$A:$I,8,0)","v":"54.50"},{"$f":"VLOOKUP(B1549,[1]Sheet1!$A:$I,9,0)","v":"66.00"},null,{"v":120.5,"d":"120.50"}]
[1544,"4152270602928","张仕秀","315独山县第四幼儿园","01幼儿教师",{"$f":"VLOOKUP(B1550,[1]Sheet1!$A:$I,8,0)","v":"55.50"},{"$f":"VLOOKUP(B1550,[1]Sheet1!$A:$I,9,0)","v":"65.00"},null,{"v":120.5,"d":"120.50"}]
[1545,"4152270604207","谭晓雨","315独山县第四幼儿园","01幼儿教师",{"$f":"VLOOKUP(B1551,[1]Sheet1!$A:$I,8,0)","v":"53.50"},{"$f":"VLOOKUP(B1551,[1]Sheet1!$A:$I,9,0)","v":"67.00"},null,{"v":120.5,"d":"120.50"}]
[1553,"4152270604128","莫琴","315独山县第四幼儿园","01幼儿教师",{"$f":"VLOOKUP(B1552,[1]Sheet1!$A:$I,8,0)","v":"62.50"},{"$f":"VLOOKUP(B1552,[1]Sheet1!$A:$I,9,0)","v":"56.00"},{"$f":"VLOOKUP(B1552,[2]少数民族加分!$C$1:$E$65536,3,FALSE)","v":2},{"v":120.5,"d":"120.50"}]
[1554,"4152270603115","侯文英","315独山县第四幼儿园","01幼儿教师",{"$f":"VLOOKUP(B1553,[1]Sheet1!$A:$I,8,0)","v":"59.00"},{"$f":"VLOOKUP(B1553,[1]Sheet1!$A:$I,9,0)","v":"59.00"},{"$f":"VLOOKUP(B1553,[2]少数民族加分!$C$1:$E$65536,3,FALSE)","v":2},{"v":120,"d":"120.00"}]
[1555,"4152270603913","杨显平","315独山县第四幼儿园","01幼儿教师",{"$f":"VLOOKUP(B1554,[1]Sheet1!$A:$I,8,0)","v":"53.00"},{"$f":"VLOOKUP(B1554,[1]Sheet1!$A:$I,9,0)","v":"65.00"},{"$f":"VLOOKUP(B1554,[2]少数民族加分!$C$1:$E$65536,3,FALSE)","v":2},{"v":120,"d":"120.00"}]
[1557,"4152270605325","潘泽米","315独山县第四幼儿园","01幼儿教师",{"$f":"VLOOKUP(B1555,[1]Sheet1!$A:$I,8,0)","v":"52.50"},{"$f":"VLOOKUP(B1555,[1]Sheet1!$A:$I,9,0)","v":"65.00"},{"$f":"VLOOKUP(B1555,[2]少数民族加分!$C$1:$E$65536,3,FALSE)","v":2},{"v":119.5,"d":"119.50"}]
[1559,"4152270604114","安琪","315独山县第四幼儿园","01幼儿教师",{"$f":"VLOOKUP(B1556,[1]Sheet1!$A:$I,8,0)","v":"62.50"},{"$f":"VLOOKUP(B1556,[1]Sheet1!$A:$I,9,0)","v":"55.00"},{"$f":"VLOOKUP(B1556,[2]少数民族加分!$C$1:$E$65536,3,FALSE)","v":2},{"v":119.5,"d":"119.50"}]
[1560,"4152270604117","周天灵","315独山县第四幼儿园","01幼儿教师",{"$f":"VLOOKUP(B1557,[1]Sheet1!$A:$I,8,0)","v":"52.50"},{"$f":"VLOOKUP(B1557,[1]Sheet1!$A:$I,9,0)","v":"65.00"},{"$f":"VLOOKUP(B1557,[2]少数民族加分!$C$1:$E$65536,3,FALSE)","v":2},{"v":119.5,"d":"119.50"}]
[1561,"4152270604616","韦天倩","315独山县第四幼儿园","01幼儿教师",{"$f":"VLOOKUP(B1558,[1]Sheet1!$A:$I,8,0)","v":"69.50"},{"$f":"VLOOKUP(B1558,[1]Sheet1!$A:$I,9,0)","v":"48.00"},{"$f":"VLOOKUP(B1558,[2]少数民族加分!$C$1:$E$65536,3,FALSE)","v":2},{"v":119.5,"d":"119.50"}]
[1562,"4152270604722","宋尤","315独山县第四幼儿园","01幼儿教师",{"$f":"VLOOKUP(B1559,[1]Sheet1!$A:$I,8,0)","v":"64.50"},{"$f":"VLOOKUP(B1559,[1]Sheet1!$A:$I,9,0)","v":"53.00"},{"$f":"VLOOKUP(B1559,[2]少数民族加分!$C$1:$E$65536,3,FALSE)","v":2},{"v":119.5,"d":"119.50"}]
[1550,"4152270604011","马礼丹","315独山县第四幼儿园","01幼儿教师",{"$f":"VLOOKUP(B1560,[1]Sheet1!$A:$I,8,0)","v":"73.00"},{"$f":"VLOOKUP(B1560,[1]Sheet1!$A:$I,9,0)","v":"46.00"},null,{"v":119,"d":"119.00"}]
[1551,"4152270604030","邬连静","315独山县第四幼儿园","01幼儿教师",{"$f":"VLOOKUP(B1561,[1]Sheet1!$A:$I,8,0)","v":"57.00"},{"$f":"VLOOKUP(B1561,[1]Sheet1!$A:$I,9,0)","v":"62.00"},null,{"v":119,"d":"119.00"}]
[1552,"4152270604110","陈丽欣","315独山县第四幼儿园","01幼儿教师",{"$f":"VLOOKUP(B1562,[1]Sheet1!$A:$I,8,0)","v":"61.00"},{"$f":"VLOOKUP(B1562,[1]Sheet1!$A:$I,9,0)","v":"58.00"},null,{"v":119,"d":"119.00"}]
[1563,"4152270604023","黎小霞","315独山县第四幼儿园","01幼儿教师",{"$f":"VLOOKUP(B1563,[1]Sheet1!$A:$I,8,0)","v":"56.00"},{"$f":"VLOOKUP(B1563,[1]Sheet1!$A:$I,9,0)","v":"61.00"},{"$f":"VLOOKUP(B1563,[2]少数民族加分!$C$1:$E$65536,3,FALSE)","v":2},{"v":119,"d":"119.00"}]
[1565,"4152270603126","陆玉爽","315独山县第四幼儿园","01幼儿教师",{"$f":"VLOOKUP(B1564,[1]Sheet1!$A:$I,8,0)","v":"60.50"},{"$f":"VLOOKUP(B1564,[1]Sheet1!$A:$I,9,0)","v":"56.00"},{"$f":"VLOOKUP(B1564,[2]少数民族加分!$C$1:$E$65536,3,FALSE)","v":2},{"v":118.5,"d":"118.50"}]
[1566,"4152270605101","李青曼","315独山县第四幼儿园","01幼儿教师",{"$f":"VLOOKUP(B1565,[1]Sheet1!$A:$I,8,0)","v":"60.50"},{"$f":"VLOOKUP(B1565,[1]Sheet1!$A:$I,9,0)","v":"56.00"},{"$f":"VLOOKUP(B1565,[2]少数民族加分!$C$1:$E$65536,3,FALSE)","v":2},{"v":118.5,"d":"118.50"}]
[1556,"4152270605422","安玉芝","315独山县第四幼儿园","01幼儿教师",{"$f":"VLOOKUP(B1566,[1]Sheet1!$A:$I,8,0)","v":"55.00"},{"$f":"VLOOKUP(B1566,[1]Sheet1!$A:$I,9,0)","v":"63.00"},null,{"v":118,"d":"118.00"}]
[1558,"4152270700707","王佳慧","315独山县第四幼儿园","01幼儿教师",{"$f":"VLOOKUP(B1567,[1]Sheet1!$A:$I,8,0)","v":"57.50"},{"$f":"VLOOKUP(B1567,[1]Sheet1!$A:$I,9,0)","v":"60.00"},null,{"v":117.5,"d":"117.50"}]
[1568,"4152270700418","蒙帮访","315独山县第四幼儿园","01幼儿教师",{"$f":"VLOOKUP(B1568,[1]Sheet1!$A:$I,8,0)","v":"55.50"},{"$f":"VLOOKUP(B1568,[1]Sheet1!$A:$I,9,0)","v":"60.00"},{"$f":"VLOOKUP(B1568,[2]少数民族加分!$C$1:$E$65536,3,FALSE)","v":2},{"v":117.5,"d":"117.50"}]
[1564,"4152270604508","刘廷静","315独山县第四幼儿园","01幼儿教师",{"$f":"VLOOKUP(B1569,[1]Sheet1!$A:$I,8,0)","v":"49.00"},{"$f":"VLOOKUP(B1569,[1]Sheet1!$A:$I,9,0)","v":"68.00"},null,{"v":117,"d":"117.00"}]
[1569,"4152270605411","高登琳","315独山县第四幼儿园","01幼儿教师",{"$f":"VLOOKUP(B1570,[1]Sheet1!$A:$I,8,0)","v":"69.00"},{"$f":"VLOOKUP(B1570,[1]Sheet1!$A:$I,9,0)","v":"46.00"},{"$f":"VLOOKUP(B1570,[2]少数民族加分!$C$1:$E$65536,3,FALSE)","v":2},{"v":117,"d":"117.00"}]
[1571,"4152270603920","夏金爽","315独山县第四幼儿园","01幼儿教师",{"$f":"VLOOKUP(B1571,[1]Sheet1!$A:$I,8,0)","v":"63.00"},{"$f":"VLOOKUP(B1571,[1]Sheet1!$A:$I,9,0)","v":"52.00"},{"$f":"VLOOKUP(B1571,[2]少数民族加分!$C$1:$E$65536,3,FALSE)","v":2},{"v":117,"d":"117.00"}]
[1572,"4152270604217","杨柠宁","315独山县第四幼儿园","01幼儿教师",{"$f":"VLOOKUP(B1572,[1]Sheet1!$A:$I,8,0)","v":"63.50"},{"$f":"VLOOKUP(B1572,[1]Sheet1!$A:$I,9,0)","v":"51.00"},{"$f":"VLOOKUP(B1572,[2]少数民族加分!$C$1:$E$65536,3,FALSE)","v":2},{"v":116.5,"d":"116.50"}]
[1573,"4152270605210","黄捷","315独山县第四幼儿园","01幼儿教师",{"$f":"VLOOKUP(B1573,[1]Sheet1!$A:$I,8,0)","v":"63.00"},{"$f":"VLOOKUP(B1573,[1]Sheet1!$A:$I,9,0)","v":"51.00"},{"$f":"VLOOKUP(B1573,[2]少数民族加分!$C$1:$E$65536,3,FALSE)","v":2},{"v":116,"d":"116.00"}]
[1574,"4152270605602","龙秋情","315独山县第四幼儿园","01幼儿教师",{"$f":"VLOOKUP(B1574,[1]Sheet1!$A:$I,8,0)","v":"60.00"},{"$f":"VLOOKUP(B1574,[1]Sheet1!$A:$I,9,0)","v":"54.00"},{"$f":"VLOOKUP(B1574,[2]少数民族加分!$C$1:$E$65536,3,FALSE)","v":2},{"v":116,"d":"116.00"}]
[1567,"4152270604826","黎兴倩","315独山县第四幼儿园","01幼儿教师",{"$f":"VLOOKUP(B1575,[1]Sheet1!$A:$I,8,0)","v":"64.50"},{"$f":"VLOOKUP(B1575,[1]Sheet1!$A:$I,9,0)","v":"51.00"},null,{"v":115.5,"d":"115.50"}]
[1575,"4152270605221","杨杏","315独山县第四幼儿园","01幼儿教师",{"$f":"VLOOKUP(B1576,[1]Sheet1!$A:$I,8,0)","v":"60.50"},{"$f":"VLOOKUP(B1576,[1]Sheet1!$A:$I,9,0)","v":"53.00"},{"$f":"VLOOKUP(B1576,[2]少数民族加分!$C$1:$E$65536,3,FALSE)","v":2},{"v":115.5,"d":"115.50"}]
[1576,"4152270700601","杨星月","315独山县第四幼儿园","01幼儿教师",{"$f":"VLOOKUP(B1577,[1]Sheet1!$A:$I,8,0)","v":"61.50"},{"$f":"VLOOKUP(B1577,[1]Sheet1!$A:$I,9,0)","v":"52.00"},{"$f":"VLOOKUP(B1577,[2]少数民族加分!$C$1:$E$65536,3,FALSE)","v":2},{"v":115.5,"d":"115.50"}]
[1570,"4152270605609","陈娜","315独山县第四幼儿园","01幼儿教师",{"$f":"VLOOKUP(B1578,[1]Sheet1!$A:$I,8,0)","v":"61.00"},{"$f":"VLOOKUP(B1578,[1]Sheet1!$A:$I,9,0)","v":"54.00"},null,{"v":115,"d":"115.00"}]
[1577,"4152270605614","杨媚","315独山县第四幼儿园","01幼儿教师",{"$f":"VLOOKUP(B1579,[1]Sheet1!$A:$I,8,0)","v":"57.00"},{"$f":"VLOOKUP(B1579,[1]Sheet1!$A:$I,9,0)","v":"56.00"},{"$f":"VLOOKUP(B1579,[2]少数民族加分!$C$1:$E$65536,3,FALSE)","v":2},{"v":115,"d":"115.00"}]
[1579,"4152270602612","卢水仙","315独山县第四幼儿园","01幼儿教师",{"$f":"VLOOKUP(B1580,[1]Sheet1!$A:$I,8,0)","v":"59.50"},{"$f":"VLOOKUP(B1580,[1]Sheet1!$A:$I,9,0)","v":"53.00"},{"$f":"VLOOKUP(B1580,[2]少数民族加分!$C$1:$E$65536,3,FALSE)","v":2},{"v":114.5,"d":"114.50"}]
[1580,"4152270605513","姜小玉","315独山县第四幼儿园","01幼儿教师",{"$f":"VLOOKUP(B1581,[1]Sheet1!$A:$I,8,0)","v":"60.50"},{"$f":"VLOOKUP(B1581,[1]Sheet1!$A:$I,9,0)","v":"52.00"},{"$f":"VLOOKUP(B1581,[2]少数民族加分!$C$1:$E$65536,3,FALSE)","v":2},{"v":114.5,"d":"114.50"}]
[1582,"4152270605405","杨英培","315独山县第四幼儿园","01幼儿教师",{"$f":"VLOOKUP(B1582,[1]Sheet1!$A:$I,8,0)","v":"69.00"},{"$f":"VLOOKUP(B1582,[1]Sheet1!$A:$I,9,0)","v":"42.50"},{"$f":"VLOOKUP(B1582,[2]少数民族加分!$C$1:$E$65536,3,FALSE)","v":2},{"v":113.5,"d":"113.50"}]
[1578,"4152270604523","龙海娟","315独山县第四幼儿园","01幼儿教师",{"$f":"VLOOKUP(B1583,[1]Sheet1!$A:$I,8,0)","v":"63.00"},{"$f":"VLOOKUP(B1583,[1]Sheet1!$A:$I,9,0)","v":"50.00"},null,{"v":113,"d":"113.00"}]
[1583,"4152270603323","潘虹","315独山县第四幼儿园","01幼儿教师",{"$f":"VLOOKUP(B1584,[1]Sheet1!$A:$I,8,0)","v":"67.50"},{"$f":"VLOOKUP(B1584,[1]Sheet1!$A:$I,9,0)","v":"43.50"},{"$f":"VLOOKUP(B1584,[2]少数民族加分!$C$1:$E$65536,3,FALSE)","v":2},{"v":113,"d":"113.00"}]
[1584,"4152270603905","田昌霞","315独山县第四幼儿园","01幼儿教师",{"$f":"VLOOKUP(B1585,[1]Sheet1!$A:$I,8,0)","v":"47.50"},{"$f":"VLOOKUP(B1585,[1]Sheet1!$A:$I,9,0)","v":"63.00"},{"$f":"VLOOKUP(B1585,[2]少数民族加分!$C$1:$E$65536,3,FALSE)","v":2},{"v":112.5,"d":"112.50"}]
[1581,"4152270605227","吴园媛","315独山县第四幼儿园","01幼儿教师",{"$f":"VLOOKUP(B1586,[1]Sheet1!$A:$I,8,0)","v":"60.50"},{"$f":"VLOOKUP(B1586,[1]Sheet1!$A:$I,9,0)","v":"51.00"},null,{"v":111.5,"d":"111.50"}]
[1585,"4152270605021","龙进喜","315独山县第四幼儿园","01幼儿教师",{"$f":"VLOOKUP(B1587,[1]Sheet1!$A:$I,8,0)","v":"65.50"},{"$f":"VLOOKUP(B1587,[1]Sheet1!$A:$I,9,0)","v":"43.50"},{"$f":"VLOOKUP(B1587,[2]少数民族加分!$C$1:$E$65536,3,FALSE)","v":2},{"v":111,"d":"111.00"}]
[1586,"4152270700411","潘茂蓉","315独山县第四幼儿园","01幼儿教师",{"$f":"VLOOKUP(B1588,[1]Sheet1!$A:$I,8,0)","v":"51.00"},{"$f":"VLOOKUP(B1588,[1]Sheet1!$A:$I,9,0)","v":"58.00"},{"$f":"VLOOKUP(B1588,[2]少数民族加分!$C$1:$E$65536,3,FALSE)","v":2},{"v":111,"d":"111.00"}]
[1588,"4152270701106","石如琴","315独山县第四幼儿园","01幼儿教师",{"$f":"VLOOKUP(B1589,[1]Sheet1!$A:$I,8,0)","v":"47.50"},{"$f":"VLOOKUP(B1589,[1]Sheet1!$A:$I,9,0)","v":"61.00"},{"$f":"VLOOKUP(B1589,[2]少数民族加分!$C$1:$E$65536,3,FALSE)","v":2},{"v":110.5,"d":"110.50"}]
[1589,"4152270603319","刘念","315独山县第四幼儿园","01幼儿教师",{"$f":"VLOOKUP(B1590,[1]Sheet1!$A:$I,8,0)","v":"54.50"},{"$f":"VLOOKUP(B1590,[1]Sheet1!$A:$I,9,0)","v":"54.00"},{"$f":"VLOOKUP(B1590,[2]少数民族加分!$C$1:$E$65536,3,FALSE)","v":2},{"v":110.5,"d":"110.50"}]
[1590,"4152270603822","封松芹","315独山县第四幼儿园","01幼儿教师",{"$f":"VLOOKUP(B1591,[1]Sheet1!$A:$I,8,0)","v":"65.50"},{"$f":"VLOOKUP(B1591,[1]Sheet1!$A:$I,9,0)","v":"43.00"},{"$f":"VLOOKUP(B1591,[2]少数民族加分!$C$1:$E$65536,3,FALSE)","v":2},{"v":110.5,"d":"110.50"}]
[1592,"4152270604601","莫万茸","315独山县第四幼儿园","01幼儿教师",{"$f":"VLOOKUP(B1592,[1]Sheet1!$A:$I,8,0)","v":"52.50"},{"$f":"VLOOKUP(B1592,[1]Sheet1!$A:$I,9,0)","v":"55.00"},{"$f":"VLOOKUP(B1592,[2]少数民族加分!$C$1:$E$65536,3,FALSE)","v":2},{"v":109.5,"d":"109.50"}]
[1593,"4152270605522","陆秀燕","315独山县第四幼儿园","01幼儿教师",{"$f":"VLOOKUP(B1593,[1]Sheet1!$A:$I,8,0)","v":"65.00"},{"$f":"VLOOKUP(B1593,[1]Sheet1!$A:$I,9,0)","v":"42.50"},{"$f":"VLOOKUP(B1593,[2]少数民族加分!$C$1:$E$65536,3,FALSE)","v":2},{"v":109.5,"d":"109.50"}]
[1587,"4152270700819","王兴菊","315独山县第四幼儿园","01幼儿教师",{"$f":"VLOOKUP(B1594,[1]Sheet1!$A:$I,8,0)","v":"77.50"},{"$f":"VLOOKUP(B1594,[1]Sheet1!$A:$I,9,0)","v":"31.50"},null,{"v":109,"d":"109.00"}]
[1594,"4152270603124","杨露露","315独山县第四幼儿园","01幼儿教师",{"$f":"VLOOKUP(B1595,[1]Sheet1!$A:$I,8,0)","v":"54.00"},{"$f":"VLOOKUP(B1595,[1]Sheet1!$A:$I,9,0)","v":"53.00"},{"$f":"VLOOKUP(B1595,[2]少数民族加分!$C$1:$E$65536,3,FALSE)","v":2},{"v":109,"d":"109.00"}]
[1591,"4152270604308","李明翠","315独山县第四幼儿园","01幼儿教师",{"$f":"VLOOKUP(B1596,[1]Sheet1!$A:$I,8,0)","v":"60.50"},{"$f":"VLOOKUP(B1596,[1]Sheet1!$A:$I,9,0)","v":"48.00"},null,{"v":108.5,"d":"108.50"}]
[1595,"4152270605606","周发睿","315独山县第四幼儿园","01幼儿教师",{"$f":"VLOOKUP(B1597,[1]Sheet1!$A:$I,8,0)","v":"56.00"},{"$f":"VLOOKUP(B1597,[1]Sheet1!$A:$I,9,0)","v":"50.00"},{"$f":"VLOOKUP(B1597,[2]少数民族加分!$C$1:$E$65536,3,FALSE)","v":2},{"v":108,"d":"108.00"}]
[1596,"4152270605406","韦学想","315独山县第四幼儿园","01幼儿教师",{"$f":"VLOOKUP(B1598,[1]Sheet1!$A:$I,8,0)","v":"41.50"},{"$f":"VLOOKUP(B1598,[1]Sheet1!$A:$I,9,0)","v":"64.00"},{"$f":"VLOOKUP(B1598,[2]少数民族加分!$C$1:$E$65536,3,FALSE)","v":2},{"v":107.5,"d":"107.50"}]
[1597,"4152270604113","龙美琳","315独山县第四幼儿园","01幼儿教师",{"$f":"VLOOKUP(B1599,[1]Sheet1!$A:$I,8,0)","v":"59.50"},{"$f":"VLOOKUP(B1599,[1]Sheet1!$A:$I,9,0)","v":"46.00"},{"$f":"VLOOKUP(B1599,[2]少数民族加分!$C$1:$E$65536,3,FALSE)","v":2},{"v":107.5,"d":"107.50"}]
[1598,"4152270604215","罗瑞","315独山县第四幼儿园","01幼儿教师",{"$f":"VLOOKUP(B1600,[1]Sheet1!$A:$I,8,0)","v":"43.50"},{"$f":"VLOOKUP(B1600,[1]Sheet1!$A:$I,9,0)","v":"62.00"},{"$f":"VLOOKUP(B1600,[2]少数民族加分!$C$1:$E$65536,3,FALSE)","v":2},{"v":107.5,"d":"107.50"}]
[1599,"4152270605419","吴金香","315独山县第四幼儿园","01幼儿教师",{"$f":"VLOOKUP(B1601,[1]Sheet1!$A:$I,8,0)","v":"52.00"},{"$f":"VLOOKUP(B1601,[1]Sheet1!$A:$I,9,0)","v":"53.00"},{"$f":"VLOOKUP(B1601,[2]少数民族加分!$C$1:$E$65536,3,FALSE)","v":2},{"v":107,"d":"107.00"}]
[1600,"4152270604422","韦仁溪","315独山县第四幼儿园","01幼儿教师",{"$f":"VLOOKUP(B1602,[1]Sheet1!$A:$I,8,0)","v":"57.50"},{"$f":"VLOOKUP(B1602,[1]Sheet1!$A:$I,9,0)","v":"47.00"},{"$f":"VLOOKUP(B1602,[2]少数民族加分!$C$1:$E$65536,3,FALSE)","v":2},{"v":106.5,"d":"106.50"}]
[1601,"4152270603210","黄元春","315独山县第四幼儿园","01幼儿教师",{"$f":"VLOOKUP(B1603,[1]Sheet1!$A:$I,8,0)","v":"52.00"},{"$f":"VLOOKUP(B1603,[1]Sheet1!$A:$I,9,0)","v":"52.00"},{"$f":"VLOOKUP(B1603,[2]少数民族加分!$C$1:$E$65536,3,FALSE)","v":2},{"v":106,"d":"106.00"}]
[1602,"4152270603225","罗凤姣","315独山县第四幼儿园","01幼儿教师",{"$f":"VLOOKUP(B1604,[1]Sheet1!$A:$I,8,0)","v":"49.00"},{"$f":"VLOOKUP(B1604,[1]Sheet1!$A:$I,9,0)","v":"55.00"},{"$f":"VLOOKUP(B1604,[2]少数民族加分!$C$1:$E$65536,3,FALSE)","v":2},{"v":106,"d":"106.00"}]
[1603,"4152270605430","杨小英","315独山县第四幼儿园","01幼儿教师",{"$f":"VLOOKUP(B1605,[1]Sheet1!$A:$I,8,0)","v":"48.00"},{"$f":"VLOOKUP(B1605,[1]Sheet1!$A:$I,9,0)","v":"56.00"},{"$f":"VLOOKUP(B1605,[2]少数民族加分!$C$1:$E$65536,3,FALSE)","v":2},{"v":106,"d":"106.00"}]
[1605,"4152270700613","谭茜","315独山县第四幼儿园","01幼儿教师",{"$f":"VLOOKUP(B1606,[1]Sheet1!$A:$I,8,0)","v":"54.00"},{"$f":"VLOOKUP(B1606,[1]Sheet1!$A:$I,9,0)","v":"49.00"},{"$f":"VLOOKUP(B1606,[2]少数民族加分!$C$1:$E$65536,3,FALSE)","v":2},{"v":105,"d":"105.00"}]
[1607,"4152270603109","李加园","315独山县第四幼儿园","01幼儿教师",{"$f":"VLOOKUP(B1607,[1]Sheet1!$A:$I,8,0)","v":"47.50"},{"$f":"VLOOKUP(B1607,[1]Sheet1!$A:$I,9,0)","v":"55.00"},{"$f":"VLOOKUP(B1607,[2]少数民族加分!$C$1:$E$65536,3,FALSE)","v":2},{"v":104.5,"d":"104.50"}]
[1604,"4152270701030","郭应丹","315独山县第四幼儿园","01幼儿教师",{"$f":"VLOOKUP(B1608,[1]Sheet1!$A:$I,8,0)","v":"53.00"},{"$f":"VLOOKUP(B1608,[1]Sheet1!$A:$I,9,0)","v":"51.00"},null,{"v":104,"d":"104.00"}]
[1606,"4152270700530","张文燕","315独山县第四幼儿园","01幼儿教师",{"$f":"VLOOKUP(B1609,[1]Sheet1!$A:$I,8,0)","v":"52.50"},{"$f":"VLOOKUP(B1609,[1]Sheet1!$A:$I,9,0)","v":"50.00"},null,{"v":102.5,"d":"102.50"}]
[1609,"4152270700412","梁小碟","315独山县第四幼儿园","01幼儿教师",{"$f":"VLOOKUP(B1610,[1]Sheet1!$A:$I,8,0)","v":"52.50"},{"$f":"VLOOKUP(B1610,[1]Sheet1!$A:$I,9,0)","v":"48.00"},{"$f":"VLOOKUP(B1610,[2]少数民族加分!$C$1:$E$65536,3,FALSE)","v":2},{"v":102.5,"d":"102.50"}]
[1611,"4152270602712","周州","315独山县第四幼儿园","01幼儿教师",{"$f":"VLOOKUP(B1611,[1]Sheet1!$A:$I,8,0)","v":"45.00"},{"$f":"VLOOKUP(B1611,[1]Sheet1!$A:$I,9,0)","v":"55.00"},{"$f":"VLOOKUP(B1611,[2]少数民族加分!$C$1:$E$65536,3,FALSE)","v":2},{"v":102,"d":"102.00"}]
[1608,"4152270604014","杨纯","315独山县第四幼儿园","01幼儿教师",{"$f":"VLOOKUP(B1612,[1]Sheet1!$A:$I,8,0)","v":"49.50"},{"$f":"VLOOKUP(B1612,[1]Sheet1!$A:$I,9,0)","v":"51.00"},null,{"v":100.5,"d":"100.50"}]
[1610,"4152270700830","宋继梅","315独山县第四幼儿园","01幼儿教师",{"$f":"VLOOKUP(B1613,[1]Sheet1!$A:$I,8,0)","v":"45.00"},{"$f":"VLOOKUP(B1613,[1]Sheet1!$A:$I,9,0)","v":"55.00"},null,{"v":100,"d":"100.00"}]
[1613,"4152270701121","范相鲜","315独山县第四幼儿园","01幼儿教师",{"$f":"VLOOKUP(B1614,[1]Sheet1!$A:$I,8,0)","v":"61.00"},{"$f":"VLOOKUP(B1614,[1]Sheet1!$A:$I,9,0)","v":"35.00"},{"$f":"VLOOKUP(B1614,[2]少数民族加分!$C$1:$E$65536,3,FALSE)","v":2},{"v":98,"d":"98.00"}]
[1612,"4152270603523","侯霞","315独山县第四幼儿园","01幼儿教师",{"$f":"VLOOKUP(B1615,[1]Sheet1!$A:$I,8,0)","v":"49.50"},{"$f":"VLOOKUP(B1615,[1]Sheet1!$A:$I,9,0)","v":"48.00"},null,{"v":97.5,"d":"97.50"}]
[1614,"4152270605619","向金爽","315独山县第四幼儿园","01幼儿教师",{"$f":"VLOOKUP(B1616,[1]Sheet1!$A:$I,8,0)","v":"56.00"},{"$f":"VLOOKUP(B1616,[1]Sheet1!$A:$I,9,0)","v":"39.00"},{"$f":"VLOOKUP(B1616,[2]少数民族加分!$C$1:$E$65536,3,FALSE)","v":2},{"v":97,"d":"97.00"}]
[1615,"4152270602812","陆荣芳","315独山县第四幼儿园","01幼儿教师",{"$f":"VLOOKUP(B1617,[1]Sheet1!$A:$I,8,0)","v":"45.00"},{"$f":"VLOOKUP(B1617,[1]Sheet1!$A:$I,9,0)","v":"50.00"},{"$f":"VLOOKUP(B1617,[2]少数民族加分!$C$1:$E$65536,3,FALSE)","v":2},{"v":97,"d":"97.00"}]
[1616,"4152270603430","田艺","315独山县第四幼儿园","01幼儿教师",{"$f":"VLOOKUP(B1618,[1]Sheet1!$A:$I,8,0)","v":"50.50"},{"$f":"VLOOKUP(B1618,[1]Sheet1!$A:$I,9,0)","v":"44.00"},{"$f":"VLOOKUP(B1618,[2]少数民族加分!$C$1:$E$65536,3,FALSE)","v":2},{"v":96.5,"d":"96.50"}]
[1617,"4152270604801","马琳倩","315独山县第四幼儿园","01幼儿教师",{"$f":"VLOOKUP(B1619,[1]Sheet1!$A:$I,8,0)","v":"52.50"},{"$f":"VLOOKUP(B1619,[1]Sheet1!$A:$I,9,0)","v":"42.00"},{"$f":"VLOOKUP(B1619,[2]少数民族加分!$C$1:$E$65536,3,FALSE)","v":2},{"v":96.5,"d":"96.50"}]
[1618,"4152270700309","艾奇苏","315独山县第四幼儿园","01幼儿教师",{"$f":"VLOOKUP(B1620,[1]Sheet1!$A:$I,8,0)","v":"53.50"},{"$f":"VLOOKUP(B1620,[1]Sheet1!$A:$I,9,0)","v":"40.00"},{"$f":"VLOOKUP(B1620,[2]少数民族加分!$C$1:$E$65536,3,FALSE)","v":2},{"v":95.5,"d":"95.50"}]
[1619,"4152270604907","黄丽","315独山县第四幼儿园","01幼儿教师",{"$f":"VLOOKUP(B1621,[1]Sheet1!$A:$I,8,0)","v":"43.00"},{"$f":"VLOOKUP(B1621,[1]Sheet1!$A:$I,9,0)","v":"50.00"},null,{"v":93,"d":"93.00"}]
[1620,"4152270700921","黄景道","315独山县第四幼儿园","01幼儿教师",{"$f":"VLOOKUP(B1622,[1]Sheet1!$A:$I,8,0)","v":"47.00"},{"$f":"VLOOKUP(B1622,[1]Sheet1!$A:$I,9,0)","v":"44.00"},{"$f":"VLOOKUP(B1622,[2]少数民族加分!$C$1:$E$65536,3,FALSE)","v":2},{"v":93,"d":"93.00"}]
[1621,"4152270605130","莫昌颖","315独山县第四幼儿园","01幼儿教师",{"$f":"VLOOKUP(B1623,[1]Sheet1!$A:$I,8,0)","v":"41.50"},{"$f":"VLOOKUP(B1623,[1]Sheet1!$A:$I,9,0)","v":"49.00"},{"$f":"VLOOKUP(B1623,[2]少数民族加分!$C$1:$E$65536,3,FALSE)","v":2},{"v":92.5,"d":"92.50"}]
[1622,"4152270603122","石礼晶","315独山县第四幼儿园","01幼儿教师",{"$f":"VLOOKUP(B1624,[1]Sheet1!$A:$I,8,0)","v":"50.00"},{"$f":"VLOOKUP(B1624,[1]Sheet1!$A:$I,9,0)","v":"39.00"},{"$f":"VLOOKUP(B1624,[2]少数民族加分!$C$1:$E$65536,3,FALSE)","v":2},{"v":91,"d":"91.00"}]
[1623,"4152270605110","潘小月","315独山县第四幼儿园","01幼儿教师",{"$f":"VLOOKUP(B1625,[1]Sheet1!$A:$I,8,0)","v":"45.00"},{"$f":"VLOOKUP(B1625,[1]Sheet1!$A:$I,9,0)","v":"43.00"},{"$f":"VLOOKUP(B1625,[2]少数民族加分!$C$1:$E$65536,3,FALSE)","v":2},{"v":90,"d":"90.00"}]
[1624,"4152270603527","潘应红","315独山县第四幼儿园","01幼儿教师",{"$f":"VLOOKUP(B1626,[1]Sheet1!$A:$I,8,0)","v":"47.50"},{"$f":"VLOOKUP(B1626,[1]Sheet1!$A:$I,9,0)","v":"40.00"},{"$f":"VLOOKUP(B1626,[2]少数民族加分!$C$1:$E$65536,3,FALSE)","v":2},{"v":89.5,"d":"89.50"}]
[1625,"4152270605007","罗米秧","315独山县第四幼儿园","01幼儿教师",{"$f":"VLOOKUP(B1627,[1]Sheet1!$A:$I,8,0)","v":"53.00"},{"$f":"VLOOKUP(B1627,[1]Sheet1!$A:$I,9,0)","v":"33.00"},{"$f":"VLOOKUP(B1627,[2]少数民族加分!$C$1:$E$65536,3,FALSE)","v":2},{"v":88,"d":"88.00"}]
[1626,"4152270602914","杨茂慧","315独山县第四幼儿园","01幼儿教师",{"$f":"VLOOKUP(B1628,[1]Sheet1!$A:$I,8,0)","v":"40.50"},{"$f":"VLOOKUP(B1628,[1]Sheet1!$A:$I,9,0)","v":"44.00"},{"$f":"VLOOKUP(B1628,[2]少数民族加分!$C$1:$E$65536,3,FALSE)","v":2},{"v":86.5,"d":"86.50"}]
[1627,"4152270605006","蒙焕菊","315独山县第四幼儿园","01幼儿教师",{"$f":"VLOOKUP(B1629,[1]Sheet1!$A:$I,8,0)","v":"45.50"},{"$f":"VLOOKUP(B1629,[1]Sheet1!$A:$I,9,0)","v":"39.00"},{"$f":"VLOOKUP(B1629,[2]少数民族加分!$C$1:$E$65536,3,FALSE)","v":2},{"v":86.5,"d":"86.50"}]
[1628,"4152270603114","吴红丹","315独山县第四幼儿园","01幼儿教师",{"$f":"VLOOKUP(B1630,[1]Sheet1!$A:$I,8,0)","v":"43.00"},{"$f":"VLOOKUP(B1630,[1]Sheet1!$A:$I,9,0)","v":"40.00"},{"$f":"VLOOKUP(B1630,[2]少数民族加分!$C$1:$E$65536,3,FALSE)","v":2},{"v":85,"d":"85.00"}]
[1629,"4152270700929","陈树芝","315独山县第四幼儿园","01幼儿教师",{"$f":"VLOOKUP(B1631,[1]Sheet1!$A:$I,8,0)","v":"38.00"},{"$f":"VLOOKUP(B1631,[1]Sheet1!$A:$I,9,0)","v":"45.00"},{"$f":"VLOOKUP(B1631,[2]少数民族加分!$C$1:$E$65536,3,FALSE)","v":2},{"v":85,"d":"85.00"}]
[1630,"4152270604223","金瑜","315独山县第四幼儿园","01幼儿教师",{"$f":"VLOOKUP(B1632,[1]Sheet1!$A:$I,8,0)","v":"56.00"},{"$f":"VLOOKUP(B1632,[1]Sheet1!$A:$I,9,0)","v":"26.00"},{"$f":"VLOOKUP(B1632,[2]少数民族加分!$C$1:$E$65536,3,FALSE)","v":2},{"v":84,"d":"84.00"}]
[1631,"4152270602906","曾思谋","315独山县第四幼儿园","01幼儿教师",{"$f":"VLOOKUP(B1633,[1]Sheet1!$A:$I,8,0)","v":"39.00"},{"$f":"VLOOKUP(B1633,[1]Sheet1!$A:$I,9,0)","v":"42.00"},{"$f":"VLOOKUP(B1633,[2]少数民族加分!$C$1:$E$65536,3,FALSE)","v":2},{"v":83,"d":"83.00"}]
[1632,"4152270701020","王绍娇","315独山县第四幼儿园","01幼儿教师",{"$f":"VLOOKUP(B1634,[1]Sheet1!$A:$I,8,0)","v":"63.00"},{"$f":"VLOOKUP(B1634,[1]Sheet1!$A:$I,9,0)","v":"16.00"},{"$f":"VLOOKUP(B1634,[2]少数民族加分!$C$1:$E$65536,3,FALSE)","v":2},{"v":81,"d":"81.00"}]
[1633,"4152270603428","赵树雪","315独山县第四幼儿园","01幼儿教师",{"$f":"VLOOKUP(B1635,[1]Sheet1!$A:$I,8,0)","v":"34.50"},{"$f":"VLOOKUP(B1635,[1]Sheet1!$A:$I,9,0)","v":"43.00"},{"$f":"VLOOKUP(B1635,[2]少数民族加分!$C$1:$E$65536,3,FALSE)","v":2},{"v":79.5,"d":"79.50"}]
[1634,"4152270603005","孟昌应","315独山县第四幼儿园","01幼儿教师",{"$f":"VLOOKUP(B1636,[1]Sheet1!$A:$I,8,0)","v":"42.00"},{"$f":"VLOOKUP(B1636,[1]Sheet1!$A:$I,9,0)","v":"34.00"},null,{"v":76,"d":"76.00"}]
[1635,"4152270602620","赵荣涛","315独山县第四幼儿园","01幼儿教师",{"$f":"VLOOKUP(B1637,[1]Sheet1!$A:$I,8,0)","v":"40.50"},{"$f":"VLOOKUP(B1637,[1]Sheet1!$A:$I,9,0)","v":"32.00"},{"$f":"VLOOKUP(B1637,[2]少数民族加分!$C$1:$E$65536,3,FALSE)","v":2},{"v":74.5,"d":"74.50"}]
[1636,"4152270604214","彭光浪","315独山县第四幼儿园","01幼儿教师",{"$f":"VLOOKUP(B1638,[1]Sheet1!$A:$I,8,0)","v":"58.50"},{"$f":"VLOOKUP(B1638,[1]Sheet1!$A:$I,9,0)","v":"10.00"},{"$f":"VLOOKUP(B1638,[2]少数民族加分!$C$1:$E$65536,3,FALSE)","v":2},{"v":70.5,"d":"70.50"}]
[1637,"4152270603813","潘兴妹","315独山县第四幼儿园","01幼儿教师",{"$f":"VLOOKUP(B1639,[1]Sheet1!$A:$I,8,0)","v":"46.00"},{"$f":"VLOOKUP(B1639,[1]Sheet1!$A:$I,9,0)","v":"21.00"},{"$f":"VLOOKUP(B1639,[2]少数民族加分!$C$1:$E$65536,3,FALSE)","v":2},{"v":69,"d":"69.00"}]
[1638,"4152270602628","姚江柳","315独山县第四幼儿园","01幼儿教师",{"$f":"VLOOKUP(B1640,[1]Sheet1!$A:$I,8,0)","v":"0.00"},{"$f":"VLOOKUP(B1640,[1]Sheet1!$A:$I,9,0)","v":"0.00"},{"$f":"VLOOKUP(B1640,[2]少数民族加分!$C$1:$E$65536,3,FALSE)","v":2},"缺考"]
[1639,"4152270602912","廖修芬","315独山县第四幼儿园","01幼儿教师",{"$f":"VLOOKUP(B1641,[1]Sheet1!$A:$I,8,0)","v":"0.00"},{"$f":"VLOOKUP(B1641,[1]Sheet1!$A:$I,9,0)","v":"0.00"},null,"缺考"]
[1640,"4152270602916","罗桂红","315独山县第四幼儿园","01幼儿教师",{"$f":"VLOOKUP(B1642,[1]Sheet1!$A:$I,8,0)","v":"0.00"},{"$f":"VLOOKUP(B1642,[1]Sheet1!$A:$I,9,0)","v":"0.00"},{"$f":"VLOOKUP(B1642,[2]少数民族加分!$C$1:$E$65536,3,FALSE)","v":2},"缺考"]
[1641,"4152270603316","张静","315独山县第四幼儿园","01幼儿教师",{"$f":"VLOOKUP(B1643,[1]Sheet1!$A:$I,8,0)","v":"0.00"},{"$f":"VLOOKUP(B1643,[1]Sheet1!$A:$I,9,0)","v":"0.00"},null,"缺考"]
[1642,"4152270603421","陈丹","315独山县第四幼儿园","01幼儿教师",{"$f":"VLOOKUP(B1644,[1]Sheet1!$A:$I,8,0)","v":"0.00"},{"$f":"VLOOKUP(B1644,[1]Sheet1!$A:$I,9,0)","v":"0.00"},null,"缺考"]
[1643,"4152270603702","蒙兴云","315独山县第四幼儿园","01幼儿教师",{"$f":"VLOOKUP(B1645,[1]Sheet1!$A:$I,8,0)","v":"0.00"},{"$f":"VLOOKUP(B1645,[1]Sheet1!$A:$I,9,0)","v":"0.00"},{"$f":"VLOOKUP(B1645,[2]少数民族加分!$C$1:$E$65536,3,FALSE)","v":2},"缺考"]
[1644,"4152270603705","吴利霜","315独山县第四幼儿园","01幼儿教师",{"$f":"VLOOKUP(B1646,[1]Sheet1!$A:$I,8,0)","v":"0.00"},{"$f":"VLOOKUP(B1646,[1]Sheet1!$A:$I,9,0)","v":"0.00"},{"$f":"VLOOKUP(B1646,[2]少数民族加分!$C$1:$E$65536,3,FALSE)","v":2},"缺考"]
[1645,"4152270603825","杨梨","315独山县第四幼儿园","01幼儿教师",{"$f":"VLOOKUP(B1647,[1]Sheet1!$A:$I,8,0)","v":"0.00"},{"$f":"VLOOKUP(B1647,[1]Sheet1!$A:$I,9,0)","v":"0.00"},{"$f":"VLOOKUP(B1647,[2]少数民族加分!$C$1:$E$65536,3,FALSE)","v":2},"缺考"]
[1646,"4152270603826","孟贵平","315独山县第四幼儿园","01幼儿教师",{"$f":"VLOOKUP(B1648,[1]Sheet1!$A:$I,8,0)","v":"0.00"},{"$f":"VLOOKUP(B1648,[1]Sheet1!$A:$I,9,0)","v":"0.00"},{"$f":"VLOOKUP(B1648,[2]少数民族加分!$C$1:$E$65536,3,FALSE)","v":2},"缺考"]
[1647,"4152270604026","冷云","315独山县第四幼儿园","01幼儿教师",{"$f":"VLOOKUP(B1649,[1]Sheet1!$A:$I,8,0)","v":"0.00"},{"$f":"VLOOKUP(B1649,[1]Sheet1!$A:$I,9,0)","v":"0.00"},null,"缺考"]
[1648,"4152270604127","蒋卉","315独山县第四幼儿园","01幼儿教师",{"$f":"VLOOKUP(B1650,[1]Sheet1!$A:$I,8,0)","v":"0.00"},{"$f":"VLOOKUP(B1650,[1]Sheet1!$A:$I,9,0)","v":"0.00"},null,"缺考"]
[1649,"4152270604504","甘杰","315独山县第四幼儿园","01幼儿教师",{"$f":"VLOOKUP(B1651,[1]Sheet1!$A:$I,8,0)","v":"0.00"},{"$f":"VLOOKUP(B1651,[1]Sheet1!$A:$I,9,0)","v":"0.00"},null,"缺考"]
[1650,"4152270604905","韦耀丹","315独山县第四幼儿园","01幼儿教师",{"$f":"VLOOKUP(B1652,[1]Sheet1!$A:$I,8,0)","v":"0.00"},{"$f":"VLOOKUP(B1652,[1]Sheet1!$A:$I,9,0)","v":"0.00"},{"$f":"VLOOKUP(B1652,[2]少数民族加分!$C$1:$E$65536,3,FALSE)","v":2},"缺考"]
[1651,"4152270604924","景登飞","315独山县第四幼儿园","01幼儿教师",{"$f":"VLOOKUP(B1653,[1]Sheet1!$A:$I,8,0)","v":"0.00"},{"$f":"VLOOKUP(B1653,[1]Sheet1!$A:$I,9,0)","v":"0.00"},{"$f":"VLOOKUP(B1653,[2]少数民族加分!$C$1:$E$65536,3,FALSE)","v":2},"缺考"]
[1652,"4152270605019","熊朝梅","315独山县第四幼儿园","01幼儿教师",{"$f":"VLOOKUP(B1654,[1]Sheet1!$A:$I,8,0)","v":"0.00"},{"$f":"VLOOKUP(B1654,[1]Sheet1!$A:$I,9,0)","v":"0.00"},{"$f":"VLOOKUP(B1654,[2]少数民族加分!$C$1:$E$65536,3,FALSE)","v":2},"缺考"]
[1653,"4152270605026","罗双双","315独山县第四幼儿园","01幼儿教师",{"$f":"VLOOKUP(B1655,[1]Sheet1!$A:$I,8,0)","v":"0.00"},{"$f":"VLOOKUP(B1655,[1]Sheet1!$A:$I,9,0)","v":"0.00"},{"$f":"VLOOKUP(B1655,[2]少数民族加分!$C$1:$E$65536,3,FALSE)","v":2},"缺考"]
[1654,"4152270605122","杨艳梅","315独山县第四幼儿园","01幼儿教师",{"$f":"VLOOKUP(B1656,[1]Sheet1!$A:$I,8,0)","v":"0.00"},{"$f":"VLOOKUP(B1656,[1]Sheet1!$A:$I,9,0)","v":"0.00"},{"$f":"VLOOKUP(B1656,[2]少数民族加分!$C$1:$E$65536,3,FALSE)","v":2},"缺考"]
[1655,"4152270605222","陈娇","315独山县第四幼儿园","01幼儿教师",{"$f":"VLOOKUP(B1657,[1]Sheet1!$A:$I,8,0)","v":"0.00"},{"$f":"VLOOKUP(B1657,[1]Sheet1!$A:$I,9,0)","v":"0.00"},null,"缺考"]
[1656,"4152270605229","汪家俊","315独山县第四幼儿园","01幼儿教师",{"$f":"VLOOKUP(B1658,[1]Sheet1!$A:$I,8,0)","v":"0.00"},{"$f":"VLOOKUP(B1658,[1]Sheet1!$A:$I,9,0)","v":"0.00"},null,"缺考"]
[1657,"4152270605321","莫雪","315独山县第四幼儿园","01幼儿教师",{"$f":"VLOOKUP(B1659,[1]Sheet1!$A:$I,8,0)","v":"0.00"},{"$f":"VLOOKUP(B1659,[1]Sheet1!$A:$I,9,0)","v":"0.00"},{"$f":"VLOOKUP(B1659,[2]少数民族加分!$C$1:$E$65536,3,FALSE)","v":2},"缺考"]
[1658,"4152270605613","杨飞","315独山县第四幼儿园","01幼儿教师",{"$f":"VLOOKUP(B1660,[1]Sheet1!$A:$I,8,0)","v":"0.00"},{"$f":"VLOOKUP(B1660,[1]Sheet1!$A:$I,9,0)","v":"0.00"},null,"缺考"]
[1659,"4152270700322","吴谋兰","315独山县第四幼儿园","01幼儿教师",{"$f":"VLOOKUP(B1661,[1]Sheet1!$A:$I,8,0)","v":"0.00"},{"$f":"VLOOKUP(B1661,[1]Sheet1!$A:$I,9,0)","v":"0.00"},{"$f":"VLOOKUP(B1661,[2]少数民族加分!$C$1:$E$65536,3,FALSE)","v":2},"缺考"]
[1660,"4152270700416","龙霞","315独山县第四幼儿园","01幼儿教师",{"$f":"VLOOKUP(B1662,[1]Sheet1!$A:$I,8,0)","v":"0.00"},{"$f":"VLOOKUP(B1662,[1]Sheet1!$A:$I,9,0)","v":"0.00"},{"$f":"VLOOKUP(B1662,[2]少数民族加分!$C$1:$E$65536,3,FALSE)","v":2},"缺考"]
[1661,"4152270700623","姜仙兰","315独山县第四幼儿园","01幼儿教师",{"$f":"VLOOKUP(B1663,[1]Sheet1!$A:$I,8,0)","v":"0.00"},{"$f":"VLOOKUP(B1663,[1]Sheet1!$A:$I,9,0)","v":"0.00"},{"$f":"VLOOKUP(B1663,[2]少数民族加分!$C$1:$E$65536,3,FALSE)","v":2},"缺考"]
[1662,"4152270700624","黄庭文","315独山县第四幼儿园","01幼儿教师",{"$f":"VLOOKUP(B1664,[1]Sheet1!$A:$I,8,0)","v":"0.00"},{"$f":"VLOOKUP(B1664,[1]Sheet1!$A:$I,9,0)","v":"0.00"},{"$f":"VLOOKUP(B1664,[2]少数民族加分!$C$1:$E$65536,3,FALSE)","v":2},"缺考"]
[1663,"4152270700627","罗江银","315独山县第四幼儿园","01幼儿教师",{"$f":"VLOOKUP(B1665,[1]Sheet1!$A:$I,8,0)","v":"0.00"},{"$f":"VLOOKUP(B1665,[1]Sheet1!$A:$I,9,0)","v":"0.00"},{"$f":"VLOOKUP(B1665,[2]少数民族加分!$C$1:$E$65536,3,FALSE)","v":2},"缺考"]
[1664,"4152270700715","熊元花","315独山县第四幼儿园","01幼儿教师",{"$f":"VLOOKUP(B1666,[1]Sheet1!$A:$I,8,0)","v":"0.00"},{"$f":"VLOOKUP(B1666,[1]Sheet1!$A:$I,9,0)","v":"0.00"},null,"缺考"]
[1665,"4152270700718","杨政兰","315独山县第四幼儿园","01幼儿教师",{"$f":"VLOOKUP(B1667,[1]Sheet1!$A:$I,8,0)","v":"0.00"},{"$f":"VLOOKUP(B1667,[1]Sheet1!$A:$I,9,0)","v":"0.00"},{"$f":"VLOOKUP(B1667,[2]少数民族加分!$C$1:$E$65536,3,FALSE)","v":2},"缺考"]
[1666,"4152270700725","杨晓鲜","315独山县第四幼儿园","01幼儿教师",{"$f":"VLOOKUP(B1668,[1]Sheet1!$A:$I,8,0)","v":"0.00"},{"$f":"VLOOKUP(B1668,[1]Sheet1!$A:$I,9,0)","v":"0.00"},{"$f":"VLOOKUP(B1668,[2]少数民族加分!$C$1:$E$65536,3,FALSE)","v":2},"缺考"]
[1667,"4152270700811","唐转红","315独山县第四幼儿园","01幼儿教师",{"$f":"VLOOKUP(B1669,[1]Sheet1!$A:$I,8,0)","v":"0.00"},{"$f":"VLOOKUP(B1669,[1]Sheet1!$A:$I,9,0)","v":"0.00"},null,"缺考"]
[1668,"4152270700911","赵桔园","315独山县第四幼儿园","01幼儿教师",{"$f":"VLOOKUP(B1670,[1]Sheet1!$A:$I,8,0)","v":"0.00"},{"$f":"VLOOKUP(B1670,[1]Sheet1!$A:$I,9,0)","v":"0.00"},{"$f":"VLOOKUP(B1670,[2]少数民族加分!$C$1:$E$65536,3,FALSE)","v":2},"缺考"]
[1669,"4152270701124","陆青青","315独山县第四幼儿园","01幼儿教师",{"$f":"VLOOKUP(B1671,[1]Sheet1!$A:$I,8,0)","v":"0.00"},{"$f":"VLOOKUP(B1671,[1]Sheet1!$A:$I,9,0)","v":"0.00"},{"$f":"VLOOKUP(B1671,[2]少数民族加分!$C$1:$E$65536,3,FALSE)","v":2},"缺考"]
[1670,"4152270701205","奚可磷","315独山县第四幼儿园","01幼儿教师",{"$f":"VLOOKUP(B1672,[1]Sheet1!$A:$I,8,0)","v":"0.00"},{"$f":"VLOOKUP(B1672,[1]Sheet1!$A:$I,9,0)","v":"0.00"},null,"缺考"]
[1671,"4252270706528","张仁片","316独山县民族中学","01高中语文教师",{"$f":"VLOOKUP(B1673,[1]Sheet1!$A:$I,8,0)","v":"93.50"},{"$f":"VLOOKUP(B1673,[1]Sheet1!$A:$I,9,0)","v":"87.50"},{"$f":"VLOOKUP(B1673,[2]少数民族加分!$C$1:$E$65536,3,FALSE)","v":2},{"v":183,"d":"183.00"}]
[1672,"4252270704521","陈举娅","316独山县民族中学","01高中语文教师",{"$f":"VLOOKUP(B1674,[1]Sheet1!$A:$I,8,0)","v":"85.00"},{"$f":"VLOOKUP(B1674,[1]Sheet1!$A:$I,9,0)","v":"90.00"},null,{"v":175,"d":"175.00"}]
[1673,"4252270701826","苏一鸣","316独山县民族中学","01高中语文教师",{"$f":"VLOOKUP(B1675,[1]Sheet1!$A:$I,8,0)","v":"82.00"},{"$f":"VLOOKUP(B1675,[1]Sheet1!$A:$I,9,0)","v":"91.00"},{"$f":"VLOOKUP(B1675,[2]少数民族加分!$C$1:$E$65536,3,FALSE)","v":2},{"v":175,"d":"175.00"}]
[1674,"4252270703506","蒙帮季","316独山县民族中学","01高中语文教师",{"$f":"VLOOKUP(B1676,[1]Sheet1!$A:$I,8,0)","v":"73.00"},{"$f":"VLOOKUP(B1676,[1]Sheet1!$A:$I,9,0)","v":"96.00"},{"$f":"VLOOKUP(B1676,[2]少数民族加分!$C$1:$E$65536,3,FALSE)","v":2},{"v":171,"d":"171.00"}]
[1675,"4252270703813","鄢慧婧","316独山县民族中学","01高中语文教师",{"$f":"VLOOKUP(B1677,[1]Sheet1!$A:$I,8,0)","v":"88.50"},{"$f":"VLOOKUP(B1677,[1]Sheet1!$A:$I,9,0)","v":"71.00"},{"$f":"VLOOKUP(B1677,[2]少数民族加分!$C$1:$E$65536,3,FALSE)","v":2},{"v":161.5,"d":"161.50"}]
[1676,"4252270703824","陆季","316独山县民族中学","01高中语文教师",{"$f":"VLOOKUP(B1678,[1]Sheet1!$A:$I,8,0)","v":"77.00"},{"$f":"VLOOKUP(B1678,[1]Sheet1!$A:$I,9,0)","v":"82.00"},{"$f":"VLOOKUP(B1678,[2]少数民族加分!$C$1:$E$65536,3,FALSE)","v":2},{"v":161,"d":"161.00"}]
[1677,"4252270704529","李国英","316独山县民族中学","01高中语文教师",{"$f":"VLOOKUP(B1679,[1]Sheet1!$A:$I,8,0)","v":"74.50"},{"$f":"VLOOKUP(B1679,[1]Sheet1!$A:$I,9,0)","v":"81.00"},{"$f":"VLOOKUP(B1679,[2]少数民族加分!$C$1:$E$65536,3,FALSE)","v":2},{"v":157.5,"d":"157.50"}]
[1678,"4252270705022","潘丽","316独山县民族中学","01高中语文教师",{"$f":"VLOOKUP(B1680,[1]Sheet1!$A:$I,8,0)","v":"74.00"},{"$f":"VLOOKUP(B1680,[1]Sheet1!$A:$I,9,0)","v":"80.00"},{"$f":"VLOOKUP(B1680,[2]少数民族加分!$C$1:$E$65536,3,FALSE)","v":2},{"v":156,"d":"156.00"}]
[1679,"4252270702026","沈有英","316独山县民族中学","01高中语文教师",{"$f":"VLOOKUP(B1681,[1]Sheet1!$A:$I,8,0)","v":"75.00"},{"$f":"VLOOKUP(B1681,[1]Sheet1!$A:$I,9,0)","v":"78.00"},{"$f":"VLOOKUP(B1681,[2]少数民族加分!$C$1:$E$65536,3,FALSE)","v":2},{"v":155,"d":"155.00"}]
[1680,"4252270705620","杨丽芳","316独山县民族中学","01高中语文教师",{"$f":"VLOOKUP(B1682,[1]Sheet1!$A:$I,8,0)","v":"92.50"},{"$f":"VLOOKUP(B1682,[1]Sheet1!$A:$I,9,0)","v":"58.00"},{"$f":"VLOOKUP(B1682,[2]少数民族加分!$C$1:$E$65536,3,FALSE)","v":2},{"v":152.5,"d":"152.50"}]
[1681,"4252270701526","石海愿","316独山县民族中学","01高中语文教师",{"$f":"VLOOKUP(B1683,[1]Sheet1!$A:$I,8,0)","v":"91.50"},{"$f":"VLOOKUP(B1683,[1]Sheet1!$A:$I,9,0)","v":"57.50"},{"$f":"VLOOKUP(B1683,[2]少数民族加分!$C$1:$E$65536,3,FALSE)","v":2},{"v":151,"d":"151.00"}]
[1682,"4252270705523","龙锡芳","316独山县民族中学","01高中语文教师",{"$f":"VLOOKUP(B1684,[1]Sheet1!$A:$I,8,0)","v":"72.50"},{"$f":"VLOOKUP(B1684,[1]Sheet1!$A:$I,9,0)","v":"73.00"},{"$f":"VLOOKUP(B1684,[2]少数民族加分!$C$1:$E$65536,3,FALSE)","v":2},{"v":147.5,"d":"147.50"}]
[1683,"4252270705106","艾安青","316独山县民族中学","01高中语文教师",{"$f":"VLOOKUP(B1685,[1]Sheet1!$A:$I,8,0)","v":"80.00"},{"$f":"VLOOKUP(B1685,[1]Sheet1!$A:$I,9,0)","v":"65.00"},{"$f":"VLOOKUP(B1685,[2]少数民族加分!$C$1:$E$65536,3,FALSE)","v":2},{"v":147,"d":"147.00"}]
[1684,"4252270705824","周敏琳","316独山县民族中学","01高中语文教师",{"$f":"VLOOKUP(B1686,[1]Sheet1!$A:$I,8,0)","v":"76.00"},{"$f":"VLOOKUP(B1686,[1]Sheet1!$A:$I,9,0)","v":"68.00"},null,{"v":144,"d":"144.00"}]
[1685,"4252270701613","沈玉龙","316独山县民族中学","01高中语文教师",{"$f":"VLOOKUP(B1687,[1]Sheet1!$A:$I,8,0)","v":"75.00"},{"$f":"VLOOKUP(B1687,[1]Sheet1!$A:$I,9,0)","v":"60.00"},{"$f":"VLOOKUP(B1687,[2]少数民族加分!$C$1:$E$65536,3,FALSE)","v":2},{"v":137,"d":"137.00"}]
[1686,"4252270706222","韦开姣","316独山县民族中学","01高中语文教师",{"$f":"VLOOKUP(B1688,[1]Sheet1!$A:$I,8,0)","v":"66.50"},{"$f":"VLOOKUP(B1688,[1]Sheet1!$A:$I,9,0)","v":"62.00"},{"$f":"VLOOKUP(B1688,[2]少数民族加分!$C$1:$E$65536,3,FALSE)","v":2},{"v":130.5,"d":"130.50"}]
[1687,"4252270702922","杨胜春","316独山县民族中学","01高中语文教师",{"$f":"VLOOKUP(B1689,[1]Sheet1!$A:$I,8,0)","v":"67.00"},{"$f":"VLOOKUP(B1689,[1]Sheet1!$A:$I,9,0)","v":"56.00"},{"$f":"VLOOKUP(B1689,[2]少数民族加分!$C$1:$E$65536,3,FALSE)","v":2},{"v":125,"d":"125.00"}]
[1688,"4252270701528","李金花","316独山县民族中学","01高中语文教师",{"$f":"VLOOKUP(B1690,[1]Sheet1!$A:$I,8,0)","v":"0.00"},{"$f":"VLOOKUP(B1690,[1]Sheet1!$A:$I,9,0)","v":"0.00"},{"$f":"VLOOKUP(B1690,[2]少数民族加分!$C$1:$E$65536,3,FALSE)","v":2},"缺考"]
[1689,"4252270703006","马双艳","316独山县民族中学","01高中语文教师",{"$f":"VLOOKUP(B1691,[1]Sheet1!$A:$I,8,0)","v":"0.00"},{"$f":"VLOOKUP(B1691,[1]Sheet1!$A:$I,9,0)","v":"0.00"},{"$f":"VLOOKUP(B1691,[2]少数民族加分!$C$1:$E$65536,3,FALSE)","v":2},"缺考"]
[1690,"4252270703628","罗国辉","316独山县民族中学","01高中语文教师",{"$f":"VLOOKUP(B1692,[1]Sheet1!$A:$I,8,0)","v":"0.00"},{"$f":"VLOOKUP(B1692,[1]Sheet1!$A:$I,9,0)","v":"0.00"},{"$f":"VLOOKUP(B1692,[2]少数民族加分!$C$1:$E$65536,3,FALSE)","v":2},"缺考"]
[1691,"4252270704409","吴云敏","316独山县民族中学","01高中语文教师",{"$f":"VLOOKUP(B1693,[1]Sheet1!$A:$I,8,0)","v":"0.00"},{"$f":"VLOOKUP(B1693,[1]Sheet1!$A:$I,9,0)","v":"0.00"},{"$f":"VLOOKUP(B1693,[2]少数民族加分!$C$1:$E$65536,3,FALSE)","v":2},"缺考"]
[1692,"4252270704625","韦丽","316独山县民族中学","01高中语文教师",{"$f":"VLOOKUP(B1694,[1]Sheet1!$A:$I,8,0)","v":"0.00"},{"$f":"VLOOKUP(B1694,[1]Sheet1!$A:$I,9,0)","v":"0.00"},{"$f":"VLOOKUP(B1694,[2]少数民族加分!$C$1:$E$65536,3,FALSE)","v":2},"缺考"]
[1693,"4252270704213","张先耀","316独山县民族中学","02高中数学教师",{"$f":"VLOOKUP(B1695,[1]Sheet1!$A:$I,8,0)","v":"97.00"},{"$f":"VLOOKUP(B1695,[1]Sheet1!$A:$I,9,0)","v":"94.50"},{"$f":"VLOOKUP(B1695,[2]少数民族加分!$C$1:$E$65536,3,FALSE)","v":2},{"v":193.5,"d":"193.50"}]
[1694,"4252270705828","韦跃琳","316独山县民族中学","02高中数学教师",{"$f":"VLOOKUP(B1696,[1]Sheet1!$A:$I,8,0)","v":"83.00"},{"$f":"VLOOKUP(B1696,[1]Sheet1!$A:$I,9,0)","v":"96.50"},{"$f":"VLOOKUP(B1696,[2]少数民族加分!$C$1:$E$65536,3,FALSE)","v":2},{"v":181.5,"d":"181.50"}]
[1695,"4252270703923","徐通文","316独山县民族中学","02高中数学教师",{"$f":"VLOOKUP(B1697,[1]Sheet1!$A:$I,8,0)","v":"92.00"},{"$f":"VLOOKUP(B1697,[1]Sheet1!$A:$I,9,0)","v":"75.50"},{"$f":"VLOOKUP(B1697,[2]少数民族加分!$C$1:$E$65536,3,FALSE)","v":2},{"v":169.5,"d":"169.50"}]
[1696,"4252270704126","彭兴洪","316独山县民族中学","02高中数学教师",{"$f":"VLOOKUP(B1698,[1]Sheet1!$A:$I,8,0)","v":"81.50"},{"$f":"VLOOKUP(B1698,[1]Sheet1!$A:$I,9,0)","v":"84.00"},{"$f":"VLOOKUP(B1698,[2]少数民族加分!$C$1:$E$65536,3,FALSE)","v":2},{"v":167.5,"d":"167.50"}]
[1697,"4252270705527","罗梦益","316独山县民族中学","02高中数学教师",{"$f":"VLOOKUP(B1699,[1]Sheet1!$A:$I,8,0)","v":"82.00"},{"$f":"VLOOKUP(B1699,[1]Sheet1!$A:$I,9,0)","v":"79.50"},{"$f":"VLOOKUP(B1699,[2]少数民族加分!$C$1:$E$65536,3,FALSE)","v":2},{"v":163.5,"d":"163.50"}]
[1698,"4252270702306","杨光祥","316独山县民族中学","02高中数学教师",{"$f":"VLOOKUP(B1700,[1]Sheet1!$A:$I,8,0)","v":"85.00"},{"$f":"VLOOKUP(B1700,[1]Sheet1!$A:$I,9,0)","v":"76.50"},{"$f":"VLOOKUP(B1700,[2]少数民族加分!$C$1:$E$65536,3,FALSE)","v":2},{"v":163.5,"d":"163.50"}]
[1699,"4252270705728","王忠宝","316独山县民族中学","02高中数学教师",{"$f":"VLOOKUP(B1701,[1]Sheet1!$A:$I,8,0)","v":"85.00"},{"$f":"VLOOKUP(B1701,[1]Sheet1!$A:$I,9,0)","v":"76.00"},{"$f":"VLOOKUP(B1701,[2]少数民族加分!$C$1:$E$65536,3,FALSE)","v":2},{"v":163,"d":"163.00"}]
[1700,"4252270701726","孟大雄","316独山县民族中学","02高中数学教师",{"$f":"VLOOKUP(B1702,[1]Sheet1!$A:$I,8,0)","v":"67.00"},{"$f":"VLOOKUP(B1702,[1]Sheet1!$A:$I,9,0)","v":"87.00"},null,{"v":154,"d":"154.00"}]
[1701,"4252270706714","吴玉金","316独山县民族中学","02高中数学教师",{"$f":"VLOOKUP(B1703,[1]Sheet1!$A:$I,8,0)","v":"73.00"},{"$f":"VLOOKUP(B1703,[1]Sheet1!$A:$I,9,0)","v":"77.00"},{"$f":"VLOOKUP(B1703,[2]少数民族加分!$C$1:$E$65536,3,FALSE)","v":2},{"v":152,"d":"152.00"}]
[1702,"4252270705226","冯思俊","316独山县民族中学","02高中数学教师",{"$f":"VLOOKUP(B1704,[1]Sheet1!$A:$I,8,0)","v":"76.00"},{"$f":"VLOOKUP(B1704,[1]Sheet1!$A:$I,9,0)","v":"74.00"},null,{"v":150,"d":"150.00"}]
[1703,"4252270706402","罗珍惠","316独山县民族中学","02高中数学教师",{"$f":"VLOOKUP(B1705,[1]Sheet1!$A:$I,8,0)","v":"74.00"},{"$f":"VLOOKUP(B1705,[1]Sheet1!$A:$I,9,0)","v":"74.00"},{"$f":"VLOOKUP(B1705,[2]少数民族加分!$C$1:$E$65536,3,FALSE)","v":2},{"v":150,"d":"150.00"}]
[1704,"4252270703321","杨成巧","316独山县民族中学","02高中数学教师",{"$f":"VLOOKUP(B1706,[1]Sheet1!$A:$I,8,0)","v":"75.00"},{"$f":"VLOOKUP(B1706,[1]Sheet1!$A:$I,9,0)","v":"72.00"},{"$f":"VLOOKUP(B1706,[2]少数民族加分!$C$1:$E$65536,3,FALSE)","v":2},{"v":149,"d":"149.00"}]
[1705,"4252270702203","赵才建","316独山县民族中学","02高中数学教师",{"$f":"VLOOKUP(B1707,[1]Sheet1!$A:$I,8,0)","v":"74.50"},{"$f":"VLOOKUP(B1707,[1]Sheet1!$A:$I,9,0)","v":"68.00"},null,{"v":142.5,"d":"142.50"}]
[1706,"4252270701721","徐本昌","316独山县民族中学","02高中数学教师",{"$f":"VLOOKUP(B1708,[1]Sheet1!$A:$I,8,0)","v":"0.00"},{"$f":"VLOOKUP(B1708,[1]Sheet1!$A:$I,9,0)","v":"0.00"},null,"缺考"]
[1707,"4252270703830","张克倩","316独山县民族中学","02高中数学教师",{"$f":"VLOOKUP(B1709,[1]Sheet1!$A:$I,8,0)","v":"0.00"},{"$f":"VLOOKUP(B1709,[1]Sheet1!$A:$I,9,0)","v":"0.00"},{"$f":"VLOOKUP(B1709,[2]少数民族加分!$C$1:$E$65536,3,FALSE)","v":2},"缺考"]
[1708,"4252270705627","陈秀银","316独山县民族中学","03高中物理教师",{"$f":"VLOOKUP(B1710,[1]Sheet1!$A:$I,8,0)","v":"94.00"},{"$f":"VLOOKUP(B1710,[1]Sheet1!$A:$I,9,0)","v":"96.00"},{"$f":"VLOOKUP(B1710,[2]少数民族加分!$C$1:$E$65536,3,FALSE)","v":2},{"v":192,"d":"192.00"}]
[1709,"4252270702614","张翼","316独山县民族中学","03高中物理教师",{"$f":"VLOOKUP(B1711,[1]Sheet1!$A:$I,8,0)","v":"95.00"},{"$f":"VLOOKUP(B1711,[1]Sheet1!$A:$I,9,0)","v":"94.00"},{"$f":"VLOOKUP(B1711,[2]少数民族加分!$C$1:$E$65536,3,FALSE)","v":2},{"v":191,"d":"191.00"}]
[1710,"4252270706011","李黎","316独山县民族中学","03高中物理教师",{"$f":"VLOOKUP(B1712,[1]Sheet1!$A:$I,8,0)","v":"100.50"},{"$f":"VLOOKUP(B1712,[1]Sheet1!$A:$I,9,0)","v":"87.00"},null,{"v":187.5,"d":"187.50"}]
[1711,"4252270701311","韦春兰","316独山县民族中学","03高中物理教师",{"$f":"VLOOKUP(B1713,[1]Sheet1!$A:$I,8,0)","v":"95.00"},{"$f":"VLOOKUP(B1713,[1]Sheet1!$A:$I,9,0)","v":"81.50"},{"$f":"VLOOKUP(B1713,[2]少数民族加分!$C$1:$E$65536,3,FALSE)","v":2},{"v":178.5,"d":"178.50"}]
[1712,"4252270702318","雷丽萍","316独山县民族中学","03高中物理教师",{"$f":"VLOOKUP(B1714,[1]Sheet1!$A:$I,8,0)","v":"94.00"},{"$f":"VLOOKUP(B1714,[1]Sheet1!$A:$I,9,0)","v":"82.00"},{"$f":"VLOOKUP(B1714,[2]少数民族加分!$C$1:$E$65536,3,FALSE)","v":2},{"v":178,"d":"178.00"}]
[1713,"4252270704518","杨琴","316独山县民族中学","03高中物理教师",{"$f":"VLOOKUP(B1715,[1]Sheet1!$A:$I,8,0)","v":"102.00"},{"$f":"VLOOKUP(B1715,[1]Sheet1!$A:$I,9,0)","v":"72.50"},{"$f":"VLOOKUP(B1715,[2]少数民族加分!$C$1:$E$65536,3,FALSE)","v":2},{"v":176.5,"d":"176.50"}]
[1714,"4252270705113","潘光快","316独山县民族中学","03高中物理教师",{"$f":"VLOOKUP(B1716,[1]Sheet1!$A:$I,8,0)","v":"84.00"},{"$f":"VLOOKUP(B1716,[1]Sheet1!$A:$I,9,0)","v":"86.50"},{"$f":"VLOOKUP(B1716,[2]少数民族加分!$C$1:$E$65536,3,FALSE)","v":2},{"v":172.5,"d":"172.50"}]
[1715,"4252270702108","王家辉","316独山县民族中学","03高中物理教师",{"$f":"VLOOKUP(B1717,[1]Sheet1!$A:$I,8,0)","v":"86.00"},{"$f":"VLOOKUP(B1717,[1]Sheet1!$A:$I,9,0)","v":"83.50"},{"$f":"VLOOKUP(B1717,[2]少数民族加分!$C$1:$E$65536,3,FALSE)","v":2},{"v":171.5,"d":"171.50"}]
[1716,"4252270706001","张明锋","316独山县民族中学","03高中物理教师",{"$f":"VLOOKUP(B1718,[1]Sheet1!$A:$I,8,0)","v":"77.00"},{"$f":"VLOOKUP(B1718,[1]Sheet1!$A:$I,9,0)","v":"88.00"},null,{"v":165,"d":"165.00"}]
[1717,"4252270701416","潘进","316独山县民族中学","03高中物理教师",{"$f":"VLOOKUP(B1719,[1]Sheet1!$A:$I,8,0)","v":"89.50"},{"$f":"VLOOKUP(B1719,[1]Sheet1!$A:$I,9,0)","v":"72.50"},{"$f":"VLOOKUP(B1719,[2]少数民族加分!$C$1:$E$65536,3,FALSE)","v":2},{"v":164,"d":"164.00"}]
[1718,"4252270703221","杨玉婷","316独山县民族中学","03高中物理教师",{"$f":"VLOOKUP(B1720,[1]Sheet1!$A:$I,8,0)","v":"83.00"},{"$f":"VLOOKUP(B1720,[1]Sheet1!$A:$I,9,0)","v":"77.50"},{"$f":"VLOOKUP(B1720,[2]少数民族加分!$C$1:$E$65536,3,FALSE)","v":2},{"v":162.5,"d":"162.50"}]
[1719,"4252270703415","刘绍维","316独山县民族中学","03高中物理教师",{"$f":"VLOOKUP(B1721,[1]Sheet1!$A:$I,8,0)","v":"68.00"},{"$f":"VLOOKUP(B1721,[1]Sheet1!$A:$I,9,0)","v":"90.00"},{"$f":"VLOOKUP(B1721,[2]少数民族加分!$C$1:$E$65536,3,FALSE)","v":2},{"v":160,"d":"160.00"}]
[1720,"4252270703725","文定婷","316独山县民族中学","03高中物理教师",{"$f":"VLOOKUP(B1722,[1]Sheet1!$A:$I,8,0)","v":"72.00"},{"$f":"VLOOKUP(B1722,[1]Sheet1!$A:$I,9,0)","v":"86.00"},{"$f":"VLOOKUP(B1722,[2]少数民族加分!$C$1:$E$65536,3,FALSE)","v":2},{"v":160,"d":"160.00"}]
[1721,"4252270706721","陈道燕","316独山县民族中学","03高中物理教师",{"$f":"VLOOKUP(B1723,[1]Sheet1!$A:$I,8,0)","v":"87.00"},{"$f":"VLOOKUP(B1723,[1]Sheet1!$A:$I,9,0)","v":"68.00"},{"$f":"VLOOKUP(B1723,[2]少数民族加分!$C$1:$E$65536,3,FALSE)","v":2},{"v":157,"d":"157.00"}]
[1722,"4252270702301","潘浩","316独山县民族中学","03高中物理教师",{"$f":"VLOOKUP(B1724,[1]Sheet1!$A:$I,8,0)","v":"76.50"},{"$f":"VLOOKUP(B1724,[1]Sheet1!$A:$I,9,0)","v":"77.00"},{"$f":"VLOOKUP(B1724,[2]少数民族加分!$C$1:$E$65536,3,FALSE)","v":2},{"v":155.5,"d":"155.50"}]
[1723,"4252270702413","谭升良","316独山县民族中学","03高中物理教师",{"$f":"VLOOKUP(B1725,[1]Sheet1!$A:$I,8,0)","v":"75.00"},{"$f":"VLOOKUP(B1725,[1]Sheet1!$A:$I,9,0)","v":"78.00"},null,{"v":153,"d":"153.00"}]
[1725,"4252270703430","黄绍龙","316独山县民族中学","03高中物理教师",{"$f":"VLOOKUP(B1726,[1]Sheet1!$A:$I,8,0)","v":"85.00"},{"$f":"VLOOKUP(B1726,[1]Sheet1!$A:$I,9,0)","v":"65.50"},{"$f":"VLOOKUP(B1726,[2]少数民族加分!$C$1:$E$65536,3,FALSE)","v":2},{"v":152.5,"d":"152.50"}]
[1727,"4252270704424","罗雨萱","316独山县民族中学","03高中物理教师",{"$f":"VLOOKUP(B1727,[1]Sheet1!$A:$I,8,0)","v":"59.50"},{"$f":"VLOOKUP(B1727,[1]Sheet1!$A:$I,9,0)","v":"90.00"},{"$f":"VLOOKUP(B1727,[2]少数民族加分!$C$1:$E$65536,3,FALSE)","v":2},{"v":151.5,"d":"151.50"}]
[1728,"4252270701711","蒲超斌","316独山县民族中学","03高中物理教师",{"$f":"VLOOKUP(B1728,[1]Sheet1!$A:$I,8,0)","v":"80.50"},{"$f":"VLOOKUP(B1728,[1]Sheet1!$A:$I,9,0)","v":"69.00"},{"$f":"VLOOKUP(B1728,[2]少数民族加分!$C$1:$E$65536,3,FALSE)","v":2},{"v":151.5,"d":"151.50"}]
[1724,"4252270705626","李作刚","316独山县民族中学","03高中物理教师",{"$f":"VLOOKUP(B1729,[1]Sheet1!$A:$I,8,0)","v":"71.00"},{"$f":"VLOOKUP(B1729,[1]Sheet1!$A:$I,9,0)","v":"80.00"},null,{"v":151,"d":"151.00"}]
[1729,"4252270704315","陈光燕","316独山县民族中学","03高中物理教师",{"$f":"VLOOKUP(B1730,[1]Sheet1!$A:$I,8,0)","v":"81.50"},{"$f":"VLOOKUP(B1730,[1]Sheet1!$A:$I,9,0)","v":"67.50"},{"$f":"VLOOKUP(B1730,[2]少数民族加分!$C$1:$E$65536,3,FALSE)","v":2},{"v":151,"d":"151.00"}]
[1726,"4252270705126","王正旺","316独山县民族中学","03高中物理教师",{"$f":"VLOOKUP(B1731,[1]Sheet1!$A:$I,8,0)","v":"81.00"},{"$f":"VLOOKUP(B1731,[1]Sheet1!$A:$I,9,0)","v":"69.00"},null,{"v":150,"d":"150.00"}]
[1730,"4252270705726","杨贵福","316独山县民族中学","03高中物理教师",{"$f":"VLOOKUP(B1732,[1]Sheet1!$A:$I,8,0)","v":"78.50"},{"$f":"VLOOKUP(B1732,[1]Sheet1!$A:$I,9,0)","v":"68.50"},{"$f":"VLOOKUP(B1732,[2]少数民族加分!$C$1:$E$65536,3,FALSE)","v":2},{"v":149,"d":"149.00"}]
[1731,"4252270705530","伍宏良","316独山县民族中学","03高中物理教师",{"$f":"VLOOKUP(B1733,[1]Sheet1!$A:$I,8,0)","v":"71.00"},{"$f":"VLOOKUP(B1733,[1]Sheet1!$A:$I,9,0)","v":"75.00"},{"$f":"VLOOKUP(B1733,[2]少数民族加分!$C$1:$E$65536,3,FALSE)","v":2},{"v":148,"d":"148.00"}]
[1732,"4252270701328","莫佳佳","316独山县民族中学","03高中物理教师",{"$f":"VLOOKUP(B1734,[1]Sheet1!$A:$I,8,0)","v":"70.00"},{"$f":"VLOOKUP(B1734,[1]Sheet1!$A:$I,9,0)","v":"76.00"},{"$f":"VLOOKUP(B1734,[2]少数民族加分!$C$1:$E$65536,3,FALSE)","v":2},{"v":148,"d":"148.00"}]
[1733,"4252270704418","牟海琴","316独山县民族中学","03高中物理教师",{"$f":"VLOOKUP(B1735,[1]Sheet1!$A:$I,8,0)","v":"71.50"},{"$f":"VLOOKUP(B1735,[1]Sheet1!$A:$I,9,0)","v":"70.00"},{"$f":"VLOOKUP(B1735,[2]少数民族加分!$C$1:$E$65536,3,FALSE)","v":2},{"v":143.5,"d":"143.50"}]
[1734,"4252270703407","罗亮涛","316独山县民族中学","03高中物理教师",{"$f":"VLOOKUP(B1736,[1]Sheet1!$A:$I,8,0)","v":"72.50"},{"$f":"VLOOKUP(B1736,[1]Sheet1!$A:$I,9,0)","v":"68.00"},{"$f":"VLOOKUP(B1736,[2]少数民族加分!$C$1:$E$65536,3,FALSE)","v":2},{"v":142.5,"d":"142.50"}]
[1735,"4252270704316","陆光豪","316独山县民族中学","03高中物理教师",{"$f":"VLOOKUP(B1737,[1]Sheet1!$A:$I,8,0)","v":"59.00"},{"$f":"VLOOKUP(B1737,[1]Sheet1!$A:$I,9,0)","v":"81.00"},{"$f":"VLOOKUP(B1737,[2]少数民族加分!$C$1:$E$65536,3,FALSE)","v":2},{"v":142,"d":"142.00"}]
[1736,"4252270701917","孟锦娜","316独山县民族中学","03高中物理教师",{"$f":"VLOOKUP(B1738,[1]Sheet1!$A:$I,8,0)","v":"74.50"},{"$f":"VLOOKUP(B1738,[1]Sheet1!$A:$I,9,0)","v":"62.00"},{"$f":"VLOOKUP(B1738,[2]少数民族加分!$C$1:$E$65536,3,FALSE)","v":2},{"v":138.5,"d":"138.50"}]
[1737,"4252270702624","吴国才","316独山县民族中学","03高中物理教师",{"$f":"VLOOKUP(B1739,[1]Sheet1!$A:$I,8,0)","v":"58.00"},{"$f":"VLOOKUP(B1739,[1]Sheet1!$A:$I,9,0)","v":"70.00"},{"$f":"VLOOKUP(B1739,[2]少数民族加分!$C$1:$E$65536,3,FALSE)","v":2},{"v":130,"d":"130.00"}]
[1738,"4252270706530","杨周明","316独山县民族中学","03高中物理教师",{"$f":"VLOOKUP(B1740,[1]Sheet1!$A:$I,8,0)","v":"70.00"},{"$f":"VLOOKUP(B1740,[1]Sheet1!$A:$I,9,0)","v":"58.00"},{"$f":"VLOOKUP(B1740,[2]少数民族加分!$C$1:$E$65536,3,FALSE)","v":2},{"v":130,"d":"130.00"}]
[1739,"4252270703929","韦万旺","316独山县民族中学","03高中物理教师",{"$f":"VLOOKUP(B1741,[1]Sheet1!$A:$I,8,0)","v":"64.50"},{"$f":"VLOOKUP(B1741,[1]Sheet1!$A:$I,9,0)","v":"63.00"},{"$f":"VLOOKUP(B1741,[2]少数民族加分!$C$1:$E$65536,3,FALSE)","v":2},{"v":129.5,"d":"129.50"}]
[1740,"4252270704626","彭图德","316独山县民族中学","03高中物理教师",{"$f":"VLOOKUP(B1742,[1]Sheet1!$A:$I,8,0)","v":"0.00"},{"$f":"VLOOKUP(B1742,[1]Sheet1!$A:$I,9,0)","v":"0.00"},{"$f":"VLOOKUP(B1742,[2]少数民族加分!$C$1:$E$65536,3,FALSE)","v":2},"缺考"]
[1741,"4252270704902","罗东","316独山县民族中学","03高中物理教师",{"$f":"VLOOKUP(B1743,[1]Sheet1!$A:$I,8,0)","v":"0.00"},{"$f":"VLOOKUP(B1743,[1]Sheet1!$A:$I,9,0)","v":"0.00"},null,"缺考"]
[1742,"4252270702307","兰文俊","316独山县民族中学","03高中物理教师",{"$f":"VLOOKUP(B1744,[1]Sheet1!$A:$I,8,0)","v":"0.00"},{"$f":"VLOOKUP(B1744,[1]Sheet1!$A:$I,9,0)","v":"0.00"},null,"缺考"]
[1743,"4252270703013","罗东梅","317独山县第四中学","01初中语文教师",{"$f":"VLOOKUP(B1745,[1]Sheet1!$A:$I,8,0)","v":"86.50"},{"$f":"VLOOKUP(B1745,[1]Sheet1!$A:$I,9,0)","v":"112.50"},{"$f":"VLOOKUP(B1745,[2]少数民族加分!$C$1:$E$65536,3,FALSE)","v":2},{"v":201,"d":"201.00"}]
[1744,"4252270705306","李梅","317独山县第四中学","01初中语文教师",{"$f":"VLOOKUP(B1746,[1]Sheet1!$A:$I,8,0)","v":"99.00"},{"$f":"VLOOKUP(B1746,[1]Sheet1!$A:$I,9,0)","v":"95.50"},null,{"v":194.5,"d":"194.50"}]
[1745,"4252270703919","彭静","317独山县第四中学","01初中语文教师",{"$f":"VLOOKUP(B1747,[1]Sheet1!$A:$I,8,0)","v":"107.00"},{"$f":"VLOOKUP(B1747,[1]Sheet1!$A:$I,9,0)","v":"86.50"},null,{"v":193.5,"d":"193.50"}]
[1746,"4252270702629","诸雪香","317独山县第四中学","01初中语文教师",{"$f":"VLOOKUP(B1748,[1]Sheet1!$A:$I,8,0)","v":"91.00"},{"$f":"VLOOKUP(B1748,[1]Sheet1!$A:$I,9,0)","v":"102.50"},null,{"v":193.5,"d":"193.50"}]
[1750,"4252270702725","彭天雯","317独山县第四中学","01初中语文教师",{"$f":"VLOOKUP(B1749,[1]Sheet1!$A:$I,8,0)","v":"90.00"},{"$f":"VLOOKUP(B1749,[1]Sheet1!$A:$I,9,0)","v":"101.00"},{"$f":"VLOOKUP(B1749,[2]少数民族加分!$C$1:$E$65536,3,FALSE)","v":2},{"v":193,"d":"193.00"}]
[1751,"4252270703624","周芸","317独山县第四中学","01初中语文教师",{"$f":"VLOOKUP(B1750,[1]Sheet1!$A:$I,8,0)","v":"96.50"},{"$f":"VLOOKUP(B1750,[1]Sheet1!$A:$I,9,0)","v":"94.50"},{"$f":"VLOOKUP(B1750,[2]少数民族加分!$C$1:$E$65536,3,FALSE)","v":2},{"v":193,"d":"193.00"}]
[1753,"4252270702304","马丽红","317独山县第四中学","01初中语文教师",{"$f":"VLOOKUP(B1751,[1]Sheet1!$A:$I,8,0)","v":"102.00"},{"$f":"VLOOKUP(B1751,[1]Sheet1!$A:$I,9,0)","v":"88.50"},{"$f":"VLOOKUP(B1751,[2]少数民族加分!$C$1:$E$65536,3,FALSE)","v":2},{"v":192.5,"d":"192.50"}]
[1754,"4252270703409","陈露露","317独山县第四中学","01初中语文教师",{"$f":"VLOOKUP(B1752,[1]Sheet1!$A:$I,8,0)","v":"93.50"},{"$f":"VLOOKUP(B1752,[1]Sheet1!$A:$I,9,0)","v":"97.00"},{"$f":"VLOOKUP(B1752,[2]少数民族加分!$C$1:$E$65536,3,FALSE)","v":2},{"v":192.5,"d":"192.50"}]
[1747,"4252270702407","王秀婷","317独山县第四中学","01初中语文教师",{"$f":"VLOOKUP(B1753,[1]Sheet1!$A:$I,8,0)","v":"101.50"},{"$f":"VLOOKUP(B1753,[1]Sheet1!$A:$I,9,0)","v":"90.50"},null,{"v":192,"d":"192.00"}]
[1748,"4252270706430","张磊","317独山县第四中学","01初中语文教师",{"$f":"VLOOKUP(B1754,[1]Sheet1!$A:$I,8,0)","v":"105.50"},{"$f":"VLOOKUP(B1754,[1]Sheet1!$A:$I,9,0)","v":"86.50"},null,{"v":192,"d":"192.00"}]
[1749,"4252270702328","李小敏","317独山县第四中学","01初中语文教师",{"$f":"VLOOKUP(B1755,[1]Sheet1!$A:$I,8,0)","v":"109.50"},{"$f":"VLOOKUP(B1755,[1]Sheet1!$A:$I,9,0)","v":"81.50"},null,{"v":191,"d":"191.00"}]
[1752,"4252270705409","代婷","317独山县第四中学","01初中语文教师",{"$f":"VLOOKUP(B1756,[1]Sheet1!$A:$I,8,0)","v":"97.00"},{"$f":"VLOOKUP(B1756,[1]Sheet1!$A:$I,9,0)","v":"93.50"},null,{"v":190.5,"d":"190.50"}]
[1757,"4252270705729","刘星星","317独山县第四中学","01初中语文教师",{"$f":"VLOOKUP(B1757,[1]Sheet1!$A:$I,8,0)","v":"96.00"},{"$f":"VLOOKUP(B1757,[1]Sheet1!$A:$I,9,0)","v":"92.50"},{"$f":"VLOOKUP(B1757,[2]少数民族加分!$C$1:$E$65536,3,FALSE)","v":2},{"v":190.5,"d":"190.50"}]
[1759,"4252270703127","骆光丝","317独山县第四中学","01初中语文教师",{"$f":"VLOOKUP(B1758,[1]Sheet1!$A:$I,8,0)","v":"101.00"},{"$f":"VLOOKUP(B1758,[1]Sheet1!$A:$I,9,0)","v":"86.00"},{"$f":"VLOOKUP(B1758,[2]少数民族加分!$C$1:$E$65536,3,FALSE)","v":2},{"v":189,"d":"189.00"}]
[1755,"4252270705017","李明珠","317独山县第四中学","01初中语文教师",{"$f":"VLOOKUP(B1759,[1]Sheet1!$A:$I,8,0)","v":"94.50"},{"$f":"VLOOKUP(B1759,[1]Sheet1!$A:$I,9,0)","v":"94.00"},null,{"v":188.5,"d":"188.50"}]
[1756,"4252270705705","肖巧","317独山县第四中学","01初中语文教师",{"$f":"VLOOKUP(B1760,[1]Sheet1!$A:$I,8,0)","v":"92.00"},{"$f":"VLOOKUP(B1760,[1]Sheet1!$A:$I,9,0)","v":"96.50"},null,{"v":188.5,"d":"188.50"}]
[1760,"4252270702602","韦耀珍","317独山县第四中学","01初中语文教师",{"$f":"VLOOKUP(B1761,[1]Sheet1!$A:$I,8,0)","v":"87.50"},{"$f":"VLOOKUP(B1761,[1]Sheet1!$A:$I,9,0)","v":"99.00"},{"$f":"VLOOKUP(B1761,[2]少数民族加分!$C$1:$E$65536,3,FALSE)","v":2},{"v":188.5,"d":"188.50"}]
[1761,"4252270703310","邹云松","317独山县第四中学","01初中语文教师",{"$f":"VLOOKUP(B1762,[1]Sheet1!$A:$I,8,0)","v":"99.00"},{"$f":"VLOOKUP(B1762,[1]Sheet1!$A:$I,9,0)","v":"87.50"},{"$f":"VLOOKUP(B1762,[2]少数民族加分!$C$1:$E$65536,3,FALSE)","v":2},{"v":188.5,"d":"188.50"}]
[1762,"4252270705111","龙朝燕","317独山县第四中学","01初中语文教师",{"$f":"VLOOKUP(B1763,[1]Sheet1!$A:$I,8,0)","v":"97.50"},{"$f":"VLOOKUP(B1763,[1]Sheet1!$A:$I,9,0)","v":"89.00"},{"$f":"VLOOKUP(B1763,[2]少数民族加分!$C$1:$E$65536,3,FALSE)","v":2},{"v":188.5,"d":"188.50"}]
[1758,"4252270704422","杨丽华","317独山县第四中学","01初中语文教师",{"$f":"VLOOKUP(B1764,[1]Sheet1!$A:$I,8,0)","v":"90.50"},{"$f":"VLOOKUP(B1764,[1]Sheet1!$A:$I,9,0)","v":"97.50"},null,{"v":188,"d":"188.00"}]
[1763,"4252270702411","潘小欢","317独山县第四中学","01初中语文教师",{"$f":"VLOOKUP(B1765,[1]Sheet1!$A:$I,8,0)","v":"82.00"},{"$f":"VLOOKUP(B1765,[1]Sheet1!$A:$I,9,0)","v":"104.00"},{"$f":"VLOOKUP(B1765,[2]少数民族加分!$C$1:$E$65536,3,FALSE)","v":2},{"v":188,"d":"188.00"}]
[1764,"4252270704618","莫汝耐","317独山县第四中学","01初中语文教师",{"$f":"VLOOKUP(B1766,[1]Sheet1!$A:$I,8,0)","v":"86.00"},{"$f":"VLOOKUP(B1766,[1]Sheet1!$A:$I,9,0)","v":"97.50"},{"$f":"VLOOKUP(B1766,[2]少数民族加分!$C$1:$E$65536,3,FALSE)","v":2},{"v":185.5,"d":"185.50"}]
[1765,"4252270705430","杨莲莲","317独山县第四中学","01初中语文教师",{"$f":"VLOOKUP(B1767,[1]Sheet1!$A:$I,8,0)","v":"91.50"},{"$f":"VLOOKUP(B1767,[1]Sheet1!$A:$I,9,0)","v":"91.50"},{"$f":"VLOOKUP(B1767,[2]少数民族加分!$C$1:$E$65536,3,FALSE)","v":2},{"v":185,"d":"185.00"}]
[1766,"4252270706415","龙臣","317独山县第四中学","01初中语文教师",{"$f":"VLOOKUP(B1768,[1]Sheet1!$A:$I,8,0)","v":"93.50"},{"$f":"VLOOKUP(B1768,[1]Sheet1!$A:$I,9,0)","v":"88.50"},{"$f":"VLOOKUP(B1768,[2]少数民族加分!$C$1:$E$65536,3,FALSE)","v":2},{"v":184,"d":"184.00"}]
[1767,"4252270702129","杨胜芬","317独山县第四中学","01初中语文教师",{"$f":"VLOOKUP(B1769,[1]Sheet1!$A:$I,8,0)","v":"86.50"},{"$f":"VLOOKUP(B1769,[1]Sheet1!$A:$I,9,0)","v":"95.50"},{"$f":"VLOOKUP(B1769,[2]少数民族加分!$C$1:$E$65536,3,FALSE)","v":2},{"v":184,"d":"184.00"}]
[1768,"4252270702408","吴小秋","317独山县第四中学","01初中语文教师",{"$f":"VLOOKUP(B1770,[1]Sheet1!$A:$I,8,0)","v":"89.00"},{"$f":"VLOOKUP(B1770,[1]Sheet1!$A:$I,9,0)","v":"93.00"},{"$f":"VLOOKUP(B1770,[2]少数民族加分!$C$1:$E$65536,3,FALSE)","v":2},{"v":184,"d":"184.00"}]
[1770,"4252270702028","张青青","317独山县第四中学","01初中语文教师",{"$f":"VLOOKUP(B1771,[1]Sheet1!$A:$I,8,0)","v":"84.50"},{"$f":"VLOOKUP(B1771,[1]Sheet1!$A:$I,9,0)","v":"97.00"},{"$f":"VLOOKUP(B1771,[2]少数民族加分!$C$1:$E$65536,3,FALSE)","v":2},{"v":183.5,"d":"183.50"}]
[1771,"4252270706717","韦承燕","317独山县第四中学","01初中语文教师",{"$f":"VLOOKUP(B1772,[1]Sheet1!$A:$I,8,0)","v":"91.50"},{"$f":"VLOOKUP(B1772,[1]Sheet1!$A:$I,9,0)","v":"89.50"},{"$f":"VLOOKUP(B1772,[2]少数民族加分!$C$1:$E$65536,3,FALSE)","v":2},{"v":183,"d":"183.00"}]
[1773,"4252270703313","石兴菊","317独山县第四中学","01初中语文教师",{"$f":"VLOOKUP(B1773,[1]Sheet1!$A:$I,8,0)","v":"90.50"},{"$f":"VLOOKUP(B1773,[1]Sheet1!$A:$I,9,0)","v":"90.00"},{"$f":"VLOOKUP(B1773,[2]少数民族加分!$C$1:$E$65536,3,FALSE)","v":2},{"v":182.5,"d":"182.50"}]
[1769,"4252270702020","李红梅","317独山县第四中学","01初中语文教师",{"$f":"VLOOKUP(B1774,[1]Sheet1!$A:$I,8,0)","v":"88.50"},{"$f":"VLOOKUP(B1774,[1]Sheet1!$A:$I,9,0)","v":"93.00"},null,{"v":181.5,"d":"181.50"}]
[1775,"4252270702006","赵金蝶","317独山县第四中学","01初中语文教师",{"$f":"VLOOKUP(B1775,[1]Sheet1!$A:$I,8,0)","v":"89.50"},{"$f":"VLOOKUP(B1775,[1]Sheet1!$A:$I,9,0)","v":"90.00"},{"$f":"VLOOKUP(B1775,[2]少数民族加分!$C$1:$E$65536,3,FALSE)","v":2},{"v":181.5,"d":"181.50"}]
[1772,"4252270704914","张芳","317独山县第四中学","01初中语文教师",{"$f":"VLOOKUP(B1776,[1]Sheet1!$A:$I,8,0)","v":"98.00"},{"$f":"VLOOKUP(B1776,[1]Sheet1!$A:$I,9,0)","v":"82.50"},null,{"v":180.5,"d":"180.50"}]
[1776,"4252270701627","罗海春","317独山县第四中学","01初中语文教师",{"$f":"VLOOKUP(B1777,[1]Sheet1!$A:$I,8,0)","v":"96.50"},{"$f":"VLOOKUP(B1777,[1]Sheet1!$A:$I,9,0)","v":"82.00"},{"$f":"VLOOKUP(B1777,[2]少数民族加分!$C$1:$E$65536,3,FALSE)","v":2},{"v":180.5,"d":"180.50"}]
[1777,"4252270702010","陈恩芹","317独山县第四中学","01初中语文教师",{"$f":"VLOOKUP(B1778,[1]Sheet1!$A:$I,8,0)","v":"93.50"},{"$f":"VLOOKUP(B1778,[1]Sheet1!$A:$I,9,0)","v":"85.00"},{"$f":"VLOOKUP(B1778,[2]少数民族加分!$C$1:$E$65536,3,FALSE)","v":2},{"v":180.5,"d":"180.50"}]
[1778,"4252270701628","罗刚欢","317独山县第四中学","01初中语文教师",{"$f":"VLOOKUP(B1779,[1]Sheet1!$A:$I,8,0)","v":"100.50"},{"$f":"VLOOKUP(B1779,[1]Sheet1!$A:$I,9,0)","v":"77.50"},{"$f":"VLOOKUP(B1779,[2]少数民族加分!$C$1:$E$65536,3,FALSE)","v":2},{"v":180,"d":"180.00"}]
[1779,"4252270703307","严星星","317独山县第四中学","01初中语文教师",{"$f":"VLOOKUP(B1780,[1]Sheet1!$A:$I,8,0)","v":"86.50"},{"$f":"VLOOKUP(B1780,[1]Sheet1!$A:$I,9,0)","v":"91.50"},{"$f":"VLOOKUP(B1780,[2]少数民族加分!$C$1:$E$65536,3,FALSE)","v":2},{"v":180,"d":"180.00"}]
[1781,"4252270706116","杨坤","317独山县第四中学","01初中语文教师",{"$f":"VLOOKUP(B1781,[1]Sheet1!$A:$I,8,0)","v":"87.50"},{"$f":"VLOOKUP(B1781,[1]Sheet1!$A:$I,9,0)","v":"90.50"},{"$f":"VLOOKUP(B1781,[2]少数民族加分!$C$1:$E$65536,3,FALSE)","v":2},{"v":180,"d":"180.00"}]
[1774,"4252270701811","胡珊","317独山县第四中学","01初中语文教师",{"$f":"VLOOKUP(B1782,[1]Sheet1!$A:$I,8,0)","v":"83.00"},{"$f":"VLOOKUP(B1782,[1]Sheet1!$A:$I,9,0)","v":"96.50"},null,{"v":179.5,"d":"179.50"}]
[1783,"4252270704519","陈玲玲","317独山县第四中学","01初中语文教师",{"$f":"VLOOKUP(B1783,[1]Sheet1!$A:$I,8,0)","v":"82.00"},{"$f":"VLOOKUP(B1783,[1]Sheet1!$A:$I,9,0)","v":"95.00"},{"$f":"VLOOKUP(B1783,[2]少数民族加分!$C$1:$E$65536,3,FALSE)","v":2},{"v":179,"d":"179.00"}]
[1784,"4252270704917","姚沙沙","317独山县第四中学","01初中语文教师",{"$f":"VLOOKUP(B1784,[1]Sheet1!$A:$I,8,0)","v":"92.00"},{"$f":"VLOOKUP(B1784,[1]Sheet1!$A:$I,9,0)","v":"85.00"},{"$f":"VLOOKUP(B1784,[2]少数民族加分!$C$1:$E$65536,3,FALSE)","v":2},{"v":179,"d":"179.00"}]
[1785,"4252270705005","彭娟","317独山县第四中学","01初中语文教师",{"$f":"VLOOKUP(B1785,[1]Sheet1!$A:$I,8,0)","v":"104.50"},{"$f":"VLOOKUP(B1785,[1]Sheet1!$A:$I,9,0)","v":"72.50"},{"$f":"VLOOKUP(B1785,[2]少数民族加分!$C$1:$E$65536,3,FALSE)","v":2},{"v":179,"d":"179.00"}]
[1786,"4252270704406","潘光琳","317独山县第四中学","01初中语文教师",{"$f":"VLOOKUP(B1786,[1]Sheet1!$A:$I,8,0)","v":"92.50"},{"$f":"VLOOKUP(B1786,[1]Sheet1!$A:$I,9,0)","v":"84.00"},{"$f":"VLOOKUP(B1786,[2]少数民族加分!$C$1:$E$65536,3,FALSE)","v":2},{"v":178.5,"d":"178.50"}]
[1787,"4252270705328","韦莉红","317独山县第四中学","01初中语文教师",{"$f":"VLOOKUP(B1787,[1]Sheet1!$A:$I,8,0)","v":"79.50"},{"$f":"VLOOKUP(B1787,[1]Sheet1!$A:$I,9,0)","v":"97.00"},{"$f":"VLOOKUP(B1787,[2]少数民族加分!$C$1:$E$65536,3,FALSE)","v":2},{"v":178.5,"d":"178.50"}]
[1780,"4252270705621","曹梦竹","317独山县第四中学","01初中语文教师",{"$f":"VLOOKUP(B1788,[1]Sheet1!$A:$I,8,0)","v":"95.50"},{"$f":"VLOOKUP(B1788,[1]Sheet1!$A:$I,9,0)","v":"82.50"},null,{"v":178,"d":"178.00"}]
[1789,"4252270704525","杨世萍","317独山县第四中学","01初中语文教师",{"$f":"VLOOKUP(B1789,[1]Sheet1!$A:$I,8,0)","v":"96.00"},{"$f":"VLOOKUP(B1789,[1]Sheet1!$A:$I,9,0)","v":"80.00"},{"$f":"VLOOKUP(B1789,[2]少数民族加分!$C$1:$E$65536,3,FALSE)","v":2},{"v":178,"d":"178.00"}]
[1790,"4252270702823","韦广仙","317独山县第四中学","01初中语文教师",{"$f":"VLOOKUP(B1790,[1]Sheet1!$A:$I,8,0)","v":"95.00"},{"$f":"VLOOKUP(B1790,[1]Sheet1!$A:$I,9,0)","v":"81.00"},{"$f":"VLOOKUP(B1790,[2]少数民族加分!$C$1:$E$65536,3,FALSE)","v":2},{"v":178,"d":"178.00"}]
[1782,"4252270703408","谢彪","317独山县第四中学","01初中语文教师",{"$f":"VLOOKUP(B1791,[1]Sheet1!$A:$I,8,0)","v":"84.50"},{"$f":"VLOOKUP(B1791,[1]Sheet1!$A:$I,9,0)","v":"93.00"},null,{"v":177.5,"d":"177.50"}]
[1788,"4252270706510","况美","317独山县第四中学","01初中语文教师",{"$f":"VLOOKUP(B1792,[1]Sheet1!$A:$I,8,0)","v":"96.50"},{"$f":"VLOOKUP(B1792,[1]Sheet1!$A:$I,9,0)","v":"80.00"},null,{"v":176.5,"d":"176.50"}]
[1793,"4252270704621","吴敏","317独山县第四中学","01初中语文教师",{"$f":"VLOOKUP(B1793,[1]Sheet1!$A:$I,8,0)","v":"95.50"},{"$f":"VLOOKUP(B1793,[1]Sheet1!$A:$I,9,0)","v":"79.00"},{"$f":"VLOOKUP(B1793,[2]少数民族加分!$C$1:$E$65536,3,FALSE)","v":2},{"v":176.5,"d":"176.50"}]
[1795,"4252270703105","吉超","317独山县第四中学","01初中语文教师",{"$f":"VLOOKUP(B1794,[1]Sheet1!$A:$I,8,0)","v":"86.50"},{"$f":"VLOOKUP(B1794,[1]Sheet1!$A:$I,9,0)","v":"88.00"},{"$f":"VLOOKUP(B1794,[2]少数民族加分!$C$1:$E$65536,3,FALSE)","v":2},{"v":176.5,"d":"176.50"}]
[1796,"4252270701617","石芬","317独山县第四中学","01初中语文教师",{"$f":"VLOOKUP(B1795,[1]Sheet1!$A:$I,8,0)","v":"87.00"},{"$f":"VLOOKUP(B1795,[1]Sheet1!$A:$I,9,0)","v":"87.00"},{"$f":"VLOOKUP(B1795,[2]少数民族加分!$C$1:$E$65536,3,FALSE)","v":2},{"v":176,"d":"176.00"}]
[1791,"4252270706324","丁良莲","317独山县第四中学","01初中语文教师",{"$f":"VLOOKUP(B1796,[1]Sheet1!$A:$I,8,0)","v":"86.00"},{"$f":"VLOOKUP(B1796,[1]Sheet1!$A:$I,9,0)","v":"89.50"},null,{"v":175.5,"d":"175.50"}]
[1798,"4252270701724","范再美","317独山县第四中学","01初中语文教师",{"$f":"VLOOKUP(B1797,[1]Sheet1!$A:$I,8,0)","v":"86.00"},{"$f":"VLOOKUP(B1797,[1]Sheet1!$A:$I,9,0)","v":"87.50"},{"$f":"VLOOKUP(B1797,[2]少数民族加分!$C$1:$E$65536,3,FALSE)","v":2},{"v":175.5,"d":"175.50"}]
[1800,"4252270703022","张柳枝","317独山县第四中学","01初中语文教师",{"$f":"VLOOKUP(B1798,[1]Sheet1!$A:$I,8,0)","v":"78.50"},{"$f":"VLOOKUP(B1798,[1]Sheet1!$A:$I,9,0)","v":"95.00"},{"$f":"VLOOKUP(B1798,[2]少数民族加分!$C$1:$E$65536,3,FALSE)","v":2},{"v":175.5,"d":"175.50"}]
[1801,"4252270703412","王芳芬","317独山县第四中学","01初中语文教师",{"$f":"VLOOKUP(B1799,[1]Sheet1!$A:$I,8,0)","v":"80.50"},{"$f":"VLOOKUP(B1799,[1]Sheet1!$A:$I,9,0)","v":"93.00"},{"$f":"VLOOKUP(B1799,[2]少数民族加分!$C$1:$E$65536,3,FALSE)","v":2},{"v":175.5,"d":"175.50"}]
[1802,"4252270705814","陈洁","317独山县第四中学","01初中语文教师",{"$f":"VLOOKUP(B1800,[1]Sheet1!$A:$I,8,0)","v":"90.00"},{"$f":"VLOOKUP(B1800,[1]Sheet1!$A:$I,9,0)","v":"83.50"},{"$f":"VLOOKUP(B1800,[2]少数民族加分!$C$1:$E$65536,3,FALSE)","v":2},{"v":175.5,"d":"175.50"}]
[1803,"4252270706301","范成桔","317独山县第四中学","01初中语文教师",{"$f":"VLOOKUP(B1801,[1]Sheet1!$A:$I,8,0)","v":"86.00"},{"$f":"VLOOKUP(B1801,[1]Sheet1!$A:$I,9,0)","v":"87.50"},{"$f":"VLOOKUP(B1801,[2]少数民族加分!$C$1:$E$65536,3,FALSE)","v":2},{"v":175.5,"d":"175.50"}]
[1792,"4252270703920","李筑燕","317独山县第四中学","01初中语文教师",{"$f":"VLOOKUP(B1802,[1]Sheet1!$A:$I,8,0)","v":"88.00"},{"$f":"VLOOKUP(B1802,[1]Sheet1!$A:$I,9,0)","v":"87.00"},null,{"v":175,"d":"175.00"}]
[1794,"4252270705930","陈丽","317独山县第四中学","01初中语文教师",{"$f":"VLOOKUP(B1803,[1]Sheet1!$A:$I,8,0)","v":"87.00"},{"$f":"VLOOKUP(B1803,[1]Sheet1!$A:$I,9,0)","v":"87.50"},null,{"v":174.5,"d":"174.50"}]
[1808,"4252270706208","陆定秀","317独山县第四中学","01初中语文教师",{"$f":"VLOOKUP(B1804,[1]Sheet1!$A:$I,8,0)","v":"81.50"},{"$f":"VLOOKUP(B1804,[1]Sheet1!$A:$I,9,0)","v":"91.00"},{"$f":"VLOOKUP(B1804,[2]少数民族加分!$C$1:$E$65536,3,FALSE)","v":2},{"v":174.5,"d":"174.50"}]
[1797,"4252270702829","李超","317独山县第四中学","01初中语文教师",{"$f":"VLOOKUP(B1805,[1]Sheet1!$A:$I,8,0)","v":"75.00"},{"$f":"VLOOKUP(B1805,[1]Sheet1!$A:$I,9,0)","v":"99.00"},null,{"v":174,"d":"174.00"}]
[1799,"4252270702519","谭钧芳","317独山县第四中学","01初中语文教师",{"$f":"VLOOKUP(B1806,[1]Sheet1!$A:$I,8,0)","v":"85.50"},{"$f":"VLOOKUP(B1806,[1]Sheet1!$A:$I,9,0)","v":"88.00"},null,{"v":173.5,"d":"173.50"}]
[1813,"4252270703706","范修玉","317独山县第四中学","01初中语文教师",{"$f":"VLOOKUP(B1807,[1]Sheet1!$A:$I,8,0)","v":"78.50"},{"$f":"VLOOKUP(B1807,[1]Sheet1!$A:$I,9,0)","v":"93.00"},{"$f":"VLOOKUP(B1807,[2]少数民族加分!$C$1:$E$65536,3,FALSE)","v":2},{"v":173.5,"d":"173.50"}]
[1814,"4252270703915","李孝梅","317独山县第四中学","01初中语文教师",{"$f":"VLOOKUP(B1808,[1]Sheet1!$A:$I,8,0)","v":"73.50"},{"$f":"VLOOKUP(B1808,[1]Sheet1!$A:$I,9,0)","v":"98.00"},{"$f":"VLOOKUP(B1808,[2]少数民族加分!$C$1:$E$65536,3,FALSE)","v":2},{"v":173.5,"d":"173.50"}]
[1815,"4252270704129","杨秀珍","317独山县第四中学","01初中语文教师",{"$f":"VLOOKUP(B1809,[1]Sheet1!$A:$I,8,0)","v":"90.00"},{"$f":"VLOOKUP(B1809,[1]Sheet1!$A:$I,9,0)","v":"81.50"},{"$f":"VLOOKUP(B1809,[2]少数民族加分!$C$1:$E$65536,3,FALSE)","v":2},{"v":173.5,"d":"173.50"}]
[1804,"4252270704023","何倩","317独山县第四中学","01初中语文教师",{"$f":"VLOOKUP(B1810,[1]Sheet1!$A:$I,8,0)","v":"91.00"},{"$f":"VLOOKUP(B1810,[1]Sheet1!$A:$I,9,0)","v":"82.00"},null,{"v":173,"d":"173.00"}]
[1805,"4252270704314","刘毕鲜","317独山县第四中学","01初中语文教师",{"$f":"VLOOKUP(B1811,[1]Sheet1!$A:$I,8,0)","v":"81.50"},{"$f":"VLOOKUP(B1811,[1]Sheet1!$A:$I,9,0)","v":"91.00"},null,{"v":172.5,"d":"172.50"}]
[1806,"4252270706025","吴会","317独山县第四中学","01初中语文教师",{"$f":"VLOOKUP(B1812,[1]Sheet1!$A:$I,8,0)","v":"85.00"},{"$f":"VLOOKUP(B1812,[1]Sheet1!$A:$I,9,0)","v":"87.50"},null,{"v":172.5,"d":"172.50"}]
[1807,"4252270701301","聂刚莲","317独山县第四中学","01初中语文教师",{"$f":"VLOOKUP(B1813,[1]Sheet1!$A:$I,8,0)","v":"89.00"},{"$f":"VLOOKUP(B1813,[1]Sheet1!$A:$I,9,0)","v":"83.50"},null,{"v":172.5,"d":"172.50"}]
[1816,"4252270704425","陈惠菊","317独山县第四中学","01初中语文教师",{"$f":"VLOOKUP(B1814,[1]Sheet1!$A:$I,8,0)","v":"75.50"},{"$f":"VLOOKUP(B1814,[1]Sheet1!$A:$I,9,0)","v":"95.00"},{"$f":"VLOOKUP(B1814,[2]少数民族加分!$C$1:$E$65536,3,FALSE)","v":2},{"v":172.5,"d":"172.50"}]
[1809,"4252270704706","余敏会","317独山县第四中学","01初中语文教师",{"$f":"VLOOKUP(B1815,[1]Sheet1!$A:$I,8,0)","v":"90.50"},{"$f":"VLOOKUP(B1815,[1]Sheet1!$A:$I,9,0)","v":"81.50"},null,{"v":172,"d":"172.00"}]
[1810,"4252270702630","宋君兰","317独山县第四中学","01初中语文教师",{"$f":"VLOOKUP(B1816,[1]Sheet1!$A:$I,8,0)","v":"87.00"},{"$f":"VLOOKUP(B1816,[1]Sheet1!$A:$I,9,0)","v":"85.00"},null,{"v":172,"d":"172.00"}]
[1811,"4252270703309","周俊","317独山县第四中学","01初中语文教师",{"$f":"VLOOKUP(B1817,[1]Sheet1!$A:$I,8,0)","v":"84.00"},{"$f":"VLOOKUP(B1817,[1]Sheet1!$A:$I,9,0)","v":"88.00"},null,{"v":172,"d":"172.00"}]
[1818,"4252270705309","吴永慧","317独山县第四中学","01初中语文教师",{"$f":"VLOOKUP(B1818,[1]Sheet1!$A:$I,8,0)","v":"90.00"},{"$f":"VLOOKUP(B1818,[1]Sheet1!$A:$I,9,0)","v":"80.00"},{"$f":"VLOOKUP(B1818,[2]少数民族加分!$C$1:$E$65536,3,FALSE)","v":2},{"v":172,"d":"172.00"}]
[1819,"4252270705508","陈小路","317独山县第四中学","01初中语文教师",{"$f":"VLOOKUP(B1819,[1]Sheet1!$A:$I,8,0)","v":"90.50"},{"$f":"VLOOKUP(B1819,[1]Sheet1!$A:$I,9,0)","v":"79.50"},{"$f":"VLOOKUP(B1819,[2]少数民族加分!$C$1:$E$65536,3,FALSE)","v":2},{"v":172,"d":"172.00"}]
[1820,"4252270706328","杨俸苏","317独山县第四中学","01初中语文教师",{"$f":"VLOOKUP(B1820,[1]Sheet1!$A:$I,8,0)","v":"87.50"},{"$f":"VLOOKUP(B1820,[1]Sheet1!$A:$I,9,0)","v":"82.50"},{"$f":"VLOOKUP(B1820,[2]少数民族加分!$C$1:$E$65536,3,FALSE)","v":2},{"v":172,"d":"172.00"}]
[1821,"4252270702311","杨雅琪","317独山县第四中学","01初中语文教师",{"$f":"VLOOKUP(B1821,[1]Sheet1!$A:$I,8,0)","v":"92.00"},{"$f":"VLOOKUP(B1821,[1]Sheet1!$A:$I,9,0)","v":"78.00"},{"$f":"VLOOKUP(B1821,[2]少数民族加分!$C$1:$E$65536,3,FALSE)","v":2},{"v":172,"d":"172.00"}]
[1812,"4252270702324","周小勇","317独山县第四中学","01初中语文教师",{"$f":"VLOOKUP(B1822,[1]Sheet1!$A:$I,8,0)","v":"101.00"},{"$f":"VLOOKUP(B1822,[1]Sheet1!$A:$I,9,0)","v":"70.50"},null,{"v":171.5,"d":"171.50"}]
[1822,"4252270702601","雷燕","317独山县第四中学","01初中语文教师",{"$f":"VLOOKUP(B1823,[1]Sheet1!$A:$I,8,0)","v":"87.50"},{"$f":"VLOOKUP(B1823,[1]Sheet1!$A:$I,9,0)","v":"82.00"},{"$f":"VLOOKUP(B1823,[2]少数民族加分!$C$1:$E$65536,3,FALSE)","v":2},{"v":171.5,"d":"171.50"}]
[1823,"4252270704019","杨丕柱","317独山县第四中学","01初中语文教师",{"$f":"VLOOKUP(B1824,[1]Sheet1!$A:$I,8,0)","v":"83.00"},{"$f":"VLOOKUP(B1824,[1]Sheet1!$A:$I,9,0)","v":"86.50"},{"$f":"VLOOKUP(B1824,[2]少数民族加分!$C$1:$E$65536,3,FALSE)","v":2},{"v":171.5,"d":"171.50"}]
[1827,"4252270702608","黄娥先","317独山县第四中学","01初中语文教师",{"$f":"VLOOKUP(B1825,[1]Sheet1!$A:$I,8,0)","v":"77.00"},{"$f":"VLOOKUP(B1825,[1]Sheet1!$A:$I,9,0)","v":"92.00"},{"$f":"VLOOKUP(B1825,[2]少数民族加分!$C$1:$E$65536,3,FALSE)","v":2},{"v":171,"d":"171.00"}]
[1828,"4252270703217","蒙静","317独山县第四中学","01初中语文教师",{"$f":"VLOOKUP(B1826,[1]Sheet1!$A:$I,8,0)","v":"84.00"},{"$f":"VLOOKUP(B1826,[1]Sheet1!$A:$I,9,0)","v":"85.00"},{"$f":"VLOOKUP(B1826,[2]少数民族加分!$C$1:$E$65536,3,FALSE)","v":2},{"v":171,"d":"171.00"}]
[1829,"4252270701414","刘慧玲","317独山县第四中学","01初中语文教师",{"$f":"VLOOKUP(B1827,[1]Sheet1!$A:$I,8,0)","v":"80.50"},{"$f":"VLOOKUP(B1827,[1]Sheet1!$A:$I,9,0)","v":"88.00"},{"$f":"VLOOKUP(B1827,[2]少数民族加分!$C$1:$E$65536,3,FALSE)","v":2},{"v":170.5,"d":"170.50"}]
[1817,"4252270704309","贾德佳","317独山县第四中学","01初中语文教师",{"$f":"VLOOKUP(B1828,[1]Sheet1!$A:$I,8,0)","v":"86.00"},{"$f":"VLOOKUP(B1828,[1]Sheet1!$A:$I,9,0)","v":"84.00"},null,{"v":170,"d":"170.00"}]
[1832,"4252270704108","王曲","317独山县第四中学","01初中语文教师",{"$f":"VLOOKUP(B1829,[1]Sheet1!$A:$I,8,0)","v":"81.00"},{"$f":"VLOOKUP(B1829,[1]Sheet1!$A:$I,9,0)","v":"87.00"},{"$f":"VLOOKUP(B1829,[2]少数民族加分!$C$1:$E$65536,3,FALSE)","v":2},{"v":170,"d":"170.00"}]
[1833,"4252270705223","莫祥夏","317独山县第四中学","01初中语文教师",{"$f":"VLOOKUP(B1830,[1]Sheet1!$A:$I,8,0)","v":"96.50"},{"$f":"VLOOKUP(B1830,[1]Sheet1!$A:$I,9,0)","v":"71.50"},{"$f":"VLOOKUP(B1830,[2]少数民族加分!$C$1:$E$65536,3,FALSE)","v":2},{"v":170,"d":"170.00"}]
[1834,"4252270701911","张鹏","317独山县第四中学","01初中语文教师",{"$f":"VLOOKUP(B1831,[1]Sheet1!$A:$I,8,0)","v":"84.50"},{"$f":"VLOOKUP(B1831,[1]Sheet1!$A:$I,9,0)","v":"83.50"},{"$f":"VLOOKUP(B1831,[2]少数民族加分!$C$1:$E$65536,3,FALSE)","v":2},{"v":170,"d":"170.00"}]
[1836,"4252270702720","艾珣","317独山县第四中学","01初中语文教师",{"$f":"VLOOKUP(B1832,[1]Sheet1!$A:$I,8,0)","v":"94.50"},{"$f":"VLOOKUP(B1832,[1]Sheet1!$A:$I,9,0)","v":"73.50"},{"$f":"VLOOKUP(B1832,[2]少数民族加分!$C$1:$E$65536,3,FALSE)","v":2},{"v":170,"d":"170.00"}]
[1824,"4252270704824","罗寿福","317独山县第四中学","01初中语文教师",{"$f":"VLOOKUP(B1833,[1]Sheet1!$A:$I,8,0)","v":"87.00"},{"$f":"VLOOKUP(B1833,[1]Sheet1!$A:$I,9,0)","v":"82.50"},null,{"v":169.5,"d":"169.50"}]
[1825,"4252270705105","程军志","317独山县第四中学","01初中语文教师",{"$f":"VLOOKUP(B1834,[1]Sheet1!$A:$I,8,0)","v":"71.50"},{"$f":"VLOOKUP(B1834,[1]Sheet1!$A:$I,9,0)","v":"98.00"},null,{"v":169.5,"d":"169.50"}]
[1837,"4252270704225","宋启芳","317独山县第四中学","01初中语文教师",{"$f":"VLOOKUP(B1835,[1]Sheet1!$A:$I,8,0)","v":"92.00"},{"$f":"VLOOKUP(B1835,[1]Sheet1!$A:$I,9,0)","v":"75.50"},{"$f":"VLOOKUP(B1835,[2]少数民族加分!$C$1:$E$65536,3,FALSE)","v":2},{"v":169.5,"d":"169.50"}]
[1838,"4252270704328","吴惠英","317独山县第四中学","01初中语文教师",{"$f":"VLOOKUP(B1836,[1]Sheet1!$A:$I,8,0)","v":"88.00"},{"$f":"VLOOKUP(B1836,[1]Sheet1!$A:$I,9,0)","v":"79.50"},{"$f":"VLOOKUP(B1836,[2]少数民族加分!$C$1:$E$65536,3,FALSE)","v":2},{"v":169.5,"d":"169.50"}]
[1826,"4252270702124","杨蝶","317独山县第四中学","01初中语文教师",{"$f":"VLOOKUP(B1837,[1]Sheet1!$A:$I,8,0)","v":"87.50"},{"$f":"VLOOKUP(B1837,[1]Sheet1!$A:$I,9,0)","v":"81.50"},null,{"v":169,"d":"169.00"}]
[1830,"4252270703806","李小会","317独山县第四中学","01初中语文教师",{"$f":"VLOOKUP(B1838,[1]Sheet1!$A:$I,8,0)","v":"92.50"},{"$f":"VLOOKUP(B1838,[1]Sheet1!$A:$I,9,0)","v":"76.00"},null,{"v":168.5,"d":"168.50"}]
[1831,"4252270703917","梁林","317独山县第四中学","01初中语文教师",{"$f":"VLOOKUP(B1839,[1]Sheet1!$A:$I,8,0)","v":"91.00"},{"$f":"VLOOKUP(B1839,[1]Sheet1!$A:$I,9,0)","v":"77.50"},null,{"v":168.5,"d":"168.50"}]
[1839,"4252270705605","张青秀","317独山县第四中学","01初中语文教师",{"$f":"VLOOKUP(B1840,[1]Sheet1!$A:$I,8,0)","v":"82.50"},{"$f":"VLOOKUP(B1840,[1]Sheet1!$A:$I,9,0)","v":"84.00"},{"$f":"VLOOKUP(B1840,[2]少数民族加分!$C$1:$E$65536,3,FALSE)","v":2},{"v":168.5,"d":"168.50"}]
[1840,"4252270702615","王正仿","317独山县第四中学","01初中语文教师",{"$f":"VLOOKUP(B1841,[1]Sheet1!$A:$I,8,0)","v":"71.50"},{"$f":"VLOOKUP(B1841,[1]Sheet1!$A:$I,9,0)","v":"95.00"},{"$f":"VLOOKUP(B1841,[2]少数民族加分!$C$1:$E$65536,3,FALSE)","v":2},{"v":168.5,"d":"168.50"}]
[1835,"4252270702002","石海娟","317独山县第四中学","01初中语文教师",{"$f":"VLOOKUP(B1842,[1]Sheet1!$A:$I,8,0)","v":"75.00"},{"$f":"VLOOKUP(B1842,[1]Sheet1!$A:$I,9,0)","v":"93.00"},null,{"v":168,"d":"168.00"}]
[1841,"4252270702515","吴秀尖","317独山县第四中学","01初中语文教师",{"$f":"VLOOKUP(B1843,[1]Sheet1!$A:$I,8,0)","v":"87.50"},{"$f":"VLOOKUP(B1843,[1]Sheet1!$A:$I,9,0)","v":"78.50"},{"$f":"VLOOKUP(B1843,[2]少数民族加分!$C$1:$E$65536,3,FALSE)","v":2},{"v":168,"d":"168.00"}]
[1842,"4252270702225","何承红","317独山县第四中学","01初中语文教师",{"$f":"VLOOKUP(B1844,[1]Sheet1!$A:$I,8,0)","v":"89.50"},{"$f":"VLOOKUP(B1844,[1]Sheet1!$A:$I,9,0)","v":"76.00"},{"$f":"VLOOKUP(B1844,[2]少数民族加分!$C$1:$E$65536,3,FALSE)","v":2},{"v":167.5,"d":"167.50"}]
[1844,"4252270706216","雍志丹","317独山县第四中学","01初中语文教师",{"$f":"VLOOKUP(B1845,[1]Sheet1!$A:$I,8,0)","v":"77.00"},{"$f":"VLOOKUP(B1845,[1]Sheet1!$A:$I,9,0)","v":"88.00"},{"$f":"VLOOKUP(B1845,[2]少数民族加分!$C$1:$E$65536,3,FALSE)","v":2},{"v":167,"d":"167.00"}]
[1846,"4252270702718","段琳","317独山县第四中学","01初中语文教师",{"$f":"VLOOKUP(B1846,[1]Sheet1!$A:$I,8,0)","v":"88.00"},{"$f":"VLOOKUP(B1846,[1]Sheet1!$A:$I,9,0)","v":"75.50"},{"$f":"VLOOKUP(B1846,[2]少数民族加分!$C$1:$E$65536,3,FALSE)","v":2},{"v":165.5,"d":"165.50"}]
[1847,"4252270702803","何青","317独山县第四中学","01初中语文教师",{"$f":"VLOOKUP(B1847,[1]Sheet1!$A:$I,8,0)","v":"91.00"},{"$f":"VLOOKUP(B1847,[1]Sheet1!$A:$I,9,0)","v":"72.50"},{"$f":"VLOOKUP(B1847,[2]少数民族加分!$C$1:$E$65536,3,FALSE)","v":2},{"v":165.5,"d":"165.50"}]
[1843,"4252270705502","张宁","317独山县第四中学","01初中语文教师",{"$f":"VLOOKUP(B1848,[1]Sheet1!$A:$I,8,0)","v":"63.00"},{"$f":"VLOOKUP(B1848,[1]Sheet1!$A:$I,9,0)","v":"102.00"},null,{"v":165,"d":"165.00"}]
[1849,"4252270705817","刘雅斯","317独山县第四中学","01初中语文教师",{"$f":"VLOOKUP(B1849,[1]Sheet1!$A:$I,8,0)","v":"71.00"},{"$f":"VLOOKUP(B1849,[1]Sheet1!$A:$I,9,0)","v":"92.00"},{"$f":"VLOOKUP(B1849,[2]少数民族加分!$C$1:$E$65536,3,FALSE)","v":2},{"v":165,"d":"165.00"}]
[1845,"4252270704616","刘小英","317独山县第四中学","01初中语文教师",{"$f":"VLOOKUP(B1850,[1]Sheet1!$A:$I,8,0)","v":"90.50"},{"$f":"VLOOKUP(B1850,[1]Sheet1!$A:$I,9,0)","v":"74.00"},null,{"v":164.5,"d":"164.50"}]
[1851,"4252270705311","吴菊丹","317独山县第四中学","01初中语文教师",{"$f":"VLOOKUP(B1851,[1]Sheet1!$A:$I,8,0)","v":"83.00"},{"$f":"VLOOKUP(B1851,[1]Sheet1!$A:$I,9,0)","v":"79.00"},{"$f":"VLOOKUP(B1851,[2]少数民族加分!$C$1:$E$65536,3,FALSE)","v":2},{"v":164,"d":"164.00"}]
[1853,"4252270701915","王亭","317独山县第四中学","01初中语文教师",{"$f":"VLOOKUP(B1852,[1]Sheet1!$A:$I,8,0)","v":"73.00"},{"$f":"VLOOKUP(B1852,[1]Sheet1!$A:$I,9,0)","v":"89.00"},{"$f":"VLOOKUP(B1852,[2]少数民族加分!$C$1:$E$65536,3,FALSE)","v":2},{"v":164,"d":"164.00"}]
[1854,"4252270702804","罗世菊","317独山县第四中学","01初中语文教师",{"$f":"VLOOKUP(B1853,[1]Sheet1!$A:$I,8,0)","v":"86.00"},{"$f":"VLOOKUP(B1853,[1]Sheet1!$A:$I,9,0)","v":"76.00"},{"$f":"VLOOKUP(B1853,[2]少数民族加分!$C$1:$E$65536,3,FALSE)","v":2},{"v":164,"d":"164.00"}]
[1848,"4252270706606","张巧丽","317独山县第四中学","01初中语文教师",{"$f":"VLOOKUP(B1854,[1]Sheet1!$A:$I,8,0)","v":"77.50"},{"$f":"VLOOKUP(B1854,[1]Sheet1!$A:$I,9,0)","v":"86.00"},null,{"v":163.5,"d":"163.50"}]
[1856,"4252270704928","莫玉娟","317独山县第四中学","01初中语文教师",{"$f":"VLOOKUP(B1855,[1]Sheet1!$A:$I,8,0)","v":"72.50"},{"$f":"VLOOKUP(B1855,[1]Sheet1!$A:$I,9,0)","v":"89.00"},{"$f":"VLOOKUP(B1855,[2]少数民族加分!$C$1:$E$65536,3,FALSE)","v":2},{"v":163.5,"d":"163.50"}]
[1850,"4252270705519","龙国燕","317独山县第四中学","01初中语文教师",{"$f":"VLOOKUP(B1856,[1]Sheet1!$A:$I,8,0)","v":"96.50"},{"$f":"VLOOKUP(B1856,[1]Sheet1!$A:$I,9,0)","v":"66.00"},null,{"v":162.5,"d":"162.50"}]
[1852,"4252270705419","熊兴美","317独山县第四中学","01初中语文教师",{"$f":"VLOOKUP(B1857,[1]Sheet1!$A:$I,8,0)","v":"76.00"},{"$f":"VLOOKUP(B1857,[1]Sheet1!$A:$I,9,0)","v":"86.00"},null,{"v":162,"d":"162.00"}]
[1857,"4252270702004","王静诗","317独山县第四中学","01初中语文教师",{"$f":"VLOOKUP(B1858,[1]Sheet1!$A:$I,8,0)","v":"77.00"},{"$f":"VLOOKUP(B1858,[1]Sheet1!$A:$I,9,0)","v":"83.00"},{"$f":"VLOOKUP(B1858,[2]少数民族加分!$C$1:$E$65536,3,FALSE)","v":2},{"v":162,"d":"162.00"}]
[1858,"4252270702021","黄明锦","317独山县第四中学","01初中语文教师",{"$f":"VLOOKUP(B1859,[1]Sheet1!$A:$I,8,0)","v":"86.50"},{"$f":"VLOOKUP(B1859,[1]Sheet1!$A:$I,9,0)","v":"73.50"},{"$f":"VLOOKUP(B1859,[2]少数民族加分!$C$1:$E$65536,3,FALSE)","v":2},{"v":162,"d":"162.00"}]
[1855,"4252270701816","孔垂滇","317独山县第四中学","01初中语文教师",{"$f":"VLOOKUP(B1860,[1]Sheet1!$A:$I,8,0)","v":"74.50"},{"$f":"VLOOKUP(B1860,[1]Sheet1!$A:$I,9,0)","v":"87.00"},null,{"v":161.5,"d":"161.50"}]
[1859,"4252270701321","文发娟","317独山县第四中学","01初中语文教师",{"$f":"VLOOKUP(B1861,[1]Sheet1!$A:$I,8,0)","v":"80.50"},{"$f":"VLOOKUP(B1861,[1]Sheet1!$A:$I,9,0)","v":"79.00"},{"$f":"VLOOKUP(B1861,[2]少数民族加分!$C$1:$E$65536,3,FALSE)","v":2},{"v":161.5,"d":"161.50"}]
[1861,"4252270703314","石永红","317独山县第四中学","01初中语文教师",{"$f":"VLOOKUP(B1862,[1]Sheet1!$A:$I,8,0)","v":"84.00"},{"$f":"VLOOKUP(B1862,[1]Sheet1!$A:$I,9,0)","v":"75.50"},{"$f":"VLOOKUP(B1862,[2]少数民族加分!$C$1:$E$65536,3,FALSE)","v":2},{"v":161.5,"d":"161.50"}]
[1862,"4252270705027","陈洁","317独山县第四中学","01初中语文教师",{"$f":"VLOOKUP(B1863,[1]Sheet1!$A:$I,8,0)","v":"89.50"},{"$f":"VLOOKUP(B1863,[1]Sheet1!$A:$I,9,0)","v":"70.00"},{"$f":"VLOOKUP(B1863,[2]少数民族加分!$C$1:$E$65536,3,FALSE)","v":2},{"v":161.5,"d":"161.50"}]
[1864,"4252270705122","覃文波","317独山县第四中学","01初中语文教师",{"$f":"VLOOKUP(B1864,[1]Sheet1!$A:$I,8,0)","v":"74.00"},{"$f":"VLOOKUP(B1864,[1]Sheet1!$A:$I,9,0)","v":"85.00"},{"$f":"VLOOKUP(B1864,[2]少数民族加分!$C$1:$E$65536,3,FALSE)","v":2},{"v":161,"d":"161.00"}]
[1865,"4252270705908","吴吉美","317独山县第四中学","01初中语文教师",{"$f":"VLOOKUP(B1865,[1]Sheet1!$A:$I,8,0)","v":"75.00"},{"$f":"VLOOKUP(B1865,[1]Sheet1!$A:$I,9,0)","v":"84.00"},{"$f":"VLOOKUP(B1865,[2]少数民族加分!$C$1:$E$65536,3,FALSE)","v":2},{"v":161,"d":"161.00"}]
[1866,"4252270706505","尹吉云","317独山县第四中学","01初中语文教师",{"$f":"VLOOKUP(B1866,[1]Sheet1!$A:$I,8,0)","v":"71.00"},{"$f":"VLOOKUP(B1866,[1]Sheet1!$A:$I,9,0)","v":"88.00"},{"$f":"VLOOKUP(B1866,[2]少数民族加分!$C$1:$E$65536,3,FALSE)","v":2},{"v":161,"d":"161.00"}]
[1867,"4252270701701","吴颢","317独山县第四中学","01初中语文教师",{"$f":"VLOOKUP(B1867,[1]Sheet1!$A:$I,8,0)","v":"71.00"},{"$f":"VLOOKUP(B1867,[1]Sheet1!$A:$I,9,0)","v":"88.00"},{"$f":"VLOOKUP(B1867,[2]少数民族加分!$C$1:$E$65536,3,FALSE)","v":2},{"v":161,"d":"161.00"}]
[1868,"4252270704024","吴珍霞","317独山县第四中学","01初中语文教师",{"$f":"VLOOKUP(B1868,[1]Sheet1!$A:$I,8,0)","v":"82.50"},{"$f":"VLOOKUP(B1868,[1]Sheet1!$A:$I,9,0)","v":"76.00"},{"$f":"VLOOKUP(B1868,[2]少数民族加分!$C$1:$E$65536,3,FALSE)","v":2},{"v":160.5,"d":"160.50"}]
[1869,"4252270705307","韦江影","317独山县第四中学","01初中语文教师",{"$f":"VLOOKUP(B1869,[1]Sheet1!$A:$I,8,0)","v":"77.50"},{"$f":"VLOOKUP(B1869,[1]Sheet1!$A:$I,9,0)","v":"81.00"},{"$f":"VLOOKUP(B1869,[2]少数民族加分!$C$1:$E$65536,3,FALSE)","v":2},{"v":160.5,"d":"160.50"}]
[1870,"4252270705810","熊欢","317独山县第四中学","01初中语文教师",{"$f":"VLOOKUP(B1870,[1]Sheet1!$A:$I,8,0)","v":"70.00"},{"$f":"VLOOKUP(B1870,[1]Sheet1!$A:$I,9,0)","v":"88.00"},{"$f":"VLOOKUP(B1870,[2]少数民族加分!$C$1:$E$65536,3,FALSE)","v":2},{"v":160,"d":"160.00"}]
[1871,"4252270702526","蒙佳佳","317独山县第四中学","01初中语文教师",{"$f":"VLOOKUP(B1871,[1]Sheet1!$A:$I,8,0)","v":"83.00"},{"$f":"VLOOKUP(B1871,[1]Sheet1!$A:$I,9,0)","v":"75.00"},{"$f":"VLOOKUP(B1871,[2]少数民族加分!$C$1:$E$65536,3,FALSE)","v":2},{"v":160,"d":"160.00"}]
[1860,"4252270701810","胡锦莲","317独山县第四中学","01初中语文教师",{"$f":"VLOOKUP(B1872,[1]Sheet1!$A:$I,8,0)","v":"76.50"},{"$f":"VLOOKUP(B1872,[1]Sheet1!$A:$I,9,0)","v":"83.00"},null,{"v":159.5,"d":"159.50"}]
[1872,"4252270701908","唐江霞","317独山县第四中学","01初中语文教师",{"$f":"VLOOKUP(B1873,[1]Sheet1!$A:$I,8,0)","v":"76.50"},{"$f":"VLOOKUP(B1873,[1]Sheet1!$A:$I,9,0)","v":"81.00"},{"$f":"VLOOKUP(B1873,[2]少数民族加分!$C$1:$E$65536,3,FALSE)","v":2},{"v":159.5,"d":"159.50"}]
[1863,"4252270704530","肖雨","317独山县第四中学","01初中语文教师",{"$f":"VLOOKUP(B1874,[1]Sheet1!$A:$I,8,0)","v":"80.00"},{"$f":"VLOOKUP(B1874,[1]Sheet1!$A:$I,9,0)","v":"79.00"},null,{"v":159,"d":"159.00"}]
[1873,"4252270701728","黎盛婷","317独山县第四中学","01初中语文教师",{"$f":"VLOOKUP(B1875,[1]Sheet1!$A:$I,8,0)","v":"78.00"},{"$f":"VLOOKUP(B1875,[1]Sheet1!$A:$I,9,0)","v":"79.00"},{"$f":"VLOOKUP(B1875,[2]少数民族加分!$C$1:$E$65536,3,FALSE)","v":2},{"v":159,"d":"159.00"}]
[1874,"4252270705917","李开阳","317独山县第四中学","01初中语文教师",{"$f":"VLOOKUP(B1876,[1]Sheet1!$A:$I,8,0)","v":"90.50"},{"$f":"VLOOKUP(B1876,[1]Sheet1!$A:$I,9,0)","v":"66.50"},{"$f":"VLOOKUP(B1876,[2]少数民族加分!$C$1:$E$65536,3,FALSE)","v":2},{"v":159,"d":"159.00"}]
[1876,"4252270701901","李娟","317独山县第四中学","01初中语文教师",{"$f":"VLOOKUP(B1877,[1]Sheet1!$A:$I,8,0)","v":"82.50"},{"$f":"VLOOKUP(B1877,[1]Sheet1!$A:$I,9,0)","v":"74.00"},{"$f":"VLOOKUP(B1877,[2]少数民族加分!$C$1:$E$65536,3,FALSE)","v":2},{"v":158.5,"d":"158.50"}]
[1878,"4252270702201","吴凤爽","317独山县第四中学","01初中语文教师",{"$f":"VLOOKUP(B1878,[1]Sheet1!$A:$I,8,0)","v":"73.00"},{"$f":"VLOOKUP(B1878,[1]Sheet1!$A:$I,9,0)","v":"83.00"},{"$f":"VLOOKUP(B1878,[2]少数民族加分!$C$1:$E$65536,3,FALSE)","v":2},{"v":158,"d":"158.00"}]
[1879,"4252270702813","龙政成","317独山县第四中学","01初中语文教师",{"$f":"VLOOKUP(B1879,[1]Sheet1!$A:$I,8,0)","v":"86.00"},{"$f":"VLOOKUP(B1879,[1]Sheet1!$A:$I,9,0)","v":"69.50"},{"$f":"VLOOKUP(B1879,[2]少数民族加分!$C$1:$E$65536,3,FALSE)","v":2},{"v":157.5,"d":"157.50"}]
[1881,"4252270704103","杨冰雪","317独山县第四中学","01初中语文教师",{"$f":"VLOOKUP(B1880,[1]Sheet1!$A:$I,8,0)","v":"78.50"},{"$f":"VLOOKUP(B1880,[1]Sheet1!$A:$I,9,0)","v":"77.00"},{"$f":"VLOOKUP(B1880,[2]少数民族加分!$C$1:$E$65536,3,FALSE)","v":2},{"v":157.5,"d":"157.50"}]
[1882,"4252270704628","李明雕","317独山县第四中学","01初中语文教师",{"$f":"VLOOKUP(B1881,[1]Sheet1!$A:$I,8,0)","v":"78.50"},{"$f":"VLOOKUP(B1881,[1]Sheet1!$A:$I,9,0)","v":"77.00"},{"$f":"VLOOKUP(B1881,[2]少数民族加分!$C$1:$E$65536,3,FALSE)","v":2},{"v":157.5,"d":"157.50"}]
[1883,"4252270704312","周兰丽","317独山县第四中学","01初中语文教师",{"$f":"VLOOKUP(B1882,[1]Sheet1!$A:$I,8,0)","v":"89.50"},{"$f":"VLOOKUP(B1882,[1]Sheet1!$A:$I,9,0)","v":"65.50"},{"$f":"VLOOKUP(B1882,[2]少数民族加分!$C$1:$E$65536,3,FALSE)","v":2},{"v":157,"d":"157.00"}]
[1884,"4252270704809","韦春梅","317独山县第四中学","01初中语文教师",{"$f":"VLOOKUP(B1883,[1]Sheet1!$A:$I,8,0)","v":"75.00"},{"$f":"VLOOKUP(B1883,[1]Sheet1!$A:$I,9,0)","v":"80.00"},{"$f":"VLOOKUP(B1883,[2]少数民族加分!$C$1:$E$65536,3,FALSE)","v":2},{"v":157,"d":"157.00"}]
[1875,"4252270703703","陈桂平","317独山县第四中学","01初中语文教师",{"$f":"VLOOKUP(B1884,[1]Sheet1!$A:$I,8,0)","v":"84.00"},{"$f":"VLOOKUP(B1884,[1]Sheet1!$A:$I,9,0)","v":"72.50"},null,{"v":156.5,"d":"156.50"}]
[1877,"4252270702704","黄麟淋","317独山县第四中学","01初中语文教师",{"$f":"VLOOKUP(B1885,[1]Sheet1!$A:$I,8,0)","v":"81.50"},{"$f":"VLOOKUP(B1885,[1]Sheet1!$A:$I,9,0)","v":"75.00"},null,{"v":156.5,"d":"156.50"}]
[1886,"4252270702206","孙康","317独山县第四中学","01初中语文教师",{"$f":"VLOOKUP(B1886,[1]Sheet1!$A:$I,8,0)","v":"68.50"},{"$f":"VLOOKUP(B1886,[1]Sheet1!$A:$I,9,0)","v":"86.00"},{"$f":"VLOOKUP(B1886,[2]少数民族加分!$C$1:$E$65536,3,FALSE)","v":2},{"v":156.5,"d":"156.50"}]
[1887,"4252270706615","杨雪","317独山县第四中学","01初中语文教师",{"$f":"VLOOKUP(B1887,[1]Sheet1!$A:$I,8,0)","v":"78.50"},{"$f":"VLOOKUP(B1887,[1]Sheet1!$A:$I,9,0)","v":"76.00"},{"$f":"VLOOKUP(B1887,[2]少数民族加分!$C$1:$E$65536,3,FALSE)","v":2},{"v":156.5,"d":"156.50"}]
[1880,"4252270703030","付莅","317独山县第四中学","01初中语文教师",{"$f":"VLOOKUP(B1888,[1]Sheet1!$A:$I,8,0)","v":"82.50"},{"$f":"VLOOKUP(B1888,[1]Sheet1!$A:$I,9,0)","v":"73.00"},null,{"v":155.5,"d":"155.50"}]
[1885,"4252270702019","罗玉双","317独山县第四中学","01初中语文教师",{"$f":"VLOOKUP(B1889,[1]Sheet1!$A:$I,8,0)","v":"91.50"},{"$f":"VLOOKUP(B1889,[1]Sheet1!$A:$I,9,0)","v":"63.50"},null,{"v":155,"d":"155.00"}]
[1889,"4252270703804","陈银凤","317独山县第四中学","01初中语文教师",{"$f":"VLOOKUP(B1890,[1]Sheet1!$A:$I,8,0)","v":"61.50"},{"$f":"VLOOKUP(B1890,[1]Sheet1!$A:$I,9,0)","v":"91.00"},{"$f":"VLOOKUP(B1890,[2]少数民族加分!$C$1:$E$65536,3,FALSE)","v":2},{"v":154.5,"d":"154.50"}]
[1890,"4252270704419","左宗堂","317独山县第四中学","01初中语文教师",{"$f":"VLOOKUP(B1891,[1]Sheet1!$A:$I,8,0)","v":"73.50"},{"$f":"VLOOKUP(B1891,[1]Sheet1!$A:$I,9,0)","v":"79.00"},{"$f":"VLOOKUP(B1891,[2]少数民族加分!$C$1:$E$65536,3,FALSE)","v":2},{"v":154.5,"d":"154.50"}]
[1891,"4252270705213","吴英","317独山县第四中学","01初中语文教师",{"$f":"VLOOKUP(B1892,[1]Sheet1!$A:$I,8,0)","v":"68.00"},{"$f":"VLOOKUP(B1892,[1]Sheet1!$A:$I,9,0)","v":"84.00"},{"$f":"VLOOKUP(B1892,[2]少数民族加分!$C$1:$E$65536,3,FALSE)","v":2},{"v":154,"d":"154.00"}]
[1888,"4252270702403","张娅","317独山县第四中学","01初中语文教师",{"$f":"VLOOKUP(B1893,[1]Sheet1!$A:$I,8,0)","v":"78.50"},{"$f":"VLOOKUP(B1893,[1]Sheet1!$A:$I,9,0)","v":"75.00"},null,{"v":153.5,"d":"153.50"}]
[1892,"4252270703503","吴萍丹","317独山县第四中学","01初中语文教师",{"$f":"VLOOKUP(B1894,[1]Sheet1!$A:$I,8,0)","v":"68.50"},{"$f":"VLOOKUP(B1894,[1]Sheet1!$A:$I,9,0)","v":"83.00"},{"$f":"VLOOKUP(B1894,[2]少数民族加分!$C$1:$E$65536,3,FALSE)","v":2},{"v":153.5,"d":"153.50"}]
[1894,"4252270703008","杨小调","317独山县第四中学","01初中语文教师",{"$f":"VLOOKUP(B1895,[1]Sheet1!$A:$I,8,0)","v":"81.00"},{"$f":"VLOOKUP(B1895,[1]Sheet1!$A:$I,9,0)","v":"70.00"},{"$f":"VLOOKUP(B1895,[2]少数民族加分!$C$1:$E$65536,3,FALSE)","v":2},{"v":153,"d":"153.00"}]
[1895,"4252270703411","莫莳晨","317独山县第四中学","01初中语文教师",{"$f":"VLOOKUP(B1896,[1]Sheet1!$A:$I,8,0)","v":"74.00"},{"$f":"VLOOKUP(B1896,[1]Sheet1!$A:$I,9,0)","v":"77.00"},{"$f":"VLOOKUP(B1896,[2]少数民族加分!$C$1:$E$65536,3,FALSE)","v":2},{"v":153,"d":"153.00"}]
[1897,"4252270704027","潘家艳","317独山县第四中学","01初中语文教师",{"$f":"VLOOKUP(B1897,[1]Sheet1!$A:$I,8,0)","v":"75.00"},{"$f":"VLOOKUP(B1897,[1]Sheet1!$A:$I,9,0)","v":"75.00"},{"$f":"VLOOKUP(B1897,[2]少数民族加分!$C$1:$E$65536,3,FALSE)","v":2},{"v":152,"d":"152.00"}]
[1893,"4252270701316","陈滔","317独山县第四中学","01初中语文教师",{"$f":"VLOOKUP(B1898,[1]Sheet1!$A:$I,8,0)","v":"87.00"},{"$f":"VLOOKUP(B1898,[1]Sheet1!$A:$I,9,0)","v":"64.00"},null,{"v":151,"d":"151.00"}]
[1899,"4252270701508","罗艳梅","317独山县第四中学","01初中语文教师",{"$f":"VLOOKUP(B1899,[1]Sheet1!$A:$I,8,0)","v":"71.00"},{"$f":"VLOOKUP(B1899,[1]Sheet1!$A:$I,9,0)","v":"78.00"},{"$f":"VLOOKUP(B1899,[2]少数民族加分!$C$1:$E$65536,3,FALSE)","v":2},{"v":151,"d":"151.00"}]
[1900,"4252270701622","岑溪","317独山县第四中学","01初中语文教师",{"$f":"VLOOKUP(B1900,[1]Sheet1!$A:$I,8,0)","v":"80.50"},{"$f":"VLOOKUP(B1900,[1]Sheet1!$A:$I,9,0)","v":"68.00"},{"$f":"VLOOKUP(B1900,[2]少数民族加分!$C$1:$E$65536,3,FALSE)","v":2},{"v":150.5,"d":"150.50"}]
[1901,"4252270701704","陈佳银","317独山县第四中学","01初中语文教师",{"$f":"VLOOKUP(B1901,[1]Sheet1!$A:$I,8,0)","v":"77.50"},{"$f":"VLOOKUP(B1901,[1]Sheet1!$A:$I,9,0)","v":"71.00"},{"$f":"VLOOKUP(B1901,[2]少数民族加分!$C$1:$E$65536,3,FALSE)","v":2},{"v":150.5,"d":"150.50"}]
[1902,"4252270703416","余丽霞","317独山县第四中学","01初中语文教师",{"$f":"VLOOKUP(B1902,[1]Sheet1!$A:$I,8,0)","v":"62.50"},{"$f":"VLOOKUP(B1902,[1]Sheet1!$A:$I,9,0)","v":"86.00"},{"$f":"VLOOKUP(B1902,[2]少数民族加分!$C$1:$E$65536,3,FALSE)","v":2},{"v":150.5,"d":"150.50"}]
[1903,"4252270704515","杨冉","317独山县第四中学","01初中语文教师",{"$f":"VLOOKUP(B1903,[1]Sheet1!$A:$I,8,0)","v":"74.50"},{"$f":"VLOOKUP(B1903,[1]Sheet1!$A:$I,9,0)","v":"74.00"},{"$f":"VLOOKUP(B1903,[2]少数民族加分!$C$1:$E$65536,3,FALSE)","v":2},{"v":150.5,"d":"150.50"}]
[1904,"4252270705504","龙贵艳","317独山县第四中学","01初中语文教师",{"$f":"VLOOKUP(B1904,[1]Sheet1!$A:$I,8,0)","v":"84.00"},{"$f":"VLOOKUP(B1904,[1]Sheet1!$A:$I,9,0)","v":"64.50"},{"$f":"VLOOKUP(B1904,[2]少数民族加分!$C$1:$E$65536,3,FALSE)","v":2},{"v":150.5,"d":"150.50"}]
[1896,"4252270703121","杨华","317独山县第四中学","01初中语文教师",{"$f":"VLOOKUP(B1905,[1]Sheet1!$A:$I,8,0)","v":"74.00"},{"$f":"VLOOKUP(B1905,[1]Sheet1!$A:$I,9,0)","v":"76.00"},null,{"v":150,"d":"150.00"}]
[1898,"4252270705010","王丽雪","317独山县第四中学","01初中语文教师",{"$f":"VLOOKUP(B1906,[1]Sheet1!$A:$I,8,0)","v":"74.50"},{"$f":"VLOOKUP(B1906,[1]Sheet1!$A:$I,9,0)","v":"75.00"},null,{"v":149.5,"d":"149.50"}]
[1905,"4252270705628","滕莉","317独山县第四中学","01初中语文教师",{"$f":"VLOOKUP(B1907,[1]Sheet1!$A:$I,8,0)","v":"74.50"},{"$f":"VLOOKUP(B1907,[1]Sheet1!$A:$I,9,0)","v":"73.00"},{"$f":"VLOOKUP(B1907,[2]少数民族加分!$C$1:$E$65536,3,FALSE)","v":2},{"v":149.5,"d":"149.50"}]
[1906,"4252270701815","罗世银","317独山县第四中学","01初中语文教师",{"$f":"VLOOKUP(B1908,[1]Sheet1!$A:$I,8,0)","v":"80.00"},{"$f":"VLOOKUP(B1908,[1]Sheet1!$A:$I,9,0)","v":"67.00"},{"$f":"VLOOKUP(B1908,[2]少数民族加分!$C$1:$E$65536,3,FALSE)","v":2},{"v":149,"d":"149.00"}]
[1907,"4252270701928","吴兴圆","317独山县第四中学","01初中语文教师",{"$f":"VLOOKUP(B1909,[1]Sheet1!$A:$I,8,0)","v":"73.00"},{"$f":"VLOOKUP(B1909,[1]Sheet1!$A:$I,9,0)","v":"74.00"},{"$f":"VLOOKUP(B1909,[2]少数民族加分!$C$1:$E$65536,3,FALSE)","v":2},{"v":149,"d":"149.00"}]
[1911,"4252270705704","潘梅","317独山县第四中学","01初中语文教师",{"$f":"VLOOKUP(B1910,[1]Sheet1!$A:$I,8,0)","v":"74.00"},{"$f":"VLOOKUP(B1910,[1]Sheet1!$A:$I,9,0)","v":"71.00"},{"$f":"VLOOKUP(B1910,[2]少数民族加分!$C$1:$E$65536,3,FALSE)","v":2},{"v":147,"d":"147.00"}]
[1908,"4252270703109","谢梅","317独山县第四中学","01初中语文教师",{"$f":"VLOOKUP(B1911,[1]Sheet1!$A:$I,8,0)","v":"75.50"},{"$f":"VLOOKUP(B1911,[1]Sheet1!$A:$I,9,0)","v":"71.00"},null,{"v":146.5,"d":"146.50"}]
[1913,"4252270704819","潘丽红","317独山县第四中学","01初中语文教师",{"$f":"VLOOKUP(B1912,[1]Sheet1!$A:$I,8,0)","v":"73.00"},{"$f":"VLOOKUP(B1912,[1]Sheet1!$A:$I,9,0)","v":"71.00"},{"$f":"VLOOKUP(B1912,[2]少数民族加分!$C$1:$E$65536,3,FALSE)","v":2},{"v":146,"d":"146.00"}]
[1915,"4252270706805","蒙小梅","317独山县第四中学","01初中语文教师",{"$f":"VLOOKUP(B1913,[1]Sheet1!$A:$I,8,0)","v":"56.00"},{"$f":"VLOOKUP(B1913,[1]Sheet1!$A:$I,9,0)","v":"88.00"},{"$f":"VLOOKUP(B1913,[2]少数民族加分!$C$1:$E$65536,3,FALSE)","v":2},{"v":146,"d":"146.00"}]
[1909,"4252270703125","李万燕","317独山县第四中学","01初中语文教师",{"$f":"VLOOKUP(B1914,[1]Sheet1!$A:$I,8,0)","v":"68.50"},{"$f":"VLOOKUP(B1914,[1]Sheet1!$A:$I,9,0)","v":"77.00"},null,{"v":145.5,"d":"145.50"}]
[1910,"4252270705029","王太仙","317独山县第四中学","01初中语文教师",{"$f":"VLOOKUP(B1915,[1]Sheet1!$A:$I,8,0)","v":"72.50"},{"$f":"VLOOKUP(B1915,[1]Sheet1!$A:$I,9,0)","v":"73.00"},null,{"v":145.5,"d":"145.50"}]
[1912,"4252270705228","杨娇娇","317独山县第四中学","01初中语文教师",{"$f":"VLOOKUP(B1916,[1]Sheet1!$A:$I,8,0)","v":"72.50"},{"$f":"VLOOKUP(B1916,[1]Sheet1!$A:$I,9,0)","v":"72.00"},null,{"v":144.5,"d":"144.50"}]
[1914,"4252270705615","范兴菊","317独山县第四中学","01初中语文教师",{"$f":"VLOOKUP(B1917,[1]Sheet1!$A:$I,8,0)","v":"77.00"},{"$f":"VLOOKUP(B1917,[1]Sheet1!$A:$I,9,0)","v":"67.00"},null,{"v":144,"d":"144.00"}]
[1917,"4252270703422","韦现波","317独山县第四中学","01初中语文教师",{"$f":"VLOOKUP(B1918,[1]Sheet1!$A:$I,8,0)","v":"64.00"},{"$f":"VLOOKUP(B1918,[1]Sheet1!$A:$I,9,0)","v":"78.00"},{"$f":"VLOOKUP(B1918,[2]少数民族加分!$C$1:$E$65536,3,FALSE)","v":2},{"v":144,"d":"144.00"}]
[1918,"4252270703626","罗树榜","317独山县第四中学","01初中语文教师",{"$f":"VLOOKUP(B1919,[1]Sheet1!$A:$I,8,0)","v":"75.00"},{"$f":"VLOOKUP(B1919,[1]Sheet1!$A:$I,9,0)","v":"67.00"},{"$f":"VLOOKUP(B1919,[2]少数民族加分!$C$1:$E$65536,3,FALSE)","v":2},{"v":144,"d":"144.00"}]
[1916,"4252270702623","范兴艳","317独山县第四中学","01初中语文教师",{"$f":"VLOOKUP(B1920,[1]Sheet1!$A:$I,8,0)","v":"71.00"},{"$f":"VLOOKUP(B1920,[1]Sheet1!$A:$I,9,0)","v":"72.00"},null,{"v":143,"d":"143.00"}]
[1919,"4252270705215","吴万成","317独山县第四中学","01初中语文教师",{"$f":"VLOOKUP(B1921,[1]Sheet1!$A:$I,8,0)","v":"54.00"},{"$f":"VLOOKUP(B1921,[1]Sheet1!$A:$I,9,0)","v":"87.00"},{"$f":"VLOOKUP(B1921,[2]少数民族加分!$C$1:$E$65536,3,FALSE)","v":2},{"v":143,"d":"143.00"}]
[1922,"4252270703827","曾娅","317独山县第四中学","01初中语文教师",{"$f":"VLOOKUP(B1922,[1]Sheet1!$A:$I,8,0)","v":"64.00"},{"$f":"VLOOKUP(B1922,[1]Sheet1!$A:$I,9,0)","v":"76.00"},{"$f":"VLOOKUP(B1922,[2]少数民族加分!$C$1:$E$65536,3,FALSE)","v":2},{"v":142,"d":"142.00"}]
[1923,"4252270705526","刘建华","317独山县第四中学","01初中语文教师",{"$f":"VLOOKUP(B1923,[1]Sheet1!$A:$I,8,0)","v":"58.00"},{"$f":"VLOOKUP(B1923,[1]Sheet1!$A:$I,9,0)","v":"82.00"},{"$f":"VLOOKUP(B1923,[2]少数民族加分!$C$1:$E$65536,3,FALSE)","v":2},{"v":142,"d":"142.00"}]
[1920,"4252270703418","刘朝乾","317独山县第四中学","01初中语文教师",{"$f":"VLOOKUP(B1924,[1]Sheet1!$A:$I,8,0)","v":"60.00"},{"$f":"VLOOKUP(B1924,[1]Sheet1!$A:$I,9,0)","v":"81.00"},null,{"v":141,"d":"141.00"}]
[1921,"4252270705610","谭庭粉","317独山县第四中学","01初中语文教师",{"$f":"VLOOKUP(B1925,[1]Sheet1!$A:$I,8,0)","v":"76.50"},{"$f":"VLOOKUP(B1925,[1]Sheet1!$A:$I,9,0)","v":"64.00"},null,{"v":140.5,"d":"140.50"}]
[1924,"4252270705201","吴怀科","317独山县第四中学","01初中语文教师",{"$f":"VLOOKUP(B1926,[1]Sheet1!$A:$I,8,0)","v":"64.50"},{"$f":"VLOOKUP(B1926,[1]Sheet1!$A:$I,9,0)","v":"74.00"},{"$f":"VLOOKUP(B1926,[2]少数民族加分!$C$1:$E$65536,3,FALSE)","v":2},{"v":140.5,"d":"140.50"}]
[1925,"4252270706315","薛富仙","317独山县第四中学","01初中语文教师",{"$f":"VLOOKUP(B1927,[1]Sheet1!$A:$I,8,0)","v":"76.50"},{"$f":"VLOOKUP(B1927,[1]Sheet1!$A:$I,9,0)","v":"62.00"},{"$f":"VLOOKUP(B1927,[2]少数民族加分!$C$1:$E$65536,3,FALSE)","v":2},{"v":140.5,"d":"140.50"}]
[1926,"4252270703216","张英","317独山县第四中学","01初中语文教师",{"$f":"VLOOKUP(B1928,[1]Sheet1!$A:$I,8,0)","v":"63.50"},{"$f":"VLOOKUP(B1928,[1]Sheet1!$A:$I,9,0)","v":"75.00"},{"$f":"VLOOKUP(B1928,[2]少数民族加分!$C$1:$E$65536,3,FALSE)","v":2},{"v":140.5,"d":"140.50"}]
[1927,"4252270703403","杨志由","317独山县第四中学","01初中语文教师",{"$f":"VLOOKUP(B1929,[1]Sheet1!$A:$I,8,0)","v":"70.00"},{"$f":"VLOOKUP(B1929,[1]Sheet1!$A:$I,9,0)","v":"68.00"},{"$f":"VLOOKUP(B1929,[2]少数民族加分!$C$1:$E$65536,3,FALSE)","v":2},{"v":140,"d":"140.00"}]
[1929,"4252270705418","邹琼","317独山县第四中学","01初中语文教师",{"$f":"VLOOKUP(B1930,[1]Sheet1!$A:$I,8,0)","v":"79.00"},{"$f":"VLOOKUP(B1930,[1]Sheet1!$A:$I,9,0)","v":"58.00"},{"$f":"VLOOKUP(B1930,[2]少数民族加分!$C$1:$E$65536,3,FALSE)","v":2},{"v":139,"d":"139.00"}]
[1930,"4252270702420","杨梦雪","317独山县第四中学","01初中语文教师",{"$f":"VLOOKUP(B1931,[1]Sheet1!$A:$I,8,0)","v":"56.50"},{"$f":"VLOOKUP(B1931,[1]Sheet1!$A:$I,9,0)","v":"80.00"},{"$f":"VLOOKUP(B1931,[2]少数民族加分!$C$1:$E$65536,3,FALSE)","v":2},{"v":138.5,"d":"138.50"}]
[1931,"4252270702822","文静","317独山县第四中学","01初中语文教师",{"$f":"VLOOKUP(B1932,[1]Sheet1!$A:$I,8,0)","v":"70.00"},{"$f":"VLOOKUP(B1932,[1]Sheet1!$A:$I,9,0)","v":"66.00"},{"$f":"VLOOKUP(B1932,[2]少数民族加分!$C$1:$E$65536,3,FALSE)","v":2},{"v":138,"d":"138.00"}]
[1932,"4252270706507","穆玲","317独山县第四中学","01初中语文教师",{"$f":"VLOOKUP(B1933,[1]Sheet1!$A:$I,8,0)","v":"76.50"},{"$f":"VLOOKUP(B1933,[1]Sheet1!$A:$I,9,0)","v":"59.00"},{"$f":"VLOOKUP(B1933,[2]少数民族加分!$C$1:$E$65536,3,FALSE)","v":2},{"v":137.5,"d":"137.50"}]
[1928,"4252270702910","吴秀丽","317独山县第四中学","01初中语文教师",{"$f":"VLOOKUP(B1934,[1]Sheet1!$A:$I,8,0)","v":"77.00"},{"$f":"VLOOKUP(B1934,[1]Sheet1!$A:$I,9,0)","v":"60.00"},null,{"v":137,"d":"137.00"}]
[1933,"4252270705301","潘春醒","317独山县第四中学","01初中语文教师",{"$f":"VLOOKUP(B1935,[1]Sheet1!$A:$I,8,0)","v":"76.50"},{"$f":"VLOOKUP(B1935,[1]Sheet1!$A:$I,9,0)","v":"55.00"},{"$f":"VLOOKUP(B1935,[2]少数民族加分!$C$1:$E$65536,3,FALSE)","v":2},{"v":133.5,"d":"133.50"}]
[1934,"4252270702524","周智艳","317独山县第四中学","01初中语文教师",{"$f":"VLOOKUP(B1936,[1]Sheet1!$A:$I,8,0)","v":"68.50"},{"$f":"VLOOKUP(B1936,[1]Sheet1!$A:$I,9,0)","v":"61.00"},null,{"v":129.5,"d":"129.50"}]
[1935,"4252270702207","王婷立","317独山县第四中学","01初中语文教师",{"$f":"VLOOKUP(B1937,[1]Sheet1!$A:$I,8,0)","v":"67.50"},{"$f":"VLOOKUP(B1937,[1]Sheet1!$A:$I,9,0)","v":"60.00"},{"$f":"VLOOKUP(B1937,[2]少数民族加分!$C$1:$E$65536,3,FALSE)","v":2},{"v":129.5,"d":"129.50"}]
[1936,"4252270705606","刘召琴","317独山县第四中学","01初中语文教师",{"$f":"VLOOKUP(B1938,[1]Sheet1!$A:$I,8,0)","v":"45.50"},{"$f":"VLOOKUP(B1938,[1]Sheet1!$A:$I,9,0)","v":"79.00"},{"$f":"VLOOKUP(B1938,[2]少数民族加分!$C$1:$E$65536,3,FALSE)","v":2},{"v":126.5,"d":"126.50"}]
[1937,"4252270705003","韦荣蓉","317独山县第四中学","01初中语文教师",{"$f":"VLOOKUP(B1939,[1]Sheet1!$A:$I,8,0)","v":"59.50"},{"$f":"VLOOKUP(B1939,[1]Sheet1!$A:$I,9,0)","v":"64.00"},{"$f":"VLOOKUP(B1939,[2]少数民族加分!$C$1:$E$65536,3,FALSE)","v":2},{"v":125.5,"d":"125.50"}]
[1938,"4252270704018","陈宏亭","317独山县第四中学","01初中语文教师",{"$f":"VLOOKUP(B1940,[1]Sheet1!$A:$I,8,0)","v":"63.00"},{"$f":"VLOOKUP(B1940,[1]Sheet1!$A:$I,9,0)","v":"60.00"},{"$f":"VLOOKUP(B1940,[2]少数民族加分!$C$1:$E$65536,3,FALSE)","v":2},{"v":125,"d":"125.00"}]
[1939,"4252270704114","吴燕勤","317独山县第四中学","01初中语文教师",{"$f":"VLOOKUP(B1941,[1]Sheet1!$A:$I,8,0)","v":"58.00"},{"$f":"VLOOKUP(B1941,[1]Sheet1!$A:$I,9,0)","v":"62.00"},{"$f":"VLOOKUP(B1941,[2]少数民族加分!$C$1:$E$65536,3,FALSE)","v":2},{"v":122,"d":"122.00"}]
[1940,"4252270703529","蔡治","317独山县第四中学","01初中语文教师",{"$f":"VLOOKUP(B1942,[1]Sheet1!$A:$I,8,0)","v":"0.00"},{"$f":"VLOOKUP(B1942,[1]Sheet1!$A:$I,9,0)","v":"0.00"},{"$f":"VLOOKUP(B1942,[2]少数民族加分!$C$1:$E$65536,3,FALSE)","v":2},"缺考"]
[1941,"4252270703613","姜久","317独山县第四中学","01初中语文教师",{"$f":"VLOOKUP(B1943,[1]Sheet1!$A:$I,8,0)","v":"0.00"},{"$f":"VLOOKUP(B1943,[1]Sheet1!$A:$I,9,0)","v":"0.00"},{"$f":"VLOOKUP(B1943,[2]少数民族加分!$C$1:$E$65536,3,FALSE)","v":2},"缺考"]
[1942,"4252270703730","李国燕","317独山县第四中学","01初中语文教师",{"$f":"VLOOKUP(B1944,[1]Sheet1!$A:$I,8,0)","v":"0.00"},{"$f":"VLOOKUP(B1944,[1]Sheet1!$A:$I,9,0)","v":"0.00"},null,"缺考"]
[1943,"4252270703801","张美如","317独山县第四中学","01初中语文教师",{"$f":"VLOOKUP(B1945,[1]Sheet1!$A:$I,8,0)","v":"0.00"},{"$f":"VLOOKUP(B1945,[1]Sheet1!$A:$I,9,0)","v":"0.00"},{"$f":"VLOOKUP(B1945,[2]少数民族加分!$C$1:$E$65536,3,FALSE)","v":2},"缺考"]
[1944,"4252270703814","张龄","317独山县第四中学","01初中语文教师",{"$f":"VLOOKUP(B1946,[1]Sheet1!$A:$I,8,0)","v":"0.00"},{"$f":"VLOOKUP(B1946,[1]Sheet1!$A:$I,9,0)","v":"0.00"},{"$f":"VLOOKUP(B1946,[2]少数民族加分!$C$1:$E$65536,3,FALSE)","v":2},"缺考"]
[1945,"4252270703818","杨引","317独山县第四中学","01初中语文教师",{"$f":"VLOOKUP(B1947,[1]Sheet1!$A:$I,8,0)","v":"0.00"},{"$f":"VLOOKUP(B1947,[1]Sheet1!$A:$I,9,0)","v":"0.00"},{"$f":"VLOOKUP(B1947,[2]少数民族加分!$C$1:$E$65536,3,FALSE)","v":2},"缺考"]
[1946,"4252270703911","李娜","317独山县第四中学","01初中语文教师",{"$f":"VLOOKUP(B1948,[1]Sheet1!$A:$I,8,0)","v":"0.00"},{"$f":"VLOOKUP(B1948,[1]Sheet1!$A:$I,9,0)","v":"0.00"},{"$f":"VLOOKUP(B1948,[2]少数民族加分!$C$1:$E$65536,3,FALSE)","v":2},"缺考"]
[1947,"4252270704003","杨承虹","317独山县第四中学","01初中语文教师",{"$f":"VLOOKUP(B1949,[1]Sheet1!$A:$I,8,0)","v":"0.00"},{"$f":"VLOOKUP(B1949,[1]Sheet1!$A:$I,9,0)","v":"0.00"},{"$f":"VLOOKUP(B1949,[2]少数民族加分!$C$1:$E$65536,3,FALSE)","v":2},"缺考"]
[1948,"4252270704028","韦春草","317独山县第四中学","01初中语文教师",{"$f":"VLOOKUP(B1950,[1]Sheet1!$A:$I,8,0)","v":"0.00"},{"$f":"VLOOKUP(B1950,[1]Sheet1!$A:$I,9,0)","v":"0.00"},{"$f":"VLOOKUP(B1950,[2]少数民族加分!$C$1:$E$65536,3,FALSE)","v":2},"缺考"]
[1949,"4252270704202","杨晶","317独山县第四中学","01初中语文教师",{"$f":"VLOOKUP(B1951,[1]Sheet1!$A:$I,8,0)","v":"0.00"},{"$f":"VLOOKUP(B1951,[1]Sheet1!$A:$I,9,0)","v":"0.00"},{"$f":"VLOOKUP(B1951,[2]少数民族加分!$C$1:$E$65536,3,FALSE)","v":2},"缺考"]
[1950,"4252270704221","陈良琼","317独山县第四中学","01初中语文教师",{"$f":"VLOOKUP(B1952,[1]Sheet1!$A:$I,8,0)","v":"0.00"},{"$f":"VLOOKUP(B1952,[1]Sheet1!$A:$I,9,0)","v":"0.00"},null,"缺考"]
[1951,"4252270704329","尹丽梅","317独山县第四中学","01初中语文教师",{"$f":"VLOOKUP(B1953,[1]Sheet1!$A:$I,8,0)","v":"0.00"},{"$f":"VLOOKUP(B1953,[1]Sheet1!$A:$I,9,0)","v":"0.00"},null,"缺考"]
[1952,"4252270704414","李荣梅","317独山县第四中学","01初中语文教师",{"$f":"VLOOKUP(B1954,[1]Sheet1!$A:$I,8,0)","v":"0.00"},{"$f":"VLOOKUP(B1954,[1]Sheet1!$A:$I,9,0)","v":"0.00"},{"$f":"VLOOKUP(B1954,[2]少数民族加分!$C$1:$E$65536,3,FALSE)","v":2},"缺考"]
[1953,"4252270704426","马菊菊","317独山县第四中学","01初中语文教师",{"$f":"VLOOKUP(B1955,[1]Sheet1!$A:$I,8,0)","v":"0.00"},{"$f":"VLOOKUP(B1955,[1]Sheet1!$A:$I,9,0)","v":"0.00"},{"$f":"VLOOKUP(B1955,[2]少数民族加分!$C$1:$E$65536,3,FALSE)","v":2},"缺考"]
[1954,"4252270704701","蒙玉忠","317独山县第四中学","01初中语文教师",{"$f":"VLOOKUP(B1956,[1]Sheet1!$A:$I,8,0)","v":"0.00"},{"$f":"VLOOKUP(B1956,[1]Sheet1!$A:$I,9,0)","v":"0.00"},{"$f":"VLOOKUP(B1956,[2]少数民族加分!$C$1:$E$65536,3,FALSE)","v":2},"缺考"]
[1955,"4252270704925","彭文欢","317独山县第四中学","01初中语文教师",{"$f":"VLOOKUP(B1957,[1]Sheet1!$A:$I,8,0)","v":"0.00"},{"$f":"VLOOKUP(B1957,[1]Sheet1!$A:$I,9,0)","v":"0.00"},{"$f":"VLOOKUP(B1957,[2]少数民族加分!$C$1:$E$65536,3,FALSE)","v":2},"缺考"]
[1956,"4252270704930","蒙玉婵","317独山县第四中学","01初中语文教师",{"$f":"VLOOKUP(B1958,[1]Sheet1!$A:$I,8,0)","v":"0.00"},{"$f":"VLOOKUP(B1958,[1]Sheet1!$A:$I,9,0)","v":"0.00"},{"$f":"VLOOKUP(B1958,[2]少数民族加分!$C$1:$E$65536,3,FALSE)","v":2},"缺考"]
[1957,"4252270705125","潘治飞","317独山县第四中学","01初中语文教师",{"$f":"VLOOKUP(B1959,[1]Sheet1!$A:$I,8,0)","v":"0.00"},{"$f":"VLOOKUP(B1959,[1]Sheet1!$A:$I,9,0)","v":"0.00"},{"$f":"VLOOKUP(B1959,[2]少数民族加分!$C$1:$E$65536,3,FALSE)","v":2},"缺考"]
[1958,"4252270705208","黄煜梅","317独山县第四中学","01初中语文教师",{"$f":"VLOOKUP(B1960,[1]Sheet1!$A:$I,8,0)","v":"0.00"},{"$f":"VLOOKUP(B1960,[1]Sheet1!$A:$I,9,0)","v":"0.00"},null,"缺考"]
[1959,"4252270705425","蒋静萍","317独山县第四中学","01初中语文教师",{"$f":"VLOOKUP(B1961,[1]Sheet1!$A:$I,8,0)","v":"0.00"},{"$f":"VLOOKUP(B1961,[1]Sheet1!$A:$I,9,0)","v":"0.00"},null,"缺考"]
[1960,"4252270705427","田雪","317独山县第四中学","01初中语文教师",{"$f":"VLOOKUP(B1962,[1]Sheet1!$A:$I,8,0)","v":"0.00"},{"$f":"VLOOKUP(B1962,[1]Sheet1!$A:$I,9,0)","v":"0.00"},null,"缺考"]
[1961,"4252270705513","路隐","317独山县第四中学","01初中语文教师",{"$f":"VLOOKUP(B1963,[1]Sheet1!$A:$I,8,0)","v":"0.00"},{"$f":"VLOOKUP(B1963,[1]Sheet1!$A:$I,9,0)","v":"0.00"},{"$f":"VLOOKUP(B1963,[2]少数民族加分!$C$1:$E$65536,3,FALSE)","v":2},"缺考"]
[1962,"4252270705722","张桃银","317独山县第四中学","01初中语文教师",{"$f":"VLOOKUP(B1964,[1]Sheet1!$A:$I,8,0)","v":"0.00"},{"$f":"VLOOKUP(B1964,[1]Sheet1!$A:$I,9,0)","v":"0.00"},{"$f":"VLOOKUP(B1964,[2]少数民族加分!$C$1:$E$65536,3,FALSE)","v":2},"缺考"]
[1963,"4252270705912","赵婷","317独山县第四中学","01初中语文教师",{"$f":"VLOOKUP(B1965,[1]Sheet1!$A:$I,8,0)","v":"0.00"},{"$f":"VLOOKUP(B1965,[1]Sheet1!$A:$I,9,0)","v":"0.00"},{"$f":"VLOOKUP(B1965,[2]少数民族加分!$C$1:$E$65536,3,FALSE)","v":2},"缺考"]
[1964,"4252270706006","张玲敏","317独山县第四中学","01初中语文教师",{"$f":"VLOOKUP(B1966,[1]Sheet1!$A:$I,8,0)","v":"0.00"},{"$f":"VLOOKUP(B1966,[1]Sheet1!$A:$I,9,0)","v":"0.00"},null,"缺考"]
[1965,"4252270706223","饶克金","317独山县第四中学","01初中语文教师",{"$f":"VLOOKUP(B1967,[1]Sheet1!$A:$I,8,0)","v":"0.00"},{"$f":"VLOOKUP(B1967,[1]Sheet1!$A:$I,9,0)","v":"0.00"},{"$f":"VLOOKUP(B1967,[2]少数民族加分!$C$1:$E$65536,3,FALSE)","v":2},"缺考"]
[1966,"4252270706319","黄肖","317独山县第四中学","01初中语文教师",{"$f":"VLOOKUP(B1968,[1]Sheet1!$A:$I,8,0)","v":"0.00"},{"$f":"VLOOKUP(B1968,[1]Sheet1!$A:$I,9,0)","v":"0.00"},null,"缺考"]
[1967,"4252270701406","刘贤","317独山县第四中学","01初中语文教师",{"$f":"VLOOKUP(B1969,[1]Sheet1!$A:$I,8,0)","v":"0.00"},{"$f":"VLOOKUP(B1969,[1]Sheet1!$A:$I,9,0)","v":"0.00"},null,"缺考"]
[1968,"4252270701619","田茂春","317独山县第四中学","01初中语文教师",{"$f":"VLOOKUP(B1970,[1]Sheet1!$A:$I,8,0)","v":"0.00"},{"$f":"VLOOKUP(B1970,[1]Sheet1!$A:$I,9,0)","v":"0.00"},{"$f":"VLOOKUP(B1970,[2]少数民族加分!$C$1:$E$65536,3,FALSE)","v":2},"缺考"]
[1969,"4252270701720","高江艳","317独山县第四中学","01初中语文教师",{"$f":"VLOOKUP(B1971,[1]Sheet1!$A:$I,8,0)","v":"0.00"},{"$f":"VLOOKUP(B1971,[1]Sheet1!$A:$I,9,0)","v":"0.00"},{"$f":"VLOOKUP(B1971,[2]少数民族加分!$C$1:$E$65536,3,FALSE)","v":2},"缺考"]
[1970,"4252270701913","冉秀娟","317独山县第四中学","01初中语文教师",{"$f":"VLOOKUP(B1972,[1]Sheet1!$A:$I,8,0)","v":"0.00"},{"$f":"VLOOKUP(B1972,[1]Sheet1!$A:$I,9,0)","v":"0.00"},{"$f":"VLOOKUP(B1972,[2]少数民族加分!$C$1:$E$65536,3,FALSE)","v":2},"缺考"]
[1971,"4252270701916","彭晓晖","317独山县第四中学","01初中语文教师",{"$f":"VLOOKUP(B1973,[1]Sheet1!$A:$I,8,0)","v":"0.00"},{"$f":"VLOOKUP(B1973,[1]Sheet1!$A:$I,9,0)","v":"0.00"},{"$f":"VLOOKUP(B1973,[2]少数民族加分!$C$1:$E$65536,3,FALSE)","v":2},"缺考"]
[1972,"4252270702212","吴明桃","317独山县第四中学","01初中语文教师",{"$f":"VLOOKUP(B1974,[1]Sheet1!$A:$I,8,0)","v":"0.00"},{"$f":"VLOOKUP(B1974,[1]Sheet1!$A:$I,9,0)","v":"0.00"},{"$f":"VLOOKUP(B1974,[2]少数民族加分!$C$1:$E$65536,3,FALSE)","v":2},"缺考"]
[1973,"4252270702323","杨涛","317独山县第四中学","01初中语文教师",{"$f":"VLOOKUP(B1975,[1]Sheet1!$A:$I,8,0)","v":"0.00"},{"$f":"VLOOKUP(B1975,[1]Sheet1!$A:$I,9,0)","v":"0.00"},null,"缺考"]
[1974,"4252270703029","陈娟","317独山县第四中学","01初中语文教师",{"$f":"VLOOKUP(B1976,[1]Sheet1!$A:$I,8,0)","v":"0.00"},{"$f":"VLOOKUP(B1976,[1]Sheet1!$A:$I,9,0)","v":"0.00"},null,"缺考"]
[1975,"4252270703223","李少军","317独山县第四中学","01初中语文教师",{"$f":"VLOOKUP(B1977,[1]Sheet1!$A:$I,8,0)","v":"0.00"},{"$f":"VLOOKUP(B1977,[1]Sheet1!$A:$I,9,0)","v":"0.00"},null,"缺考"]
[1976,"4252270703228","杨银芳","317独山县第四中学","01初中语文教师",{"$f":"VLOOKUP(B1978,[1]Sheet1!$A:$I,8,0)","v":"0.00"},{"$f":"VLOOKUP(B1978,[1]Sheet1!$A:$I,9,0)","v":"0.00"},{"$f":"VLOOKUP(B1978,[2]少数民族加分!$C$1:$E$65536,3,FALSE)","v":2},"缺考"]
[1977,"4252270703320","陈文丽","317独山县第四中学","01初中语文教师",{"$f":"VLOOKUP(B1979,[1]Sheet1!$A:$I,8,0)","v":"0.00"},{"$f":"VLOOKUP(B1979,[1]Sheet1!$A:$I,9,0)","v":"0.00"},null,"缺考"]
[1978,"4252270702808","覃以灿","317独山县第四中学","02初中体育教师",{"$f":"VLOOKUP(B1980,[1]Sheet1!$A:$I,8,0)","v":"95.50"},{"$f":"VLOOKUP(B1980,[1]Sheet1!$A:$I,9,0)","v":"86.00"},{"$f":"VLOOKUP(B1980,[2]少数民族加分!$C$1:$E$65536,3,FALSE)","v":2},{"v":183.5,"d":"183.50"}]
[1979,"4252270706420","吴再佩","317独山县第四中学","02初中体育教师",{"$f":"VLOOKUP(B1981,[1]Sheet1!$A:$I,8,0)","v":"77.00"},{"$f":"VLOOKUP(B1981,[1]Sheet1!$A:$I,9,0)","v":"99.00"},{"$f":"VLOOKUP(B1981,[2]少数民族加分!$C$1:$E$65536,3,FALSE)","v":2},{"v":178,"d":"178.00"}]
[1980,"4252270703528","刘密","317独山县第四中学","02初中体育教师",{"$f":"VLOOKUP(B1982,[1]Sheet1!$A:$I,8,0)","v":"92.50"},{"$f":"VLOOKUP(B1982,[1]Sheet1!$A:$I,9,0)","v":"82.50"},{"$f":"VLOOKUP(B1982,[2]少数民族加分!$C$1:$E$65536,3,FALSE)","v":2},{"v":177,"d":"177.00"}]
[1981,"4252270701907","杨帅","317独山县第四中学","02初中体育教师",{"$f":"VLOOKUP(B1983,[1]Sheet1!$A:$I,8,0)","v":"83.50"},{"$f":"VLOOKUP(B1983,[1]Sheet1!$A:$I,9,0)","v":"91.50"},{"$f":"VLOOKUP(B1983,[2]少数民族加分!$C$1:$E$65536,3,FALSE)","v":2},{"v":177,"d":"177.00"}]
[1982,"4252270703209","张石红","317独山县第四中学","02初中体育教师",{"$f":"VLOOKUP(B1984,[1]Sheet1!$A:$I,8,0)","v":"91.50"},{"$f":"VLOOKUP(B1984,[1]Sheet1!$A:$I,9,0)","v":"82.50"},{"$f":"VLOOKUP(B1984,[2]少数民族加分!$C$1:$E$65536,3,FALSE)","v":2},{"v":176,"d":"176.00"}]
[1983,"4252270701529","程飞龙","317独山县第四中学","02初中体育教师",{"$f":"VLOOKUP(B1985,[1]Sheet1!$A:$I,8,0)","v":"88.00"},{"$f":"VLOOKUP(B1985,[1]Sheet1!$A:$I,9,0)","v":"82.50"},{"$f":"VLOOKUP(B1985,[2]少数民族加分!$C$1:$E$65536,3,FALSE)","v":2},{"v":172.5,"d":"172.50"}]
[1985,"4252270702527","杨世海","317独山县第四中学","02初中体育教师",{"$f":"VLOOKUP(B1986,[1]Sheet1!$A:$I,8,0)","v":"97.50"},{"$f":"VLOOKUP(B1986,[1]Sheet1!$A:$I,9,0)","v":"70.50"},{"$f":"VLOOKUP(B1986,[2]少数民族加分!$C$1:$E$65536,3,FALSE)","v":2},{"v":170,"d":"170.00"}]
[1986,"4252270706407","林花","317独山县第四中学","02初中体育教师",{"$f":"VLOOKUP(B1987,[1]Sheet1!$A:$I,8,0)","v":"78.00"},{"$f":"VLOOKUP(B1987,[1]Sheet1!$A:$I,9,0)","v":"90.00"},{"$f":"VLOOKUP(B1987,[2]少数民族加分!$C$1:$E$65536,3,FALSE)","v":2},{"v":170,"d":"170.00"}]
[1988,"4252270704104","陈还香","317独山县第四中学","02初中体育教师",{"$f":"VLOOKUP(B1988,[1]Sheet1!$A:$I,8,0)","v":"79.50"},{"$f":"VLOOKUP(B1988,[1]Sheet1!$A:$I,9,0)","v":"87.50"},{"$f":"VLOOKUP(B1988,[2]少数民族加分!$C$1:$E$65536,3,FALSE)","v":2},{"v":169,"d":"169.00"}]
[1989,"4252270704727","尹平","317独山县第四中学","02初中体育教师",{"$f":"VLOOKUP(B1989,[1]Sheet1!$A:$I,8,0)","v":"80.50"},{"$f":"VLOOKUP(B1989,[1]Sheet1!$A:$I,9,0)","v":"86.50"},{"$f":"VLOOKUP(B1989,[2]少数民族加分!$C$1:$E$65536,3,FALSE)","v":2},{"v":169,"d":"169.00"}]
[1984,"4252270701513","李胜凯","317独山县第四中学","02初中体育教师",{"$f":"VLOOKUP(B1990,[1]Sheet1!$A:$I,8,0)","v":"89.00"},{"$f":"VLOOKUP(B1990,[1]Sheet1!$A:$I,9,0)","v":"79.50"},null,{"v":168.5,"d":"168.50"}]
[1987,"4252270703928","孙云","317独山县第四中学","02初中体育教师",{"$f":"VLOOKUP(B1991,[1]Sheet1!$A:$I,8,0)","v":"82.00"},{"$f":"VLOOKUP(B1991,[1]Sheet1!$A:$I,9,0)","v":"85.50"},null,{"v":167.5,"d":"167.50"}]
[1991,"4252270701702","韦娜","317独山县第四中学","02初中体育教师",{"$f":"VLOOKUP(B1992,[1]Sheet1!$A:$I,8,0)","v":"82.00"},{"$f":"VLOOKUP(B1992,[1]Sheet1!$A:$I,9,0)","v":"82.00"},{"$f":"VLOOKUP(B1992,[2]少数民族加分!$C$1:$E$65536,3,FALSE)","v":2},{"v":166,"d":"166.00"}]
[1992,"4252270702312","王魂","317独山县第四中学","02初中体育教师",{"$f":"VLOOKUP(B1993,[1]Sheet1!$A:$I,8,0)","v":"90.00"},{"$f":"VLOOKUP(B1993,[1]Sheet1!$A:$I,9,0)","v":"73.50"},{"$f":"VLOOKUP(B1993,[2]少数民族加分!$C$1:$E$65536,3,FALSE)","v":2},{"v":165.5,"d":"165.50"}]
[1990,"4252270706108","李怀燕","317独山县第四中学","02初中体育教师",{"$f":"VLOOKUP(B1994,[1]Sheet1!$A:$I,8,0)","v":"92.00"},{"$f":"VLOOKUP(B1994,[1]Sheet1!$A:$I,9,0)","v":"72.50"},null,{"v":164.5,"d":"164.50"}]
[1993,"4252270701611","刘明进","317独山县第四中学","02初中体育教师",{"$f":"VLOOKUP(B1995,[1]Sheet1!$A:$I,8,0)","v":"69.50"},{"$f":"VLOOKUP(B1995,[1]Sheet1!$A:$I,9,0)","v":"93.00"},{"$f":"VLOOKUP(B1995,[2]少数民族加分!$C$1:$E$65536,3,FALSE)","v":2},{"v":164.5,"d":"164.50"}]
[1994,"4252270704325","常廷金","317独山县第四中学","02初中体育教师",{"$f":"VLOOKUP(B1996,[1]Sheet1!$A:$I,8,0)","v":"76.50"},{"$f":"VLOOKUP(B1996,[1]Sheet1!$A:$I,9,0)","v":"85.50"},{"$f":"VLOOKUP(B1996,[2]少数民族加分!$C$1:$E$65536,3,FALSE)","v":2},{"v":164,"d":"164.00"}]
[1995,"4252270705509","韦武师","317独山县第四中学","02初中体育教师",{"$f":"VLOOKUP(B1997,[1]Sheet1!$A:$I,8,0)","v":"68.00"},{"$f":"VLOOKUP(B1997,[1]Sheet1!$A:$I,9,0)","v":"94.00"},{"$f":"VLOOKUP(B1997,[2]少数民族加分!$C$1:$E$65536,3,FALSE)","v":2},{"v":164,"d":"164.00"}]
[1997,"4252270703718","覃建优","317独山县第四中学","02初中体育教师",{"$f":"VLOOKUP(B1998,[1]Sheet1!$A:$I,8,0)","v":"80.00"},{"$f":"VLOOKUP(B1998,[1]Sheet1!$A:$I,9,0)","v":"81.50"},{"$f":"VLOOKUP(B1998,[2]少数民族加分!$C$1:$E$65536,3,FALSE)","v":2},{"v":163.5,"d":"163.50"}]
[1998,"4252270704109","刘启洋","317独山县第四中学","02初中体育教师",{"$f":"VLOOKUP(B1999,[1]Sheet1!$A:$I,8,0)","v":"71.50"},{"$f":"VLOOKUP(B1999,[1]Sheet1!$A:$I,9,0)","v":"90.00"},{"$f":"VLOOKUP(B1999,[2]少数民族加分!$C$1:$E$65536,3,FALSE)","v":2},{"v":163.5,"d":"163.50"}]
[1999,"4252270705006","陆荣腾","317独山县第四中学","02初中体育教师",{"$f":"VLOOKUP(B2000,[1]Sheet1!$A:$I,8,0)","v":"84.00"},{"$f":"VLOOKUP(B2000,[1]Sheet1!$A:$I,9,0)","v":"77.50"},{"$f":"VLOOKUP(B2000,[2]少数民族加分!$C$1:$E$65536,3,FALSE)","v":2},{"v":163.5,"d":"163.50"}]
[2000,"4252270701306","潘恩来","317独山县第四中学","02初中体育教师",{"$f":"VLOOKUP(B2001,[1]Sheet1!$A:$I,8,0)","v":"86.50"},{"$f":"VLOOKUP(B2001,[1]Sheet1!$A:$I,9,0)","v":"75.00"},{"$f":"VLOOKUP(B2001,[2]少数民族加分!$C$1:$E$65536,3,FALSE)","v":2},{"v":163.5,"d":"163.50"}]
[2001,"4252270706405","卢太梅","317独山县第四中学","02初中体育教师",{"$f":"VLOOKUP(B2002,[1]Sheet1!$A:$I,8,0)","v":"77.00"},{"$f":"VLOOKUP(B2002,[1]Sheet1!$A:$I,9,0)","v":"84.50"},{"$f":"VLOOKUP(B2002,[2]少数民族加分!$C$1:$E$65536,3,FALSE)","v":2},{"v":163.5,"d":"163.50"}]
[2002,"4252270706524","李富平","317独山县第四中学","02初中体育教师",{"$f":"VLOOKUP(B2003,[1]Sheet1!$A:$I,8,0)","v":"74.00"},{"$f":"VLOOKUP(B2003,[1]Sheet1!$A:$I,9,0)","v":"87.00"},{"$f":"VLOOKUP(B2003,[2]少数民族加分!$C$1:$E$65536,3,FALSE)","v":2},{"v":163,"d":"163.00"}]
[2003,"4252270701930","潘宏作","317独山县第四中学","02初中体育教师",{"$f":"VLOOKUP(B2004,[1]Sheet1!$A:$I,8,0)","v":"77.50"},{"$f":"VLOOKUP(B2004,[1]Sheet1!$A:$I,9,0)","v":"83.00"},{"$f":"VLOOKUP(B2004,[2]少数民族加分!$C$1:$E$65536,3,FALSE)","v":2},{"v":162.5,"d":"162.50"}]
[1996,"4252270705516","史笔龙","317独山县第四中学","02初中体育教师",{"$f":"VLOOKUP(B2005,[1]Sheet1!$A:$I,8,0)","v":"85.50"},{"$f":"VLOOKUP(B2005,[1]Sheet1!$A:$I,9,0)","v":"76.50"},null,{"v":162,"d":"162.00"}]
[2005,"4252270705507","吴学钦","317独山县第四中学","02初中体育教师",{"$f":"VLOOKUP(B2006,[1]Sheet1!$A:$I,8,0)","v":"83.00"},{"$f":"VLOOKUP(B2006,[1]Sheet1!$A:$I,9,0)","v":"77.00"},{"$f":"VLOOKUP(B2006,[2]少数民族加分!$C$1:$E$65536,3,FALSE)","v":2},{"v":162,"d":"162.00"}]
[2006,"4252270703306","陆跃丽","317独山县第四中学","02初中体育教师",{"$f":"VLOOKUP(B2007,[1]Sheet1!$A:$I,8,0)","v":"76.50"},{"$f":"VLOOKUP(B2007,[1]Sheet1!$A:$I,9,0)","v":"83.00"},{"$f":"VLOOKUP(B2007,[2]少数民族加分!$C$1:$E$65536,3,FALSE)","v":2},{"v":161.5,"d":"161.50"}]
[2007,"4252270703821","熊宏","317独山县第四中学","02初中体育教师",{"$f":"VLOOKUP(B2008,[1]Sheet1!$A:$I,8,0)","v":"75.00"},{"$f":"VLOOKUP(B2008,[1]Sheet1!$A:$I,9,0)","v":"84.00"},{"$f":"VLOOKUP(B2008,[2]少数民族加分!$C$1:$E$65536,3,FALSE)","v":2},{"v":161,"d":"161.00"}]
[2008,"4252270703514","龙建顶","317独山县第四中学","02初中体育教师",{"$f":"VLOOKUP(B2009,[1]Sheet1!$A:$I,8,0)","v":"76.50"},{"$f":"VLOOKUP(B2009,[1]Sheet1!$A:$I,9,0)","v":"82.00"},{"$f":"VLOOKUP(B2009,[2]少数民族加分!$C$1:$E$65536,3,FALSE)","v":2},{"v":160.5,"d":"160.50"}]
[2004,"4252270703206","龙崇春","317独山县第四中学","02初中体育教师",{"$f":"VLOOKUP(B2010,[1]Sheet1!$A:$I,8,0)","v":"85.50"},{"$f":"VLOOKUP(B2010,[1]Sheet1!$A:$I,9,0)","v":"74.50"},null,{"v":160,"d":"160.00"}]
[2010,"4252270706802","胡宇","317独山县第四中学","02初中体育教师",{"$f":"VLOOKUP(B2011,[1]Sheet1!$A:$I,8,0)","v":"80.00"},{"$f":"VLOOKUP(B2011,[1]Sheet1!$A:$I,9,0)","v":"76.50"},{"$f":"VLOOKUP(B2011,[2]少数民族加分!$C$1:$E$65536,3,FALSE)","v":2},{"v":158.5,"d":"158.50"}]
[2011,"4252270704206","陈永波","317独山县第四中学","02初中体育教师",{"$f":"VLOOKUP(B2012,[1]Sheet1!$A:$I,8,0)","v":"72.00"},{"$f":"VLOOKUP(B2012,[1]Sheet1!$A:$I,9,0)","v":"84.00"},{"$f":"VLOOKUP(B2012,[2]少数民族加分!$C$1:$E$65536,3,FALSE)","v":2},{"v":158,"d":"158.00"}]
[2012,"4252270702827","韦杨丽","317独山县第四中学","02初中体育教师",{"$f":"VLOOKUP(B2013,[1]Sheet1!$A:$I,8,0)","v":"70.50"},{"$f":"VLOOKUP(B2013,[1]Sheet1!$A:$I,9,0)","v":"85.00"},{"$f":"VLOOKUP(B2013,[2]少数民族加分!$C$1:$E$65536,3,FALSE)","v":2},{"v":157.5,"d":"157.50"}]
[2009,"4252270704327","杨再礼","317独山县第四中学","02初中体育教师",{"$f":"VLOOKUP(B2014,[1]Sheet1!$A:$I,8,0)","v":"77.50"},{"$f":"VLOOKUP(B2014,[1]Sheet1!$A:$I,9,0)","v":"79.00"},null,{"v":156.5,"d":"156.50"}]
[2013,"4252270702709","莫廷武","317独山县第四中学","02初中体育教师",{"$f":"VLOOKUP(B2015,[1]Sheet1!$A:$I,8,0)","v":"76.50"},{"$f":"VLOOKUP(B2015,[1]Sheet1!$A:$I,9,0)","v":"78.00"},{"$f":"VLOOKUP(B2015,[2]少数民族加分!$C$1:$E$65536,3,FALSE)","v":2},{"v":156.5,"d":"156.50"}]
[2014,"4252270704822","覃令豹","317独山县第四中学","02初中体育教师",{"$f":"VLOOKUP(B2016,[1]Sheet1!$A:$I,8,0)","v":"79.50"},{"$f":"VLOOKUP(B2016,[1]Sheet1!$A:$I,9,0)","v":"75.00"},{"$f":"VLOOKUP(B2016,[2]少数民族加分!$C$1:$E$65536,3,FALSE)","v":2},{"v":156.5,"d":"156.50"}]
[2016,"4252270705703","古万智","317独山县第四中学","02初中体育教师",{"$f":"VLOOKUP(B2017,[1]Sheet1!$A:$I,8,0)","v":"79.00"},{"$f":"VLOOKUP(B2017,[1]Sheet1!$A:$I,9,0)","v":"73.00"},{"$f":"VLOOKUP(B2017,[2]少数民族加分!$C$1:$E$65536,3,FALSE)","v":2},{"v":154,"d":"154.00"}]
[2017,"4252270705927","韦超贵","317独山县第四中学","02初中体育教师",{"$f":"VLOOKUP(B2018,[1]Sheet1!$A:$I,8,0)","v":"64.00"},{"$f":"VLOOKUP(B2018,[1]Sheet1!$A:$I,9,0)","v":"88.00"},{"$f":"VLOOKUP(B2018,[2]少数民族加分!$C$1:$E$65536,3,FALSE)","v":2},{"v":154,"d":"154.00"}]
[2018,"4252270703507","谢义农","317独山县第四中学","02初中体育教师",{"$f":"VLOOKUP(B2019,[1]Sheet1!$A:$I,8,0)","v":"68.00"},{"$f":"VLOOKUP(B2019,[1]Sheet1!$A:$I,9,0)","v":"83.00"},{"$f":"VLOOKUP(B2019,[2]少数民族加分!$C$1:$E$65536,3,FALSE)","v":2},{"v":153,"d":"153.00"}]
[2015,"4252270703124","罗彩霞","317独山县第四中学","02初中体育教师",{"$f":"VLOOKUP(B2020,[1]Sheet1!$A:$I,8,0)","v":"76.00"},{"$f":"VLOOKUP(B2020,[1]Sheet1!$A:$I,9,0)","v":"76.50"},null,{"v":152.5,"d":"152.50"}]
[2020,"4252270703605","姚登珊","317独山县第四中学","02初中体育教师",{"$f":"VLOOKUP(B2021,[1]Sheet1!$A:$I,8,0)","v":"72.50"},{"$f":"VLOOKUP(B2021,[1]Sheet1!$A:$I,9,0)","v":"78.00"},{"$f":"VLOOKUP(B2021,[2]少数民族加分!$C$1:$E$65536,3,FALSE)","v":2},{"v":152.5,"d":"152.50"}]
[2022,"4252270701430","李晓艳","317独山县第四中学","02初中体育教师",{"$f":"VLOOKUP(B2022,[1]Sheet1!$A:$I,8,0)","v":"69.50"},{"$f":"VLOOKUP(B2022,[1]Sheet1!$A:$I,9,0)","v":"80.00"},{"$f":"VLOOKUP(B2022,[2]少数民族加分!$C$1:$E$65536,3,FALSE)","v":2},{"v":151.5,"d":"151.50"}]
[2019,"4252270704627","张大亮","317独山县第四中学","02初中体育教师",{"$f":"VLOOKUP(B2023,[1]Sheet1!$A:$I,8,0)","v":"85.50"},{"$f":"VLOOKUP(B2023,[1]Sheet1!$A:$I,9,0)","v":"65.50"},null,{"v":151,"d":"151.00"}]
[2025,"4252270704205","何可恩","317独山县第四中学","02初中体育教师",{"$f":"VLOOKUP(B2024,[1]Sheet1!$A:$I,8,0)","v":"77.00"},{"$f":"VLOOKUP(B2024,[1]Sheet1!$A:$I,9,0)","v":"72.00"},{"$f":"VLOOKUP(B2024,[2]少数民族加分!$C$1:$E$65536,3,FALSE)","v":2},{"v":151,"d":"151.00"}]
[2027,"4252270702105","韦学究","317独山县第四中学","02初中体育教师",{"$f":"VLOOKUP(B2025,[1]Sheet1!$A:$I,8,0)","v":"77.50"},{"$f":"VLOOKUP(B2025,[1]Sheet1!$A:$I,9,0)","v":"70.50"},{"$f":"VLOOKUP(B2025,[2]少数民族加分!$C$1:$E$65536,3,FALSE)","v":2},{"v":150,"d":"150.00"}]
[2028,"4252270706628","柏玉倩","317独山县第四中学","02初中体育教师",{"$f":"VLOOKUP(B2026,[1]Sheet1!$A:$I,8,0)","v":"71.00"},{"$f":"VLOOKUP(B2026,[1]Sheet1!$A:$I,9,0)","v":"77.00"},{"$f":"VLOOKUP(B2026,[2]少数民族加分!$C$1:$E$65536,3,FALSE)","v":2},{"v":150,"d":"150.00"}]
[2021,"4252270704729","谭成文","317独山县第四中学","02初中体育教师",{"$f":"VLOOKUP(B2027,[1]Sheet1!$A:$I,8,0)","v":"79.00"},{"$f":"VLOOKUP(B2027,[1]Sheet1!$A:$I,9,0)","v":"70.50"},null,{"v":149.5,"d":"149.50"}]
[2023,"4252270702902","蒋立亚","317独山县第四中学","02初中体育教师",{"$f":"VLOOKUP(B2028,[1]Sheet1!$A:$I,8,0)","v":"71.00"},{"$f":"VLOOKUP(B2028,[1]Sheet1!$A:$I,9,0)","v":"78.50"},null,{"v":149.5,"d":"149.50"}]
[2029,"4252270701914","张庆梦","317独山县第四中学","02初中体育教师",{"$f":"VLOOKUP(B2029,[1]Sheet1!$A:$I,8,0)","v":"64.50"},{"$f":"VLOOKUP(B2029,[1]Sheet1!$A:$I,9,0)","v":"83.00"},{"$f":"VLOOKUP(B2029,[2]少数民族加分!$C$1:$E$65536,3,FALSE)","v":2},{"v":149.5,"d":"149.50"}]
[2024,"4252270703707","李承琼","317独山县第四中学","02初中体育教师",{"$f":"VLOOKUP(B2030,[1]Sheet1!$A:$I,8,0)","v":"69.50"},{"$f":"VLOOKUP(B2030,[1]Sheet1!$A:$I,9,0)","v":"79.50"},null,{"v":149,"d":"149.00"}]
[2026,"4252270704901","杨胜品","317独山县第四中学","02初中体育教师",{"$f":"VLOOKUP(B2031,[1]Sheet1!$A:$I,8,0)","v":"79.50"},{"$f":"VLOOKUP(B2031,[1]Sheet1!$A:$I,9,0)","v":"69.00"},null,{"v":148.5,"d":"148.50"}]
[2031,"4252270704629","杨青梅","317独山县第四中学","02初中体育教师",{"$f":"VLOOKUP(B2032,[1]Sheet1!$A:$I,8,0)","v":"75.50"},{"$f":"VLOOKUP(B2032,[1]Sheet1!$A:$I,9,0)","v":"70.50"},{"$f":"VLOOKUP(B2032,[2]少数民族加分!$C$1:$E$65536,3,FALSE)","v":2},{"v":148,"d":"148.00"}]
[2032,"4252270705624","潘友波","317独山县第四中学","02初中体育教师",{"$f":"VLOOKUP(B2033,[1]Sheet1!$A:$I,8,0)","v":"68.50"},{"$f":"VLOOKUP(B2033,[1]Sheet1!$A:$I,9,0)","v":"77.00"},{"$f":"VLOOKUP(B2033,[2]少数民族加分!$C$1:$E$65536,3,FALSE)","v":2},{"v":147.5,"d":"147.50"}]
[2030,"4252270703604","易梅","317独山县第四中学","02初中体育教师",{"$f":"VLOOKUP(B2034,[1]Sheet1!$A:$I,8,0)","v":"69.00"},{"$f":"VLOOKUP(B2034,[1]Sheet1!$A:$I,9,0)","v":"78.00"},null,{"v":147,"d":"147.00"}]
[2034,"4252270704825","罗应学","317独山县第四中学","02初中体育教师",{"$f":"VLOOKUP(B2035,[1]Sheet1!$A:$I,8,0)","v":"71.00"},{"$f":"VLOOKUP(B2035,[1]Sheet1!$A:$I,9,0)","v":"74.00"},{"$f":"VLOOKUP(B2035,[2]少数民族加分!$C$1:$E$65536,3,FALSE)","v":2},{"v":147,"d":"147.00"}]
[2035,"4252270701712","谢仁胖","317独山县第四中学","02初中体育教师",{"$f":"VLOOKUP(B2036,[1]Sheet1!$A:$I,8,0)","v":"68.00"},{"$f":"VLOOKUP(B2036,[1]Sheet1!$A:$I,9,0)","v":"76.00"},{"$f":"VLOOKUP(B2036,[2]少数民族加分!$C$1:$E$65536,3,FALSE)","v":2},{"v":146,"d":"146.00"}]
[2036,"4252270706129","韦治君","317独山县第四中学","02初中体育教师",{"$f":"VLOOKUP(B2037,[1]Sheet1!$A:$I,8,0)","v":"67.00"},{"$f":"VLOOKUP(B2037,[1]Sheet1!$A:$I,9,0)","v":"77.00"},{"$f":"VLOOKUP(B2037,[2]少数民族加分!$C$1:$E$65536,3,FALSE)","v":2},{"v":146,"d":"146.00"}]
[2033,"4252270701516","张利阳","317独山县第四中学","02初中体育教师",{"$f":"VLOOKUP(B2038,[1]Sheet1!$A:$I,8,0)","v":"75.50"},{"$f":"VLOOKUP(B2038,[1]Sheet1!$A:$I,9,0)","v":"70.00"},null,{"v":145.5,"d":"145.50"}]
[2037,"4252270702923","潘明成","317独山县第四中学","02初中体育教师",{"$f":"VLOOKUP(B2039,[1]Sheet1!$A:$I,8,0)","v":"63.50"},{"$f":"VLOOKUP(B2039,[1]Sheet1!$A:$I,9,0)","v":"80.00"},{"$f":"VLOOKUP(B2039,[2]少数民族加分!$C$1:$E$65536,3,FALSE)","v":2},{"v":145.5,"d":"145.50"}]
[2038,"4252270704826","覃珊","317独山县第四中学","02初中体育教师",{"$f":"VLOOKUP(B2040,[1]Sheet1!$A:$I,8,0)","v":"70.50"},{"$f":"VLOOKUP(B2040,[1]Sheet1!$A:$I,9,0)","v":"72.50"},{"$f":"VLOOKUP(B2040,[2]少数民族加分!$C$1:$E$65536,3,FALSE)","v":2},{"v":145,"d":"145.00"}]
[2039,"4252270706317","陈国定","317独山县第四中学","02初中体育教师",{"$f":"VLOOKUP(B2041,[1]Sheet1!$A:$I,8,0)","v":"77.50"},{"$f":"VLOOKUP(B2041,[1]Sheet1!$A:$I,9,0)","v":"65.50"},{"$f":"VLOOKUP(B2041,[2]少数民族加分!$C$1:$E$65536,3,FALSE)","v":2},{"v":145,"d":"145.00"}]
[2040,"4252270703522","杨明胜","317独山县第四中学","02初中体育教师",{"$f":"VLOOKUP(B2042,[1]Sheet1!$A:$I,8,0)","v":"70.50"},{"$f":"VLOOKUP(B2042,[1]Sheet1!$A:$I,9,0)","v":"72.00"},{"$f":"VLOOKUP(B2042,[2]少数民族加分!$C$1:$E$65536,3,FALSE)","v":2},{"v":144.5,"d":"144.50"}]
[2041,"4252270703629","莫新才","317独山县第四中学","02初中体育教师",{"$f":"VLOOKUP(B2043,[1]Sheet1!$A:$I,8,0)","v":"76.00"},{"$f":"VLOOKUP(B2043,[1]Sheet1!$A:$I,9,0)","v":"66.50"},{"$f":"VLOOKUP(B2043,[2]少数民族加分!$C$1:$E$65536,3,FALSE)","v":2},{"v":144.5,"d":"144.50"}]
[2042,"4252270702127","龙光玺","317独山县第四中学","02初中体育教师",{"$f":"VLOOKUP(B2044,[1]Sheet1!$A:$I,8,0)","v":"54.00"},{"$f":"VLOOKUP(B2044,[1]Sheet1!$A:$I,9,0)","v":"88.00"},{"$f":"VLOOKUP(B2044,[2]少数民族加分!$C$1:$E$65536,3,FALSE)","v":2},{"v":144,"d":"144.00"}]
[2043,"4252270704614","韦龙菊","317独山县第四中学","02初中体育教师",{"$f":"VLOOKUP(B2045,[1]Sheet1!$A:$I,8,0)","v":"71.50"},{"$f":"VLOOKUP(B2045,[1]Sheet1!$A:$I,9,0)","v":"70.00"},{"$f":"VLOOKUP(B2045,[2]少数民族加分!$C$1:$E$65536,3,FALSE)","v":2},{"v":143.5,"d":"143.50"}]
[2044,"4252270701703","唐超","317独山县第四中学","02初中体育教师",{"$f":"VLOOKUP(B2046,[1]Sheet1!$A:$I,8,0)","v":"63.50"},{"$f":"VLOOKUP(B2046,[1]Sheet1!$A:$I,9,0)","v":"77.00"},{"$f":"VLOOKUP(B2046,[2]少数民族加分!$C$1:$E$65536,3,FALSE)","v":2},{"v":142.5,"d":"142.50"}]
[2045,"4252270702727","陆玉飞","317独山县第四中学","02初中体育教师",{"$f":"VLOOKUP(B2047,[1]Sheet1!$A:$I,8,0)","v":"58.00"},{"$f":"VLOOKUP(B2047,[1]Sheet1!$A:$I,9,0)","v":"82.00"},{"$f":"VLOOKUP(B2047,[2]少数民族加分!$C$1:$E$65536,3,FALSE)","v":2},{"v":142,"d":"142.00"}]
[2046,"4252270705120","莫爽业","317独山县第四中学","02初中体育教师",{"$f":"VLOOKUP(B2048,[1]Sheet1!$A:$I,8,0)","v":"72.50"},{"$f":"VLOOKUP(B2048,[1]Sheet1!$A:$I,9,0)","v":"67.00"},{"$f":"VLOOKUP(B2048,[2]少数民族加分!$C$1:$E$65536,3,FALSE)","v":2},{"v":141.5,"d":"141.50"}]
[2047,"4252270704608","石义姗","317独山县第四中学","02初中体育教师",{"$f":"VLOOKUP(B2049,[1]Sheet1!$A:$I,8,0)","v":"63.50"},{"$f":"VLOOKUP(B2049,[1]Sheet1!$A:$I,9,0)","v":"75.00"},{"$f":"VLOOKUP(B2049,[2]少数民族加分!$C$1:$E$65536,3,FALSE)","v":2},{"v":140.5,"d":"140.50"}]
[2048,"4252270706408","汪小林","317独山县第四中学","02初中体育教师",{"$f":"VLOOKUP(B2050,[1]Sheet1!$A:$I,8,0)","v":"67.00"},{"$f":"VLOOKUP(B2050,[1]Sheet1!$A:$I,9,0)","v":"71.00"},{"$f":"VLOOKUP(B2050,[2]少数民族加分!$C$1:$E$65536,3,FALSE)","v":2},{"v":140,"d":"140.00"}]
[2049,"4252270705524","韦廷杰","317独山县第四中学","02初中体育教师",{"$f":"VLOOKUP(B2051,[1]Sheet1!$A:$I,8,0)","v":"71.00"},{"$f":"VLOOKUP(B2051,[1]Sheet1!$A:$I,9,0)","v":"66.50"},{"$f":"VLOOKUP(B2051,[2]少数民族加分!$C$1:$E$65536,3,FALSE)","v":2},{"v":139.5,"d":"139.50"}]
[2051,"4252270705222","王庭艳","317独山县第四中学","02初中体育教师",{"$f":"VLOOKUP(B2052,[1]Sheet1!$A:$I,8,0)","v":"69.50"},{"$f":"VLOOKUP(B2052,[1]Sheet1!$A:$I,9,0)","v":"67.00"},{"$f":"VLOOKUP(B2052,[2]少数民族加分!$C$1:$E$65536,3,FALSE)","v":2},{"v":138.5,"d":"138.50"}]
[2052,"4252270705318","蒙海燕","317独山县第四中学","02初中体育教师",{"$f":"VLOOKUP(B2053,[1]Sheet1!$A:$I,8,0)","v":"57.50"},{"$f":"VLOOKUP(B2053,[1]Sheet1!$A:$I,9,0)","v":"79.00"},{"$f":"VLOOKUP(B2053,[2]少数民族加分!$C$1:$E$65536,3,FALSE)","v":2},{"v":138.5,"d":"138.50"}]
[2053,"4252270705802","陆跃举","317独山县第四中学","02初中体育教师",{"$f":"VLOOKUP(B2054,[1]Sheet1!$A:$I,8,0)","v":"75.50"},{"$f":"VLOOKUP(B2054,[1]Sheet1!$A:$I,9,0)","v":"61.00"},{"$f":"VLOOKUP(B2054,[2]少数民族加分!$C$1:$E$65536,3,FALSE)","v":2},{"v":138.5,"d":"138.50"}]
[2055,"4252270705320","潘宗转","317独山县第四中学","02初中体育教师",{"$f":"VLOOKUP(B2055,[1]Sheet1!$A:$I,8,0)","v":"78.50"},{"$f":"VLOOKUP(B2055,[1]Sheet1!$A:$I,9,0)","v":"57.50"},{"$f":"VLOOKUP(B2055,[2]少数民族加分!$C$1:$E$65536,3,FALSE)","v":2},{"v":138,"d":"138.00"}]
[2050,"4252270705807","毛与鑫","317独山县第四中学","02初中体育教师",{"$f":"VLOOKUP(B2056,[1]Sheet1!$A:$I,8,0)","v":"69.50"},{"$f":"VLOOKUP(B2056,[1]Sheet1!$A:$I,9,0)","v":"68.00"},null,{"v":137.5,"d":"137.50"}]
[2056,"4252270705428","胡辉","317独山县第四中学","02初中体育教师",{"$f":"VLOOKUP(B2057,[1]Sheet1!$A:$I,8,0)","v":"60.50"},{"$f":"VLOOKUP(B2057,[1]Sheet1!$A:$I,9,0)","v":"75.00"},{"$f":"VLOOKUP(B2057,[2]少数民族加分!$C$1:$E$65536,3,FALSE)","v":2},{"v":137.5,"d":"137.50"}]
[2054,"4252270702510","康力娟","317独山县第四中学","02初中体育教师",{"$f":"VLOOKUP(B2058,[1]Sheet1!$A:$I,8,0)","v":"57.50"},{"$f":"VLOOKUP(B2058,[1]Sheet1!$A:$I,9,0)","v":"79.00"},null,{"v":136.5,"d":"136.50"}]
[2058,"4252270704920","吴新成","317独山县第四中学","02初中体育教师",{"$f":"VLOOKUP(B2059,[1]Sheet1!$A:$I,8,0)","v":"61.00"},{"$f":"VLOOKUP(B2059,[1]Sheet1!$A:$I,9,0)","v":"73.00"},{"$f":"VLOOKUP(B2059,[2]少数民族加分!$C$1:$E$65536,3,FALSE)","v":2},{"v":136,"d":"136.00"}]
[2059,"4252270706511","潘志引","317独山县第四中学","02初中体育教师",{"$f":"VLOOKUP(B2060,[1]Sheet1!$A:$I,8,0)","v":"57.00"},{"$f":"VLOOKUP(B2060,[1]Sheet1!$A:$I,9,0)","v":"77.00"},{"$f":"VLOOKUP(B2060,[2]少数民族加分!$C$1:$E$65536,3,FALSE)","v":2},{"v":136,"d":"136.00"}]
[2057,"4252270703019","刘龙","317独山县第四中学","02初中体育教师",{"$f":"VLOOKUP(B2061,[1]Sheet1!$A:$I,8,0)","v":"61.50"},{"$f":"VLOOKUP(B2061,[1]Sheet1!$A:$I,9,0)","v":"74.00"},null,{"v":135.5,"d":"135.50"}]
[2062,"4252270705313","吴乾进","317独山县第四中学","02初中体育教师",{"$f":"VLOOKUP(B2062,[1]Sheet1!$A:$I,8,0)","v":"53.50"},{"$f":"VLOOKUP(B2062,[1]Sheet1!$A:$I,9,0)","v":"79.00"},{"$f":"VLOOKUP(B2062,[2]少数民族加分!$C$1:$E$65536,3,FALSE)","v":2},{"v":134.5,"d":"134.50"}]
[2063,"4252270705515","韦月","317独山县第四中学","02初中体育教师",{"$f":"VLOOKUP(B2063,[1]Sheet1!$A:$I,8,0)","v":"60.50"},{"$f":"VLOOKUP(B2063,[1]Sheet1!$A:$I,9,0)","v":"72.00"},{"$f":"VLOOKUP(B2063,[2]少数民族加分!$C$1:$E$65536,3,FALSE)","v":2},{"v":134.5,"d":"134.50"}]
[2060,"4252270704509","刘洪秋","317独山县第四中学","02初中体育教师",{"$f":"VLOOKUP(B2064,[1]Sheet1!$A:$I,8,0)","v":"60.50"},{"$f":"VLOOKUP(B2064,[1]Sheet1!$A:$I,9,0)","v":"73.00"},null,{"v":133.5,"d":"133.50"}]
[2064,"4252270703901","杨华","317独山县第四中学","02初中体育教师",{"$f":"VLOOKUP(B2065,[1]Sheet1!$A:$I,8,0)","v":"69.50"},{"$f":"VLOOKUP(B2065,[1]Sheet1!$A:$I,9,0)","v":"62.00"},{"$f":"VLOOKUP(B2065,[2]少数民族加分!$C$1:$E$65536,3,FALSE)","v":2},{"v":133.5,"d":"133.50"}]
[2065,"4252270705107","潘祖朋","317独山县第四中学","02初中体育教师",{"$f":"VLOOKUP(B2066,[1]Sheet1!$A:$I,8,0)","v":"57.50"},{"$f":"VLOOKUP(B2066,[1]Sheet1!$A:$I,9,0)","v":"74.00"},{"$f":"VLOOKUP(B2066,[2]少数民族加分!$C$1:$E$65536,3,FALSE)","v":2},{"v":133.5,"d":"133.50"}]
[2061,"4252270705921","李夏龙","317独山县第四中学","02初中体育教师",{"$f":"VLOOKUP(B2067,[1]Sheet1!$A:$I,8,0)","v":"70.50"},{"$f":"VLOOKUP(B2067,[1]Sheet1!$A:$I,9,0)","v":"62.50"},null,{"v":133,"d":"133.00"}]
[2066,"4252270702723","韦水树","317独山县第四中学","02初中体育教师",{"$f":"VLOOKUP(B2068,[1]Sheet1!$A:$I,8,0)","v":"58.00"},{"$f":"VLOOKUP(B2068,[1]Sheet1!$A:$I,9,0)","v":"73.00"},{"$f":"VLOOKUP(B2068,[2]少数民族加分!$C$1:$E$65536,3,FALSE)","v":2},{"v":133,"d":"133.00"}]
[2067,"4252270702120","石得珊","317独山县第四中学","02初中体育教师",{"$f":"VLOOKUP(B2069,[1]Sheet1!$A:$I,8,0)","v":"67.50"},{"$f":"VLOOKUP(B2069,[1]Sheet1!$A:$I,9,0)","v":"63.00"},{"$f":"VLOOKUP(B2069,[2]少数民族加分!$C$1:$E$65536,3,FALSE)","v":2},{"v":132.5,"d":"132.50"}]
[2068,"4252270703914","潘志敢","317独山县第四中学","02初中体育教师",{"$f":"VLOOKUP(B2070,[1]Sheet1!$A:$I,8,0)","v":"58.50"},{"$f":"VLOOKUP(B2070,[1]Sheet1!$A:$I,9,0)","v":"72.00"},{"$f":"VLOOKUP(B2070,[2]少数民族加分!$C$1:$E$65536,3,FALSE)","v":2},{"v":132.5,"d":"132.50"}]
[2069,"4252270705324","潘凤将","317独山县第四中学","02初中体育教师",{"$f":"VLOOKUP(B2071,[1]Sheet1!$A:$I,8,0)","v":"68.50"},{"$f":"VLOOKUP(B2071,[1]Sheet1!$A:$I,9,0)","v":"62.00"},{"$f":"VLOOKUP(B2071,[2]少数民族加分!$C$1:$E$65536,3,FALSE)","v":2},{"v":132.5,"d":"132.50"}]
[2071,"4252270701425","唐大炎","317独山县第四中学","02初中体育教师",{"$f":"VLOOKUP(B2072,[1]Sheet1!$A:$I,8,0)","v":"67.00"},{"$f":"VLOOKUP(B2072,[1]Sheet1!$A:$I,9,0)","v":"63.00"},{"$f":"VLOOKUP(B2072,[2]少数民族加分!$C$1:$E$65536,3,FALSE)","v":2},{"v":132,"d":"132.00"}]
[2072,"4252270702814","林玉城","317独山县第四中学","02初中体育教师",{"$f":"VLOOKUP(B2073,[1]Sheet1!$A:$I,8,0)","v":"59.50"},{"$f":"VLOOKUP(B2073,[1]Sheet1!$A:$I,9,0)","v":"70.00"},{"$f":"VLOOKUP(B2073,[2]少数民族加分!$C$1:$E$65536,3,FALSE)","v":2},{"v":131.5,"d":"131.50"}]
[2073,"4252270701506","谢恩奇","317独山县第四中学","02初中体育教师",{"$f":"VLOOKUP(B2074,[1]Sheet1!$A:$I,8,0)","v":"69.50"},{"$f":"VLOOKUP(B2074,[1]Sheet1!$A:$I,9,0)","v":"59.50"},{"$f":"VLOOKUP(B2074,[2]少数民族加分!$C$1:$E$65536,3,FALSE)","v":2},{"v":131,"d":"131.00"}]
[2074,"4252270703511","莫和盼","317独山县第四中学","02初中体育教师",{"$f":"VLOOKUP(B2075,[1]Sheet1!$A:$I,8,0)","v":"61.00"},{"$f":"VLOOKUP(B2075,[1]Sheet1!$A:$I,9,0)","v":"68.00"},{"$f":"VLOOKUP(B2075,[2]少数民族加分!$C$1:$E$65536,3,FALSE)","v":2},{"v":131,"d":"131.00"}]
[2075,"4252270704004","韦国愿","317独山县第四中学","02初中体育教师",{"$f":"VLOOKUP(B2076,[1]Sheet1!$A:$I,8,0)","v":"64.00"},{"$f":"VLOOKUP(B2076,[1]Sheet1!$A:$I,9,0)","v":"65.00"},{"$f":"VLOOKUP(B2076,[2]少数民族加分!$C$1:$E$65536,3,FALSE)","v":2},{"v":131,"d":"131.00"}]
[2077,"4252270703017","潘祖吉","317独山县第四中学","02初中体育教师",{"$f":"VLOOKUP(B2077,[1]Sheet1!$A:$I,8,0)","v":"54.50"},{"$f":"VLOOKUP(B2077,[1]Sheet1!$A:$I,9,0)","v":"74.00"},{"$f":"VLOOKUP(B2077,[2]少数民族加分!$C$1:$E$65536,3,FALSE)","v":2},{"v":130.5,"d":"130.50"}]
[2070,"4252270704801","曾小波","317独山县第四中学","02初中体育教师",{"$f":"VLOOKUP(B2078,[1]Sheet1!$A:$I,8,0)","v":"61.00"},{"$f":"VLOOKUP(B2078,[1]Sheet1!$A:$I,9,0)","v":"69.00"},null,{"v":130,"d":"130.00"}]
[2079,"4252270706702","杨王友","317独山县第四中学","02初中体育教师",{"$f":"VLOOKUP(B2079,[1]Sheet1!$A:$I,8,0)","v":"68.00"},{"$f":"VLOOKUP(B2079,[1]Sheet1!$A:$I,9,0)","v":"59.00"},{"$f":"VLOOKUP(B2079,[2]少数民族加分!$C$1:$E$65536,3,FALSE)","v":2},{"v":129,"d":"129.00"}]
[2076,"4252270703005","张贵华","317独山县第四中学","02初中体育教师",{"$f":"VLOOKUP(B2080,[1]Sheet1!$A:$I,8,0)","v":"54.50"},{"$f":"VLOOKUP(B2080,[1]Sheet1!$A:$I,9,0)","v":"74.00"},null,{"v":128.5,"d":"128.50"}]
[2078,"4252270701903","朱江","317独山县第四中学","02初中体育教师",{"$f":"VLOOKUP(B2081,[1]Sheet1!$A:$I,8,0)","v":"61.00"},{"$f":"VLOOKUP(B2081,[1]Sheet1!$A:$I,9,0)","v":"67.00"},null,{"v":128,"d":"128.00"}]
[2081,"4252270703004","姜源湖","317独山县第四中学","02初中体育教师",{"$f":"VLOOKUP(B2082,[1]Sheet1!$A:$I,8,0)","v":"67.00"},{"$f":"VLOOKUP(B2082,[1]Sheet1!$A:$I,9,0)","v":"58.00"},{"$f":"VLOOKUP(B2082,[2]少数民族加分!$C$1:$E$65536,3,FALSE)","v":2},{"v":127,"d":"127.00"}]
[2083,"4252270705812","王大青","317独山县第四中学","02初中体育教师",{"$f":"VLOOKUP(B2083,[1]Sheet1!$A:$I,8,0)","v":"61.00"},{"$f":"VLOOKUP(B2083,[1]Sheet1!$A:$I,9,0)","v":"64.00"},{"$f":"VLOOKUP(B2083,[2]少数民族加分!$C$1:$E$65536,3,FALSE)","v":2},{"v":127,"d":"127.00"}]
[2084,"4252270704502","杨树林","317独山县第四中学","02初中体育教师",{"$f":"VLOOKUP(B2084,[1]Sheet1!$A:$I,8,0)","v":"59.50"},{"$f":"VLOOKUP(B2084,[1]Sheet1!$A:$I,9,0)","v":"65.00"},{"$f":"VLOOKUP(B2084,[2]少数民族加分!$C$1:$E$65536,3,FALSE)","v":2},{"v":126.5,"d":"126.50"}]
[2085,"4252270703208","潘好","317独山县第四中学","02初中体育教师",{"$f":"VLOOKUP(B2085,[1]Sheet1!$A:$I,8,0)","v":"63.50"},{"$f":"VLOOKUP(B2085,[1]Sheet1!$A:$I,9,0)","v":"61.00"},{"$f":"VLOOKUP(B2085,[2]少数民族加分!$C$1:$E$65536,3,FALSE)","v":2},{"v":126.5,"d":"126.50"}]
[2086,"4252270706316","吴荣明","317独山县第四中学","02初中体育教师",{"$f":"VLOOKUP(B2086,[1]Sheet1!$A:$I,8,0)","v":"55.50"},{"$f":"VLOOKUP(B2086,[1]Sheet1!$A:$I,9,0)","v":"69.00"},{"$f":"VLOOKUP(B2086,[2]少数民族加分!$C$1:$E$65536,3,FALSE)","v":2},{"v":126.5,"d":"126.50"}]
[2080,"4252270702714","杨超","317独山县第四中学","02初中体育教师",{"$f":"VLOOKUP(B2087,[1]Sheet1!$A:$I,8,0)","v":"58.00"},{"$f":"VLOOKUP(B2087,[1]Sheet1!$A:$I,9,0)","v":"68.00"},null,{"v":126,"d":"126.00"}]
[2087,"4252270703909","杨天才","317独山县第四中学","02初中体育教师",{"$f":"VLOOKUP(B2088,[1]Sheet1!$A:$I,8,0)","v":"48.00"},{"$f":"VLOOKUP(B2088,[1]Sheet1!$A:$I,9,0)","v":"76.00"},{"$f":"VLOOKUP(B2088,[2]少数民族加分!$C$1:$E$65536,3,FALSE)","v":2},{"v":126,"d":"126.00"}]
[2088,"4252270705102","柏兆海","317独山县第四中学","02初中体育教师",{"$f":"VLOOKUP(B2089,[1]Sheet1!$A:$I,8,0)","v":"59.00"},{"$f":"VLOOKUP(B2089,[1]Sheet1!$A:$I,9,0)","v":"65.00"},{"$f":"VLOOKUP(B2089,[2]少数民族加分!$C$1:$E$65536,3,FALSE)","v":2},{"v":126,"d":"126.00"}]
[2082,"4252270705129","聂相文","317独山县第四中学","02初中体育教师",{"$f":"VLOOKUP(B2090,[1]Sheet1!$A:$I,8,0)","v":"56.00"},{"$f":"VLOOKUP(B2090,[1]Sheet1!$A:$I,9,0)","v":"69.00"},null,{"v":125,"d":"125.00"}]
[2089,"4252270705604","吴成阳","317独山县第四中学","02初中体育教师",{"$f":"VLOOKUP(B2091,[1]Sheet1!$A:$I,8,0)","v":"64.00"},{"$f":"VLOOKUP(B2091,[1]Sheet1!$A:$I,9,0)","v":"59.00"},{"$f":"VLOOKUP(B2091,[2]少数民族加分!$C$1:$E$65536,3,FALSE)","v":2},{"v":125,"d":"125.00"}]
[2090,"4252270704416","杨胜国","317独山县第四中学","02初中体育教师",{"$f":"VLOOKUP(B2092,[1]Sheet1!$A:$I,8,0)","v":"64.50"},{"$f":"VLOOKUP(B2092,[1]Sheet1!$A:$I,9,0)","v":"58.00"},{"$f":"VLOOKUP(B2092,[2]少数民族加分!$C$1:$E$65536,3,FALSE)","v":2},{"v":124.5,"d":"124.50"}]
[2091,"4252270704524","周杰","317独山县第四中学","02初中体育教师",{"$f":"VLOOKUP(B2093,[1]Sheet1!$A:$I,8,0)","v":"66.50"},{"$f":"VLOOKUP(B2093,[1]Sheet1!$A:$I,9,0)","v":"55.00"},null,{"v":121.5,"d":"121.50"}]
[2093,"4252270704321","谢利娜","317独山县第四中学","02初中体育教师",{"$f":"VLOOKUP(B2094,[1]Sheet1!$A:$I,8,0)","v":"64.00"},{"$f":"VLOOKUP(B2094,[1]Sheet1!$A:$I,9,0)","v":"55.00"},{"$f":"VLOOKUP(B2094,[2]少数民族加分!$C$1:$E$65536,3,FALSE)","v":2},{"v":121,"d":"121.00"}]
[2092,"4252270704513","刘启程","317独山县第四中学","02初中体育教师",{"$f":"VLOOKUP(B2095,[1]Sheet1!$A:$I,8,0)","v":"64.50"},{"$f":"VLOOKUP(B2095,[1]Sheet1!$A:$I,9,0)","v":"56.00"},null,{"v":120.5,"d":"120.50"}]
[2094,"4252270706310","李玉雄","317独山县第四中学","02初中体育教师",{"$f":"VLOOKUP(B2096,[1]Sheet1!$A:$I,8,0)","v":"65.00"},{"$f":"VLOOKUP(B2096,[1]Sheet1!$A:$I,9,0)","v":"52.00"},{"$f":"VLOOKUP(B2096,[2]少数民族加分!$C$1:$E$65536,3,FALSE)","v":2},{"v":119,"d":"119.00"}]
[2095,"4252270701325","韦耀波","317独山县第四中学","02初中体育教师",{"$f":"VLOOKUP(B2097,[1]Sheet1!$A:$I,8,0)","v":"52.00"},{"$f":"VLOOKUP(B2097,[1]Sheet1!$A:$I,9,0)","v":"65.00"},{"$f":"VLOOKUP(B2097,[2]少数民族加分!$C$1:$E$65536,3,FALSE)","v":2},{"v":119,"d":"119.00"}]
[2096,"4252270705520","黎永用","317独山县第四中学","02初中体育教师",{"$f":"VLOOKUP(B2098,[1]Sheet1!$A:$I,8,0)","v":"48.00"},{"$f":"VLOOKUP(B2098,[1]Sheet1!$A:$I,9,0)","v":"62.00"},{"$f":"VLOOKUP(B2098,[2]少数民族加分!$C$1:$E$65536,3,FALSE)","v":2},{"v":112,"d":"112.00"}]
[2097,"4252270705112","韦永军","317独山县第四中学","02初中体育教师",{"$f":"VLOOKUP(B2099,[1]Sheet1!$A:$I,8,0)","v":"66.50"},{"$f":"VLOOKUP(B2099,[1]Sheet1!$A:$I,9,0)","v":"43.00"},{"$f":"VLOOKUP(B2099,[2]少数民族加分!$C$1:$E$65536,3,FALSE)","v":2},{"v":111.5,"d":"111.50"}]
[2098,"4252270703805","罗静","317独山县第四中学","02初中体育教师",{"$f":"VLOOKUP(B2100,[1]Sheet1!$A:$I,8,0)","v":"57.00"},{"$f":"VLOOKUP(B2100,[1]Sheet1!$A:$I,9,0)","v":"50.00"},{"$f":"VLOOKUP(B2100,[2]少数民族加分!$C$1:$E$65536,3,FALSE)","v":2},{"v":109,"d":"109.00"}]
[2099,"4252270702504","杨胜桥","317独山县第四中学","02初中体育教师",{"$f":"VLOOKUP(B2101,[1]Sheet1!$A:$I,8,0)","v":"51.50"},{"$f":"VLOOKUP(B2101,[1]Sheet1!$A:$I,9,0)","v":"53.00"},{"$f":"VLOOKUP(B2101,[2]少数民族加分!$C$1:$E$65536,3,FALSE)","v":2},{"v":106.5,"d":"106.50"}]
[2100,"4252270704007","杨胜刚","317独山县第四中学","02初中体育教师",{"$f":"VLOOKUP(B2102,[1]Sheet1!$A:$I,8,0)","v":"53.50"},{"$f":"VLOOKUP(B2102,[1]Sheet1!$A:$I,9,0)","v":"50.00"},{"$f":"VLOOKUP(B2102,[2]少数民族加分!$C$1:$E$65536,3,FALSE)","v":2},{"v":105.5,"d":"105.50"}]
[2101,"4252270706325","张仁玺","317独山县第四中学","02初中体育教师",{"$f":"VLOOKUP(B2103,[1]Sheet1!$A:$I,8,0)","v":"63.50"},{"$f":"VLOOKUP(B2103,[1]Sheet1!$A:$I,9,0)","v":"39.00"},{"$f":"VLOOKUP(B2103,[2]少数民族加分!$C$1:$E$65536,3,FALSE)","v":2},{"v":104.5,"d":"104.50"}]
[2102,"4252270706206","李桂林","317独山县第四中学","02初中体育教师",{"$f":"VLOOKUP(B2104,[1]Sheet1!$A:$I,8,0)","v":"0.00"},{"$f":"VLOOKUP(B2104,[1]Sheet1!$A:$I,9,0)","v":"0.00"},null,"缺考"]
[2103,"4252270706306","张华鹏","317独山县第四中学","02初中体育教师",{"$f":"VLOOKUP(B2105,[1]Sheet1!$A:$I,8,0)","v":"0.00"},{"$f":"VLOOKUP(B2105,[1]Sheet1!$A:$I,9,0)","v":"0.00"},null,"缺考"]
[2104,"4252270706514","柳小勇","317独山县第四中学","02初中体育教师",{"$f":"VLOOKUP(B2106,[1]Sheet1!$A:$I,8,0)","v":"0.00"},{"$f":"VLOOKUP(B2106,[1]Sheet1!$A:$I,9,0)","v":"0.00"},{"$f":"VLOOKUP(B2106,[2]少数民族加分!$C$1:$E$65536,3,FALSE)","v":2},"缺考"]
[2105,"4252270706801","吴再彬","317独山县第四中学","02初中体育教师",{"$f":"VLOOKUP(B2107,[1]Sheet1!$A:$I,8,0)","v":"0.00"},{"$f":"VLOOKUP(B2107,[1]Sheet1!$A:$I,9,0)","v":"0.00"},{"$f":"VLOOKUP(B2107,[2]少数民族加分!$C$1:$E$65536,3,FALSE)","v":2},"缺考"]
[2106,"4252270706803","施银聪","317独山县第四中学","02初中体育教师",{"$f":"VLOOKUP(B2108,[1]Sheet1!$A:$I,8,0)","v":"0.00"},{"$f":"VLOOKUP(B2108,[1]Sheet1!$A:$I,9,0)","v":"0.00"},null,"缺考"]
[2107,"4252270701407","韦海涛","317独山县第四中学","02初中体育教师",{"$f":"VLOOKUP(B2109,[1]Sheet1!$A:$I,8,0)","v":"0.00"},{"$f":"VLOOKUP(B2109,[1]Sheet1!$A:$I,9,0)","v":"0.00"},{"$f":"VLOOKUP(B2109,[2]少数民族加分!$C$1:$E$65536,3,FALSE)","v":2},"缺考"]
[2108,"4252270701511","吴智安","317独山县第四中学","02初中体育教师",{"$f":"VLOOKUP(B2110,[1]Sheet1!$A:$I,8,0)","v":"0.00"},{"$f":"VLOOKUP(B2110,[1]Sheet1!$A:$I,9,0)","v":"0.00"},{"$f":"VLOOKUP(B2110,[2]少数民族加分!$C$1:$E$65536,3,FALSE)","v":2},"缺考"]
[2109,"4252270701727","罗康湖","317独山县第四中学","02初中体育教师",{"$f":"VLOOKUP(B2111,[1]Sheet1!$A:$I,8,0)","v":"0.00"},{"$f":"VLOOKUP(B2111,[1]Sheet1!$A:$I,9,0)","v":"0.00"},{"$f":"VLOOKUP(B2111,[2]少数民族加分!$C$1:$E$65536,3,FALSE)","v":2},"缺考"]
[2110,"4252270701823","潘魁明","317独山县第四中学","02初中体育教师",{"$f":"VLOOKUP(B2112,[1]Sheet1!$A:$I,8,0)","v":"0.00"},{"$f":"VLOOKUP(B2112,[1]Sheet1!$A:$I,9,0)","v":"0.00"},{"$f":"VLOOKUP(B2112,[2]少数民族加分!$C$1:$E$65536,3,FALSE)","v":2},"缺考"]
[2111,"4252270702213","雷欣","317独山县第四中学","02初中体育教师",{"$f":"VLOOKUP(B2113,[1]Sheet1!$A:$I,8,0)","v":"0.00"},{"$f":"VLOOKUP(B2113,[1]Sheet1!$A:$I,9,0)","v":"0.00"},{"$f":"VLOOKUP(B2113,[2]少数民族加分!$C$1:$E$65536,3,FALSE)","v":2},"缺考"]
[2112,"4252270702427","韦朝文","317独山县第四中学","02初中体育教师",{"$f":"VLOOKUP(B2114,[1]Sheet1!$A:$I,8,0)","v":"0.00"},{"$f":"VLOOKUP(B2114,[1]Sheet1!$A:$I,9,0)","v":"0.00"},{"$f":"VLOOKUP(B2114,[2]少数民族加分!$C$1:$E$65536,3,FALSE)","v":2},"缺考"]
[2113,"4252270702514","李哲","317独山县第四中学","02初中体育教师",{"$f":"VLOOKUP(B2115,[1]Sheet1!$A:$I,8,0)","v":"0.00"},{"$f":"VLOOKUP(B2115,[1]Sheet1!$A:$I,9,0)","v":"0.00"},null,"缺考"]
[2114,"4252270702717","朱娅","317独山县第四中学","02初中体育教师",{"$f":"VLOOKUP(B2116,[1]Sheet1!$A:$I,8,0)","v":"0.00"},{"$f":"VLOOKUP(B2116,[1]Sheet1!$A:$I,9,0)","v":"0.00"},null,"缺考"]
[2115,"4252270702908","万祖权","317独山县第四中学","02初中体育教师",{"$f":"VLOOKUP(B2117,[1]Sheet1!$A:$I,8,0)","v":"0.00"},{"$f":"VLOOKUP(B2117,[1]Sheet1!$A:$I,9,0)","v":"0.00"},{"$f":"VLOOKUP(B2117,[2]少数民族加分!$C$1:$E$65536,3,FALSE)","v":2},"缺考"]
[2116,"4252270703119","刘志","317独山县第四中学","02初中体育教师",{"$f":"VLOOKUP(B2118,[1]Sheet1!$A:$I,8,0)","v":"0.00"},{"$f":"VLOOKUP(B2118,[1]Sheet1!$A:$I,9,0)","v":"0.00"},{"$f":"VLOOKUP(B2118,[2]少数民族加分!$C$1:$E$65536,3,FALSE)","v":2},"缺考"]
[2117,"4252270703215","袁明刚","317独山县第四中学","02初中体育教师",{"$f":"VLOOKUP(B2119,[1]Sheet1!$A:$I,8,0)","v":"0.00"},{"$f":"VLOOKUP(B2119,[1]Sheet1!$A:$I,9,0)","v":"0.00"},{"$f":"VLOOKUP(B2119,[2]少数民族加分!$C$1:$E$65536,3,FALSE)","v":2},"缺考"]
[2118,"4252270703519","韦廷龙","317独山县第四中学","02初中体育教师",{"$f":"VLOOKUP(B2120,[1]Sheet1!$A:$I,8,0)","v":"0.00"},{"$f":"VLOOKUP(B2120,[1]Sheet1!$A:$I,9,0)","v":"0.00"},{"$f":"VLOOKUP(B2120,[2]少数民族加分!$C$1:$E$65536,3,FALSE)","v":2},"缺考"]
[2119,"4252270703713","舒静","317独山县第四中学","02初中体育教师",{"$f":"VLOOKUP(B2121,[1]Sheet1!$A:$I,8,0)","v":"0.00"},{"$f":"VLOOKUP(B2121,[1]Sheet1!$A:$I,9,0)","v":"0.00"},null,"缺考"]
[2120,"4252270703722","姚治果","317独山县第四中学","02初中体育教师",{"$f":"VLOOKUP(B2122,[1]Sheet1!$A:$I,8,0)","v":"0.00"},{"$f":"VLOOKUP(B2122,[1]Sheet1!$A:$I,9,0)","v":"0.00"},{"$f":"VLOOKUP(B2122,[2]少数民族加分!$C$1:$E$65536,3,FALSE)","v":2},"缺考"]
[2121,"4252270703809","舒显超","317独山县第四中学","02初中体育教师",{"$f":"VLOOKUP(B2123,[1]Sheet1!$A:$I,8,0)","v":"0.00"},{"$f":"VLOOKUP(B2123,[1]Sheet1!$A:$I,9,0)","v":"0.00"},null,"缺考"]
[2122,"4252270703815","莫炳和","317独山县第四中学","02初中体育教师",{"$f":"VLOOKUP(B2124,[1]Sheet1!$A:$I,8,0)","v":"0.00"},{"$f":"VLOOKUP(B2124,[1]Sheet1!$A:$I,9,0)","v":"0.00"},{"$f":"VLOOKUP(B2124,[2]少数民族加分!$C$1:$E$65536,3,FALSE)","v":2},"缺考"]
[2123,"4252270704014","李仲丽","317独山县第四中学","02初中体育教师",{"$f":"VLOOKUP(B2125,[1]Sheet1!$A:$I,8,0)","v":"0.00"},{"$f":"VLOOKUP(B2125,[1]Sheet1!$A:$I,9,0)","v":"0.00"},{"$f":"VLOOKUP(B2125,[2]少数民族加分!$C$1:$E$65536,3,FALSE)","v":2},"缺考"]
[2124,"4252270704106","韦德忠","317独山县第四中学","02初中体育教师",{"$f":"VLOOKUP(B2126,[1]Sheet1!$A:$I,8,0)","v":"0.00"},{"$f":"VLOOKUP(B2126,[1]Sheet1!$A:$I,9,0)","v":"0.00"},{"$f":"VLOOKUP(B2126,[2]少数民族加分!$C$1:$E$65536,3,FALSE)","v":2},"缺考"]
[2125,"4252270704214","余春波","317独山县第四中学","02初中体育教师",{"$f":"VLOOKUP(B2127,[1]Sheet1!$A:$I,8,0)","v":"0.00"},{"$f":"VLOOKUP(B2127,[1]Sheet1!$A:$I,9,0)","v":"0.00"},{"$f":"VLOOKUP(B2127,[2]少数民族加分!$C$1:$E$65536,3,FALSE)","v":2},"缺考"]
[2126,"4252270704229","吴成元","317独山县第四中学","02初中体育教师",{"$f":"VLOOKUP(B2128,[1]Sheet1!$A:$I,8,0)","v":"0.00"},{"$f":"VLOOKUP(B2128,[1]Sheet1!$A:$I,9,0)","v":"0.00"},{"$f":"VLOOKUP(B2128,[2]少数民族加分!$C$1:$E$65536,3,FALSE)","v":2},"缺考"]
[2127,"4252270704307","潘恩林","317独山县第四中学","02初中体育教师",{"$f":"VLOOKUP(B2129,[1]Sheet1!$A:$I,8,0)","v":"0.00"},{"$f":"VLOOKUP(B2129,[1]Sheet1!$A:$I,9,0)","v":"0.00"},{"$f":"VLOOKUP(B2129,[2]少数民族加分!$C$1:$E$65536,3,FALSE)","v":2},"缺考"]
[2128,"4252270704317","杨培钊","317独山县第四中学","02初中体育教师",{"$f":"VLOOKUP(B2130,[1]Sheet1!$A:$I,8,0)","v":"0.00"},{"$f":"VLOOKUP(B2130,[1]Sheet1!$A:$I,9,0)","v":"0.00"},{"$f":"VLOOKUP(B2130,[2]少数民族加分!$C$1:$E$65536,3,FALSE)","v":2},"缺考"]
[2129,"4252270704710","陈雁鸣","317独山县第四中学","02初中体育教师",{"$f":"VLOOKUP(B2131,[1]Sheet1!$A:$I,8,0)","v":"0.00"},{"$f":"VLOOKUP(B2131,[1]Sheet1!$A:$I,9,0)","v":"0.00"},null,"缺考"]
[2130,"4252270704715","王家华","317独山县第四中学","02初中体育教师",{"$f":"VLOOKUP(B2132,[1]Sheet1!$A:$I,8,0)","v":"0.00"},{"$f":"VLOOKUP(B2132,[1]Sheet1!$A:$I,9,0)","v":"0.00"},{"$f":"VLOOKUP(B2132,[2]少数民族加分!$C$1:$E$65536,3,FALSE)","v":2},"缺考"]
[2131,"4252270704805","罗绂强","317独山县第四中学","02初中体育教师",{"$f":"VLOOKUP(B2133,[1]Sheet1!$A:$I,8,0)","v":"0.00"},{"$f":"VLOOKUP(B2133,[1]Sheet1!$A:$I,9,0)","v":"0.00"},{"$f":"VLOOKUP(B2133,[2]少数民族加分!$C$1:$E$65536,3,FALSE)","v":2},"缺考"]
[2132,"4252270704927","张健","317独山县第四中学","02初中体育教师",{"$f":"VLOOKUP(B2134,[1]Sheet1!$A:$I,8,0)","v":"0.00"},{"$f":"VLOOKUP(B2134,[1]Sheet1!$A:$I,9,0)","v":"0.00"},{"$f":"VLOOKUP(B2134,[2]少数民族加分!$C$1:$E$65536,3,FALSE)","v":2},"缺考"]
[2133,"4252270705322","姚便环","317独山县第四中学","02初中体育教师",{"$f":"VLOOKUP(B2135,[1]Sheet1!$A:$I,8,0)","v":"0.00"},{"$f":"VLOOKUP(B2135,[1]Sheet1!$A:$I,9,0)","v":"0.00"},{"$f":"VLOOKUP(B2135,[2]少数民族加分!$C$1:$E$65536,3,FALSE)","v":2},"缺考"]
[2134,"4252270705330","刘泽东","317独山县第四中学","02初中体育教师",{"$f":"VLOOKUP(B2136,[1]Sheet1!$A:$I,8,0)","v":"0.00"},{"$f":"VLOOKUP(B2136,[1]Sheet1!$A:$I,9,0)","v":"0.00"},{"$f":"VLOOKUP(B2136,[2]少数民族加分!$C$1:$E$65536,3,FALSE)","v":2},"缺考"]
[2135,"4252270705503","王彬","317独山县第四中学","02初中体育教师",{"$f":"VLOOKUP(B2137,[1]Sheet1!$A:$I,8,0)","v":"0.00"},{"$f":"VLOOKUP(B2137,[1]Sheet1!$A:$I,9,0)","v":"0.00"},{"$f":"VLOOKUP(B2137,[2]少数民族加分!$C$1:$E$65536,3,FALSE)","v":2},"缺考"]
[2136,"4252270706009","覃立庆","317独山县第四中学","02初中体育教师",{"$f":"VLOOKUP(B2138,[1]Sheet1!$A:$I,8,0)","v":"0.00"},{"$f":"VLOOKUP(B2138,[1]Sheet1!$A:$I,9,0)","v":"0.00"},{"$f":"VLOOKUP(B2138,[2]少数民族加分!$C$1:$E$65536,3,FALSE)","v":2},"缺考"]
[2137,"4252270706022","付雪","317独山县第四中学","02初中体育教师",{"$f":"VLOOKUP(B2139,[1]Sheet1!$A:$I,8,0)","v":"0.00"},{"$f":"VLOOKUP(B2139,[1]Sheet1!$A:$I,9,0)","v":"0.00"},null,"缺考"]
[2138,"4252270704403","王成燕","317独山县第四中学","03初中美术教师",{"$f":"VLOOKUP(B2140,[1]Sheet1!$A:$I,8,0)","v":"98.50"},{"$f":"VLOOKUP(B2140,[1]Sheet1!$A:$I,9,0)","v":"91.50"},{"$f":"VLOOKUP(B2140,[2]少数民族加分!$C$1:$E$65536,3,FALSE)","v":2},{"v":192,"d":"192.00"}]
[2139,"4252270705830","何乔妃","317独山县第四中学","03初中美术教师",{"$f":"VLOOKUP(B2141,[1]Sheet1!$A:$I,8,0)","v":"84.50"},{"$f":"VLOOKUP(B2141,[1]Sheet1!$A:$I,9,0)","v":"97.50"},{"$f":"VLOOKUP(B2141,[2]少数民族加分!$C$1:$E$65536,3,FALSE)","v":2},{"v":184,"d":"184.00"}]
[2140,"4252270704224","王静","317独山县第四中学","03初中美术教师",{"$f":"VLOOKUP(B2142,[1]Sheet1!$A:$I,8,0)","v":"95.00"},{"$f":"VLOOKUP(B2142,[1]Sheet1!$A:$I,9,0)","v":"86.50"},{"$f":"VLOOKUP(B2142,[2]少数民族加分!$C$1:$E$65536,3,FALSE)","v":2},{"v":183.5,"d":"183.50"}]
[2141,"4252270703509","陈建","317独山县第四中学","03初中美术教师",{"$f":"VLOOKUP(B2143,[1]Sheet1!$A:$I,8,0)","v":"87.50"},{"$f":"VLOOKUP(B2143,[1]Sheet1!$A:$I,9,0)","v":"84.00"},null,{"v":171.5,"d":"171.50"}]
[2142,"4252270703606","张宇","317独山县第四中学","03初中美术教师",{"$f":"VLOOKUP(B2144,[1]Sheet1!$A:$I,8,0)","v":"94.50"},{"$f":"VLOOKUP(B2144,[1]Sheet1!$A:$I,9,0)","v":"75.00"},null,{"v":169.5,"d":"169.50"}]
[2143,"4252270702927","曾雪","317独山县第四中学","03初中美术教师",{"$f":"VLOOKUP(B2145,[1]Sheet1!$A:$I,8,0)","v":"90.50"},{"$f":"VLOOKUP(B2145,[1]Sheet1!$A:$I,9,0)","v":"79.00"},null,{"v":169.5,"d":"169.50"}]
[2144,"4252270706504","唐芳","317独山县第四中学","03初中美术教师",{"$f":"VLOOKUP(B2146,[1]Sheet1!$A:$I,8,0)","v":"80.00"},{"$f":"VLOOKUP(B2146,[1]Sheet1!$A:$I,9,0)","v":"86.00"},{"$f":"VLOOKUP(B2146,[2]少数民族加分!$C$1:$E$65536,3,FALSE)","v":2},{"v":168,"d":"168.00"}]
[2146,"4252270706728","龙显","317独山县第四中学","03初中美术教师",{"$f":"VLOOKUP(B2147,[1]Sheet1!$A:$I,8,0)","v":"77.50"},{"$f":"VLOOKUP(B2147,[1]Sheet1!$A:$I,9,0)","v":"87.50"},{"$f":"VLOOKUP(B2147,[2]少数民族加分!$C$1:$E$65536,3,FALSE)","v":2},{"v":167,"d":"167.00"}]
[2145,"4252270702111","宋荣","317独山县第四中学","03初中美术教师",{"$f":"VLOOKUP(B2148,[1]Sheet1!$A:$I,8,0)","v":"80.50"},{"$f":"VLOOKUP(B2148,[1]Sheet1!$A:$I,9,0)","v":"85.00"},null,{"v":165.5,"d":"165.50"}]
[2147,"4252270705114","蒙颖","317独山县第四中学","03初中美术教师",{"$f":"VLOOKUP(B2149,[1]Sheet1!$A:$I,8,0)","v":"85.00"},{"$f":"VLOOKUP(B2149,[1]Sheet1!$A:$I,9,0)","v":"78.50"},{"$f":"VLOOKUP(B2149,[2]少数民族加分!$C$1:$E$65536,3,FALSE)","v":2},{"v":165.5,"d":"165.50"}]
[2149,"4252270702027","陈昌丽","317独山县第四中学","03初中美术教师",{"$f":"VLOOKUP(B2150,[1]Sheet1!$A:$I,8,0)","v":"78.00"},{"$f":"VLOOKUP(B2150,[1]Sheet1!$A:$I,9,0)","v":"84.00"},{"$f":"VLOOKUP(B2150,[2]少数民族加分!$C$1:$E$65536,3,FALSE)","v":2},{"v":164,"d":"164.00"}]
[2150,"4252270702512","黄先娇","317独山县第四中学","03初中美术教师",{"$f":"VLOOKUP(B2151,[1]Sheet1!$A:$I,8,0)","v":"88.50"},{"$f":"VLOOKUP(B2151,[1]Sheet1!$A:$I,9,0)","v":"72.50"},{"$f":"VLOOKUP(B2151,[2]少数民族加分!$C$1:$E$65536,3,FALSE)","v":2},{"v":163,"d":"163.00"}]
[2148,"4252270705104","姚忠翠","317独山县第四中学","03初中美术教师",{"$f":"VLOOKUP(B2152,[1]Sheet1!$A:$I,8,0)","v":"88.00"},{"$f":"VLOOKUP(B2152,[1]Sheet1!$A:$I,9,0)","v":"74.00"},null,{"v":162,"d":"162.00"}]
[2151,"4252270706518","刘礼梅","317独山县第四中学","03初中美术教师",{"$f":"VLOOKUP(B2153,[1]Sheet1!$A:$I,8,0)","v":"78.00"},{"$f":"VLOOKUP(B2153,[1]Sheet1!$A:$I,9,0)","v":"80.50"},null,{"v":158.5,"d":"158.50"}]
[2152,"4252270702529","吴安兰","317独山县第四中学","03初中美术教师",{"$f":"VLOOKUP(B2154,[1]Sheet1!$A:$I,8,0)","v":"69.00"},{"$f":"VLOOKUP(B2154,[1]Sheet1!$A:$I,9,0)","v":"87.00"},{"$f":"VLOOKUP(B2154,[2]少数民族加分!$C$1:$E$65536,3,FALSE)","v":2},{"v":158,"d":"158.00"}]
[2153,"4252270703623","刘梦怡","317独山县第四中学","03初中美术教师",{"$f":"VLOOKUP(B2155,[1]Sheet1!$A:$I,8,0)","v":"74.00"},{"$f":"VLOOKUP(B2155,[1]Sheet1!$A:$I,9,0)","v":"81.00"},{"$f":"VLOOKUP(B2155,[2]少数民族加分!$C$1:$E$65536,3,FALSE)","v":2},{"v":157,"d":"157.00"}]
[2154,"4252270704816","王琴","317独山县第四中学","03初中美术教师",{"$f":"VLOOKUP(B2156,[1]Sheet1!$A:$I,8,0)","v":"63.00"},{"$f":"VLOOKUP(B2156,[1]Sheet1!$A:$I,9,0)","v":"92.00"},{"$f":"VLOOKUP(B2156,[2]少数民族加分!$C$1:$E$65536,3,FALSE)","v":2},{"v":157,"d":"157.00"}]
[2155,"4252270701427","韩文","317独山县第四中学","03初中美术教师",{"$f":"VLOOKUP(B2157,[1]Sheet1!$A:$I,8,0)","v":"88.50"},{"$f":"VLOOKUP(B2157,[1]Sheet1!$A:$I,9,0)","v":"65.50"},null,{"v":154,"d":"154.00"}]
[2157,"4252270705423","蒲婷婷","317独山县第四中学","03初中美术教师",{"$f":"VLOOKUP(B2158,[1]Sheet1!$A:$I,8,0)","v":"70.00"},{"$f":"VLOOKUP(B2158,[1]Sheet1!$A:$I,9,0)","v":"79.00"},{"$f":"VLOOKUP(B2158,[2]少数民族加分!$C$1:$E$65536,3,FALSE)","v":2},{"v":151,"d":"151.00"}]
[2158,"4252270702721","康佩","317独山县第四中学","03初中美术教师",{"$f":"VLOOKUP(B2159,[1]Sheet1!$A:$I,8,0)","v":"75.50"},{"$f":"VLOOKUP(B2159,[1]Sheet1!$A:$I,9,0)","v":"73.00"},{"$f":"VLOOKUP(B2159,[2]少数民族加分!$C$1:$E$65536,3,FALSE)","v":2},{"v":150.5,"d":"150.50"}]
[2156,"4252270702625","廖芝林","317独山县第四中学","03初中美术教师",{"$f":"VLOOKUP(B2160,[1]Sheet1!$A:$I,8,0)","v":"77.00"},{"$f":"VLOOKUP(B2160,[1]Sheet1!$A:$I,9,0)","v":"72.50"},null,{"v":149.5,"d":"149.50"}]
[2159,"4252270705416","龙朝琴","317独山县第四中学","03初中美术教师",{"$f":"VLOOKUP(B2161,[1]Sheet1!$A:$I,8,0)","v":"65.50"},{"$f":"VLOOKUP(B2161,[1]Sheet1!$A:$I,9,0)","v":"82.00"},{"$f":"VLOOKUP(B2161,[2]少数民族加分!$C$1:$E$65536,3,FALSE)","v":2},{"v":149.5,"d":"149.50"}]
[2161,"4252270702621","欧阳仙","317独山县第四中学","03初中美术教师",{"$f":"VLOOKUP(B2162,[1]Sheet1!$A:$I,8,0)","v":"68.00"},{"$f":"VLOOKUP(B2162,[1]Sheet1!$A:$I,9,0)","v":"78.00"},{"$f":"VLOOKUP(B2162,[2]少数民族加分!$C$1:$E$65536,3,FALSE)","v":2},{"v":148,"d":"148.00"}]
[2160,"4252270704025","黄涛","317独山县第四中学","03初中美术教师",{"$f":"VLOOKUP(B2163,[1]Sheet1!$A:$I,8,0)","v":"60.00"},{"$f":"VLOOKUP(B2163,[1]Sheet1!$A:$I,9,0)","v":"86.00"},null,{"v":146,"d":"146.00"}]
[2162,"4252270703724","黄燕","317独山县第四中学","03初中美术教师",{"$f":"VLOOKUP(B2164,[1]Sheet1!$A:$I,8,0)","v":"68.00"},{"$f":"VLOOKUP(B2164,[1]Sheet1!$A:$I,9,0)","v":"75.00"},{"$f":"VLOOKUP(B2164,[2]少数民族加分!$C$1:$E$65536,3,FALSE)","v":2},{"v":145,"d":"145.00"}]
[2164,"4252270705907","莫珍棉","317独山县第四中学","03初中美术教师",{"$f":"VLOOKUP(B2165,[1]Sheet1!$A:$I,8,0)","v":"60.50"},{"$f":"VLOOKUP(B2165,[1]Sheet1!$A:$I,9,0)","v":"81.00"},{"$f":"VLOOKUP(B2165,[2]少数民族加分!$C$1:$E$65536,3,FALSE)","v":2},{"v":143.5,"d":"143.50"}]
[2165,"4252270702215","郭德健","317独山县第四中学","03初中美术教师",{"$f":"VLOOKUP(B2166,[1]Sheet1!$A:$I,8,0)","v":"70.50"},{"$f":"VLOOKUP(B2166,[1]Sheet1!$A:$I,9,0)","v":"70.00"},{"$f":"VLOOKUP(B2166,[2]少数民族加分!$C$1:$E$65536,3,FALSE)","v":2},{"v":142.5,"d":"142.50"}]
[2166,"4252270706218","罗申斌","317独山县第四中学","03初中美术教师",{"$f":"VLOOKUP(B2167,[1]Sheet1!$A:$I,8,0)","v":"82.00"},{"$f":"VLOOKUP(B2167,[1]Sheet1!$A:$I,9,0)","v":"58.50"},{"$f":"VLOOKUP(B2167,[2]少数民族加分!$C$1:$E$65536,3,FALSE)","v":2},{"v":142.5,"d":"142.50"}]
[2163,"4252270701521","舒发扬","317独山县第四中学","03初中美术教师",{"$f":"VLOOKUP(B2168,[1]Sheet1!$A:$I,8,0)","v":"78.50"},{"$f":"VLOOKUP(B2168,[1]Sheet1!$A:$I,9,0)","v":"63.50"},null,{"v":142,"d":"142.00"}]
[2167,"4252270701812","陆小鸳","317独山县第四中学","03初中美术教师",{"$f":"VLOOKUP(B2169,[1]Sheet1!$A:$I,8,0)","v":"76.00"},{"$f":"VLOOKUP(B2169,[1]Sheet1!$A:$I,9,0)","v":"64.00"},{"$f":"VLOOKUP(B2169,[2]少数民族加分!$C$1:$E$65536,3,FALSE)","v":2},{"v":142,"d":"142.00"}]
[2168,"4252270704123","任元鑫","317独山县第四中学","03初中美术教师",{"$f":"VLOOKUP(B2170,[1]Sheet1!$A:$I,8,0)","v":"60.00"},{"$f":"VLOOKUP(B2170,[1]Sheet1!$A:$I,9,0)","v":"76.00"},{"$f":"VLOOKUP(B2170,[2]少数民族加分!$C$1:$E$65536,3,FALSE)","v":2},{"v":138,"d":"138.00"}]
[2169,"4252270705808","龙琴芳","317独山县第四中学","03初中美术教师",{"$f":"VLOOKUP(B2171,[1]Sheet1!$A:$I,8,0)","v":"63.50"},{"$f":"VLOOKUP(B2171,[1]Sheet1!$A:$I,9,0)","v":"70.00"},{"$f":"VLOOKUP(B2171,[2]少数民族加分!$C$1:$E$65536,3,FALSE)","v":2},{"v":135.5,"d":"135.50"}]
[2170,"4252270704610","李俊","317独山县第四中学","03初中美术教师",{"$f":"VLOOKUP(B2172,[1]Sheet1!$A:$I,8,0)","v":"60.50"},{"$f":"VLOOKUP(B2172,[1]Sheet1!$A:$I,9,0)","v":"69.00"},{"$f":"VLOOKUP(B2172,[2]少数民族加分!$C$1:$E$65536,3,FALSE)","v":2},{"v":131.5,"d":"131.50"}]
[2171,"4252270703212","韦欢欢","317独山县第四中学","03初中美术教师",{"$f":"VLOOKUP(B2173,[1]Sheet1!$A:$I,8,0)","v":"76.50"},{"$f":"VLOOKUP(B2173,[1]Sheet1!$A:$I,9,0)","v":"53.00"},{"$f":"VLOOKUP(B2173,[2]少数民族加分!$C$1:$E$65536,3,FALSE)","v":2},{"v":131.5,"d":"131.50"}]
[2172,"4252270702402","潘晓燕","317独山县第四中学","03初中美术教师",{"$f":"VLOOKUP(B2174,[1]Sheet1!$A:$I,8,0)","v":"59.50"},{"$f":"VLOOKUP(B2174,[1]Sheet1!$A:$I,9,0)","v":"65.00"},{"$f":"VLOOKUP(B2174,[2]少数民族加分!$C$1:$E$65536,3,FALSE)","v":2},{"v":126.5,"d":"126.50"}]
[2173,"4252270703101","曾小娅","317独山县第四中学","03初中美术教师",{"$f":"VLOOKUP(B2175,[1]Sheet1!$A:$I,8,0)","v":"63.50"},{"$f":"VLOOKUP(B2175,[1]Sheet1!$A:$I,9,0)","v":"58.00"},{"$f":"VLOOKUP(B2175,[2]少数民族加分!$C$1:$E$65536,3,FALSE)","v":2},{"v":123.5,"d":"123.50"}]
[2174,"4252270702106","王太彩","317独山县第四中学","03初中美术教师",{"$f":"VLOOKUP(B2176,[1]Sheet1!$A:$I,8,0)","v":"48.50"},{"$f":"VLOOKUP(B2176,[1]Sheet1!$A:$I,9,0)","v":"68.00"},null,{"v":116.5,"d":"116.50"}]
[2175,"4252270702716","熊荣樟","317独山县第四中学","03初中美术教师",{"$f":"VLOOKUP(B2177,[1]Sheet1!$A:$I,8,0)","v":"63.00"},{"$f":"VLOOKUP(B2177,[1]Sheet1!$A:$I,9,0)","v":"44.00"},{"$f":"VLOOKUP(B2177,[2]少数民族加分!$C$1:$E$65536,3,FALSE)","v":2},{"v":109,"d":"109.00"}]
[2176,"4252270705522","蔡大海","317独山县第四中学","03初中美术教师",{"$f":"VLOOKUP(B2178,[1]Sheet1!$A:$I,8,0)","v":"53.50"},{"$f":"VLOOKUP(B2178,[1]Sheet1!$A:$I,9,0)","v":"40.00"},{"$f":"VLOOKUP(B2178,[2]少数民族加分!$C$1:$E$65536,3,FALSE)","v":2},{"v":95.5,"d":"95.50"}]
[2177,"4252270703615","潘燕","317独山县第四中学","03初中美术教师",{"$f":"VLOOKUP(B2179,[1]Sheet1!$A:$I,8,0)","v":"0.00"},{"$f":"VLOOKUP(B2179,[1]Sheet1!$A:$I,9,0)","v":"0.00"},{"$f":"VLOOKUP(B2179,[2]少数民族加分!$C$1:$E$65536,3,FALSE)","v":2},"缺考"]
[2178,"4252270703625","罗德鲜","317独山县第四中学","03初中美术教师",{"$f":"VLOOKUP(B2180,[1]Sheet1!$A:$I,8,0)","v":"0.00"},{"$f":"VLOOKUP(B2180,[1]Sheet1!$A:$I,9,0)","v":"0.00"},{"$f":"VLOOKUP(B2180,[2]少数民族加分!$C$1:$E$65536,3,FALSE)","v":2},"缺考"]
[2179,"4252270704218","江大梅","317独山县第四中学","03初中美术教师",{"$f":"VLOOKUP(B2181,[1]Sheet1!$A:$I,8,0)","v":"0.00"},{"$f":"VLOOKUP(B2181,[1]Sheet1!$A:$I,9,0)","v":"0.00"},{"$f":"VLOOKUP(B2181,[2]少数民族加分!$C$1:$E$65536,3,FALSE)","v":2},"缺考"]
[2180,"4252270704503","鲜文利","317独山县第四中学","03初中美术教师",{"$f":"VLOOKUP(B2182,[1]Sheet1!$A:$I,8,0)","v":"0.00"},{"$f":"VLOOKUP(B2182,[1]Sheet1!$A:$I,9,0)","v":"0.00"},{"$f":"VLOOKUP(B2182,[2]少数民族加分!$C$1:$E$65536,3,FALSE)","v":2},"缺考"]
[2181,"4252270704620","杨情","317独山县第四中学","03初中美术教师",{"$f":"VLOOKUP(B2183,[1]Sheet1!$A:$I,8,0)","v":"0.00"},{"$f":"VLOOKUP(B2183,[1]Sheet1!$A:$I,9,0)","v":"0.00"},{"$f":"VLOOKUP(B2183,[2]少数民族加分!$C$1:$E$65536,3,FALSE)","v":2},"缺考"]
[2182,"4252270705801","田磊","317独山县第四中学","03初中美术教师",{"$f":"VLOOKUP(B2184,[1]Sheet1!$A:$I,8,0)","v":"0.00"},{"$f":"VLOOKUP(B2184,[1]Sheet1!$A:$I,9,0)","v":"0.00"},{"$f":"VLOOKUP(B2184,[2]少数民族加分!$C$1:$E$65536,3,FALSE)","v":2},"缺考"]
[2183,"4252270706027","杨顺","317独山县第四中学","03初中美术教师",{"$f":"VLOOKUP(B2185,[1]Sheet1!$A:$I,8,0)","v":"0.00"},{"$f":"VLOOKUP(B2185,[1]Sheet1!$A:$I,9,0)","v":"0.00"},{"$f":"VLOOKUP(B2185,[2]少数民族加分!$C$1:$E$65536,3,FALSE)","v":2},"缺考"]
[2184,"4252270706115","黄佳佳","317独山县第四中学","03初中美术教师",{"$f":"VLOOKUP(B2186,[1]Sheet1!$A:$I,8,0)","v":"0.00"},{"$f":"VLOOKUP(B2186,[1]Sheet1!$A:$I,9,0)","v":"0.00"},{"$f":"VLOOKUP(B2186,[2]少数民族加分!$C$1:$E$65536,3,FALSE)","v":2},"缺考"]
[2185,"4152270700112","吴书召","318独山县麻尾小学","01小学数学教师",{"$f":"VLOOKUP(B2187,[1]Sheet1!$A:$I,8,0)","v":"88.50"},{"$f":"VLOOKUP(B2187,[1]Sheet1!$A:$I,9,0)","v":"80.00"},{"$f":"VLOOKUP(B2187,[2]少数民族加分!$C$1:$E$65536,3,FALSE)","v":2},{"v":170.5,"d":"170.50"}]
[2186,"4152270602718","向远艳","318独山县麻尾小学","01小学数学教师",{"$f":"VLOOKUP(B2188,[1]Sheet1!$A:$I,8,0)","v":"85.00"},{"$f":"VLOOKUP(B2188,[1]Sheet1!$A:$I,9,0)","v":"76.00"},{"$f":"VLOOKUP(B2188,[2]少数民族加分!$C$1:$E$65536,3,FALSE)","v":2},{"v":163,"d":"163.00"}]
[2187,"4152270605605","丁伶俐","318独山县麻尾小学","01小学数学教师",{"$f":"VLOOKUP(B2189,[1]Sheet1!$A:$I,8,0)","v":"88.00"},{"$f":"VLOOKUP(B2189,[1]Sheet1!$A:$I,9,0)","v":"69.00"},null,{"v":157,"d":"157.00"}]
[2189,"4152270604211","曹治云","318独山县麻尾小学","01小学数学教师",{"$f":"VLOOKUP(B2190,[1]Sheet1!$A:$I,8,0)","v":"84.50"},{"$f":"VLOOKUP(B2190,[1]Sheet1!$A:$I,9,0)","v":"63.00"},{"$f":"VLOOKUP(B2190,[2]少数民族加分!$C$1:$E$65536,3,FALSE)","v":2},{"v":149.5,"d":"149.50"}]
[2188,"4152270602723","张荣琴","318独山县麻尾小学","01小学数学教师",{"$f":"VLOOKUP(B2191,[1]Sheet1!$A:$I,8,0)","v":"77.50"},{"$f":"VLOOKUP(B2191,[1]Sheet1!$A:$I,9,0)","v":"71.50"},null,{"v":149,"d":"149.00"}]
[2190,"4152270605517","黄兴娅","318独山县麻尾小学","01小学数学教师",{"$f":"VLOOKUP(B2192,[1]Sheet1!$A:$I,8,0)","v":"67.50"},{"$f":"VLOOKUP(B2192,[1]Sheet1!$A:$I,9,0)","v":"78.50"},{"$f":"VLOOKUP(B2192,[2]少数民族加分!$C$1:$E$65536,3,FALSE)","v":2},{"v":148,"d":"148.00"}]
[2192,"4152270603106","吴美琴","318独山县麻尾小学","01小学数学教师",{"$f":"VLOOKUP(B2193,[1]Sheet1!$A:$I,8,0)","v":"67.50"},{"$f":"VLOOKUP(B2193,[1]Sheet1!$A:$I,9,0)","v":"76.50"},{"$f":"VLOOKUP(B2193,[2]少数民族加分!$C$1:$E$65536,3,FALSE)","v":2},{"v":146,"d":"146.00"}]
[2191,"4152270602728","李维","318独山县麻尾小学","01小学数学教师",{"$f":"VLOOKUP(B2194,[1]Sheet1!$A:$I,8,0)","v":"83.00"},{"$f":"VLOOKUP(B2194,[1]Sheet1!$A:$I,9,0)","v":"62.50"},null,{"v":145.5,"d":"145.50"}]
[2193,"4152270603528","余彪","318独山县麻尾小学","01小学数学教师",{"$f":"VLOOKUP(B2195,[1]Sheet1!$A:$I,8,0)","v":"79.00"},{"$f":"VLOOKUP(B2195,[1]Sheet1!$A:$I,9,0)","v":"63.50"},{"$f":"VLOOKUP(B2195,[2]少数民族加分!$C$1:$E$65536,3,FALSE)","v":2},{"v":144.5,"d":"144.50"}]
[2194,"4152270700523","徐广强","318独山县麻尾小学","01小学数学教师",{"$f":"VLOOKUP(B2196,[1]Sheet1!$A:$I,8,0)","v":"78.50"},{"$f":"VLOOKUP(B2196,[1]Sheet1!$A:$I,9,0)","v":"64.00"},null,{"v":142.5,"d":"142.50"}]
[2195,"4152270605017","胡丽","318独山县麻尾小学","01小学数学教师",{"$f":"VLOOKUP(B2197,[1]Sheet1!$A:$I,8,0)","v":"72.00"},{"$f":"VLOOKUP(B2197,[1]Sheet1!$A:$I,9,0)","v":"69.00"},null,{"v":141,"d":"141.00"}]
[2196,"4152270604608","江兴勇","318独山县麻尾小学","01小学数学教师",{"$f":"VLOOKUP(B2198,[1]Sheet1!$A:$I,8,0)","v":"75.50"},{"$f":"VLOOKUP(B2198,[1]Sheet1!$A:$I,9,0)","v":"63.00"},null,{"v":138.5,"d":"138.50"}]
[2197,"4152270604918","潘洪二","318独山县麻尾小学","01小学数学教师",{"$f":"VLOOKUP(B2199,[1]Sheet1!$A:$I,8,0)","v":"61.00"},{"$f":"VLOOKUP(B2199,[1]Sheet1!$A:$I,9,0)","v":"64.00"},{"$f":"VLOOKUP(B2199,[2]少数民族加分!$C$1:$E$65536,3,FALSE)","v":2},{"v":127,"d":"127.00"}]
[2198,"4152270604116","梁成胜","318独山县麻尾小学","01小学数学教师",{"$f":"VLOOKUP(B2200,[1]Sheet1!$A:$I,8,0)","v":"59.50"},{"$f":"VLOOKUP(B2200,[1]Sheet1!$A:$I,9,0)","v":"29.50"},{"$f":"VLOOKUP(B2200,[2]少数民族加分!$C$1:$E$65536,3,FALSE)","v":2},{"v":91,"d":"91.00"}]
[2199,"4152270604909","黄晓能","318独山县麻尾小学","01小学数学教师",{"$f":"VLOOKUP(B2201,[1]Sheet1!$A:$I,8,0)","v":"0.00"},{"$f":"VLOOKUP(B2201,[1]Sheet1!$A:$I,9,0)","v":"0.00"},null,"缺考"]
[2201,"4252270705928","李红星","319独山县乡镇中学","01初中政治教师",{"$f":"VLOOKUP(B2202,[1]Sheet1!$A:$I,8,0)","v":"99.50"},{"$f":"VLOOKUP(B2202,[1]Sheet1!$A:$I,9,0)","v":"103.50"},{"$f":"VLOOKUP(B2202,[2]少数民族加分!$C$1:$E$65536,3,FALSE)","v":2},{"v":205,"d":"205.00"}]
[2200,"4252270703905","张露","319独山县乡镇中学","01初中政治教师",{"$f":"VLOOKUP(B2203,[1]Sheet1!$A:$I,8,0)","v":"99.50"},{"$f":"VLOOKUP(B2203,[1]Sheet1!$A:$I,9,0)","v":"105.00"},null,{"v":204.5,"d":"204.50"}]
[2202,"4252270702425","自樱霖","319独山县乡镇中学","01初中政治教师",{"$f":"VLOOKUP(B2204,[1]Sheet1!$A:$I,8,0)","v":"107.00"},{"$f":"VLOOKUP(B2204,[1]Sheet1!$A:$I,9,0)","v":"95.50"},{"$f":"VLOOKUP(B2204,[2]少数民族加分!$C$1:$E$65536,3,FALSE)","v":2},{"v":204.5,"d":"204.50"}]
[2203,"4252270706122","陆敏","319独山县乡镇中学","01初中政治教师",{"$f":"VLOOKUP(B2205,[1]Sheet1!$A:$I,8,0)","v":"98.00"},{"$f":"VLOOKUP(B2205,[1]Sheet1!$A:$I,9,0)","v":"98.00"},null,{"v":196,"d":"196.00"}]
[2206,"4252270701827","梁信","319独山县乡镇中学","01初中政治教师",{"$f":"VLOOKUP(B2206,[1]Sheet1!$A:$I,8,0)","v":"96.00"},{"$f":"VLOOKUP(B2206,[1]Sheet1!$A:$I,9,0)","v":"96.00"},{"$f":"VLOOKUP(B2206,[2]少数民族加分!$C$1:$E$65536,3,FALSE)","v":2},{"v":194,"d":"194.00"}]
[2204,"4252270706124","匡维丽","319独山县乡镇中学","01初中政治教师",{"$f":"VLOOKUP(B2207,[1]Sheet1!$A:$I,8,0)","v":"92.00"},{"$f":"VLOOKUP(B2207,[1]Sheet1!$A:$I,9,0)","v":"101.50"},null,{"v":193.5,"d":"193.50"}]
[2205,"4252270706323","孟艳团","319独山县乡镇中学","01初中政治教师",{"$f":"VLOOKUP(B2208,[1]Sheet1!$A:$I,8,0)","v":"95.50"},{"$f":"VLOOKUP(B2208,[1]Sheet1!$A:$I,9,0)","v":"97.50"},null,{"v":193,"d":"193.00"}]
[2207,"4252270705511","张晓妹","319独山县乡镇中学","01初中政治教师",{"$f":"VLOOKUP(B2209,[1]Sheet1!$A:$I,8,0)","v":"92.50"},{"$f":"VLOOKUP(B2209,[1]Sheet1!$A:$I,9,0)","v":"98.50"},null,{"v":191,"d":"191.00"}]
[2208,"4252270705622","李贞真","319独山县乡镇中学","01初中政治教师",{"$f":"VLOOKUP(B2210,[1]Sheet1!$A:$I,8,0)","v":"96.00"},{"$f":"VLOOKUP(B2210,[1]Sheet1!$A:$I,9,0)","v":"93.00"},{"$f":"VLOOKUP(B2210,[2]少数民族加分!$C$1:$E$65536,3,FALSE)","v":2},{"v":191,"d":"191.00"}]
[2210,"4252270704305","石万里","319独山县乡镇中学","01初中政治教师",{"$f":"VLOOKUP(B2211,[1]Sheet1!$A:$I,8,0)","v":"91.00"},{"$f":"VLOOKUP(B2211,[1]Sheet1!$A:$I,9,0)","v":"97.50"},{"$f":"VLOOKUP(B2211,[2]少数民族加分!$C$1:$E$65536,3,FALSE)","v":2},{"v":190.5,"d":"190.50"}]
[2212,"4252270701415","郭芳","319独山县乡镇中学","01初中政治教师",{"$f":"VLOOKUP(B2212,[1]Sheet1!$A:$I,8,0)","v":"113.50"},{"$f":"VLOOKUP(B2212,[1]Sheet1!$A:$I,9,0)","v":"74.50"},{"$f":"VLOOKUP(B2212,[2]少数民族加分!$C$1:$E$65536,3,FALSE)","v":2},{"v":190,"d":"190.00"}]
[2209,"4252270706710","宰青院","319独山县乡镇中学","01初中政治教师",{"$f":"VLOOKUP(B2213,[1]Sheet1!$A:$I,8,0)","v":"89.50"},{"$f":"VLOOKUP(B2213,[1]Sheet1!$A:$I,9,0)","v":"99.50"},null,{"v":189,"d":"189.00"}]
[2213,"4252270702707","刘延仙","319独山县乡镇中学","01初中政治教师",{"$f":"VLOOKUP(B2214,[1]Sheet1!$A:$I,8,0)","v":"93.50"},{"$f":"VLOOKUP(B2214,[1]Sheet1!$A:$I,9,0)","v":"93.50"},{"$f":"VLOOKUP(B2214,[2]少数民族加分!$C$1:$E$65536,3,FALSE)","v":2},{"v":189,"d":"189.00"}]
[2214,"4252270703429","王文贤","319独山县乡镇中学","01初中政治教师",{"$f":"VLOOKUP(B2215,[1]Sheet1!$A:$I,8,0)","v":"100.00"},{"$f":"VLOOKUP(B2215,[1]Sheet1!$A:$I,9,0)","v":"87.00"},{"$f":"VLOOKUP(B2215,[2]少数民族加分!$C$1:$E$65536,3,FALSE)","v":2},{"v":189,"d":"189.00"}]
[2211,"4252270704517","吕亚","319独山县乡镇中学","01初中政治教师",{"$f":"VLOOKUP(B2216,[1]Sheet1!$A:$I,8,0)","v":"106.50"},{"$f":"VLOOKUP(B2216,[1]Sheet1!$A:$I,9,0)","v":"82.00"},null,{"v":188.5,"d":"188.50"}]
[2215,"4252270705909","宋春琳","319独山县乡镇中学","01初中政治教师",{"$f":"VLOOKUP(B2217,[1]Sheet1!$A:$I,8,0)","v":"92.50"},{"$f":"VLOOKUP(B2217,[1]Sheet1!$A:$I,9,0)","v":"94.00"},{"$f":"VLOOKUP(B2217,[2]少数民族加分!$C$1:$E$65536,3,FALSE)","v":2},{"v":188.5,"d":"188.50"}]
[2216,"4252270703330","龙紫红","319独山县乡镇中学","01初中政治教师",{"$f":"VLOOKUP(B2218,[1]Sheet1!$A:$I,8,0)","v":"87.50"},{"$f":"VLOOKUP(B2218,[1]Sheet1!$A:$I,9,0)","v":"98.50"},{"$f":"VLOOKUP(B2218,[2]少数民族加分!$C$1:$E$65536,3,FALSE)","v":2},{"v":188,"d":"188.00"}]
[2220,"4252270702119","龙兴艳","319独山县乡镇中学","01初中政治教师",{"$f":"VLOOKUP(B2219,[1]Sheet1!$A:$I,8,0)","v":"105.50"},{"$f":"VLOOKUP(B2219,[1]Sheet1!$A:$I,9,0)","v":"78.50"},{"$f":"VLOOKUP(B2219,[2]少数民族加分!$C$1:$E$65536,3,FALSE)","v":2},{"v":186,"d":"186.00"}]
[2217,"4252270704127","韦颖","319独山县乡镇中学","01初中政治教师",{"$f":"VLOOKUP(B2220,[1]Sheet1!$A:$I,8,0)","v":"95.50"},{"$f":"VLOOKUP(B2220,[1]Sheet1!$A:$I,9,0)","v":"90.00"},null,{"v":185.5,"d":"185.50"}]
[2218,"4252270703512","彭欢","319独山县乡镇中学","01初中政治教师",{"$f":"VLOOKUP(B2221,[1]Sheet1!$A:$I,8,0)","v":"96.00"},{"$f":"VLOOKUP(B2221,[1]Sheet1!$A:$I,9,0)","v":"88.50"},null,{"v":184.5,"d":"184.50"}]
[2219,"4252270706529","杨傈涵","319独山县乡镇中学","01初中政治教师",{"$f":"VLOOKUP(B2222,[1]Sheet1!$A:$I,8,0)","v":"105.00"},{"$f":"VLOOKUP(B2222,[1]Sheet1!$A:$I,9,0)","v":"79.50"},null,{"v":184.5,"d":"184.50"}]
[2222,"4252270704404","石洪兰","319独山县乡镇中学","01初中政治教师",{"$f":"VLOOKUP(B2223,[1]Sheet1!$A:$I,8,0)","v":"89.00"},{"$f":"VLOOKUP(B2223,[1]Sheet1!$A:$I,9,0)","v":"93.50"},{"$f":"VLOOKUP(B2223,[2]少数民族加分!$C$1:$E$65536,3,FALSE)","v":2},{"v":184.5,"d":"184.50"}]
[2223,"4252270701323","丁婷","319独山县乡镇中学","01初中政治教师",{"$f":"VLOOKUP(B2224,[1]Sheet1!$A:$I,8,0)","v":"80.50"},{"$f":"VLOOKUP(B2224,[1]Sheet1!$A:$I,9,0)","v":"102.00"},{"$f":"VLOOKUP(B2224,[2]少数民族加分!$C$1:$E$65536,3,FALSE)","v":2},{"v":184.5,"d":"184.50"}]
[2221,"4252270705901","蒋美艳","319独山县乡镇中学","01初中政治教师",{"$f":"VLOOKUP(B2225,[1]Sheet1!$A:$I,8,0)","v":"100.50"},{"$f":"VLOOKUP(B2225,[1]Sheet1!$A:$I,9,0)","v":"82.50"},null,{"v":183,"d":"183.00"}]
[2224,"4252270703705","吕中坤","319独山县乡镇中学","01初中政治教师",{"$f":"VLOOKUP(B2226,[1]Sheet1!$A:$I,8,0)","v":"91.50"},{"$f":"VLOOKUP(B2226,[1]Sheet1!$A:$I,9,0)","v":"89.50"},{"$f":"VLOOKUP(B2226,[2]少数民族加分!$C$1:$E$65536,3,FALSE)","v":2},{"v":183,"d":"183.00"}]
[2225,"4252270705914","黄雨情","319独山县乡镇中学","01初中政治教师",{"$f":"VLOOKUP(B2227,[1]Sheet1!$A:$I,8,0)","v":"79.50"},{"$f":"VLOOKUP(B2227,[1]Sheet1!$A:$I,9,0)","v":"101.00"},{"$f":"VLOOKUP(B2227,[2]少数民族加分!$C$1:$E$65536,3,FALSE)","v":2},{"v":182.5,"d":"182.50"}]
[2226,"4252270703003","王元根","319独山县乡镇中学","01初中政治教师",{"$f":"VLOOKUP(B2228,[1]Sheet1!$A:$I,8,0)","v":"94.00"},{"$f":"VLOOKUP(B2228,[1]Sheet1!$A:$I,9,0)","v":"86.50"},{"$f":"VLOOKUP(B2228,[2]少数民族加分!$C$1:$E$65536,3,FALSE)","v":2},{"v":182.5,"d":"182.50"}]
[2227,"4252270702320","钱凤玲","319独山县乡镇中学","01初中政治教师",{"$f":"VLOOKUP(B2229,[1]Sheet1!$A:$I,8,0)","v":"92.50"},{"$f":"VLOOKUP(B2229,[1]Sheet1!$A:$I,9,0)","v":"87.50"},{"$f":"VLOOKUP(B2229,[2]少数民族加分!$C$1:$E$65536,3,FALSE)","v":2},{"v":182,"d":"182.00"}]
[2229,"4252270705804","罗伟","319独山县乡镇中学","01初中政治教师",{"$f":"VLOOKUP(B2230,[1]Sheet1!$A:$I,8,0)","v":"88.00"},{"$f":"VLOOKUP(B2230,[1]Sheet1!$A:$I,9,0)","v":"92.00"},{"$f":"VLOOKUP(B2230,[2]少数民族加分!$C$1:$E$65536,3,FALSE)","v":2},{"v":182,"d":"182.00"}]
[2230,"4252270706024","李雪梅","319独山县乡镇中学","01初中政治教师",{"$f":"VLOOKUP(B2231,[1]Sheet1!$A:$I,8,0)","v":"83.00"},{"$f":"VLOOKUP(B2231,[1]Sheet1!$A:$I,9,0)","v":"96.50"},{"$f":"VLOOKUP(B2231,[2]少数民族加分!$C$1:$E$65536,3,FALSE)","v":2},{"v":181.5,"d":"181.50"}]
[2231,"4252270702925","黄梅琼","319独山县乡镇中学","01初中政治教师",{"$f":"VLOOKUP(B2232,[1]Sheet1!$A:$I,8,0)","v":"86.00"},{"$f":"VLOOKUP(B2232,[1]Sheet1!$A:$I,9,0)","v":"93.50"},{"$f":"VLOOKUP(B2232,[2]少数民族加分!$C$1:$E$65536,3,FALSE)","v":2},{"v":181.5,"d":"181.50"}]
[2232,"4252270706002","孟娇","319独山县乡镇中学","01初中政治教师",{"$f":"VLOOKUP(B2233,[1]Sheet1!$A:$I,8,0)","v":"94.00"},{"$f":"VLOOKUP(B2233,[1]Sheet1!$A:$I,9,0)","v":"85.00"},{"$f":"VLOOKUP(B2233,[2]少数民族加分!$C$1:$E$65536,3,FALSE)","v":2},{"v":181,"d":"181.00"}]
[2235,"4252270701707","柴路路","319独山县乡镇中学","01初中政治教师",{"$f":"VLOOKUP(B2234,[1]Sheet1!$A:$I,8,0)","v":"76.50"},{"$f":"VLOOKUP(B2234,[1]Sheet1!$A:$I,9,0)","v":"102.00"},{"$f":"VLOOKUP(B2234,[2]少数民族加分!$C$1:$E$65536,3,FALSE)","v":2},{"v":180.5,"d":"180.50"}]
[2228,"4252270702523","杨民青","319独山县乡镇中学","01初中政治教师",{"$f":"VLOOKUP(B2235,[1]Sheet1!$A:$I,8,0)","v":"87.50"},{"$f":"VLOOKUP(B2235,[1]Sheet1!$A:$I,9,0)","v":"92.50"},null,{"v":180,"d":"180.00"}]
[2237,"4252270702424","张露露","319独山县乡镇中学","01初中政治教师",{"$f":"VLOOKUP(B2236,[1]Sheet1!$A:$I,8,0)","v":"85.00"},{"$f":"VLOOKUP(B2236,[1]Sheet1!$A:$I,9,0)","v":"93.00"},{"$f":"VLOOKUP(B2236,[2]少数民族加分!$C$1:$E$65536,3,FALSE)","v":2},{"v":180,"d":"180.00"}]
[2238,"4252270701629","杨妹","319独山县乡镇中学","01初中政治教师",{"$f":"VLOOKUP(B2237,[1]Sheet1!$A:$I,8,0)","v":"86.00"},{"$f":"VLOOKUP(B2237,[1]Sheet1!$A:$I,9,0)","v":"91.50"},{"$f":"VLOOKUP(B2237,[2]少数民族加分!$C$1:$E$65536,3,FALSE)","v":2},{"v":179.5,"d":"179.50"}]
[2239,"4252270702914","王年倩","319独山县乡镇中学","01初中政治教师",{"$f":"VLOOKUP(B2238,[1]Sheet1!$A:$I,8,0)","v":"79.50"},{"$f":"VLOOKUP(B2238,[1]Sheet1!$A:$I,9,0)","v":"98.00"},{"$f":"VLOOKUP(B2238,[2]少数民族加分!$C$1:$E$65536,3,FALSE)","v":2},{"v":179.5,"d":"179.50"}]
[2240,"4252270706228","林小燕","319独山县乡镇中学","01初中政治教师",{"$f":"VLOOKUP(B2239,[1]Sheet1!$A:$I,8,0)","v":"91.50"},{"$f":"VLOOKUP(B2239,[1]Sheet1!$A:$I,9,0)","v":"86.00"},{"$f":"VLOOKUP(B2239,[2]少数民族加分!$C$1:$E$65536,3,FALSE)","v":2},{"v":179.5,"d":"179.50"}]
[2241,"4252270706101","吴芮","319独山县乡镇中学","01初中政治教师",{"$f":"VLOOKUP(B2240,[1]Sheet1!$A:$I,8,0)","v":"84.00"},{"$f":"VLOOKUP(B2240,[1]Sheet1!$A:$I,9,0)","v":"93.50"},{"$f":"VLOOKUP(B2240,[2]少数民族加分!$C$1:$E$65536,3,FALSE)","v":2},{"v":179.5,"d":"179.50"}]
[2242,"4252270705924","吴英镜","319独山县乡镇中学","01初中政治教师",{"$f":"VLOOKUP(B2241,[1]Sheet1!$A:$I,8,0)","v":"93.00"},{"$f":"VLOOKUP(B2241,[1]Sheet1!$A:$I,9,0)","v":"84.00"},{"$f":"VLOOKUP(B2241,[2]少数民族加分!$C$1:$E$65536,3,FALSE)","v":2},{"v":179,"d":"179.00"}]
[2243,"4252270701314","孙诗语","319独山县乡镇中学","01初中政治教师",{"$f":"VLOOKUP(B2242,[1]Sheet1!$A:$I,8,0)","v":"89.00"},{"$f":"VLOOKUP(B2242,[1]Sheet1!$A:$I,9,0)","v":"88.00"},{"$f":"VLOOKUP(B2242,[2]少数民族加分!$C$1:$E$65536,3,FALSE)","v":2},{"v":179,"d":"179.00"}]
[2245,"4252270706730","王学莹","319独山县乡镇中学","01初中政治教师",{"$f":"VLOOKUP(B2243,[1]Sheet1!$A:$I,8,0)","v":"95.00"},{"$f":"VLOOKUP(B2243,[1]Sheet1!$A:$I,9,0)","v":"82.00"},{"$f":"VLOOKUP(B2243,[2]少数民族加分!$C$1:$E$65536,3,FALSE)","v":2},{"v":179,"d":"179.00"}]
[2233,"4252270706003","曹明春","319独山县乡镇中学","01初中政治教师",{"$f":"VLOOKUP(B2244,[1]Sheet1!$A:$I,8,0)","v":"93.50"},{"$f":"VLOOKUP(B2244,[1]Sheet1!$A:$I,9,0)","v":"85.00"},null,{"v":178.5,"d":"178.50"}]
[2234,"4252270701623","李红","319独山县乡镇中学","01初中政治教师",{"$f":"VLOOKUP(B2245,[1]Sheet1!$A:$I,8,0)","v":"85.50"},{"$f":"VLOOKUP(B2245,[1]Sheet1!$A:$I,9,0)","v":"93.00"},null,{"v":178.5,"d":"178.50"}]
[2236,"4252270702326","罗婷","319独山县乡镇中学","01初中政治教师",{"$f":"VLOOKUP(B2246,[1]Sheet1!$A:$I,8,0)","v":"92.50"},{"$f":"VLOOKUP(B2246,[1]Sheet1!$A:$I,9,0)","v":"86.00"},null,{"v":178.5,"d":"178.50"}]
[2247,"4252270704405","韦石媚","319独山县乡镇中学","01初中政治教师",{"$f":"VLOOKUP(B2247,[1]Sheet1!$A:$I,8,0)","v":"85.00"},{"$f":"VLOOKUP(B2247,[1]Sheet1!$A:$I,9,0)","v":"91.00"},{"$f":"VLOOKUP(B2247,[2]少数民族加分!$C$1:$E$65536,3,FALSE)","v":2},{"v":178,"d":"178.00"}]
[2248,"4252270704812","莫泽金","319独山县乡镇中学","01初中政治教师",{"$f":"VLOOKUP(B2248,[1]Sheet1!$A:$I,8,0)","v":"87.50"},{"$f":"VLOOKUP(B2248,[1]Sheet1!$A:$I,9,0)","v":"88.50"},{"$f":"VLOOKUP(B2248,[2]少数民族加分!$C$1:$E$65536,3,FALSE)","v":2},{"v":178,"d":"178.00"}]
[2250,"4252270704428","吴明优","319独山县乡镇中学","01初中政治教师",{"$f":"VLOOKUP(B2249,[1]Sheet1!$A:$I,8,0)","v":"94.00"},{"$f":"VLOOKUP(B2249,[1]Sheet1!$A:$I,9,0)","v":"81.50"},{"$f":"VLOOKUP(B2249,[2]少数民族加分!$C$1:$E$65536,3,FALSE)","v":2},{"v":177.5,"d":"177.50"}]
[2251,"4252270702112","顾忠菊","319独山县乡镇中学","01初中政治教师",{"$f":"VLOOKUP(B2250,[1]Sheet1!$A:$I,8,0)","v":"90.00"},{"$f":"VLOOKUP(B2250,[1]Sheet1!$A:$I,9,0)","v":"85.50"},{"$f":"VLOOKUP(B2250,[2]少数民族加分!$C$1:$E$65536,3,FALSE)","v":2},{"v":177.5,"d":"177.50"}]
[2244,"4252270703204","范溪","319独山县乡镇中学","01初中政治教师",{"$f":"VLOOKUP(B2251,[1]Sheet1!$A:$I,8,0)","v":"99.00"},{"$f":"VLOOKUP(B2251,[1]Sheet1!$A:$I,9,0)","v":"78.00"},null,{"v":177,"d":"177.00"}]
[2246,"4252270705718","孔祥菊","319独山县乡镇中学","01初中政治教师",{"$f":"VLOOKUP(B2252,[1]Sheet1!$A:$I,8,0)","v":"75.50"},{"$f":"VLOOKUP(B2252,[1]Sheet1!$A:$I,9,0)","v":"101.00"},null,{"v":176.5,"d":"176.50"}]
[2252,"4252270701412","何祖秀","319独山县乡镇中学","01初中政治教师",{"$f":"VLOOKUP(B2253,[1]Sheet1!$A:$I,8,0)","v":"84.50"},{"$f":"VLOOKUP(B2253,[1]Sheet1!$A:$I,9,0)","v":"90.00"},{"$f":"VLOOKUP(B2253,[2]少数民族加分!$C$1:$E$65536,3,FALSE)","v":2},{"v":176.5,"d":"176.50"}]
[2249,"4252270706327","杨选松","319独山县乡镇中学","01初中政治教师",{"$f":"VLOOKUP(B2254,[1]Sheet1!$A:$I,8,0)","v":"81.00"},{"$f":"VLOOKUP(B2254,[1]Sheet1!$A:$I,9,0)","v":"95.00"},null,{"v":176,"d":"176.00"}]
[2254,"4252270701927","潘洪香","319独山县乡镇中学","01初中政治教师",{"$f":"VLOOKUP(B2255,[1]Sheet1!$A:$I,8,0)","v":"87.00"},{"$f":"VLOOKUP(B2255,[1]Sheet1!$A:$I,9,0)","v":"87.00"},{"$f":"VLOOKUP(B2255,[2]少数民族加分!$C$1:$E$65536,3,FALSE)","v":2},{"v":176,"d":"176.00"}]
[2255,"4252270702123","王英丽","319独山县乡镇中学","01初中政治教师",{"$f":"VLOOKUP(B2256,[1]Sheet1!$A:$I,8,0)","v":"94.50"},{"$f":"VLOOKUP(B2256,[1]Sheet1!$A:$I,9,0)","v":"79.50"},{"$f":"VLOOKUP(B2256,[2]少数民族加分!$C$1:$E$65536,3,FALSE)","v":2},{"v":176,"d":"176.00"}]
[2256,"4252270703906","朱俊","319独山县乡镇中学","01初中政治教师",{"$f":"VLOOKUP(B2257,[1]Sheet1!$A:$I,8,0)","v":"79.00"},{"$f":"VLOOKUP(B2257,[1]Sheet1!$A:$I,9,0)","v":"95.00"},{"$f":"VLOOKUP(B2257,[2]少数民族加分!$C$1:$E$65536,3,FALSE)","v":2},{"v":176,"d":"176.00"}]
[2257,"4252270705016","赵久星","319独山县乡镇中学","01初中政治教师",{"$f":"VLOOKUP(B2258,[1]Sheet1!$A:$I,8,0)","v":"99.00"},{"$f":"VLOOKUP(B2258,[1]Sheet1!$A:$I,9,0)","v":"75.00"},{"$f":"VLOOKUP(B2258,[2]少数民族加分!$C$1:$E$65536,3,FALSE)","v":2},{"v":176,"d":"176.00"}]
[2258,"4252270705922","刘玉婷","319独山县乡镇中学","01初中政治教师",{"$f":"VLOOKUP(B2259,[1]Sheet1!$A:$I,8,0)","v":"89.00"},{"$f":"VLOOKUP(B2259,[1]Sheet1!$A:$I,9,0)","v":"85.00"},{"$f":"VLOOKUP(B2259,[2]少数民族加分!$C$1:$E$65536,3,FALSE)","v":2},{"v":176,"d":"176.00"}]
[2253,"4252270701618","黄永娜","319独山县乡镇中学","01初中政治教师",{"$f":"VLOOKUP(B2260,[1]Sheet1!$A:$I,8,0)","v":"92.50"},{"$f":"VLOOKUP(B2260,[1]Sheet1!$A:$I,9,0)","v":"82.00"},null,{"v":174.5,"d":"174.50"}]
[2263,"4252270703910","田仁芳","319独山县乡镇中学","01初中政治教师",{"$f":"VLOOKUP(B2261,[1]Sheet1!$A:$I,8,0)","v":"83.00"},{"$f":"VLOOKUP(B2261,[1]Sheet1!$A:$I,9,0)","v":"89.50"},{"$f":"VLOOKUP(B2261,[2]少数民族加分!$C$1:$E$65536,3,FALSE)","v":2},{"v":174.5,"d":"174.50"}]
[2264,"4252270704120","黄培娟","319独山县乡镇中学","01初中政治教师",{"$f":"VLOOKUP(B2262,[1]Sheet1!$A:$I,8,0)","v":"93.50"},{"$f":"VLOOKUP(B2262,[1]Sheet1!$A:$I,9,0)","v":"79.00"},{"$f":"VLOOKUP(B2262,[2]少数民族加分!$C$1:$E$65536,3,FALSE)","v":2},{"v":174.5,"d":"174.50"}]
[2259,"4252270703527","石克","319独山县乡镇中学","01初中政治教师",{"$f":"VLOOKUP(B2263,[1]Sheet1!$A:$I,8,0)","v":"97.00"},{"$f":"VLOOKUP(B2263,[1]Sheet1!$A:$I,9,0)","v":"76.50"},null,{"v":173.5,"d":"173.50"}]
[2260,"4252270703711","段艳","319独山县乡镇中学","01初中政治教师",{"$f":"VLOOKUP(B2264,[1]Sheet1!$A:$I,8,0)","v":"86.00"},{"$f":"VLOOKUP(B2264,[1]Sheet1!$A:$I,9,0)","v":"87.50"},null,{"v":173.5,"d":"173.50"}]
[2266,"4252270704911","李国华","319独山县乡镇中学","01初中政治教师",{"$f":"VLOOKUP(B2265,[1]Sheet1!$A:$I,8,0)","v":"93.00"},{"$f":"VLOOKUP(B2265,[1]Sheet1!$A:$I,9,0)","v":"78.50"},{"$f":"VLOOKUP(B2265,[2]少数民族加分!$C$1:$E$65536,3,FALSE)","v":2},{"v":173.5,"d":"173.50"}]
[2261,"4252270705101","付旭","319独山县乡镇中学","01初中政治教师",{"$f":"VLOOKUP(B2266,[1]Sheet1!$A:$I,8,0)","v":"87.00"},{"$f":"VLOOKUP(B2266,[1]Sheet1!$A:$I,9,0)","v":"86.00"},null,{"v":173,"d":"173.00"}]
[2262,"4252270706704","王斯怡","319独山县乡镇中学","01初中政治教师",{"$f":"VLOOKUP(B2267,[1]Sheet1!$A:$I,8,0)","v":"86.00"},{"$f":"VLOOKUP(B2267,[1]Sheet1!$A:$I,9,0)","v":"87.00"},null,{"v":173,"d":"173.00"}]
[2270,"4252270704929","张宇航","319独山县乡镇中学","01初中政治教师",{"$f":"VLOOKUP(B2268,[1]Sheet1!$A:$I,8,0)","v":"80.00"},{"$f":"VLOOKUP(B2268,[1]Sheet1!$A:$I,9,0)","v":"91.00"},{"$f":"VLOOKUP(B2268,[2]少数民族加分!$C$1:$E$65536,3,FALSE)","v":2},{"v":173,"d":"173.00"}]
[2271,"4252270705118","石利油","319独山县乡镇中学","01初中政治教师",{"$f":"VLOOKUP(B2269,[1]Sheet1!$A:$I,8,0)","v":"86.00"},{"$f":"VLOOKUP(B2269,[1]Sheet1!$A:$I,9,0)","v":"85.00"},{"$f":"VLOOKUP(B2269,[2]少数民族加分!$C$1:$E$65536,3,FALSE)","v":2},{"v":173,"d":"173.00"}]
[2274,"4252270701303","欧向利","319独山县乡镇中学","01初中政治教师",{"$f":"VLOOKUP(B2270,[1]Sheet1!$A:$I,8,0)","v":"77.50"},{"$f":"VLOOKUP(B2270,[1]Sheet1!$A:$I,9,0)","v":"93.00"},{"$f":"VLOOKUP(B2270,[2]少数民族加分!$C$1:$E$65536,3,FALSE)","v":2},{"v":172.5,"d":"172.50"}]
[2275,"4252270701621","陈红","319独山县乡镇中学","01初中政治教师",{"$f":"VLOOKUP(B2271,[1]Sheet1!$A:$I,8,0)","v":"83.50"},{"$f":"VLOOKUP(B2271,[1]Sheet1!$A:$I,9,0)","v":"87.00"},{"$f":"VLOOKUP(B2271,[2]少数民族加分!$C$1:$E$65536,3,FALSE)","v":2},{"v":172.5,"d":"172.50"}]
[2277,"4252270702023","吴本美","319独山县乡镇中学","01初中政治教师",{"$f":"VLOOKUP(B2272,[1]Sheet1!$A:$I,8,0)","v":"87.50"},{"$f":"VLOOKUP(B2272,[1]Sheet1!$A:$I,9,0)","v":"82.50"},{"$f":"VLOOKUP(B2272,[2]少数民族加分!$C$1:$E$65536,3,FALSE)","v":2},{"v":172,"d":"172.00"}]
[2278,"4252270702030","张江丽","319独山县乡镇中学","01初中政治教师",{"$f":"VLOOKUP(B2273,[1]Sheet1!$A:$I,8,0)","v":"88.50"},{"$f":"VLOOKUP(B2273,[1]Sheet1!$A:$I,9,0)","v":"81.50"},{"$f":"VLOOKUP(B2273,[2]少数民族加分!$C$1:$E$65536,3,FALSE)","v":2},{"v":172,"d":"172.00"}]
[2279,"4252270705403","陈福琴","319独山县乡镇中学","01初中政治教师",{"$f":"VLOOKUP(B2274,[1]Sheet1!$A:$I,8,0)","v":"82.00"},{"$f":"VLOOKUP(B2274,[1]Sheet1!$A:$I,9,0)","v":"88.00"},{"$f":"VLOOKUP(B2274,[2]少数民族加分!$C$1:$E$65536,3,FALSE)","v":2},{"v":172,"d":"172.00"}]
[2265,"4252270703610","赵灵","319独山县乡镇中学","01初中政治教师",{"$f":"VLOOKUP(B2275,[1]Sheet1!$A:$I,8,0)","v":"90.00"},{"$f":"VLOOKUP(B2275,[1]Sheet1!$A:$I,9,0)","v":"81.50"},null,{"v":171.5,"d":"171.50"}]
[2267,"4252270701929","周丽","319独山县乡镇中学","01初中政治教师",{"$f":"VLOOKUP(B2276,[1]Sheet1!$A:$I,8,0)","v":"83.50"},{"$f":"VLOOKUP(B2276,[1]Sheet1!$A:$I,9,0)","v":"88.00"},null,{"v":171.5,"d":"171.50"}]
[2280,"4252270702627","王志敏","319独山县乡镇中学","01初中政治教师",{"$f":"VLOOKUP(B2277,[1]Sheet1!$A:$I,8,0)","v":"80.50"},{"$f":"VLOOKUP(B2277,[1]Sheet1!$A:$I,9,0)","v":"89.00"},{"$f":"VLOOKUP(B2277,[2]少数民族加分!$C$1:$E$65536,3,FALSE)","v":2},{"v":171.5,"d":"171.50"}]
[2281,"4252270706523","欧阳杏春","319独山县乡镇中学","01初中政治教师",{"$f":"VLOOKUP(B2278,[1]Sheet1!$A:$I,8,0)","v":"92.00"},{"$f":"VLOOKUP(B2278,[1]Sheet1!$A:$I,9,0)","v":"77.50"},{"$f":"VLOOKUP(B2278,[2]少数民族加分!$C$1:$E$65536,3,FALSE)","v":2},{"v":171.5,"d":"171.50"}]
[2268,"4252270706513","帅从秀","319独山县乡镇中学","01初中政治教师",{"$f":"VLOOKUP(B2279,[1]Sheet1!$A:$I,8,0)","v":"91.00"},{"$f":"VLOOKUP(B2279,[1]Sheet1!$A:$I,9,0)","v":"80.00"},null,{"v":171,"d":"171.00"}]
[2269,"4252270703812","李文虹","319独山县乡镇中学","01初中政治教师",{"$f":"VLOOKUP(B2280,[1]Sheet1!$A:$I,8,0)","v":"87.50"},{"$f":"VLOOKUP(B2280,[1]Sheet1!$A:$I,9,0)","v":"83.50"},null,{"v":171,"d":"171.00"}]
[2283,"4252270704107","李婷","319独山县乡镇中学","01初中政治教师",{"$f":"VLOOKUP(B2281,[1]Sheet1!$A:$I,8,0)","v":"78.00"},{"$f":"VLOOKUP(B2281,[1]Sheet1!$A:$I,9,0)","v":"91.00"},{"$f":"VLOOKUP(B2281,[2]少数民族加分!$C$1:$E$65536,3,FALSE)","v":2},{"v":171,"d":"171.00"}]
[2284,"4252270704730","潘春丽","319独山县乡镇中学","01初中政治教师",{"$f":"VLOOKUP(B2282,[1]Sheet1!$A:$I,8,0)","v":"76.00"},{"$f":"VLOOKUP(B2282,[1]Sheet1!$A:$I,9,0)","v":"93.00"},{"$f":"VLOOKUP(B2282,[2]少数民族加分!$C$1:$E$65536,3,FALSE)","v":2},{"v":171,"d":"171.00"}]
[2285,"4252270702015","吴庆波","319独山县乡镇中学","01初中政治教师",{"$f":"VLOOKUP(B2283,[1]Sheet1!$A:$I,8,0)","v":"93.50"},{"$f":"VLOOKUP(B2283,[1]Sheet1!$A:$I,9,0)","v":"75.50"},{"$f":"VLOOKUP(B2283,[2]少数民族加分!$C$1:$E$65536,3,FALSE)","v":2},{"v":171,"d":"171.00"}]
[2272,"4252270703502","包本艳","319独山县乡镇中学","01初中政治教师",{"$f":"VLOOKUP(B2284,[1]Sheet1!$A:$I,8,0)","v":"75.50"},{"$f":"VLOOKUP(B2284,[1]Sheet1!$A:$I,9,0)","v":"95.00"},null,{"v":170.5,"d":"170.50"}]
[2273,"4252270705424","高云霞","319独山县乡镇中学","01初中政治教师",{"$f":"VLOOKUP(B2285,[1]Sheet1!$A:$I,8,0)","v":"84.00"},{"$f":"VLOOKUP(B2285,[1]Sheet1!$A:$I,9,0)","v":"86.50"},null,{"v":170.5,"d":"170.50"}]
[2276,"4252270702912","王拉拉","319独山县乡镇中学","01初中政治教师",{"$f":"VLOOKUP(B2286,[1]Sheet1!$A:$I,8,0)","v":"82.50"},{"$f":"VLOOKUP(B2286,[1]Sheet1!$A:$I,9,0)","v":"88.00"},null,{"v":170.5,"d":"170.50"}]
[2287,"4252270703329","吴兴欢","319独山县乡镇中学","01初中政治教师",{"$f":"VLOOKUP(B2287,[1]Sheet1!$A:$I,8,0)","v":"79.50"},{"$f":"VLOOKUP(B2287,[1]Sheet1!$A:$I,9,0)","v":"89.00"},{"$f":"VLOOKUP(B2287,[2]少数民族加分!$C$1:$E$65536,3,FALSE)","v":2},{"v":170.5,"d":"170.50"}]
[2288,"4252270701822","吴文芝","319独山县乡镇中学","01初中政治教师",{"$f":"VLOOKUP(B2288,[1]Sheet1!$A:$I,8,0)","v":"86.00"},{"$f":"VLOOKUP(B2288,[1]Sheet1!$A:$I,9,0)","v":"82.00"},{"$f":"VLOOKUP(B2288,[2]少数民族加分!$C$1:$E$65536,3,FALSE)","v":2},{"v":170,"d":"170.00"}]
[2289,"4252270702825","滚大红","319独山县乡镇中学","01初中政治教师",{"$f":"VLOOKUP(B2289,[1]Sheet1!$A:$I,8,0)","v":"80.00"},{"$f":"VLOOKUP(B2289,[1]Sheet1!$A:$I,9,0)","v":"88.00"},{"$f":"VLOOKUP(B2289,[2]少数民族加分!$C$1:$E$65536,3,FALSE)","v":2},{"v":170,"d":"170.00"}]
[2290,"4252270703419","王东雪","319独山县乡镇中学","01初中政治教师",{"$f":"VLOOKUP(B2290,[1]Sheet1!$A:$I,8,0)","v":"86.00"},{"$f":"VLOOKUP(B2290,[1]Sheet1!$A:$I,9,0)","v":"82.00"},{"$f":"VLOOKUP(B2290,[2]少数民族加分!$C$1:$E$65536,3,FALSE)","v":2},{"v":170,"d":"170.00"}]
[2292,"4252270706225","陈园","319独山县乡镇中学","01初中政治教师",{"$f":"VLOOKUP(B2291,[1]Sheet1!$A:$I,8,0)","v":"82.50"},{"$f":"VLOOKUP(B2291,[1]Sheet1!$A:$I,9,0)","v":"85.00"},{"$f":"VLOOKUP(B2291,[2]少数民族加分!$C$1:$E$65536,3,FALSE)","v":2},{"v":169.5,"d":"169.50"}]
[2293,"4252270706304","覃含利","319独山县乡镇中学","01初中政治教师",{"$f":"VLOOKUP(B2292,[1]Sheet1!$A:$I,8,0)","v":"81.50"},{"$f":"VLOOKUP(B2292,[1]Sheet1!$A:$I,9,0)","v":"86.00"},{"$f":"VLOOKUP(B2292,[2]少数民族加分!$C$1:$E$65536,3,FALSE)","v":2},{"v":169.5,"d":"169.50"}]
[2294,"4252270703404","覃海运","319独山县乡镇中学","01初中政治教师",{"$f":"VLOOKUP(B2293,[1]Sheet1!$A:$I,8,0)","v":"87.50"},{"$f":"VLOOKUP(B2293,[1]Sheet1!$A:$I,9,0)","v":"80.00"},{"$f":"VLOOKUP(B2293,[2]少数民族加分!$C$1:$E$65536,3,FALSE)","v":2},{"v":169.5,"d":"169.50"}]
[2282,"4252270703622","赵红梅","319独山县乡镇中学","01初中政治教师",{"$f":"VLOOKUP(B2294,[1]Sheet1!$A:$I,8,0)","v":"81.00"},{"$f":"VLOOKUP(B2294,[1]Sheet1!$A:$I,9,0)","v":"88.00"},null,{"v":169,"d":"169.00"}]
[2295,"4252270703203","杨丽春","319独山县乡镇中学","01初中政治教师",{"$f":"VLOOKUP(B2295,[1]Sheet1!$A:$I,8,0)","v":"85.00"},{"$f":"VLOOKUP(B2295,[1]Sheet1!$A:$I,9,0)","v":"82.00"},{"$f":"VLOOKUP(B2295,[2]少数民族加分!$C$1:$E$65536,3,FALSE)","v":2},{"v":169,"d":"169.00"}]
[2296,"4252270706602","孟开练","319独山县乡镇中学","01初中政治教师",{"$f":"VLOOKUP(B2296,[1]Sheet1!$A:$I,8,0)","v":"86.00"},{"$f":"VLOOKUP(B2296,[1]Sheet1!$A:$I,9,0)","v":"81.00"},{"$f":"VLOOKUP(B2296,[2]少数民族加分!$C$1:$E$65536,3,FALSE)","v":2},{"v":169,"d":"169.00"}]
[2297,"4252270704607","石秀欢","319独山县乡镇中学","01初中政治教师",{"$f":"VLOOKUP(B2297,[1]Sheet1!$A:$I,8,0)","v":"80.00"},{"$f":"VLOOKUP(B2297,[1]Sheet1!$A:$I,9,0)","v":"87.00"},{"$f":"VLOOKUP(B2297,[2]少数民族加分!$C$1:$E$65536,3,FALSE)","v":2},{"v":169,"d":"169.00"}]
[2286,"4252270701504","张启苹","319独山县乡镇中学","01初中政治教师",{"$f":"VLOOKUP(B2298,[1]Sheet1!$A:$I,8,0)","v":"88.50"},{"$f":"VLOOKUP(B2298,[1]Sheet1!$A:$I,9,0)","v":"80.00"},null,{"v":168.5,"d":"168.50"}]
[2299,"4252270704820","安育丽","319独山县乡镇中学","01初中政治教师",{"$f":"VLOOKUP(B2299,[1]Sheet1!$A:$I,8,0)","v":"78.50"},{"$f":"VLOOKUP(B2299,[1]Sheet1!$A:$I,9,0)","v":"88.00"},{"$f":"VLOOKUP(B2299,[2]少数民族加分!$C$1:$E$65536,3,FALSE)","v":2},{"v":168.5,"d":"168.50"}]
[2300,"4252270702830","邓安叶","319独山县乡镇中学","01初中政治教师",{"$f":"VLOOKUP(B2300,[1]Sheet1!$A:$I,8,0)","v":"94.50"},{"$f":"VLOOKUP(B2300,[1]Sheet1!$A:$I,9,0)","v":"72.00"},{"$f":"VLOOKUP(B2300,[2]少数民族加分!$C$1:$E$65536,3,FALSE)","v":2},{"v":168.5,"d":"168.50"}]
[2291,"4252270706314","王路","319独山县乡镇中学","01初中政治教师",{"$f":"VLOOKUP(B2301,[1]Sheet1!$A:$I,8,0)","v":"87.50"},{"$f":"VLOOKUP(B2301,[1]Sheet1!$A:$I,9,0)","v":"80.50"},null,{"v":168,"d":"168.00"}]
[2303,"4252270705825","王可馨","319独山县乡镇中学","01初中政治教师",{"$f":"VLOOKUP(B2302,[1]Sheet1!$A:$I,8,0)","v":"85.50"},{"$f":"VLOOKUP(B2302,[1]Sheet1!$A:$I,9,0)","v":"80.50"},{"$f":"VLOOKUP(B2302,[2]少数民族加分!$C$1:$E$65536,3,FALSE)","v":2},{"v":168,"d":"168.00"}]
[2304,"4252270702321","王媛","319独山县乡镇中学","01初中政治教师",{"$f":"VLOOKUP(B2303,[1]Sheet1!$A:$I,8,0)","v":"89.00"},{"$f":"VLOOKUP(B2303,[1]Sheet1!$A:$I,9,0)","v":"77.00"},{"$f":"VLOOKUP(B2303,[2]少数民族加分!$C$1:$E$65536,3,FALSE)","v":2},{"v":168,"d":"168.00"}]
[2305,"4252270703214","周平","319独山县乡镇中学","01初中政治教师",{"$f":"VLOOKUP(B2304,[1]Sheet1!$A:$I,8,0)","v":"88.00"},{"$f":"VLOOKUP(B2304,[1]Sheet1!$A:$I,9,0)","v":"78.00"},{"$f":"VLOOKUP(B2304,[2]少数民族加分!$C$1:$E$65536,3,FALSE)","v":2},{"v":168,"d":"168.00"}]
[2306,"4252270703810","杨方艳","319独山县乡镇中学","01初中政治教师",{"$f":"VLOOKUP(B2305,[1]Sheet1!$A:$I,8,0)","v":"82.50"},{"$f":"VLOOKUP(B2305,[1]Sheet1!$A:$I,9,0)","v":"83.00"},{"$f":"VLOOKUP(B2305,[2]少数民族加分!$C$1:$E$65536,3,FALSE)","v":2},{"v":167.5,"d":"167.50"}]
[2307,"4252270703925","潘红梅","319独山县乡镇中学","01初中政治教师",{"$f":"VLOOKUP(B2306,[1]Sheet1!$A:$I,8,0)","v":"89.50"},{"$f":"VLOOKUP(B2306,[1]Sheet1!$A:$I,9,0)","v":"76.00"},{"$f":"VLOOKUP(B2306,[2]少数民族加分!$C$1:$E$65536,3,FALSE)","v":2},{"v":167.5,"d":"167.50"}]
[2310,"4252270702820","何昌艳","319独山县乡镇中学","01初中政治教师",{"$f":"VLOOKUP(B2307,[1]Sheet1!$A:$I,8,0)","v":"75.00"},{"$f":"VLOOKUP(B2307,[1]Sheet1!$A:$I,9,0)","v":"90.00"},{"$f":"VLOOKUP(B2307,[2]少数民族加分!$C$1:$E$65536,3,FALSE)","v":2},{"v":167,"d":"167.00"}]
[2298,"4252270704713","施艳","319独山县乡镇中学","01初中政治教师",{"$f":"VLOOKUP(B2308,[1]Sheet1!$A:$I,8,0)","v":"87.00"},{"$f":"VLOOKUP(B2308,[1]Sheet1!$A:$I,9,0)","v":"79.50"},null,{"v":166.5,"d":"166.50"}]
[2301,"4252270706706","梁植霜","319独山县乡镇中学","01初中政治教师",{"$f":"VLOOKUP(B2309,[1]Sheet1!$A:$I,8,0)","v":"74.50"},{"$f":"VLOOKUP(B2309,[1]Sheet1!$A:$I,9,0)","v":"92.00"},null,{"v":166.5,"d":"166.50"}]
[2311,"4252270703117","陈勇","319独山县乡镇中学","01初中政治教师",{"$f":"VLOOKUP(B2310,[1]Sheet1!$A:$I,8,0)","v":"90.00"},{"$f":"VLOOKUP(B2310,[1]Sheet1!$A:$I,9,0)","v":"74.50"},{"$f":"VLOOKUP(B2310,[2]少数民族加分!$C$1:$E$65536,3,FALSE)","v":2},{"v":166.5,"d":"166.50"}]
[2312,"4252270706729","马艺","319独山县乡镇中学","01初中政治教师",{"$f":"VLOOKUP(B2311,[1]Sheet1!$A:$I,8,0)","v":"82.50"},{"$f":"VLOOKUP(B2311,[1]Sheet1!$A:$I,9,0)","v":"82.00"},{"$f":"VLOOKUP(B2311,[2]少数民族加分!$C$1:$E$65536,3,FALSE)","v":2},{"v":166.5,"d":"166.50"}]
[2302,"4252270704601","钱盼","319独山县乡镇中学","01初中政治教师",{"$f":"VLOOKUP(B2312,[1]Sheet1!$A:$I,8,0)","v":"92.50"},{"$f":"VLOOKUP(B2312,[1]Sheet1!$A:$I,9,0)","v":"73.50"},null,{"v":166,"d":"166.00"}]
[2314,"4252270704505","尚思建","319独山县乡镇中学","01初中政治教师",{"$f":"VLOOKUP(B2313,[1]Sheet1!$A:$I,8,0)","v":"85.50"},{"$f":"VLOOKUP(B2313,[1]Sheet1!$A:$I,9,0)","v":"78.50"},{"$f":"VLOOKUP(B2313,[2]少数民族加分!$C$1:$E$65536,3,FALSE)","v":2},{"v":166,"d":"166.00"}]
[2315,"4252270704921","王莲莲","319独山县乡镇中学","01初中政治教师",{"$f":"VLOOKUP(B2314,[1]Sheet1!$A:$I,8,0)","v":"80.00"},{"$f":"VLOOKUP(B2314,[1]Sheet1!$A:$I,9,0)","v":"84.00"},{"$f":"VLOOKUP(B2314,[2]少数民族加分!$C$1:$E$65536,3,FALSE)","v":2},{"v":166,"d":"166.00"}]
[2316,"4252270704520","潘春桃","319独山县乡镇中学","01初中政治教师",{"$f":"VLOOKUP(B2315,[1]Sheet1!$A:$I,8,0)","v":"79.50"},{"$f":"VLOOKUP(B2315,[1]Sheet1!$A:$I,9,0)","v":"84.00"},{"$f":"VLOOKUP(B2315,[2]少数民族加分!$C$1:$E$65536,3,FALSE)","v":2},{"v":165.5,"d":"165.50"}]
[2317,"4252270701429","石学菊","319独山县乡镇中学","01初中政治教师",{"$f":"VLOOKUP(B2316,[1]Sheet1!$A:$I,8,0)","v":"82.50"},{"$f":"VLOOKUP(B2316,[1]Sheet1!$A:$I,9,0)","v":"81.00"},{"$f":"VLOOKUP(B2316,[2]少数民族加分!$C$1:$E$65536,3,FALSE)","v":2},{"v":165.5,"d":"165.50"}]
[2318,"4252270701803","杨胜娟","319独山县乡镇中学","01初中政治教师",{"$f":"VLOOKUP(B2317,[1]Sheet1!$A:$I,8,0)","v":"71.50"},{"$f":"VLOOKUP(B2317,[1]Sheet1!$A:$I,9,0)","v":"92.00"},{"$f":"VLOOKUP(B2317,[2]少数民族加分!$C$1:$E$65536,3,FALSE)","v":2},{"v":165.5,"d":"165.50"}]
[2320,"4252270703026","龙周文","319独山县乡镇中学","01初中政治教师",{"$f":"VLOOKUP(B2318,[1]Sheet1!$A:$I,8,0)","v":"86.00"},{"$f":"VLOOKUP(B2318,[1]Sheet1!$A:$I,9,0)","v":"77.50"},{"$f":"VLOOKUP(B2318,[2]少数民族加分!$C$1:$E$65536,3,FALSE)","v":2},{"v":165.5,"d":"165.50"}]
[2308,"4252270704829","王琴","319独山县乡镇中学","01初中政治教师",{"$f":"VLOOKUP(B2319,[1]Sheet1!$A:$I,8,0)","v":"97.00"},{"$f":"VLOOKUP(B2319,[1]Sheet1!$A:$I,9,0)","v":"68.00"},null,{"v":165,"d":"165.00"}]
[2309,"4252270702303","黎美菊","319独山县乡镇中学","01初中政治教师",{"$f":"VLOOKUP(B2320,[1]Sheet1!$A:$I,8,0)","v":"72.00"},{"$f":"VLOOKUP(B2320,[1]Sheet1!$A:$I,9,0)","v":"93.00"},null,{"v":165,"d":"165.00"}]
[2321,"4252270702911","吴游琴","319独山县乡镇中学","01初中政治教师",{"$f":"VLOOKUP(B2321,[1]Sheet1!$A:$I,8,0)","v":"82.50"},{"$f":"VLOOKUP(B2321,[1]Sheet1!$A:$I,9,0)","v":"80.50"},{"$f":"VLOOKUP(B2321,[2]少数民族加分!$C$1:$E$65536,3,FALSE)","v":2},{"v":165,"d":"165.00"}]
[2325,"4252270705229","肖在梅","319独山县乡镇中学","01初中政治教师",{"$f":"VLOOKUP(B2322,[1]Sheet1!$A:$I,8,0)","v":"77.00"},{"$f":"VLOOKUP(B2322,[1]Sheet1!$A:$I,9,0)","v":"86.00"},{"$f":"VLOOKUP(B2322,[2]少数民族加分!$C$1:$E$65536,3,FALSE)","v":2},{"v":165,"d":"165.00"}]
[2327,"4252270704617","马宏宸","319独山县乡镇中学","01初中政治教师",{"$f":"VLOOKUP(B2323,[1]Sheet1!$A:$I,8,0)","v":"82.00"},{"$f":"VLOOKUP(B2323,[1]Sheet1!$A:$I,9,0)","v":"80.50"},{"$f":"VLOOKUP(B2323,[2]少数民族加分!$C$1:$E$65536,3,FALSE)","v":2},{"v":164.5,"d":"164.50"}]
[2329,"4252270701503","张小燕","319独山县乡镇中学","01初中政治教师",{"$f":"VLOOKUP(B2324,[1]Sheet1!$A:$I,8,0)","v":"80.50"},{"$f":"VLOOKUP(B2324,[1]Sheet1!$A:$I,9,0)","v":"82.00"},{"$f":"VLOOKUP(B2324,[2]少数民族加分!$C$1:$E$65536,3,FALSE)","v":2},{"v":164.5,"d":"164.50"}]
[2330,"4252270706227","吴光金","319独山县乡镇中学","01初中政治教师",{"$f":"VLOOKUP(B2325,[1]Sheet1!$A:$I,8,0)","v":"65.50"},{"$f":"VLOOKUP(B2325,[1]Sheet1!$A:$I,9,0)","v":"97.00"},{"$f":"VLOOKUP(B2325,[2]少数民族加分!$C$1:$E$65536,3,FALSE)","v":2},{"v":164.5,"d":"164.50"}]
[2313,"4252270703128","严旭","319独山县乡镇中学","01初中政治教师",{"$f":"VLOOKUP(B2326,[1]Sheet1!$A:$I,8,0)","v":"84.50"},{"$f":"VLOOKUP(B2326,[1]Sheet1!$A:$I,9,0)","v":"79.50"},null,{"v":164,"d":"164.00"}]
[2331,"4252270704116","龙奎祥","319独山县乡镇中学","01初中政治教师",{"$f":"VLOOKUP(B2327,[1]Sheet1!$A:$I,8,0)","v":"78.00"},{"$f":"VLOOKUP(B2327,[1]Sheet1!$A:$I,9,0)","v":"84.00"},{"$f":"VLOOKUP(B2327,[2]少数民族加分!$C$1:$E$65536,3,FALSE)","v":2},{"v":164,"d":"164.00"}]
[2332,"4252270705008","田青青","319独山县乡镇中学","01初中政治教师",{"$f":"VLOOKUP(B2328,[1]Sheet1!$A:$I,8,0)","v":"87.00"},{"$f":"VLOOKUP(B2328,[1]Sheet1!$A:$I,9,0)","v":"75.00"},{"$f":"VLOOKUP(B2328,[2]少数民族加分!$C$1:$E$65536,3,FALSE)","v":2},{"v":164,"d":"164.00"}]
[2333,"4252270705709","石柳帆","319独山县乡镇中学","01初中政治教师",{"$f":"VLOOKUP(B2329,[1]Sheet1!$A:$I,8,0)","v":"78.00"},{"$f":"VLOOKUP(B2329,[1]Sheet1!$A:$I,9,0)","v":"84.00"},{"$f":"VLOOKUP(B2329,[2]少数民族加分!$C$1:$E$65536,3,FALSE)","v":2},{"v":164,"d":"164.00"}]
[2334,"4252270701906","叶青","319独山县乡镇中学","01初中政治教师",{"$f":"VLOOKUP(B2330,[1]Sheet1!$A:$I,8,0)","v":"92.50"},{"$f":"VLOOKUP(B2330,[1]Sheet1!$A:$I,9,0)","v":"69.50"},{"$f":"VLOOKUP(B2330,[2]少数民族加分!$C$1:$E$65536,3,FALSE)","v":2},{"v":164,"d":"164.00"}]
[2319,"4252270702412","徐历波","319独山县乡镇中学","01初中政治教师",{"$f":"VLOOKUP(B2331,[1]Sheet1!$A:$I,8,0)","v":"87.50"},{"$f":"VLOOKUP(B2331,[1]Sheet1!$A:$I,9,0)","v":"76.00"},null,{"v":163.5,"d":"163.50"}]
[2336,"4252270703902","龙立珍","319独山县乡镇中学","01初中政治教师",{"$f":"VLOOKUP(B2332,[1]Sheet1!$A:$I,8,0)","v":"91.00"},{"$f":"VLOOKUP(B2332,[1]Sheet1!$A:$I,9,0)","v":"70.50"},{"$f":"VLOOKUP(B2332,[2]少数民族加分!$C$1:$E$65536,3,FALSE)","v":2},{"v":163.5,"d":"163.50"}]
[2322,"4252270703227","尹端进","319独山县乡镇中学","01初中政治教师",{"$f":"VLOOKUP(B2333,[1]Sheet1!$A:$I,8,0)","v":"79.00"},{"$f":"VLOOKUP(B2333,[1]Sheet1!$A:$I,9,0)","v":"84.00"},null,{"v":163,"d":"163.00"}]
[2323,"4252270706806","何春艳","319独山县乡镇中学","01初中政治教师",{"$f":"VLOOKUP(B2334,[1]Sheet1!$A:$I,8,0)","v":"79.00"},{"$f":"VLOOKUP(B2334,[1]Sheet1!$A:$I,9,0)","v":"84.00"},null,{"v":163,"d":"163.00"}]
[2324,"4252270703721","张顺飞","319独山县乡镇中学","01初中政治教师",{"$f":"VLOOKUP(B2335,[1]Sheet1!$A:$I,8,0)","v":"74.00"},{"$f":"VLOOKUP(B2335,[1]Sheet1!$A:$I,9,0)","v":"89.00"},null,{"v":163,"d":"163.00"}]
[2337,"4252270703608","马丽芬","319独山县乡镇中学","01初中政治教师",{"$f":"VLOOKUP(B2336,[1]Sheet1!$A:$I,8,0)","v":"88.00"},{"$f":"VLOOKUP(B2336,[1]Sheet1!$A:$I,9,0)","v":"73.00"},{"$f":"VLOOKUP(B2336,[2]少数民族加分!$C$1:$E$65536,3,FALSE)","v":2},{"v":163,"d":"163.00"}]
[2338,"4252270705426","罗玉群","319独山县乡镇中学","01初中政治教师",{"$f":"VLOOKUP(B2337,[1]Sheet1!$A:$I,8,0)","v":"92.50"},{"$f":"VLOOKUP(B2337,[1]Sheet1!$A:$I,9,0)","v":"68.50"},{"$f":"VLOOKUP(B2337,[2]少数民族加分!$C$1:$E$65536,3,FALSE)","v":2},{"v":163,"d":"163.00"}]
[2339,"4252270705518","吴启霞","319独山县乡镇中学","01初中政治教师",{"$f":"VLOOKUP(B2338,[1]Sheet1!$A:$I,8,0)","v":"75.00"},{"$f":"VLOOKUP(B2338,[1]Sheet1!$A:$I,9,0)","v":"86.00"},{"$f":"VLOOKUP(B2338,[2]少数民族加分!$C$1:$E$65536,3,FALSE)","v":2},{"v":163,"d":"163.00"}]
[2326,"4252270704102","邹婷","319独山县乡镇中学","01初中政治教师",{"$f":"VLOOKUP(B2339,[1]Sheet1!$A:$I,8,0)","v":"77.50"},{"$f":"VLOOKUP(B2339,[1]Sheet1!$A:$I,9,0)","v":"85.00"},null,{"v":162.5,"d":"162.50"}]
[2328,"4252270701409","王宇","319独山县乡镇中学","01初中政治教师",{"$f":"VLOOKUP(B2340,[1]Sheet1!$A:$I,8,0)","v":"87.00"},{"$f":"VLOOKUP(B2340,[1]Sheet1!$A:$I,9,0)","v":"75.50"},null,{"v":162.5,"d":"162.50"}]
[2343,"4252270705820","杨昌云","319独山县乡镇中学","01初中政治教师",{"$f":"VLOOKUP(B2341,[1]Sheet1!$A:$I,8,0)","v":"77.50"},{"$f":"VLOOKUP(B2341,[1]Sheet1!$A:$I,9,0)","v":"83.00"},{"$f":"VLOOKUP(B2341,[2]少数民族加分!$C$1:$E$65536,3,FALSE)","v":2},{"v":162.5,"d":"162.50"}]
[2344,"4252270706113","吴秀霞","319独山县乡镇中学","01初中政治教师",{"$f":"VLOOKUP(B2342,[1]Sheet1!$A:$I,8,0)","v":"79.50"},{"$f":"VLOOKUP(B2342,[1]Sheet1!$A:$I,9,0)","v":"81.00"},{"$f":"VLOOKUP(B2342,[2]少数民族加分!$C$1:$E$65536,3,FALSE)","v":2},{"v":162.5,"d":"162.50"}]
[2347,"4252270701510","韦慢娟","319独山县乡镇中学","01初中政治教师",{"$f":"VLOOKUP(B2343,[1]Sheet1!$A:$I,8,0)","v":"73.00"},{"$f":"VLOOKUP(B2343,[1]Sheet1!$A:$I,9,0)","v":"87.00"},{"$f":"VLOOKUP(B2343,[2]少数民族加分!$C$1:$E$65536,3,FALSE)","v":2},{"v":162,"d":"162.00"}]
[2348,"4252270702414","莫邦涣","319独山县乡镇中学","01初中政治教师",{"$f":"VLOOKUP(B2344,[1]Sheet1!$A:$I,8,0)","v":"86.50"},{"$f":"VLOOKUP(B2344,[1]Sheet1!$A:$I,9,0)","v":"73.50"},{"$f":"VLOOKUP(B2344,[2]少数民族加分!$C$1:$E$65536,3,FALSE)","v":2},{"v":162,"d":"162.00"}]
[2350,"4252270706423","杨银生","319独山县乡镇中学","01初中政治教师",{"$f":"VLOOKUP(B2345,[1]Sheet1!$A:$I,8,0)","v":"90.50"},{"$f":"VLOOKUP(B2345,[1]Sheet1!$A:$I,9,0)","v":"69.50"},{"$f":"VLOOKUP(B2345,[2]少数民族加分!$C$1:$E$65536,3,FALSE)","v":2},{"v":162,"d":"162.00"}]
[2335,"4252270706411","袁根林","319独山县乡镇中学","01初中政治教师",{"$f":"VLOOKUP(B2346,[1]Sheet1!$A:$I,8,0)","v":"77.50"},{"$f":"VLOOKUP(B2346,[1]Sheet1!$A:$I,9,0)","v":"84.00"},null,{"v":161.5,"d":"161.50"}]
[2351,"4252270702507","吴越华","319独山县乡镇中学","01初中政治教师",{"$f":"VLOOKUP(B2347,[1]Sheet1!$A:$I,8,0)","v":"78.50"},{"$f":"VLOOKUP(B2347,[1]Sheet1!$A:$I,9,0)","v":"81.00"},{"$f":"VLOOKUP(B2347,[2]少数民族加分!$C$1:$E$65536,3,FALSE)","v":2},{"v":161.5,"d":"161.50"}]
[2352,"4252270702617","潘丁凤","319独山县乡镇中学","01初中政治教师",{"$f":"VLOOKUP(B2348,[1]Sheet1!$A:$I,8,0)","v":"88.50"},{"$f":"VLOOKUP(B2348,[1]Sheet1!$A:$I,9,0)","v":"71.00"},{"$f":"VLOOKUP(B2348,[2]少数民族加分!$C$1:$E$65536,3,FALSE)","v":2},{"v":161.5,"d":"161.50"}]
[2355,"4252270703325","王华群","319独山县乡镇中学","01初中政治教师",{"$f":"VLOOKUP(B2349,[1]Sheet1!$A:$I,8,0)","v":"78.50"},{"$f":"VLOOKUP(B2349,[1]Sheet1!$A:$I,9,0)","v":"81.00"},{"$f":"VLOOKUP(B2349,[2]少数民族加分!$C$1:$E$65536,3,FALSE)","v":2},{"v":161.5,"d":"161.50"}]
[2340,"4252270703116","姚华松","319独山县乡镇中学","01初中政治教师",{"$f":"VLOOKUP(B2350,[1]Sheet1!$A:$I,8,0)","v":"72.00"},{"$f":"VLOOKUP(B2350,[1]Sheet1!$A:$I,9,0)","v":"89.00"},null,{"v":161,"d":"161.00"}]
[2341,"4252270706205","吴增垚","319独山县乡镇中学","01初中政治教师",{"$f":"VLOOKUP(B2351,[1]Sheet1!$A:$I,8,0)","v":"80.00"},{"$f":"VLOOKUP(B2351,[1]Sheet1!$A:$I,9,0)","v":"81.00"},null,{"v":161,"d":"161.00"}]
[2342,"4252270706612","蒙仙","319独山县乡镇中学","01初中政治教师",{"$f":"VLOOKUP(B2352,[1]Sheet1!$A:$I,8,0)","v":"83.00"},{"$f":"VLOOKUP(B2352,[1]Sheet1!$A:$I,9,0)","v":"78.00"},null,{"v":161,"d":"161.00"}]
[2357,"4252270702701","陈俐君","319独山县乡镇中学","01初中政治教师",{"$f":"VLOOKUP(B2353,[1]Sheet1!$A:$I,8,0)","v":"75.00"},{"$f":"VLOOKUP(B2353,[1]Sheet1!$A:$I,9,0)","v":"84.00"},{"$f":"VLOOKUP(B2353,[2]少数民族加分!$C$1:$E$65536,3,FALSE)","v":2},{"v":161,"d":"161.00"}]
[2358,"4252270706130","刘定昌","319独山县乡镇中学","01初中政治教师",{"$f":"VLOOKUP(B2354,[1]Sheet1!$A:$I,8,0)","v":"76.00"},{"$f":"VLOOKUP(B2354,[1]Sheet1!$A:$I,9,0)","v":"83.00"},{"$f":"VLOOKUP(B2354,[2]少数民族加分!$C$1:$E$65536,3,FALSE)","v":2},{"v":161,"d":"161.00"}]
[2359,"4252270703921","王芝琴","319独山县乡镇中学","01初中政治教师",{"$f":"VLOOKUP(B2355,[1]Sheet1!$A:$I,8,0)","v":"76.00"},{"$f":"VLOOKUP(B2355,[1]Sheet1!$A:$I,9,0)","v":"83.00"},{"$f":"VLOOKUP(B2355,[2]少数民族加分!$C$1:$E$65536,3,FALSE)","v":2},{"v":161,"d":"161.00"}]
[2360,"4252270704408","马飞娅","319独山县乡镇中学","01初中政治教师",{"$f":"VLOOKUP(B2356,[1]Sheet1!$A:$I,8,0)","v":"76.00"},{"$f":"VLOOKUP(B2356,[1]Sheet1!$A:$I,9,0)","v":"83.00"},{"$f":"VLOOKUP(B2356,[2]少数民族加分!$C$1:$E$65536,3,FALSE)","v":2},{"v":161,"d":"161.00"}]
[2345,"4252270702229","王晓露","319独山县乡镇中学","01初中政治教师",{"$f":"VLOOKUP(B2357,[1]Sheet1!$A:$I,8,0)","v":"86.00"},{"$f":"VLOOKUP(B2357,[1]Sheet1!$A:$I,9,0)","v":"74.50"},null,{"v":160.5,"d":"160.50"}]
[2346,"4252270702410","刘绍丰","319独山县乡镇中学","01初中政治教师",{"$f":"VLOOKUP(B2358,[1]Sheet1!$A:$I,8,0)","v":"74.50"},{"$f":"VLOOKUP(B2358,[1]Sheet1!$A:$I,9,0)","v":"86.00"},null,{"v":160.5,"d":"160.50"}]
[2361,"4252270704010","向昌谷","319独山县乡镇中学","01初中政治教师",{"$f":"VLOOKUP(B2359,[1]Sheet1!$A:$I,8,0)","v":"93.00"},{"$f":"VLOOKUP(B2359,[1]Sheet1!$A:$I,9,0)","v":"65.50"},{"$f":"VLOOKUP(B2359,[2]少数民族加分!$C$1:$E$65536,3,FALSE)","v":2},{"v":160.5,"d":"160.50"}]
[2362,"4252270705708","覃鹏","319独山县乡镇中学","01初中政治教师",{"$f":"VLOOKUP(B2360,[1]Sheet1!$A:$I,8,0)","v":"81.50"},{"$f":"VLOOKUP(B2360,[1]Sheet1!$A:$I,9,0)","v":"77.00"},{"$f":"VLOOKUP(B2360,[2]少数民族加分!$C$1:$E$65536,3,FALSE)","v":2},{"v":160.5,"d":"160.50"}]
[2363,"4252270703420","吴申","319独山县乡镇中学","01初中政治教师",{"$f":"VLOOKUP(B2361,[1]Sheet1!$A:$I,8,0)","v":"79.50"},{"$f":"VLOOKUP(B2361,[1]Sheet1!$A:$I,9,0)","v":"79.00"},{"$f":"VLOOKUP(B2361,[2]少数民族加分!$C$1:$E$65536,3,FALSE)","v":2},{"v":160.5,"d":"160.50"}]
[2364,"4252270706630","石海涛","319独山县乡镇中学","01初中政治教师",{"$f":"VLOOKUP(B2362,[1]Sheet1!$A:$I,8,0)","v":"77.50"},{"$f":"VLOOKUP(B2362,[1]Sheet1!$A:$I,9,0)","v":"81.00"},{"$f":"VLOOKUP(B2362,[2]少数民族加分!$C$1:$E$65536,3,FALSE)","v":2},{"v":160.5,"d":"160.50"}]
[2349,"4252270706201","朱晓清","319独山县乡镇中学","01初中政治教师",{"$f":"VLOOKUP(B2363,[1]Sheet1!$A:$I,8,0)","v":"76.00"},{"$f":"VLOOKUP(B2363,[1]Sheet1!$A:$I,9,0)","v":"84.00"},null,{"v":160,"d":"160.00"}]
[2365,"4252270704726","梁飞艳","319独山县乡镇中学","01初中政治教师",{"$f":"VLOOKUP(B2364,[1]Sheet1!$A:$I,8,0)","v":"72.00"},{"$f":"VLOOKUP(B2364,[1]Sheet1!$A:$I,9,0)","v":"86.00"},{"$f":"VLOOKUP(B2364,[2]少数民族加分!$C$1:$E$65536,3,FALSE)","v":2},{"v":160,"d":"160.00"}]
[2366,"4252270702611","王孙秀","319独山县乡镇中学","01初中政治教师",{"$f":"VLOOKUP(B2365,[1]Sheet1!$A:$I,8,0)","v":"80.00"},{"$f":"VLOOKUP(B2365,[1]Sheet1!$A:$I,9,0)","v":"78.00"},{"$f":"VLOOKUP(B2365,[2]少数民族加分!$C$1:$E$65536,3,FALSE)","v":2},{"v":160,"d":"160.00"}]
[2367,"4252270702801","杨芳菊","319独山县乡镇中学","01初中政治教师",{"$f":"VLOOKUP(B2366,[1]Sheet1!$A:$I,8,0)","v":"87.00"},{"$f":"VLOOKUP(B2366,[1]Sheet1!$A:$I,9,0)","v":"71.00"},{"$f":"VLOOKUP(B2366,[2]少数民族加分!$C$1:$E$65536,3,FALSE)","v":2},{"v":160,"d":"160.00"}]
[2368,"4252270702926","孙丹","319独山县乡镇中学","01初中政治教师",{"$f":"VLOOKUP(B2367,[1]Sheet1!$A:$I,8,0)","v":"69.00"},{"$f":"VLOOKUP(B2367,[1]Sheet1!$A:$I,9,0)","v":"89.00"},{"$f":"VLOOKUP(B2367,[2]少数民族加分!$C$1:$E$65536,3,FALSE)","v":2},{"v":160,"d":"160.00"}]
[2353,"4252270702929","冉孟州","319独山县乡镇中学","01初中政治教师",{"$f":"VLOOKUP(B2368,[1]Sheet1!$A:$I,8,0)","v":"78.50"},{"$f":"VLOOKUP(B2368,[1]Sheet1!$A:$I,9,0)","v":"81.00"},null,{"v":159.5,"d":"159.50"}]
[2354,"4252270703303","柳兴雨","319独山县乡镇中学","01初中政治教师",{"$f":"VLOOKUP(B2369,[1]Sheet1!$A:$I,8,0)","v":"66.50"},{"$f":"VLOOKUP(B2369,[1]Sheet1!$A:$I,9,0)","v":"93.00"},null,{"v":159.5,"d":"159.50"}]
[2370,"4252270706212","宋清清","319独山县乡镇中学","01初中政治教师",{"$f":"VLOOKUP(B2370,[1]Sheet1!$A:$I,8,0)","v":"82.50"},{"$f":"VLOOKUP(B2370,[1]Sheet1!$A:$I,9,0)","v":"75.00"},{"$f":"VLOOKUP(B2370,[2]少数民族加分!$C$1:$E$65536,3,FALSE)","v":2},{"v":159.5,"d":"159.50"}]
[2371,"4252270703607","王欢","319独山县乡镇中学","01初中政治教师",{"$f":"VLOOKUP(B2371,[1]Sheet1!$A:$I,8,0)","v":"71.50"},{"$f":"VLOOKUP(B2371,[1]Sheet1!$A:$I,9,0)","v":"86.00"},{"$f":"VLOOKUP(B2371,[2]少数民族加分!$C$1:$E$65536,3,FALSE)","v":2},{"v":159.5,"d":"159.50"}]
[2372,"4252270705205","马华芬","319独山县乡镇中学","01初中政治教师",{"$f":"VLOOKUP(B2372,[1]Sheet1!$A:$I,8,0)","v":"80.50"},{"$f":"VLOOKUP(B2372,[1]Sheet1!$A:$I,9,0)","v":"77.00"},{"$f":"VLOOKUP(B2372,[2]少数民族加分!$C$1:$E$65536,3,FALSE)","v":2},{"v":159.5,"d":"159.50"}]
[2373,"4252270705410","李英琴","319独山县乡镇中学","01初中政治教师",{"$f":"VLOOKUP(B2373,[1]Sheet1!$A:$I,8,0)","v":"74.50"},{"$f":"VLOOKUP(B2373,[1]Sheet1!$A:$I,9,0)","v":"83.00"},{"$f":"VLOOKUP(B2373,[2]少数民族加分!$C$1:$E$65536,3,FALSE)","v":2},{"v":159.5,"d":"159.50"}]
[2356,"4252270701428","代正琴","319独山县乡镇中学","01初中政治教师",{"$f":"VLOOKUP(B2374,[1]Sheet1!$A:$I,8,0)","v":"88.00"},{"$f":"VLOOKUP(B2374,[1]Sheet1!$A:$I,9,0)","v":"71.00"},null,{"v":159,"d":"159.00"}]
[2374,"4252270704411","吴宗敏","319独山县乡镇中学","01初中政治教师",{"$f":"VLOOKUP(B2375,[1]Sheet1!$A:$I,8,0)","v":"81.50"},{"$f":"VLOOKUP(B2375,[1]Sheet1!$A:$I,9,0)","v":"75.50"},{"$f":"VLOOKUP(B2375,[2]少数民族加分!$C$1:$E$65536,3,FALSE)","v":2},{"v":159,"d":"159.00"}]
[2375,"4252270705706","吴齐","319独山县乡镇中学","01初中政治教师",{"$f":"VLOOKUP(B2376,[1]Sheet1!$A:$I,8,0)","v":"71.00"},{"$f":"VLOOKUP(B2376,[1]Sheet1!$A:$I,9,0)","v":"86.00"},{"$f":"VLOOKUP(B2376,[2]少数民族加分!$C$1:$E$65536,3,FALSE)","v":2},{"v":159,"d":"159.00"}]
[2380,"4252270701307","陆启覃","319独山县乡镇中学","01初中政治教师",{"$f":"VLOOKUP(B2377,[1]Sheet1!$A:$I,8,0)","v":"81.50"},{"$f":"VLOOKUP(B2377,[1]Sheet1!$A:$I,9,0)","v":"75.00"},{"$f":"VLOOKUP(B2377,[2]少数民族加分!$C$1:$E$65536,3,FALSE)","v":2},{"v":158.5,"d":"158.50"}]
[2381,"4252270701525","王娟娟","319独山县乡镇中学","01初中政治教师",{"$f":"VLOOKUP(B2378,[1]Sheet1!$A:$I,8,0)","v":"85.50"},{"$f":"VLOOKUP(B2378,[1]Sheet1!$A:$I,9,0)","v":"71.00"},{"$f":"VLOOKUP(B2378,[2]少数民族加分!$C$1:$E$65536,3,FALSE)","v":2},{"v":158.5,"d":"158.50"}]
[2382,"4252270703517","张仕虹","319独山县乡镇中学","01初中政治教师",{"$f":"VLOOKUP(B2379,[1]Sheet1!$A:$I,8,0)","v":"76.00"},{"$f":"VLOOKUP(B2379,[1]Sheet1!$A:$I,9,0)","v":"80.00"},{"$f":"VLOOKUP(B2379,[2]少数民族加分!$C$1:$E$65536,3,FALSE)","v":2},{"v":158,"d":"158.00"}]
[2383,"4252270705716","向文军","319独山县乡镇中学","01初中政治教师",{"$f":"VLOOKUP(B2380,[1]Sheet1!$A:$I,8,0)","v":"85.50"},{"$f":"VLOOKUP(B2380,[1]Sheet1!$A:$I,9,0)","v":"70.50"},{"$f":"VLOOKUP(B2380,[2]少数民族加分!$C$1:$E$65536,3,FALSE)","v":2},{"v":158,"d":"158.00"}]
[2369,"4252270703317","安晓宇","319独山县乡镇中学","01初中政治教师",{"$f":"VLOOKUP(B2381,[1]Sheet1!$A:$I,8,0)","v":"78.50"},{"$f":"VLOOKUP(B2381,[1]Sheet1!$A:$I,9,0)","v":"79.00"},null,{"v":157.5,"d":"157.50"}]
[2384,"4252270703907","韦代起","319独山县乡镇中学","01初中政治教师",{"$f":"VLOOKUP(B2382,[1]Sheet1!$A:$I,8,0)","v":"90.00"},{"$f":"VLOOKUP(B2382,[1]Sheet1!$A:$I,9,0)","v":"65.50"},{"$f":"VLOOKUP(B2382,[2]少数民族加分!$C$1:$E$65536,3,FALSE)","v":2},{"v":157.5,"d":"157.50"}]
[2385,"4252270706313","欧绿渊","319独山县乡镇中学","01初中政治教师",{"$f":"VLOOKUP(B2383,[1]Sheet1!$A:$I,8,0)","v":"85.00"},{"$f":"VLOOKUP(B2383,[1]Sheet1!$A:$I,9,0)","v":"70.50"},{"$f":"VLOOKUP(B2383,[2]少数民族加分!$C$1:$E$65536,3,FALSE)","v":2},{"v":157.5,"d":"157.50"}]
[2386,"4252270702426","谢刚","319独山县乡镇中学","01初中政治教师",{"$f":"VLOOKUP(B2384,[1]Sheet1!$A:$I,8,0)","v":"79.50"},{"$f":"VLOOKUP(B2384,[1]Sheet1!$A:$I,9,0)","v":"76.00"},{"$f":"VLOOKUP(B2384,[2]少数民族加分!$C$1:$E$65536,3,FALSE)","v":2},{"v":157.5,"d":"157.50"}]
[2387,"4252270702517","陈玥","319独山县乡镇中学","01初中政治教师",{"$f":"VLOOKUP(B2385,[1]Sheet1!$A:$I,8,0)","v":"70.50"},{"$f":"VLOOKUP(B2385,[1]Sheet1!$A:$I,9,0)","v":"85.00"},{"$f":"VLOOKUP(B2385,[2]少数民族加分!$C$1:$E$65536,3,FALSE)","v":2},{"v":157.5,"d":"157.50"}]
[2376,"4252270705903","杨未来","319独山县乡镇中学","01初中政治教师",{"$f":"VLOOKUP(B2386,[1]Sheet1!$A:$I,8,0)","v":"75.00"},{"$f":"VLOOKUP(B2386,[1]Sheet1!$A:$I,9,0)","v":"82.00"},null,{"v":157,"d":"157.00"}]
[2377,"4252270702708","路玉平","319独山县乡镇中学","01初中政治教师",{"$f":"VLOOKUP(B2387,[1]Sheet1!$A:$I,8,0)","v":"88.50"},{"$f":"VLOOKUP(B2387,[1]Sheet1!$A:$I,9,0)","v":"68.50"},null,{"v":157,"d":"157.00"}]
[2378,"4252270706203","董娇阳","319独山县乡镇中学","01初中政治教师",{"$f":"VLOOKUP(B2388,[1]Sheet1!$A:$I,8,0)","v":"81.00"},{"$f":"VLOOKUP(B2388,[1]Sheet1!$A:$I,9,0)","v":"76.00"},null,{"v":157,"d":"157.00"}]
[2388,"4252270702001","陈文娟","319独山县乡镇中学","01初中政治教师",{"$f":"VLOOKUP(B2389,[1]Sheet1!$A:$I,8,0)","v":"72.00"},{"$f":"VLOOKUP(B2389,[1]Sheet1!$A:$I,9,0)","v":"83.00"},{"$f":"VLOOKUP(B2389,[2]少数民族加分!$C$1:$E$65536,3,FALSE)","v":2},{"v":157,"d":"157.00"}]
[2389,"4252270702921","何文露","319独山县乡镇中学","01初中政治教师",{"$f":"VLOOKUP(B2390,[1]Sheet1!$A:$I,8,0)","v":"81.00"},{"$f":"VLOOKUP(B2390,[1]Sheet1!$A:$I,9,0)","v":"74.00"},{"$f":"VLOOKUP(B2390,[2]少数民族加分!$C$1:$E$65536,3,FALSE)","v":2},{"v":157,"d":"157.00"}]
[2379,"4252270703427","李梦婷","319独山县乡镇中学","01初中政治教师",{"$f":"VLOOKUP(B2391,[1]Sheet1!$A:$I,8,0)","v":"86.00"},{"$f":"VLOOKUP(B2391,[1]Sheet1!$A:$I,9,0)","v":"70.50"},null,{"v":156.5,"d":"156.50"}]
[2391,"4252270702809","程小兵","319独山县乡镇中学","01初中政治教师",{"$f":"VLOOKUP(B2392,[1]Sheet1!$A:$I,8,0)","v":"83.00"},{"$f":"VLOOKUP(B2392,[1]Sheet1!$A:$I,9,0)","v":"71.50"},{"$f":"VLOOKUP(B2392,[2]少数民族加分!$C$1:$E$65536,3,FALSE)","v":2},{"v":156.5,"d":"156.50"}]
[2393,"4252270705727","高洵","319独山县乡镇中学","01初中政治教师",{"$f":"VLOOKUP(B2393,[1]Sheet1!$A:$I,8,0)","v":"73.50"},{"$f":"VLOOKUP(B2393,[1]Sheet1!$A:$I,9,0)","v":"81.00"},{"$f":"VLOOKUP(B2393,[2]少数民族加分!$C$1:$E$65536,3,FALSE)","v":2},{"v":156.5,"d":"156.50"}]
[2395,"4252270704118","张丽娜","319独山县乡镇中学","01初中政治教师",{"$f":"VLOOKUP(B2394,[1]Sheet1!$A:$I,8,0)","v":"75.00"},{"$f":"VLOOKUP(B2394,[1]Sheet1!$A:$I,9,0)","v":"79.00"},{"$f":"VLOOKUP(B2394,[2]少数民族加分!$C$1:$E$65536,3,FALSE)","v":2},{"v":156,"d":"156.00"}]
[2396,"4252270704430","吴双兰","319独山县乡镇中学","01初中政治教师",{"$f":"VLOOKUP(B2395,[1]Sheet1!$A:$I,8,0)","v":"70.00"},{"$f":"VLOOKUP(B2395,[1]Sheet1!$A:$I,9,0)","v":"84.00"},{"$f":"VLOOKUP(B2395,[2]少数民族加分!$C$1:$E$65536,3,FALSE)","v":2},{"v":156,"d":"156.00"}]
[2398,"4252270702405","王春敏","319独山县乡镇中学","01初中政治教师",{"$f":"VLOOKUP(B2396,[1]Sheet1!$A:$I,8,0)","v":"72.50"},{"$f":"VLOOKUP(B2396,[1]Sheet1!$A:$I,9,0)","v":"81.00"},{"$f":"VLOOKUP(B2396,[2]少数民族加分!$C$1:$E$65536,3,FALSE)","v":2},{"v":155.5,"d":"155.50"}]
[2399,"4252270704017","秦保勋","319独山县乡镇中学","01初中政治教师",{"$f":"VLOOKUP(B2397,[1]Sheet1!$A:$I,8,0)","v":"70.00"},{"$f":"VLOOKUP(B2397,[1]Sheet1!$A:$I,9,0)","v":"83.00"},{"$f":"VLOOKUP(B2397,[2]少数民族加分!$C$1:$E$65536,3,FALSE)","v":2},{"v":155,"d":"155.00"}]
[2400,"4252270704021","罗小威","319独山县乡镇中学","01初中政治教师",{"$f":"VLOOKUP(B2398,[1]Sheet1!$A:$I,8,0)","v":"77.00"},{"$f":"VLOOKUP(B2398,[1]Sheet1!$A:$I,9,0)","v":"76.00"},{"$f":"VLOOKUP(B2398,[2]少数民族加分!$C$1:$E$65536,3,FALSE)","v":2},{"v":155,"d":"155.00"}]
[2390,"4252270702508","张祥平","319独山县乡镇中学","01初中政治教师",{"$f":"VLOOKUP(B2399,[1]Sheet1!$A:$I,8,0)","v":"87.00"},{"$f":"VLOOKUP(B2399,[1]Sheet1!$A:$I,9,0)","v":"67.50"},null,{"v":154.5,"d":"154.50"}]
[2392,"4252270704514","张雪峰","319独山县乡镇中学","01初中政治教师",{"$f":"VLOOKUP(B2400,[1]Sheet1!$A:$I,8,0)","v":"85.00"},{"$f":"VLOOKUP(B2400,[1]Sheet1!$A:$I,9,0)","v":"69.50"},null,{"v":154.5,"d":"154.50"}]
[2403,"4252270706221","蒋正凤","319独山县乡镇中学","01初中政治教师",{"$f":"VLOOKUP(B2401,[1]Sheet1!$A:$I,8,0)","v":"70.50"},{"$f":"VLOOKUP(B2401,[1]Sheet1!$A:$I,9,0)","v":"82.00"},{"$f":"VLOOKUP(B2401,[2]少数民族加分!$C$1:$E$65536,3,FALSE)","v":2},{"v":154.5,"d":"154.50"}]
[2404,"4252270706421","陈定燕","319独山县乡镇中学","01初中政治教师",{"$f":"VLOOKUP(B2402,[1]Sheet1!$A:$I,8,0)","v":"72.50"},{"$f":"VLOOKUP(B2402,[1]Sheet1!$A:$I,9,0)","v":"80.00"},{"$f":"VLOOKUP(B2402,[2]少数民族加分!$C$1:$E$65536,3,FALSE)","v":2},{"v":154.5,"d":"154.50"}]
[2405,"4252270701304","陈喜苹","319独山县乡镇中学","01初中政治教师",{"$f":"VLOOKUP(B2403,[1]Sheet1!$A:$I,8,0)","v":"70.50"},{"$f":"VLOOKUP(B2403,[1]Sheet1!$A:$I,9,0)","v":"82.00"},{"$f":"VLOOKUP(B2403,[2]少数民族加分!$C$1:$E$65536,3,FALSE)","v":2},{"v":154.5,"d":"154.50"}]
[2406,"4252270702025","龙春宝","319独山县乡镇中学","01初中政治教师",{"$f":"VLOOKUP(B2404,[1]Sheet1!$A:$I,8,0)","v":"77.50"},{"$f":"VLOOKUP(B2404,[1]Sheet1!$A:$I,9,0)","v":"75.00"},{"$f":"VLOOKUP(B2404,[2]少数民族加分!$C$1:$E$65536,3,FALSE)","v":2},{"v":154.5,"d":"154.50"}]
[2407,"4252270704228","胡耀桃","319独山县乡镇中学","01初中政治教师",{"$f":"VLOOKUP(B2405,[1]Sheet1!$A:$I,8,0)","v":"67.50"},{"$f":"VLOOKUP(B2405,[1]Sheet1!$A:$I,9,0)","v":"85.00"},{"$f":"VLOOKUP(B2405,[2]少数民族加分!$C$1:$E$65536,3,FALSE)","v":2},{"v":154.5,"d":"154.50"}]
[2408,"4252270704510","覃朗","319独山县乡镇中学","01初中政治教师",{"$f":"VLOOKUP(B2406,[1]Sheet1!$A:$I,8,0)","v":"81.50"},{"$f":"VLOOKUP(B2406,[1]Sheet1!$A:$I,9,0)","v":"71.00"},{"$f":"VLOOKUP(B2406,[2]少数民族加分!$C$1:$E$65536,3,FALSE)","v":2},{"v":154.5,"d":"154.50"}]
[2394,"4252270703516","朱勋敏","319独山县乡镇中学","01初中政治教师",{"$f":"VLOOKUP(B2407,[1]Sheet1!$A:$I,8,0)","v":"86.00"},{"$f":"VLOOKUP(B2407,[1]Sheet1!$A:$I,9,0)","v":"68.00"},null,{"v":154,"d":"154.00"}]
[2409,"4252270702313","韦广涛","319独山县乡镇中学","01初中政治教师",{"$f":"VLOOKUP(B2408,[1]Sheet1!$A:$I,8,0)","v":"78.00"},{"$f":"VLOOKUP(B2408,[1]Sheet1!$A:$I,9,0)","v":"74.00"},{"$f":"VLOOKUP(B2408,[2]少数民族加分!$C$1:$E$65536,3,FALSE)","v":2},{"v":154,"d":"154.00"}]
[2397,"4252270704128","晏建琼","319独山县乡镇中学","01初中政治教师",{"$f":"VLOOKUP(B2409,[1]Sheet1!$A:$I,8,0)","v":"78.50"},{"$f":"VLOOKUP(B2409,[1]Sheet1!$A:$I,9,0)","v":"75.00"},null,{"v":153.5,"d":"153.50"}]
[2410,"4252270706413","龙春花","319独山县乡镇中学","01初中政治教师",{"$f":"VLOOKUP(B2410,[1]Sheet1!$A:$I,8,0)","v":"71.50"},{"$f":"VLOOKUP(B2410,[1]Sheet1!$A:$I,9,0)","v":"80.00"},{"$f":"VLOOKUP(B2410,[2]少数民族加分!$C$1:$E$65536,3,FALSE)","v":2},{"v":153.5,"d":"153.50"}]
[2401,"4252270706204","郭叶","319独山县乡镇中学","01初中政治教师",{"$f":"VLOOKUP(B2411,[1]Sheet1!$A:$I,8,0)","v":"63.00"},{"$f":"VLOOKUP(B2411,[1]Sheet1!$A:$I,9,0)","v":"90.00"},null,{"v":153,"d":"153.00"}]
[2402,"4252270706601","杨瑶","319独山县乡镇中学","01初中政治教师",{"$f":"VLOOKUP(B2412,[1]Sheet1!$A:$I,8,0)","v":"84.00"},{"$f":"VLOOKUP(B2412,[1]Sheet1!$A:$I,9,0)","v":"69.00"},null,{"v":153,"d":"153.00"}]
[2411,"4252270706417","石正梅","319独山县乡镇中学","01初中政治教师",{"$f":"VLOOKUP(B2413,[1]Sheet1!$A:$I,8,0)","v":"81.00"},{"$f":"VLOOKUP(B2413,[1]Sheet1!$A:$I,9,0)","v":"70.00"},{"$f":"VLOOKUP(B2413,[2]少数民族加分!$C$1:$E$65536,3,FALSE)","v":2},{"v":153,"d":"153.00"}]
[2412,"4252270703619","杜焕","319独山县乡镇中学","01初中政治教师",{"$f":"VLOOKUP(B2414,[1]Sheet1!$A:$I,8,0)","v":"78.00"},{"$f":"VLOOKUP(B2414,[1]Sheet1!$A:$I,9,0)","v":"73.00"},{"$f":"VLOOKUP(B2414,[2]少数民族加分!$C$1:$E$65536,3,FALSE)","v":2},{"v":153,"d":"153.00"}]
[2413,"4252270704906","虎恩船","319独山县乡镇中学","01初中政治教师",{"$f":"VLOOKUP(B2415,[1]Sheet1!$A:$I,8,0)","v":"62.50"},{"$f":"VLOOKUP(B2415,[1]Sheet1!$A:$I,9,0)","v":"88.00"},{"$f":"VLOOKUP(B2415,[2]少数民族加分!$C$1:$E$65536,3,FALSE)","v":2},{"v":152.5,"d":"152.50"}]
[2414,"4252270701925","王俊","319独山县乡镇中学","01初中政治教师",{"$f":"VLOOKUP(B2416,[1]Sheet1!$A:$I,8,0)","v":"72.50"},{"$f":"VLOOKUP(B2416,[1]Sheet1!$A:$I,9,0)","v":"78.00"},{"$f":"VLOOKUP(B2416,[2]少数民族加分!$C$1:$E$65536,3,FALSE)","v":2},{"v":152.5,"d":"152.50"}]
[2415,"4252270701313","罗爱东","319独山县乡镇中学","01初中政治教师",{"$f":"VLOOKUP(B2417,[1]Sheet1!$A:$I,8,0)","v":"64.00"},{"$f":"VLOOKUP(B2417,[1]Sheet1!$A:$I,9,0)","v":"86.00"},{"$f":"VLOOKUP(B2417,[2]少数民族加分!$C$1:$E$65536,3,FALSE)","v":2},{"v":152,"d":"152.00"}]
[2416,"4252270701408","王辉","319独山县乡镇中学","01初中政治教师",{"$f":"VLOOKUP(B2418,[1]Sheet1!$A:$I,8,0)","v":"83.50"},{"$f":"VLOOKUP(B2418,[1]Sheet1!$A:$I,9,0)","v":"66.50"},{"$f":"VLOOKUP(B2418,[2]少数民族加分!$C$1:$E$65536,3,FALSE)","v":2},{"v":152,"d":"152.00"}]
[2417,"4252270701318","李培雪","319独山县乡镇中学","01初中政治教师",{"$f":"VLOOKUP(B2419,[1]Sheet1!$A:$I,8,0)","v":"78.50"},{"$f":"VLOOKUP(B2419,[1]Sheet1!$A:$I,9,0)","v":"71.00"},{"$f":"VLOOKUP(B2419,[2]少数民族加分!$C$1:$E$65536,3,FALSE)","v":2},{"v":151.5,"d":"151.50"}]
[2418,"4252270702316","白荣娜","319独山县乡镇中学","01初中政治教师",{"$f":"VLOOKUP(B2420,[1]Sheet1!$A:$I,8,0)","v":"79.50"},{"$f":"VLOOKUP(B2420,[1]Sheet1!$A:$I,9,0)","v":"69.00"},{"$f":"VLOOKUP(B2420,[2]少数民族加分!$C$1:$E$65536,3,FALSE)","v":2},{"v":150.5,"d":"150.50"}]
[2419,"4252270704410","龙菊美","319独山县乡镇中学","01初中政治教师",{"$f":"VLOOKUP(B2421,[1]Sheet1!$A:$I,8,0)","v":"66.50"},{"$f":"VLOOKUP(B2421,[1]Sheet1!$A:$I,9,0)","v":"82.00"},{"$f":"VLOOKUP(B2421,[2]少数民族加分!$C$1:$E$65536,3,FALSE)","v":2},{"v":150.5,"d":"150.50"}]
[2420,"4252270704821","李华东","319独山县乡镇中学","01初中政治教师",{"$f":"VLOOKUP(B2422,[1]Sheet1!$A:$I,8,0)","v":"74.50"},{"$f":"VLOOKUP(B2422,[1]Sheet1!$A:$I,9,0)","v":"74.00"},{"$f":"VLOOKUP(B2422,[2]少数民族加分!$C$1:$E$65536,3,FALSE)","v":2},{"v":150.5,"d":"150.50"}]
[2422,"4252270706713","李常青","319独山县乡镇中学","01初中政治教师",{"$f":"VLOOKUP(B2423,[1]Sheet1!$A:$I,8,0)","v":"71.50"},{"$f":"VLOOKUP(B2423,[1]Sheet1!$A:$I,9,0)","v":"77.00"},{"$f":"VLOOKUP(B2423,[2]少数民族加分!$C$1:$E$65536,3,FALSE)","v":2},{"v":150.5,"d":"150.50"}]
[2423,"4252270706506","王仕义","319独山县乡镇中学","01初中政治教师",{"$f":"VLOOKUP(B2424,[1]Sheet1!$A:$I,8,0)","v":"83.00"},{"$f":"VLOOKUP(B2424,[1]Sheet1!$A:$I,9,0)","v":"65.00"},{"$f":"VLOOKUP(B2424,[2]少数民族加分!$C$1:$E$65536,3,FALSE)","v":2},{"v":150,"d":"150.00"}]
[2424,"4252270703107","石本染","319独山县乡镇中学","01初中政治教师",{"$f":"VLOOKUP(B2425,[1]Sheet1!$A:$I,8,0)","v":"76.00"},{"$f":"VLOOKUP(B2425,[1]Sheet1!$A:$I,9,0)","v":"72.00"},{"$f":"VLOOKUP(B2425,[2]少数民族加分!$C$1:$E$65536,3,FALSE)","v":2},{"v":150,"d":"150.00"}]
[2425,"4252270702008","吴泰康","319独山县乡镇中学","01初中政治教师",{"$f":"VLOOKUP(B2426,[1]Sheet1!$A:$I,8,0)","v":"70.50"},{"$f":"VLOOKUP(B2426,[1]Sheet1!$A:$I,9,0)","v":"77.00"},{"$f":"VLOOKUP(B2426,[2]少数民族加分!$C$1:$E$65536,3,FALSE)","v":2},{"v":149.5,"d":"149.50"}]
[2426,"4252270703726","吴姣红","319独山县乡镇中学","01初中政治教师",{"$f":"VLOOKUP(B2427,[1]Sheet1!$A:$I,8,0)","v":"69.50"},{"$f":"VLOOKUP(B2427,[1]Sheet1!$A:$I,9,0)","v":"78.00"},{"$f":"VLOOKUP(B2427,[2]少数民族加分!$C$1:$E$65536,3,FALSE)","v":2},{"v":149.5,"d":"149.50"}]
[2428,"4252270702219","张帮荣","319独山县乡镇中学","01初中政治教师",{"$f":"VLOOKUP(B2428,[1]Sheet1!$A:$I,8,0)","v":"70.00"},{"$f":"VLOOKUP(B2428,[1]Sheet1!$A:$I,9,0)","v":"77.00"},{"$f":"VLOOKUP(B2428,[2]少数民族加分!$C$1:$E$65536,3,FALSE)","v":2},{"v":149,"d":"149.00"}]
[2421,"4252270706620","邹朋","319独山县乡镇中学","01初中政治教师",{"$f":"VLOOKUP(B2429,[1]Sheet1!$A:$I,8,0)","v":"76.50"},{"$f":"VLOOKUP(B2429,[1]Sheet1!$A:$I,9,0)","v":"72.00"},null,{"v":148.5,"d":"148.50"}]
[2430,"4252270703819","石庆梅","319独山县乡镇中学","01初中政治教师",{"$f":"VLOOKUP(B2430,[1]Sheet1!$A:$I,8,0)","v":"74.50"},{"$f":"VLOOKUP(B2430,[1]Sheet1!$A:$I,9,0)","v":"72.00"},{"$f":"VLOOKUP(B2430,[2]少数民族加分!$C$1:$E$65536,3,FALSE)","v":2},{"v":148.5,"d":"148.50"}]
[2431,"4252270705608","李康建","319独山县乡镇中学","01初中政治教师",{"$f":"VLOOKUP(B2431,[1]Sheet1!$A:$I,8,0)","v":"79.00"},{"$f":"VLOOKUP(B2431,[1]Sheet1!$A:$I,9,0)","v":"67.00"},{"$f":"VLOOKUP(B2431,[2]少数民族加分!$C$1:$E$65536,3,FALSE)","v":2},{"v":148,"d":"148.00"}]
[2432,"4252270703405","莫进好","319独山县乡镇中学","01初中政治教师",{"$f":"VLOOKUP(B2432,[1]Sheet1!$A:$I,8,0)","v":"73.00"},{"$f":"VLOOKUP(B2432,[1]Sheet1!$A:$I,9,0)","v":"73.00"},{"$f":"VLOOKUP(B2432,[2]少数民族加分!$C$1:$E$65536,3,FALSE)","v":2},{"v":148,"d":"148.00"}]
[2427,"4252270704318","周君庆","319独山县乡镇中学","01初中政治教师",{"$f":"VLOOKUP(B2433,[1]Sheet1!$A:$I,8,0)","v":"78.50"},{"$f":"VLOOKUP(B2433,[1]Sheet1!$A:$I,9,0)","v":"69.00"},null,{"v":147.5,"d":"147.50"}]
[2433,"4252270704113","李旭梅","319独山县乡镇中学","01初中政治教师",{"$f":"VLOOKUP(B2434,[1]Sheet1!$A:$I,8,0)","v":"76.50"},{"$f":"VLOOKUP(B2434,[1]Sheet1!$A:$I,9,0)","v":"69.00"},{"$f":"VLOOKUP(B2434,[2]少数民族加分!$C$1:$E$65536,3,FALSE)","v":2},{"v":147.5,"d":"147.50"}]
[2434,"4252270705510","彭芳","319独山县乡镇中学","01初中政治教师",{"$f":"VLOOKUP(B2435,[1]Sheet1!$A:$I,8,0)","v":"79.50"},{"$f":"VLOOKUP(B2435,[1]Sheet1!$A:$I,9,0)","v":"66.00"},{"$f":"VLOOKUP(B2435,[2]少数民族加分!$C$1:$E$65536,3,FALSE)","v":2},{"v":147.5,"d":"147.50"}]
[2429,"4252270702513","林字丽","319独山县乡镇中学","01初中政治教师",{"$f":"VLOOKUP(B2436,[1]Sheet1!$A:$I,8,0)","v":"77.50"},{"$f":"VLOOKUP(B2436,[1]Sheet1!$A:$I,9,0)","v":"69.00"},null,{"v":146.5,"d":"146.50"}]
[2436,"4252270702509","曾令贤","319独山县乡镇中学","01初中政治教师",{"$f":"VLOOKUP(B2437,[1]Sheet1!$A:$I,8,0)","v":"72.50"},{"$f":"VLOOKUP(B2437,[1]Sheet1!$A:$I,9,0)","v":"72.00"},{"$f":"VLOOKUP(B2437,[2]少数民族加分!$C$1:$E$65536,3,FALSE)","v":2},{"v":146.5,"d":"146.50"}]
[2437,"4252270703102","舒媳英","319独山县乡镇中学","01初中政治教师",{"$f":"VLOOKUP(B2438,[1]Sheet1!$A:$I,8,0)","v":"84.00"},{"$f":"VLOOKUP(B2438,[1]Sheet1!$A:$I,9,0)","v":"60.50"},{"$f":"VLOOKUP(B2438,[2]少数民族加分!$C$1:$E$65536,3,FALSE)","v":2},{"v":146.5,"d":"146.50"}]
[2438,"4252270703016","杨世恩","319独山县乡镇中学","01初中政治教师",{"$f":"VLOOKUP(B2439,[1]Sheet1!$A:$I,8,0)","v":"67.00"},{"$f":"VLOOKUP(B2439,[1]Sheet1!$A:$I,9,0)","v":"77.00"},{"$f":"VLOOKUP(B2439,[2]少数民族加分!$C$1:$E$65536,3,FALSE)","v":2},{"v":146,"d":"146.00"}]
[2439,"4252270706712","龙瑞","319独山县乡镇中学","01初中政治教师",{"$f":"VLOOKUP(B2440,[1]Sheet1!$A:$I,8,0)","v":"90.50"},{"$f":"VLOOKUP(B2440,[1]Sheet1!$A:$I,9,0)","v":"53.50"},{"$f":"VLOOKUP(B2440,[2]少数民族加分!$C$1:$E$65536,3,FALSE)","v":2},{"v":146,"d":"146.00"}]
[2440,"4252270702022","岑勋焕","319独山县乡镇中学","01初中政治教师",{"$f":"VLOOKUP(B2441,[1]Sheet1!$A:$I,8,0)","v":"76.00"},{"$f":"VLOOKUP(B2441,[1]Sheet1!$A:$I,9,0)","v":"67.00"},{"$f":"VLOOKUP(B2441,[2]少数民族加分!$C$1:$E$65536,3,FALSE)","v":2},{"v":145,"d":"145.00"}]
[2441,"4252270702130","苏金龙","319独山县乡镇中学","01初中政治教师",{"$f":"VLOOKUP(B2442,[1]Sheet1!$A:$I,8,0)","v":"64.00"},{"$f":"VLOOKUP(B2442,[1]Sheet1!$A:$I,9,0)","v":"79.00"},{"$f":"VLOOKUP(B2442,[2]少数民族加分!$C$1:$E$65536,3,FALSE)","v":2},{"v":145,"d":"145.00"}]
[2435,"4252270704420","孟柏鑫","319独山县乡镇中学","01初中政治教师",{"$f":"VLOOKUP(B2443,[1]Sheet1!$A:$I,8,0)","v":"75.50"},{"$f":"VLOOKUP(B2443,[1]Sheet1!$A:$I,9,0)","v":"69.00"},null,{"v":144.5,"d":"144.50"}]
[2443,"4252270704817","罗丹","319独山县乡镇中学","01初中政治教师",{"$f":"VLOOKUP(B2444,[1]Sheet1!$A:$I,8,0)","v":"75.50"},{"$f":"VLOOKUP(B2444,[1]Sheet1!$A:$I,9,0)","v":"67.00"},{"$f":"VLOOKUP(B2444,[2]少数民族加分!$C$1:$E$65536,3,FALSE)","v":2},{"v":144.5,"d":"144.50"}]
[2445,"4252270704725","吴顺霞","319独山县乡镇中学","01初中政治教师",{"$f":"VLOOKUP(B2445,[1]Sheet1!$A:$I,8,0)","v":"63.50"},{"$f":"VLOOKUP(B2445,[1]Sheet1!$A:$I,9,0)","v":"78.00"},{"$f":"VLOOKUP(B2445,[2]少数民族加分!$C$1:$E$65536,3,FALSE)","v":2},{"v":143.5,"d":"143.50"}]
[2446,"4252270706429","石鸿浅","319独山县乡镇中学","01初中政治教师",{"$f":"VLOOKUP(B2446,[1]Sheet1!$A:$I,8,0)","v":"75.50"},{"$f":"VLOOKUP(B2446,[1]Sheet1!$A:$I,9,0)","v":"66.00"},{"$f":"VLOOKUP(B2446,[2]少数民族加分!$C$1:$E$65536,3,FALSE)","v":2},{"v":143.5,"d":"143.50"}]
[2442,"4252270703207","田荣娥","319独山县乡镇中学","01初中政治教师",{"$f":"VLOOKUP(B2447,[1]Sheet1!$A:$I,8,0)","v":"80.00"},{"$f":"VLOOKUP(B2447,[1]Sheet1!$A:$I,9,0)","v":"63.00"},null,{"v":143,"d":"143.00"}]
[2448,"4252270704011","吴和芝","319独山县乡镇中学","01初中政治教师",{"$f":"VLOOKUP(B2448,[1]Sheet1!$A:$I,8,0)","v":"68.00"},{"$f":"VLOOKUP(B2448,[1]Sheet1!$A:$I,9,0)","v":"73.00"},{"$f":"VLOOKUP(B2448,[2]少数民族加分!$C$1:$E$65536,3,FALSE)","v":2},{"v":143,"d":"143.00"}]
[2444,"4252270706020","黄小会","319独山县乡镇中学","01初中政治教师",{"$f":"VLOOKUP(B2449,[1]Sheet1!$A:$I,8,0)","v":"81.50"},{"$f":"VLOOKUP(B2449,[1]Sheet1!$A:$I,9,0)","v":"61.00"},null,{"v":142.5,"d":"142.50"}]
[2449,"4252270705217","王明云","319独山县乡镇中学","01初中政治教师",{"$f":"VLOOKUP(B2450,[1]Sheet1!$A:$I,8,0)","v":"68.50"},{"$f":"VLOOKUP(B2450,[1]Sheet1!$A:$I,9,0)","v":"72.00"},{"$f":"VLOOKUP(B2450,[2]少数民族加分!$C$1:$E$65536,3,FALSE)","v":2},{"v":142.5,"d":"142.50"}]
[2447,"4252270701923","宋俊情","319独山县乡镇中学","01初中政治教师",{"$f":"VLOOKUP(B2451,[1]Sheet1!$A:$I,8,0)","v":"70.50"},{"$f":"VLOOKUP(B2451,[1]Sheet1!$A:$I,9,0)","v":"71.00"},null,{"v":141.5,"d":"141.50"}]
[2451,"4252270702024","杨媛媛","319独山县乡镇中学","01初中政治教师",{"$f":"VLOOKUP(B2452,[1]Sheet1!$A:$I,8,0)","v":"69.00"},{"$f":"VLOOKUP(B2452,[1]Sheet1!$A:$I,9,0)","v":"67.00"},{"$f":"VLOOKUP(B2452,[2]少数民族加分!$C$1:$E$65536,3,FALSE)","v":2},{"v":138,"d":"138.00"}]
[2452,"4252270703712","岑泽青","319独山县乡镇中学","01初中政治教师",{"$f":"VLOOKUP(B2453,[1]Sheet1!$A:$I,8,0)","v":"74.00"},{"$f":"VLOOKUP(B2453,[1]Sheet1!$A:$I,9,0)","v":"62.00"},{"$f":"VLOOKUP(B2453,[2]少数民族加分!$C$1:$E$65536,3,FALSE)","v":2},{"v":138,"d":"138.00"}]
[2450,"4252270702712","李慧","319独山县乡镇中学","01初中政治教师",{"$f":"VLOOKUP(B2454,[1]Sheet1!$A:$I,8,0)","v":"74.50"},{"$f":"VLOOKUP(B2454,[1]Sheet1!$A:$I,9,0)","v":"62.00"},null,{"v":136.5,"d":"136.50"}]
[2453,"4252270705218","杨平竹","319独山县乡镇中学","01初中政治教师",{"$f":"VLOOKUP(B2455,[1]Sheet1!$A:$I,8,0)","v":"74.50"},{"$f":"VLOOKUP(B2455,[1]Sheet1!$A:$I,9,0)","v":"60.00"},{"$f":"VLOOKUP(B2455,[2]少数民族加分!$C$1:$E$65536,3,FALSE)","v":2},{"v":136.5,"d":"136.50"}]
[2454,"4252270704907","何阿佩","319独山县乡镇中学","01初中政治教师",{"$f":"VLOOKUP(B2456,[1]Sheet1!$A:$I,8,0)","v":"63.50"},{"$f":"VLOOKUP(B2456,[1]Sheet1!$A:$I,9,0)","v":"70.00"},{"$f":"VLOOKUP(B2456,[2]少数民族加分!$C$1:$E$65536,3,FALSE)","v":2},{"v":135.5,"d":"135.50"}]
[2455,"4252270702309","吴新团","319独山县乡镇中学","01初中政治教师",{"$f":"VLOOKUP(B2457,[1]Sheet1!$A:$I,8,0)","v":"61.50"},{"$f":"VLOOKUP(B2457,[1]Sheet1!$A:$I,9,0)","v":"72.00"},{"$f":"VLOOKUP(B2457,[2]少数民族加分!$C$1:$E$65536,3,FALSE)","v":2},{"v":135.5,"d":"135.50"}]
[2456,"4252270705404","唐林婵","319独山县乡镇中学","01初中政治教师",{"$f":"VLOOKUP(B2458,[1]Sheet1!$A:$I,8,0)","v":"72.50"},{"$f":"VLOOKUP(B2458,[1]Sheet1!$A:$I,9,0)","v":"60.00"},{"$f":"VLOOKUP(B2458,[2]少数民族加分!$C$1:$E$65536,3,FALSE)","v":2},{"v":134.5,"d":"134.50"}]
[2457,"4252270703602","杨军","319独山县乡镇中学","01初中政治教师",{"$f":"VLOOKUP(B2459,[1]Sheet1!$A:$I,8,0)","v":"71.50"},{"$f":"VLOOKUP(B2459,[1]Sheet1!$A:$I,9,0)","v":"60.00"},{"$f":"VLOOKUP(B2459,[2]少数民族加分!$C$1:$E$65536,3,FALSE)","v":2},{"v":133.5,"d":"133.50"}]
[2458,"4252270704504","唐永涛","319独山县乡镇中学","01初中政治教师",{"$f":"VLOOKUP(B2460,[1]Sheet1!$A:$I,8,0)","v":"62.00"},{"$f":"VLOOKUP(B2460,[1]Sheet1!$A:$I,9,0)","v":"69.00"},null,{"v":131,"d":"131.00"}]
[2459,"4252270706214","周旭","319独山县乡镇中学","01初中政治教师",{"$f":"VLOOKUP(B2461,[1]Sheet1!$A:$I,8,0)","v":"72.00"},{"$f":"VLOOKUP(B2461,[1]Sheet1!$A:$I,9,0)","v":"56.00"},null,{"v":128,"d":"128.00"}]
[2460,"4252270701609","龙宣萍","319独山县乡镇中学","01初中政治教师",{"$f":"VLOOKUP(B2462,[1]Sheet1!$A:$I,8,0)","v":"77.50"},{"$f":"VLOOKUP(B2462,[1]Sheet1!$A:$I,9,0)","v":"47.00"},{"$f":"VLOOKUP(B2462,[2]少数民族加分!$C$1:$E$65536,3,FALSE)","v":2},{"v":126.5,"d":"126.50"}]
[2461,"4252270703715","韦明丽","319独山县乡镇中学","01初中政治教师",{"$f":"VLOOKUP(B2463,[1]Sheet1!$A:$I,8,0)","v":"51.50"},{"$f":"VLOOKUP(B2463,[1]Sheet1!$A:$I,9,0)","v":"70.00"},{"$f":"VLOOKUP(B2463,[2]少数民族加分!$C$1:$E$65536,3,FALSE)","v":2},{"v":123.5,"d":"123.50"}]
[2462,"4252270706727","刘丽琼","319独山县乡镇中学","01初中政治教师",{"$f":"VLOOKUP(B2464,[1]Sheet1!$A:$I,8,0)","v":"54.50"},{"$f":"VLOOKUP(B2464,[1]Sheet1!$A:$I,9,0)","v":"62.00"},{"$f":"VLOOKUP(B2464,[2]少数民族加分!$C$1:$E$65536,3,FALSE)","v":2},{"v":118.5,"d":"118.50"}]
[2463,"4252270706414","卢林永","319独山县乡镇中学","01初中政治教师",{"$f":"VLOOKUP(B2465,[1]Sheet1!$A:$I,8,0)","v":"0.00"},{"$f":"VLOOKUP(B2465,[1]Sheet1!$A:$I,9,0)","v":"0.00"},{"$f":"VLOOKUP(B2465,[2]少数民族加分!$C$1:$E$65536,3,FALSE)","v":2},"缺考"]
[2464,"4252270706604","左常彬","319独山县乡镇中学","01初中政治教师",{"$f":"VLOOKUP(B2466,[1]Sheet1!$A:$I,8,0)","v":"0.00"},{"$f":"VLOOKUP(B2466,[1]Sheet1!$A:$I,9,0)","v":"0.00"},null,"缺考"]
[2465,"4252270706610","石惠敏","319独山县乡镇中学","01初中政治教师",{"$f":"VLOOKUP(B2467,[1]Sheet1!$A:$I,8,0)","v":"0.00"},{"$f":"VLOOKUP(B2467,[1]Sheet1!$A:$I,9,0)","v":"0.00"},null,"缺考"]
[2466,"4252270703424","王及香","319独山县乡镇中学","01初中政治教师",{"$f":"VLOOKUP(B2468,[1]Sheet1!$A:$I,8,0)","v":"0.00"},{"$f":"VLOOKUP(B2468,[1]Sheet1!$A:$I,9,0)","v":"0.00"},{"$f":"VLOOKUP(B2468,[2]少数民族加分!$C$1:$E$65536,3,FALSE)","v":2},"缺考"]
[2467,"4252270703521","郑阳","319独山县乡镇中学","01初中政治教师",{"$f":"VLOOKUP(B2469,[1]Sheet1!$A:$I,8,0)","v":"0.00"},{"$f":"VLOOKUP(B2469,[1]Sheet1!$A:$I,9,0)","v":"0.00"},null,"缺考"]
[2468,"4252270703926","符德峨","319独山县乡镇中学","01初中政治教师",{"$f":"VLOOKUP(B2470,[1]Sheet1!$A:$I,8,0)","v":"0.00"},{"$f":"VLOOKUP(B2470,[1]Sheet1!$A:$I,9,0)","v":"0.00"},null,"缺考"]
[2469,"4252270704015","管倩","319独山县乡镇中学","01初中政治教师",{"$f":"VLOOKUP(B2471,[1]Sheet1!$A:$I,8,0)","v":"0.00"},{"$f":"VLOOKUP(B2471,[1]Sheet1!$A:$I,9,0)","v":"0.00"},null,"缺考"]
[2470,"4252270704020","穆琴","319独山县乡镇中学","01初中政治教师",{"$f":"VLOOKUP(B2472,[1]Sheet1!$A:$I,8,0)","v":"0.00"},{"$f":"VLOOKUP(B2472,[1]Sheet1!$A:$I,9,0)","v":"0.00"},null,"缺考"]
[2471,"4252270704215","潘秋珍","319独山县乡镇中学","01初中政治教师",{"$f":"VLOOKUP(B2473,[1]Sheet1!$A:$I,8,0)","v":"0.00"},{"$f":"VLOOKUP(B2473,[1]Sheet1!$A:$I,9,0)","v":"0.00"},{"$f":"VLOOKUP(B2473,[2]少数民族加分!$C$1:$E$65536,3,FALSE)","v":2},"缺考"]
[2472,"4252270704330","吴如琴","319独山县乡镇中学","01初中政治教师",{"$f":"VLOOKUP(B2474,[1]Sheet1!$A:$I,8,0)","v":"0.00"},{"$f":"VLOOKUP(B2474,[1]Sheet1!$A:$I,9,0)","v":"0.00"},{"$f":"VLOOKUP(B2474,[2]少数民族加分!$C$1:$E$65536,3,FALSE)","v":2},"缺考"]
[2473,"4252270704615","何兴艳","319独山县乡镇中学","01初中政治教师",{"$f":"VLOOKUP(B2475,[1]Sheet1!$A:$I,8,0)","v":"0.00"},{"$f":"VLOOKUP(B2475,[1]Sheet1!$A:$I,9,0)","v":"0.00"},{"$f":"VLOOKUP(B2475,[2]少数民族加分!$C$1:$E$65536,3,FALSE)","v":2},"缺考"]
[2474,"4252270704622","左秀猛","319独山县乡镇中学","01初中政治教师",{"$f":"VLOOKUP(B2476,[1]Sheet1!$A:$I,8,0)","v":"0.00"},{"$f":"VLOOKUP(B2476,[1]Sheet1!$A:$I,9,0)","v":"0.00"},{"$f":"VLOOKUP(B2476,[2]少数民族加分!$C$1:$E$65536,3,FALSE)","v":2},"缺考"]
[2475,"4252270704723","彭潇","319独山县乡镇中学","01初中政治教师",{"$f":"VLOOKUP(B2477,[1]Sheet1!$A:$I,8,0)","v":"0.00"},{"$f":"VLOOKUP(B2477,[1]Sheet1!$A:$I,9,0)","v":"0.00"},{"$f":"VLOOKUP(B2477,[2]少数民族加分!$C$1:$E$65536,3,FALSE)","v":2},"缺考"]
[2476,"4252270705002","李燕","319独山县乡镇中学","01初中政治教师",{"$f":"VLOOKUP(B2478,[1]Sheet1!$A:$I,8,0)","v":"0.00"},{"$f":"VLOOKUP(B2478,[1]Sheet1!$A:$I,9,0)","v":"0.00"},{"$f":"VLOOKUP(B2478,[2]少数民族加分!$C$1:$E$65536,3,FALSE)","v":2},"缺考"]
[2477,"4252270705012","黄娟","319独山县乡镇中学","01初中政治教师",{"$f":"VLOOKUP(B2479,[1]Sheet1!$A:$I,8,0)","v":"0.00"},{"$f":"VLOOKUP(B2479,[1]Sheet1!$A:$I,9,0)","v":"0.00"},null,"缺考"]
[2478,"4252270705117","刘琴","319独山县乡镇中学","01初中政治教师",{"$f":"VLOOKUP(B2480,[1]Sheet1!$A:$I,8,0)","v":"0.00"},{"$f":"VLOOKUP(B2480,[1]Sheet1!$A:$I,9,0)","v":"0.00"},null,"缺考"]
[2479,"4252270705329","马飞仪","319独山县乡镇中学","01初中政治教师",{"$f":"VLOOKUP(B2481,[1]Sheet1!$A:$I,8,0)","v":"0.00"},{"$f":"VLOOKUP(B2481,[1]Sheet1!$A:$I,9,0)","v":"0.00"},{"$f":"VLOOKUP(B2481,[2]少数民族加分!$C$1:$E$65536,3,FALSE)","v":2},"缺考"]
[2480,"4252270705512","李萍","319独山县乡镇中学","01初中政治教师",{"$f":"VLOOKUP(B2482,[1]Sheet1!$A:$I,8,0)","v":"0.00"},{"$f":"VLOOKUP(B2482,[1]Sheet1!$A:$I,9,0)","v":"0.00"},{"$f":"VLOOKUP(B2482,[2]少数民族加分!$C$1:$E$65536,3,FALSE)","v":2},"缺考"]
[2481,"4252270705528","曾培芳","319独山县乡镇中学","01初中政治教师",{"$f":"VLOOKUP(B2483,[1]Sheet1!$A:$I,8,0)","v":"0.00"},{"$f":"VLOOKUP(B2483,[1]Sheet1!$A:$I,9,0)","v":"0.00"},{"$f":"VLOOKUP(B2483,[2]少数民族加分!$C$1:$E$65536,3,FALSE)","v":2},"缺考"]
[2482,"4252270705613","韦美英","319独山县乡镇中学","01初中政治教师",{"$f":"VLOOKUP(B2484,[1]Sheet1!$A:$I,8,0)","v":"0.00"},{"$f":"VLOOKUP(B2484,[1]Sheet1!$A:$I,9,0)","v":"0.00"},{"$f":"VLOOKUP(B2484,[2]少数民族加分!$C$1:$E$65536,3,FALSE)","v":2},"缺考"]
[2483,"4252270705618","冉娜娜","319独山县乡镇中学","01初中政治教师",{"$f":"VLOOKUP(B2485,[1]Sheet1!$A:$I,8,0)","v":"0.00"},{"$f":"VLOOKUP(B2485,[1]Sheet1!$A:$I,9,0)","v":"0.00"},{"$f":"VLOOKUP(B2485,[2]少数民族加分!$C$1:$E$65536,3,FALSE)","v":2},"缺考"]
[2484,"4252270705717","骆超超","319独山县乡镇中学","01初中政治教师",{"$f":"VLOOKUP(B2486,[1]Sheet1!$A:$I,8,0)","v":"0.00"},{"$f":"VLOOKUP(B2486,[1]Sheet1!$A:$I,9,0)","v":"0.00"},{"$f":"VLOOKUP(B2486,[2]少数民族加分!$C$1:$E$65536,3,FALSE)","v":2},"缺考"]
[2485,"4252270705819","韦林红","319独山县乡镇中学","01初中政治教师",{"$f":"VLOOKUP(B2487,[1]Sheet1!$A:$I,8,0)","v":"0.00"},{"$f":"VLOOKUP(B2487,[1]Sheet1!$A:$I,9,0)","v":"0.00"},{"$f":"VLOOKUP(B2487,[2]少数民族加分!$C$1:$E$65536,3,FALSE)","v":2},"缺考"]
[2486,"4252270705902","王桂琴","319独山县乡镇中学","01初中政治教师",{"$f":"VLOOKUP(B2488,[1]Sheet1!$A:$I,8,0)","v":"0.00"},{"$f":"VLOOKUP(B2488,[1]Sheet1!$A:$I,9,0)","v":"0.00"},{"$f":"VLOOKUP(B2488,[2]少数民族加分!$C$1:$E$65536,3,FALSE)","v":2},"缺考"]
[2487,"4252270705913","陈怡宇","319独山县乡镇中学","01初中政治教师",{"$f":"VLOOKUP(B2489,[1]Sheet1!$A:$I,8,0)","v":"0.00"},{"$f":"VLOOKUP(B2489,[1]Sheet1!$A:$I,9,0)","v":"0.00"},{"$f":"VLOOKUP(B2489,[2]少数民族加分!$C$1:$E$65536,3,FALSE)","v":2},"缺考"]
[2488,"4252270706030","王庆梅","319独山县乡镇中学","01初中政治教师",{"$f":"VLOOKUP(B2490,[1]Sheet1!$A:$I,8,0)","v":"0.00"},{"$f":"VLOOKUP(B2490,[1]Sheet1!$A:$I,9,0)","v":"0.00"},{"$f":"VLOOKUP(B2490,[2]少数民族加分!$C$1:$E$65536,3,FALSE)","v":2},"缺考"]
[2489,"4252270706102","龙梅","319独山县乡镇中学","01初中政治教师",{"$f":"VLOOKUP(B2491,[1]Sheet1!$A:$I,8,0)","v":"0.00"},{"$f":"VLOOKUP(B2491,[1]Sheet1!$A:$I,9,0)","v":"0.00"},{"$f":"VLOOKUP(B2491,[2]少数民族加分!$C$1:$E$65536,3,FALSE)","v":2},"缺考"]
[2490,"4252270706112","吴健丽","319独山县乡镇中学","01初中政治教师",{"$f":"VLOOKUP(B2492,[1]Sheet1!$A:$I,8,0)","v":"0.00"},{"$f":"VLOOKUP(B2492,[1]Sheet1!$A:$I,9,0)","v":"0.00"},{"$f":"VLOOKUP(B2492,[2]少数民族加分!$C$1:$E$65536,3,FALSE)","v":2},"缺考"]
[2491,"4252270701305","王芳","319独山县乡镇中学","01初中政治教师",{"$f":"VLOOKUP(B2493,[1]Sheet1!$A:$I,8,0)","v":"0.00"},{"$f":"VLOOKUP(B2493,[1]Sheet1!$A:$I,9,0)","v":"0.00"},null,"缺考"]
[2492,"4252270701522","杨美艳","319独山县乡镇中学","01初中政治教师",{"$f":"VLOOKUP(B2494,[1]Sheet1!$A:$I,8,0)","v":"0.00"},{"$f":"VLOOKUP(B2494,[1]Sheet1!$A:$I,9,0)","v":"0.00"},{"$f":"VLOOKUP(B2494,[2]少数民族加分!$C$1:$E$65536,3,FALSE)","v":2},"缺考"]
[2493,"4252270701606","高维帅","319独山县乡镇中学","01初中政治教师",{"$f":"VLOOKUP(B2495,[1]Sheet1!$A:$I,8,0)","v":"0.00"},{"$f":"VLOOKUP(B2495,[1]Sheet1!$A:$I,9,0)","v":"0.00"},null,"缺考"]
[2494,"4252270701608","黄跃","319独山县乡镇中学","01初中政治教师",{"$f":"VLOOKUP(B2496,[1]Sheet1!$A:$I,8,0)","v":"0.00"},{"$f":"VLOOKUP(B2496,[1]Sheet1!$A:$I,9,0)","v":"0.00"},null,"缺考"]
[2495,"4252270701626","谷鹏飞","319独山县乡镇中学","01初中政治教师",{"$f":"VLOOKUP(B2497,[1]Sheet1!$A:$I,8,0)","v":"0.00"},{"$f":"VLOOKUP(B2497,[1]Sheet1!$A:$I,9,0)","v":"0.00"},{"$f":"VLOOKUP(B2497,[2]少数民族加分!$C$1:$E$65536,3,FALSE)","v":2},"缺考"]
[2496,"4252270701729","朱玫","319独山县乡镇中学","01初中政治教师",{"$f":"VLOOKUP(B2498,[1]Sheet1!$A:$I,8,0)","v":"0.00"},{"$f":"VLOOKUP(B2498,[1]Sheet1!$A:$I,9,0)","v":"0.00"},null,"缺考"]
[2497,"4252270701814","张芳","319独山县乡镇中学","01初中政治教师",{"$f":"VLOOKUP(B2499,[1]Sheet1!$A:$I,8,0)","v":"0.00"},{"$f":"VLOOKUP(B2499,[1]Sheet1!$A:$I,9,0)","v":"0.00"},null,"缺考"]
[2498,"4252270701820","朱永娟","319独山县乡镇中学","01初中政治教师",{"$f":"VLOOKUP(B2500,[1]Sheet1!$A:$I,8,0)","v":"0.00"},{"$f":"VLOOKUP(B2500,[1]Sheet1!$A:$I,9,0)","v":"0.00"},null,"缺考"]
[2499,"4252270701920","杨倩","319独山县乡镇中学","01初中政治教师",{"$f":"VLOOKUP(B2501,[1]Sheet1!$A:$I,8,0)","v":"0.00"},{"$f":"VLOOKUP(B2501,[1]Sheet1!$A:$I,9,0)","v":"0.00"},{"$f":"VLOOKUP(B2501,[2]少数民族加分!$C$1:$E$65536,3,FALSE)","v":2},"缺考"]
[2500,"4252270701922","张溯","319独山县乡镇中学","01初中政治教师",{"$f":"VLOOKUP(B2502,[1]Sheet1!$A:$I,8,0)","v":"0.00"},{"$f":"VLOOKUP(B2502,[1]Sheet1!$A:$I,9,0)","v":"0.00"},null,"缺考"]
[2501,"4252270702107","卢绍波","319独山县乡镇中学","01初中政治教师",{"$f":"VLOOKUP(B2503,[1]Sheet1!$A:$I,8,0)","v":"0.00"},{"$f":"VLOOKUP(B2503,[1]Sheet1!$A:$I,9,0)","v":"0.00"},{"$f":"VLOOKUP(B2503,[2]少数民族加分!$C$1:$E$65536,3,FALSE)","v":2},"缺考"]
[2502,"4252270702429","潘年花","319独山县乡镇中学","01初中政治教师",{"$f":"VLOOKUP(B2504,[1]Sheet1!$A:$I,8,0)","v":"0.00"},{"$f":"VLOOKUP(B2504,[1]Sheet1!$A:$I,9,0)","v":"0.00"},{"$f":"VLOOKUP(B2504,[2]少数民族加分!$C$1:$E$65536,3,FALSE)","v":2},"缺考"]
[2503,"4252270702530","周娅飞","319独山县乡镇中学","01初中政治教师",{"$f":"VLOOKUP(B2505,[1]Sheet1!$A:$I,8,0)","v":"0.00"},{"$f":"VLOOKUP(B2505,[1]Sheet1!$A:$I,9,0)","v":"0.00"},{"$f":"VLOOKUP(B2505,[2]少数民族加分!$C$1:$E$65536,3,FALSE)","v":2},"缺考"]
[2504,"4252270702628","王清泉","319独山县乡镇中学","01初中政治教师",{"$f":"VLOOKUP(B2506,[1]Sheet1!$A:$I,8,0)","v":"0.00"},{"$f":"VLOOKUP(B2506,[1]Sheet1!$A:$I,9,0)","v":"0.00"},{"$f":"VLOOKUP(B2506,[2]少数民族加分!$C$1:$E$65536,3,FALSE)","v":2},"缺考"]
[2505,"4252270703103","赵流琴","319独山县乡镇中学","01初中政治教师",{"$f":"VLOOKUP(B2507,[1]Sheet1!$A:$I,8,0)","v":"0.00"},{"$f":"VLOOKUP(B2507,[1]Sheet1!$A:$I,9,0)","v":"0.00"},null,"缺考"]
[2506,"4252270703120","莫逢丽","319独山县乡镇中学","01初中政治教师",{"$f":"VLOOKUP(B2508,[1]Sheet1!$A:$I,8,0)","v":"0.00"},{"$f":"VLOOKUP(B2508,[1]Sheet1!$A:$I,9,0)","v":"0.00"},{"$f":"VLOOKUP(B2508,[2]少数民族加分!$C$1:$E$65536,3,FALSE)","v":2},"缺考"]
[2507,"4252270703126","熊小情","319独山县乡镇中学","01初中政治教师",{"$f":"VLOOKUP(B2509,[1]Sheet1!$A:$I,8,0)","v":"0.00"},{"$f":"VLOOKUP(B2509,[1]Sheet1!$A:$I,9,0)","v":"0.00"},{"$f":"VLOOKUP(B2509,[2]少数民族加分!$C$1:$E$65536,3,FALSE)","v":2},"缺考"]
[2508,"4252270703202","陈凤","319独山县乡镇中学","01初中政治教师",{"$f":"VLOOKUP(B2510,[1]Sheet1!$A:$I,8,0)","v":"0.00"},{"$f":"VLOOKUP(B2510,[1]Sheet1!$A:$I,9,0)","v":"0.00"},null,"缺考"]
[2509,"4252270703222","杨级生","319独山县乡镇中学","01初中政治教师",{"$f":"VLOOKUP(B2511,[1]Sheet1!$A:$I,8,0)","v":"0.00"},{"$f":"VLOOKUP(B2511,[1]Sheet1!$A:$I,9,0)","v":"0.00"},{"$f":"VLOOKUP(B2511,[2]少数民族加分!$C$1:$E$65536,3,FALSE)","v":2},"缺考"]
[2510,"4252270703305","杨金菊","319独山县乡镇中学","01初中政治教师",{"$f":"VLOOKUP(B2512,[1]Sheet1!$A:$I,8,0)","v":"0.00"},{"$f":"VLOOKUP(B2512,[1]Sheet1!$A:$I,9,0)","v":"0.00"},{"$f":"VLOOKUP(B2512,[2]少数民族加分!$C$1:$E$65536,3,FALSE)","v":2},"缺考"]
[2511,"4252270703323","熊小会","319独山县乡镇中学","01初中政治教师",{"$f":"VLOOKUP(B2513,[1]Sheet1!$A:$I,8,0)","v":"0.00"},{"$f":"VLOOKUP(B2513,[1]Sheet1!$A:$I,9,0)","v":"0.00"},null,"缺考"]
[2512,"4252270703406","李文平","319独山县乡镇中学","01初中政治教师",{"$f":"VLOOKUP(B2514,[1]Sheet1!$A:$I,8,0)","v":"0.00"},{"$f":"VLOOKUP(B2514,[1]Sheet1!$A:$I,9,0)","v":"0.00"},null,"缺考"]
[2513,"4252270703525","张寻雨","319独山县乡镇中学","02初中历史教师",{"$f":"VLOOKUP(B2515,[1]Sheet1!$A:$I,8,0)","v":"106.50"},{"$f":"VLOOKUP(B2515,[1]Sheet1!$A:$I,9,0)","v":"105.00"},{"$f":"VLOOKUP(B2515,[2]少数民族加分!$C$1:$E$65536,3,FALSE)","v":2},{"v":213.5,"d":"213.50"}]
[2514,"4252270703616","艾其倩","319独山县乡镇中学","02初中历史教师",{"$f":"VLOOKUP(B2516,[1]Sheet1!$A:$I,8,0)","v":"93.50"},{"$f":"VLOOKUP(B2516,[1]Sheet1!$A:$I,9,0)","v":"106.50"},{"$f":"VLOOKUP(B2516,[2]少数民族加分!$C$1:$E$65536,3,FALSE)","v":2},{"v":202,"d":"202.00"}]
[2515,"4252270704712","杨鑫","319独山县乡镇中学","02初中历史教师",{"$f":"VLOOKUP(B2517,[1]Sheet1!$A:$I,8,0)","v":"100.50"},{"$f":"VLOOKUP(B2517,[1]Sheet1!$A:$I,9,0)","v":"96.50"},null,{"v":197,"d":"197.00"}]
[2516,"4252270704427","刘丽丽","319独山县乡镇中学","02初中历史教师",{"$f":"VLOOKUP(B2518,[1]Sheet1!$A:$I,8,0)","v":"97.50"},{"$f":"VLOOKUP(B2518,[1]Sheet1!$A:$I,9,0)","v":"96.00"},{"$f":"VLOOKUP(B2518,[2]少数民族加分!$C$1:$E$65536,3,FALSE)","v":2},{"v":195.5,"d":"195.50"}]
[2517,"4252270706623","张敏","319独山县乡镇中学","02初中历史教师",{"$f":"VLOOKUP(B2519,[1]Sheet1!$A:$I,8,0)","v":"96.00"},{"$f":"VLOOKUP(B2519,[1]Sheet1!$A:$I,9,0)","v":"96.00"},{"$f":"VLOOKUP(B2519,[2]少数民族加分!$C$1:$E$65536,3,FALSE)","v":2},{"v":194,"d":"194.00"}]
[2518,"4252270701719","安厚新","319独山县乡镇中学","02初中历史教师",{"$f":"VLOOKUP(B2520,[1]Sheet1!$A:$I,8,0)","v":"97.50"},{"$f":"VLOOKUP(B2520,[1]Sheet1!$A:$I,9,0)","v":"94.50"},null,{"v":192,"d":"192.00"}]
[2519,"4252270705014","韦玉密","319独山县乡镇中学","02初中历史教师",{"$f":"VLOOKUP(B2521,[1]Sheet1!$A:$I,8,0)","v":"103.50"},{"$f":"VLOOKUP(B2521,[1]Sheet1!$A:$I,9,0)","v":"85.50"},{"$f":"VLOOKUP(B2521,[2]少数民族加分!$C$1:$E$65536,3,FALSE)","v":2},{"v":191,"d":"191.00"}]
[2520,"4252270702612","吴京香","319独山县乡镇中学","02初中历史教师",{"$f":"VLOOKUP(B2522,[1]Sheet1!$A:$I,8,0)","v":"103.50"},{"$f":"VLOOKUP(B2522,[1]Sheet1!$A:$I,9,0)","v":"85.00"},{"$f":"VLOOKUP(B2522,[2]少数民族加分!$C$1:$E$65536,3,FALSE)","v":2},{"v":190.5,"d":"190.50"}]
[2522,"4252270706703","杨秀绒","319独山县乡镇中学","02初中历史教师",{"$f":"VLOOKUP(B2523,[1]Sheet1!$A:$I,8,0)","v":"101.50"},{"$f":"VLOOKUP(B2523,[1]Sheet1!$A:$I,9,0)","v":"86.50"},{"$f":"VLOOKUP(B2523,[2]少数民族加分!$C$1:$E$65536,3,FALSE)","v":2},{"v":190,"d":"190.00"}]
[2521,"4252270703312","雷颖芬","319独山县乡镇中学","02初中历史教师",{"$f":"VLOOKUP(B2524,[1]Sheet1!$A:$I,8,0)","v":"92.50"},{"$f":"VLOOKUP(B2524,[1]Sheet1!$A:$I,9,0)","v":"96.00"},null,{"v":188.5,"d":"188.50"}]
[2524,"4252270702906","石春","319独山县乡镇中学","02初中历史教师",{"$f":"VLOOKUP(B2525,[1]Sheet1!$A:$I,8,0)","v":"100.50"},{"$f":"VLOOKUP(B2525,[1]Sheet1!$A:$I,9,0)","v":"86.00"},{"$f":"VLOOKUP(B2525,[2]少数民族加分!$C$1:$E$65536,3,FALSE)","v":2},{"v":188.5,"d":"188.50"}]
[2525,"4252270701807","吴文霞","319独山县乡镇中学","02初中历史教师",{"$f":"VLOOKUP(B2526,[1]Sheet1!$A:$I,8,0)","v":"91.50"},{"$f":"VLOOKUP(B2526,[1]Sheet1!$A:$I,9,0)","v":"94.50"},{"$f":"VLOOKUP(B2526,[2]少数民族加分!$C$1:$E$65536,3,FALSE)","v":2},{"v":188,"d":"188.00"}]
[2523,"4252270703729","何叶","319独山县乡镇中学","02初中历史教师",{"$f":"VLOOKUP(B2527,[1]Sheet1!$A:$I,8,0)","v":"101.00"},{"$f":"VLOOKUP(B2527,[1]Sheet1!$A:$I,9,0)","v":"86.50"},null,{"v":187.5,"d":"187.50"}]
[2526,"4252270703520","陈小满","319独山县乡镇中学","02初中历史教师",{"$f":"VLOOKUP(B2528,[1]Sheet1!$A:$I,8,0)","v":"80.00"},{"$f":"VLOOKUP(B2528,[1]Sheet1!$A:$I,9,0)","v":"104.00"},{"$f":"VLOOKUP(B2528,[2]少数民族加分!$C$1:$E$65536,3,FALSE)","v":2},{"v":186,"d":"186.00"}]
[2527,"4252270706611","刘花","319独山县乡镇中学","02初中历史教师",{"$f":"VLOOKUP(B2529,[1]Sheet1!$A:$I,8,0)","v":"91.00"},{"$f":"VLOOKUP(B2529,[1]Sheet1!$A:$I,9,0)","v":"92.50"},{"$f":"VLOOKUP(B2529,[2]少数民族加分!$C$1:$E$65536,3,FALSE)","v":2},{"v":185.5,"d":"185.50"}]
[2528,"4252270701607","舒勤燕","319独山县乡镇中学","02初中历史教师",{"$f":"VLOOKUP(B2530,[1]Sheet1!$A:$I,8,0)","v":"95.50"},{"$f":"VLOOKUP(B2530,[1]Sheet1!$A:$I,9,0)","v":"87.00"},{"$f":"VLOOKUP(B2530,[2]少数民族加分!$C$1:$E$65536,3,FALSE)","v":2},{"v":184.5,"d":"184.50"}]
[2529,"4252270703110","谭忠颖","319独山县乡镇中学","02初中历史教师",{"$f":"VLOOKUP(B2531,[1]Sheet1!$A:$I,8,0)","v":"96.50"},{"$f":"VLOOKUP(B2531,[1]Sheet1!$A:$I,9,0)","v":"85.50"},{"$f":"VLOOKUP(B2531,[2]少数民族加分!$C$1:$E$65536,3,FALSE)","v":2},{"v":184,"d":"184.00"}]
[2530,"4252270704915","吴元香","319独山县乡镇中学","02初中历史教师",{"$f":"VLOOKUP(B2532,[1]Sheet1!$A:$I,8,0)","v":"95.50"},{"$f":"VLOOKUP(B2532,[1]Sheet1!$A:$I,9,0)","v":"86.50"},{"$f":"VLOOKUP(B2532,[2]少数民族加分!$C$1:$E$65536,3,FALSE)","v":2},{"v":184,"d":"184.00"}]
[2531,"4252270704008","吴姝霓","319独山县乡镇中学","02初中历史教师",{"$f":"VLOOKUP(B2533,[1]Sheet1!$A:$I,8,0)","v":"98.00"},{"$f":"VLOOKUP(B2533,[1]Sheet1!$A:$I,9,0)","v":"83.50"},{"$f":"VLOOKUP(B2533,[2]少数民族加分!$C$1:$E$65536,3,FALSE)","v":2},{"v":183.5,"d":"183.50"}]
[2532,"4252270705429","严周红","319独山县乡镇中学","02初中历史教师",{"$f":"VLOOKUP(B2534,[1]Sheet1!$A:$I,8,0)","v":"91.50"},{"$f":"VLOOKUP(B2534,[1]Sheet1!$A:$I,9,0)","v":"89.50"},null,{"v":181,"d":"181.00"}]
[2536,"4252270704005","但海琴","319独山县乡镇中学","02初中历史教师",{"$f":"VLOOKUP(B2535,[1]Sheet1!$A:$I,8,0)","v":"85.00"},{"$f":"VLOOKUP(B2535,[1]Sheet1!$A:$I,9,0)","v":"94.00"},{"$f":"VLOOKUP(B2535,[2]少数民族加分!$C$1:$E$65536,3,FALSE)","v":2},{"v":181,"d":"181.00"}]
[2537,"4252270704522","陆国引","319独山县乡镇中学","02初中历史教师",{"$f":"VLOOKUP(B2536,[1]Sheet1!$A:$I,8,0)","v":"95.50"},{"$f":"VLOOKUP(B2536,[1]Sheet1!$A:$I,9,0)","v":"83.50"},{"$f":"VLOOKUP(B2536,[2]少数民族加分!$C$1:$E$65536,3,FALSE)","v":2},{"v":181,"d":"181.00"}]
[2533,"4252270703717","熊涵","319独山县乡镇中学","02初中历史教师",{"$f":"VLOOKUP(B2537,[1]Sheet1!$A:$I,8,0)","v":"92.50"},{"$f":"VLOOKUP(B2537,[1]Sheet1!$A:$I,9,0)","v":"88.00"},null,{"v":180.5,"d":"180.50"}]
[2534,"4252270704009","唐榕蔧","319独山县乡镇中学","02初中历史教师",{"$f":"VLOOKUP(B2538,[1]Sheet1!$A:$I,8,0)","v":"99.50"},{"$f":"VLOOKUP(B2538,[1]Sheet1!$A:$I,9,0)","v":"81.00"},null,{"v":180.5,"d":"180.50"}]
[2535,"4252270706629","范思思","319独山县乡镇中学","02初中历史教师",{"$f":"VLOOKUP(B2539,[1]Sheet1!$A:$I,8,0)","v":"95.00"},{"$f":"VLOOKUP(B2539,[1]Sheet1!$A:$I,9,0)","v":"85.00"},null,{"v":180,"d":"180.00"}]
[2539,"4252270703617","王橘芳","319独山县乡镇中学","02初中历史教师",{"$f":"VLOOKUP(B2540,[1]Sheet1!$A:$I,8,0)","v":"91.00"},{"$f":"VLOOKUP(B2540,[1]Sheet1!$A:$I,9,0)","v":"87.00"},{"$f":"VLOOKUP(B2540,[2]少数民族加分!$C$1:$E$65536,3,FALSE)","v":2},{"v":180,"d":"180.00"}]
[2542,"4252270706109","张春花","319独山县乡镇中学","02初中历史教师",{"$f":"VLOOKUP(B2541,[1]Sheet1!$A:$I,8,0)","v":"99.00"},{"$f":"VLOOKUP(B2541,[1]Sheet1!$A:$I,9,0)","v":"78.00"},{"$f":"VLOOKUP(B2541,[2]少数民族加分!$C$1:$E$65536,3,FALSE)","v":2},{"v":179,"d":"179.00"}]
[2543,"4252270703414","田小宇","319独山县乡镇中学","02初中历史教师",{"$f":"VLOOKUP(B2542,[1]Sheet1!$A:$I,8,0)","v":"93.50"},{"$f":"VLOOKUP(B2542,[1]Sheet1!$A:$I,9,0)","v":"83.50"},{"$f":"VLOOKUP(B2542,[2]少数民族加分!$C$1:$E$65536,3,FALSE)","v":2},{"v":179,"d":"179.00"}]
[2538,"4252270706230","谭三梅","319独山县乡镇中学","02初中历史教师",{"$f":"VLOOKUP(B2543,[1]Sheet1!$A:$I,8,0)","v":"82.50"},{"$f":"VLOOKUP(B2543,[1]Sheet1!$A:$I,9,0)","v":"96.00"},null,{"v":178.5,"d":"178.50"}]
[2546,"4252270705203","杨丹","319独山县乡镇中学","02初中历史教师",{"$f":"VLOOKUP(B2544,[1]Sheet1!$A:$I,8,0)","v":"73.50"},{"$f":"VLOOKUP(B2544,[1]Sheet1!$A:$I,9,0)","v":"103.00"},{"$f":"VLOOKUP(B2544,[2]少数民族加分!$C$1:$E$65536,3,FALSE)","v":2},{"v":178.5,"d":"178.50"}]
[2547,"4252270706422","王晓清","319独山县乡镇中学","02初中历史教师",{"$f":"VLOOKUP(B2545,[1]Sheet1!$A:$I,8,0)","v":"79.50"},{"$f":"VLOOKUP(B2545,[1]Sheet1!$A:$I,9,0)","v":"97.00"},{"$f":"VLOOKUP(B2545,[2]少数民族加分!$C$1:$E$65536,3,FALSE)","v":2},{"v":178.5,"d":"178.50"}]
[2540,"4252270706010","滕燕","319独山县乡镇中学","02初中历史教师",{"$f":"VLOOKUP(B2546,[1]Sheet1!$A:$I,8,0)","v":"91.50"},{"$f":"VLOOKUP(B2546,[1]Sheet1!$A:$I,9,0)","v":"86.50"},null,{"v":178,"d":"178.00"}]
[2548,"4252270702228","罗朝东","319独山县乡镇中学","02初中历史教师",{"$f":"VLOOKUP(B2547,[1]Sheet1!$A:$I,8,0)","v":"84.00"},{"$f":"VLOOKUP(B2547,[1]Sheet1!$A:$I,9,0)","v":"92.00"},{"$f":"VLOOKUP(B2547,[2]少数民族加分!$C$1:$E$65536,3,FALSE)","v":2},{"v":178,"d":"178.00"}]
[2550,"4252270702730","黎群艳","319独山县乡镇中学","02初中历史教师",{"$f":"VLOOKUP(B2548,[1]Sheet1!$A:$I,8,0)","v":"93.50"},{"$f":"VLOOKUP(B2548,[1]Sheet1!$A:$I,9,0)","v":"82.00"},{"$f":"VLOOKUP(B2548,[2]少数民族加分!$C$1:$E$65536,3,FALSE)","v":2},{"v":177.5,"d":"177.50"}]
[2551,"4252270706401","杨宁贵","319独山县乡镇中学","02初中历史教师",{"$f":"VLOOKUP(B2549,[1]Sheet1!$A:$I,8,0)","v":"86.50"},{"$f":"VLOOKUP(B2549,[1]Sheet1!$A:$I,9,0)","v":"89.00"},{"$f":"VLOOKUP(B2549,[2]少数民族加分!$C$1:$E$65536,3,FALSE)","v":2},{"v":177.5,"d":"177.50"}]
[2541,"4252270704619","黄蓉","319独山县乡镇中学","02初中历史教师",{"$f":"VLOOKUP(B2550,[1]Sheet1!$A:$I,8,0)","v":"89.50"},{"$f":"VLOOKUP(B2550,[1]Sheet1!$A:$I,9,0)","v":"87.50"},null,{"v":177,"d":"177.00"}]
[2544,"4252270703828","胡清能","319独山县乡镇中学","02初中历史教师",{"$f":"VLOOKUP(B2551,[1]Sheet1!$A:$I,8,0)","v":"83.50"},{"$f":"VLOOKUP(B2551,[1]Sheet1!$A:$I,9,0)","v":"93.00"},null,{"v":176.5,"d":"176.50"}]
[2545,"4252270704609","吴磊","319独山县乡镇中学","02初中历史教师",{"$f":"VLOOKUP(B2552,[1]Sheet1!$A:$I,8,0)","v":"94.00"},{"$f":"VLOOKUP(B2552,[1]Sheet1!$A:$I,9,0)","v":"82.50"},null,{"v":176.5,"d":"176.50"}]
[2552,"4252270706308","廖廷康","319独山县乡镇中学","02初中历史教师",{"$f":"VLOOKUP(B2553,[1]Sheet1!$A:$I,8,0)","v":"93.50"},{"$f":"VLOOKUP(B2553,[1]Sheet1!$A:$I,9,0)","v":"81.00"},{"$f":"VLOOKUP(B2553,[2]少数民族加分!$C$1:$E$65536,3,FALSE)","v":2},{"v":176.5,"d":"176.50"}]
[2553,"4252270701322","吴美双","319独山县乡镇中学","02初中历史教师",{"$f":"VLOOKUP(B2554,[1]Sheet1!$A:$I,8,0)","v":"95.50"},{"$f":"VLOOKUP(B2554,[1]Sheet1!$A:$I,9,0)","v":"79.00"},{"$f":"VLOOKUP(B2554,[2]少数民族加分!$C$1:$E$65536,3,FALSE)","v":2},{"v":176.5,"d":"176.50"}]
[2554,"4252270701419","童庭森","319独山县乡镇中学","02初中历史教师",{"$f":"VLOOKUP(B2555,[1]Sheet1!$A:$I,8,0)","v":"86.50"},{"$f":"VLOOKUP(B2555,[1]Sheet1!$A:$I,9,0)","v":"88.00"},{"$f":"VLOOKUP(B2555,[2]少数民族加分!$C$1:$E$65536,3,FALSE)","v":2},{"v":176.5,"d":"176.50"}]
[2555,"4252270701620","崔梦晴","319独山县乡镇中学","02初中历史教师",{"$f":"VLOOKUP(B2556,[1]Sheet1!$A:$I,8,0)","v":"87.00"},{"$f":"VLOOKUP(B2556,[1]Sheet1!$A:$I,9,0)","v":"87.50"},{"$f":"VLOOKUP(B2556,[2]少数民族加分!$C$1:$E$65536,3,FALSE)","v":2},{"v":176.5,"d":"176.50"}]
[2557,"4252270703024","刘光柱","319独山县乡镇中学","02初中历史教师",{"$f":"VLOOKUP(B2557,[1]Sheet1!$A:$I,8,0)","v":"87.00"},{"$f":"VLOOKUP(B2557,[1]Sheet1!$A:$I,9,0)","v":"87.50"},{"$f":"VLOOKUP(B2557,[2]少数民族加分!$C$1:$E$65536,3,FALSE)","v":2},{"v":176.5,"d":"176.50"}]
[2549,"4252270702419","冯飞","319独山县乡镇中学","02初中历史教师",{"$f":"VLOOKUP(B2558,[1]Sheet1!$A:$I,8,0)","v":"98.50"},{"$f":"VLOOKUP(B2558,[1]Sheet1!$A:$I,9,0)","v":"77.00"},null,{"v":175.5,"d":"175.50"}]
[2559,"4252270703011","罗甫琴","319独山县乡镇中学","02初中历史教师",{"$f":"VLOOKUP(B2559,[1]Sheet1!$A:$I,8,0)","v":"89.50"},{"$f":"VLOOKUP(B2559,[1]Sheet1!$A:$I,9,0)","v":"83.50"},{"$f":"VLOOKUP(B2559,[2]少数民族加分!$C$1:$E$65536,3,FALSE)","v":2},{"v":175,"d":"175.00"}]
[2556,"4252270702227","陈虹吉","319独山县乡镇中学","02初中历史教师",{"$f":"VLOOKUP(B2560,[1]Sheet1!$A:$I,8,0)","v":"95.50"},{"$f":"VLOOKUP(B2560,[1]Sheet1!$A:$I,9,0)","v":"79.00"},null,{"v":174.5,"d":"174.50"}]
[2558,"4252270705714","杨洋","319独山县乡镇中学","02初中历史教师",{"$f":"VLOOKUP(B2561,[1]Sheet1!$A:$I,8,0)","v":"97.00"},{"$f":"VLOOKUP(B2561,[1]Sheet1!$A:$I,9,0)","v":"77.50"},null,{"v":174.5,"d":"174.50"}]
[2561,"4252270702817","徐华理","319独山县乡镇中学","02初中历史教师",{"$f":"VLOOKUP(B2562,[1]Sheet1!$A:$I,8,0)","v":"93.50"},{"$f":"VLOOKUP(B2562,[1]Sheet1!$A:$I,9,0)","v":"78.50"},{"$f":"VLOOKUP(B2562,[2]少数民族加分!$C$1:$E$65536,3,FALSE)","v":2},{"v":174,"d":"174.00"}]
[2564,"4252270704922","杨东妹","319独山县乡镇中学","02初中历史教师",{"$f":"VLOOKUP(B2563,[1]Sheet1!$A:$I,8,0)","v":"84.00"},{"$f":"VLOOKUP(B2563,[1]Sheet1!$A:$I,9,0)","v":"87.50"},{"$f":"VLOOKUP(B2563,[2]少数民族加分!$C$1:$E$65536,3,FALSE)","v":2},{"v":173.5,"d":"173.50"}]
[2566,"4252270702209","吴书燕","319独山县乡镇中学","02初中历史教师",{"$f":"VLOOKUP(B2564,[1]Sheet1!$A:$I,8,0)","v":"88.00"},{"$f":"VLOOKUP(B2564,[1]Sheet1!$A:$I,9,0)","v":"83.50"},{"$f":"VLOOKUP(B2564,[2]少数民族加分!$C$1:$E$65536,3,FALSE)","v":2},{"v":173.5,"d":"173.50"}]
[2567,"4252270706522","张海欧","319独山县乡镇中学","02初中历史教师",{"$f":"VLOOKUP(B2565,[1]Sheet1!$A:$I,8,0)","v":"79.50"},{"$f":"VLOOKUP(B2565,[1]Sheet1!$A:$I,9,0)","v":"92.00"},{"$f":"VLOOKUP(B2565,[2]少数民族加分!$C$1:$E$65536,3,FALSE)","v":2},{"v":173.5,"d":"173.50"}]
[2560,"4252270703130","宋强","319独山县乡镇中学","02初中历史教师",{"$f":"VLOOKUP(B2566,[1]Sheet1!$A:$I,8,0)","v":"86.00"},{"$f":"VLOOKUP(B2566,[1]Sheet1!$A:$I,9,0)","v":"87.00"},null,{"v":173,"d":"173.00"}]
[2570,"4252270701426","夏金柔","319独山县乡镇中学","02初中历史教师",{"$f":"VLOOKUP(B2567,[1]Sheet1!$A:$I,8,0)","v":"83.50"},{"$f":"VLOOKUP(B2567,[1]Sheet1!$A:$I,9,0)","v":"87.00"},{"$f":"VLOOKUP(B2567,[2]少数民族加分!$C$1:$E$65536,3,FALSE)","v":2},{"v":172.5,"d":"172.50"}]
[2571,"4252270701718","王俊","319独山县乡镇中学","02初中历史教师",{"$f":"VLOOKUP(B2568,[1]Sheet1!$A:$I,8,0)","v":"86.00"},{"$f":"VLOOKUP(B2568,[1]Sheet1!$A:$I,9,0)","v":"84.50"},{"$f":"VLOOKUP(B2568,[2]少数民族加分!$C$1:$E$65536,3,FALSE)","v":2},{"v":172.5,"d":"172.50"}]
[2562,"4252270706722","陈亚梅","319独山县乡镇中学","02初中历史教师",{"$f":"VLOOKUP(B2569,[1]Sheet1!$A:$I,8,0)","v":"94.00"},{"$f":"VLOOKUP(B2569,[1]Sheet1!$A:$I,9,0)","v":"78.00"},null,{"v":172,"d":"172.00"}]
[2563,"4252270705214","王娟","319独山县乡镇中学","02初中历史教师",{"$f":"VLOOKUP(B2570,[1]Sheet1!$A:$I,8,0)","v":"76.00"},{"$f":"VLOOKUP(B2570,[1]Sheet1!$A:$I,9,0)","v":"96.00"},null,{"v":172,"d":"172.00"}]
[2572,"4252270701802","白陈燕","319独山县乡镇中学","02初中历史教师",{"$f":"VLOOKUP(B2571,[1]Sheet1!$A:$I,8,0)","v":"84.00"},{"$f":"VLOOKUP(B2571,[1]Sheet1!$A:$I,9,0)","v":"86.00"},{"$f":"VLOOKUP(B2571,[2]少数民族加分!$C$1:$E$65536,3,FALSE)","v":2},{"v":172,"d":"172.00"}]
[2575,"4252270705115","张岑燕","319独山县乡镇中学","02初中历史教师",{"$f":"VLOOKUP(B2572,[1]Sheet1!$A:$I,8,0)","v":"94.00"},{"$f":"VLOOKUP(B2572,[1]Sheet1!$A:$I,9,0)","v":"76.00"},{"$f":"VLOOKUP(B2572,[2]少数民族加分!$C$1:$E$65536,3,FALSE)","v":2},{"v":172,"d":"172.00"}]
[2565,"4252270705405","尤敏","319独山县乡镇中学","02初中历史教师",{"$f":"VLOOKUP(B2573,[1]Sheet1!$A:$I,8,0)","v":"74.50"},{"$f":"VLOOKUP(B2573,[1]Sheet1!$A:$I,9,0)","v":"97.00"},null,{"v":171.5,"d":"171.50"}]
[2576,"4252270704507","杨巧巧","319独山县乡镇中学","02初中历史教师",{"$f":"VLOOKUP(B2574,[1]Sheet1!$A:$I,8,0)","v":"89.50"},{"$f":"VLOOKUP(B2574,[1]Sheet1!$A:$I,9,0)","v":"80.00"},{"$f":"VLOOKUP(B2574,[2]少数民族加分!$C$1:$E$65536,3,FALSE)","v":2},{"v":171.5,"d":"171.50"}]
[2577,"4252270703115","罗羊秀","319独山县乡镇中学","02初中历史教师",{"$f":"VLOOKUP(B2575,[1]Sheet1!$A:$I,8,0)","v":"83.50"},{"$f":"VLOOKUP(B2575,[1]Sheet1!$A:$I,9,0)","v":"86.00"},{"$f":"VLOOKUP(B2575,[2]少数民族加分!$C$1:$E$65536,3,FALSE)","v":2},{"v":171.5,"d":"171.50"}]
[2568,"4252270705316","温彩","319独山县乡镇中学","02初中历史教师",{"$f":"VLOOKUP(B2576,[1]Sheet1!$A:$I,8,0)","v":"91.00"},{"$f":"VLOOKUP(B2576,[1]Sheet1!$A:$I,9,0)","v":"80.00"},null,{"v":171,"d":"171.00"}]
[2569,"4252270702330","代雪芳","319独山县乡镇中学","02初中历史教师",{"$f":"VLOOKUP(B2577,[1]Sheet1!$A:$I,8,0)","v":"88.00"},{"$f":"VLOOKUP(B2577,[1]Sheet1!$A:$I,9,0)","v":"83.00"},null,{"v":171,"d":"171.00"}]
[2580,"4252270704210","蒙田田","319独山县乡镇中学","02初中历史教师",{"$f":"VLOOKUP(B2578,[1]Sheet1!$A:$I,8,0)","v":"75.00"},{"$f":"VLOOKUP(B2578,[1]Sheet1!$A:$I,9,0)","v":"94.00"},{"$f":"VLOOKUP(B2578,[2]少数民族加分!$C$1:$E$65536,3,FALSE)","v":2},{"v":171,"d":"171.00"}]
[2582,"4252270705304","黄必丽","319独山县乡镇中学","02初中历史教师",{"$f":"VLOOKUP(B2579,[1]Sheet1!$A:$I,8,0)","v":"84.50"},{"$f":"VLOOKUP(B2579,[1]Sheet1!$A:$I,9,0)","v":"84.00"},{"$f":"VLOOKUP(B2579,[2]少数民族加分!$C$1:$E$65536,3,FALSE)","v":2},{"v":170.5,"d":"170.50"}]
[2573,"4252270703213","严朝萍","319独山县乡镇中学","02初中历史教师",{"$f":"VLOOKUP(B2580,[1]Sheet1!$A:$I,8,0)","v":"87.50"},{"$f":"VLOOKUP(B2580,[1]Sheet1!$A:$I,9,0)","v":"82.50"},null,{"v":170,"d":"170.00"}]
[2574,"4252270706309","宋美琼","319独山县乡镇中学","02初中历史教师",{"$f":"VLOOKUP(B2581,[1]Sheet1!$A:$I,8,0)","v":"91.50"},{"$f":"VLOOKUP(B2581,[1]Sheet1!$A:$I,9,0)","v":"78.50"},null,{"v":170,"d":"170.00"}]
[2583,"4252270706107","潘克兵","319独山县乡镇中学","02初中历史教师",{"$f":"VLOOKUP(B2582,[1]Sheet1!$A:$I,8,0)","v":"89.50"},{"$f":"VLOOKUP(B2582,[1]Sheet1!$A:$I,9,0)","v":"78.50"},{"$f":"VLOOKUP(B2582,[2]少数民族加分!$C$1:$E$65536,3,FALSE)","v":2},{"v":170,"d":"170.00"}]
[2584,"4252270701315","罗雪梅","319独山县乡镇中学","02初中历史教师",{"$f":"VLOOKUP(B2583,[1]Sheet1!$A:$I,8,0)","v":"84.00"},{"$f":"VLOOKUP(B2583,[1]Sheet1!$A:$I,9,0)","v":"84.00"},{"$f":"VLOOKUP(B2583,[2]少数民族加分!$C$1:$E$65536,3,FALSE)","v":2},{"v":170,"d":"170.00"}]
[2578,"4252270706202","唐珊","319独山县乡镇中学","02初中历史教师",{"$f":"VLOOKUP(B2584,[1]Sheet1!$A:$I,8,0)","v":"94.00"},{"$f":"VLOOKUP(B2584,[1]Sheet1!$A:$I,9,0)","v":"75.50"},null,{"v":169.5,"d":"169.50"}]
[2579,"4252270706626","谷广福","319独山县乡镇中学","02初中历史教师",{"$f":"VLOOKUP(B2585,[1]Sheet1!$A:$I,8,0)","v":"93.50"},{"$f":"VLOOKUP(B2585,[1]Sheet1!$A:$I,9,0)","v":"76.00"},null,{"v":169.5,"d":"169.50"}]
[2586,"4252270704526","莫代兰","319独山县乡镇中学","02初中历史教师",{"$f":"VLOOKUP(B2586,[1]Sheet1!$A:$I,8,0)","v":"84.00"},{"$f":"VLOOKUP(B2586,[1]Sheet1!$A:$I,9,0)","v":"83.50"},{"$f":"VLOOKUP(B2586,[2]少数民族加分!$C$1:$E$65536,3,FALSE)","v":2},{"v":169.5,"d":"169.50"}]
[2581,"4252270702916","李福益","319独山县乡镇中学","02初中历史教师",{"$f":"VLOOKUP(B2587,[1]Sheet1!$A:$I,8,0)","v":"78.00"},{"$f":"VLOOKUP(B2587,[1]Sheet1!$A:$I,9,0)","v":"91.00"},null,{"v":169,"d":"169.00"}]
[2589,"4252270706019","姚德扬","319独山县乡镇中学","02初中历史教师",{"$f":"VLOOKUP(B2588,[1]Sheet1!$A:$I,8,0)","v":"77.50"},{"$f":"VLOOKUP(B2588,[1]Sheet1!$A:$I,9,0)","v":"89.00"},{"$f":"VLOOKUP(B2588,[2]少数民族加分!$C$1:$E$65536,3,FALSE)","v":2},{"v":168.5,"d":"168.50"}]
[2585,"4252270703301","孙成娟","319独山县乡镇中学","02初中历史教师",{"$f":"VLOOKUP(B2589,[1]Sheet1!$A:$I,8,0)","v":"94.50"},{"$f":"VLOOKUP(B2589,[1]Sheet1!$A:$I,9,0)","v":"73.50"},null,{"v":168,"d":"168.00"}]
[2590,"4252270704124","李燕","319独山县乡镇中学","02初中历史教师",{"$f":"VLOOKUP(B2590,[1]Sheet1!$A:$I,8,0)","v":"74.00"},{"$f":"VLOOKUP(B2590,[1]Sheet1!$A:$I,9,0)","v":"92.00"},{"$f":"VLOOKUP(B2590,[2]少数民族加分!$C$1:$E$65536,3,FALSE)","v":2},{"v":168,"d":"168.00"}]
[2587,"4252270705529","陈娅","319独山县乡镇中学","02初中历史教师",{"$f":"VLOOKUP(B2591,[1]Sheet1!$A:$I,8,0)","v":"86.50"},{"$f":"VLOOKUP(B2591,[1]Sheet1!$A:$I,9,0)","v":"81.00"},null,{"v":167.5,"d":"167.50"}]
[2592,"4252270705204","莫璇","319独山县乡镇中学","02初中历史教师",{"$f":"VLOOKUP(B2592,[1]Sheet1!$A:$I,8,0)","v":"80.50"},{"$f":"VLOOKUP(B2592,[1]Sheet1!$A:$I,9,0)","v":"85.00"},{"$f":"VLOOKUP(B2592,[2]少数民族加分!$C$1:$E$65536,3,FALSE)","v":2},{"v":167.5,"d":"167.50"}]
[2588,"4252270706305","刘发金","319独山县乡镇中学","02初中历史教师",{"$f":"VLOOKUP(B2593,[1]Sheet1!$A:$I,8,0)","v":"88.00"},{"$f":"VLOOKUP(B2593,[1]Sheet1!$A:$I,9,0)","v":"79.00"},null,{"v":167,"d":"167.00"}]
[2593,"4252270702802","林水琼","319独山县乡镇中学","02初中历史教师",{"$f":"VLOOKUP(B2594,[1]Sheet1!$A:$I,8,0)","v":"85.00"},{"$f":"VLOOKUP(B2594,[1]Sheet1!$A:$I,9,0)","v":"80.00"},{"$f":"VLOOKUP(B2594,[2]少数民族加分!$C$1:$E$65536,3,FALSE)","v":2},{"v":167,"d":"167.00"}]
[2594,"4252270703817","田梅","319独山县乡镇中学","02初中历史教师",{"$f":"VLOOKUP(B2595,[1]Sheet1!$A:$I,8,0)","v":"82.50"},{"$f":"VLOOKUP(B2595,[1]Sheet1!$A:$I,9,0)","v":"82.00"},{"$f":"VLOOKUP(B2595,[2]少数民族加分!$C$1:$E$65536,3,FALSE)","v":2},{"v":166.5,"d":"166.50"}]
[2591,"4252270706609","付潇","319独山县乡镇中学","02初中历史教师",{"$f":"VLOOKUP(B2596,[1]Sheet1!$A:$I,8,0)","v":"92.50"},{"$f":"VLOOKUP(B2596,[1]Sheet1!$A:$I,9,0)","v":"73.50"},null,{"v":166,"d":"166.00"}]
[2597,"4252270702430","蒙泽锐","319独山县乡镇中学","02初中历史教师",{"$f":"VLOOKUP(B2597,[1]Sheet1!$A:$I,8,0)","v":"75.00"},{"$f":"VLOOKUP(B2597,[1]Sheet1!$A:$I,9,0)","v":"89.00"},{"$f":"VLOOKUP(B2597,[2]少数民族加分!$C$1:$E$65536,3,FALSE)","v":2},{"v":166,"d":"166.00"}]
[2599,"4252270704220","李玉武","319独山县乡镇中学","02初中历史教师",{"$f":"VLOOKUP(B2598,[1]Sheet1!$A:$I,8,0)","v":"73.50"},{"$f":"VLOOKUP(B2598,[1]Sheet1!$A:$I,9,0)","v":"90.00"},{"$f":"VLOOKUP(B2598,[2]少数民族加分!$C$1:$E$65536,3,FALSE)","v":2},{"v":165.5,"d":"165.50"}]
[2603,"4252270702506","彭兴圣","319独山县乡镇中学","02初中历史教师",{"$f":"VLOOKUP(B2599,[1]Sheet1!$A:$I,8,0)","v":"76.50"},{"$f":"VLOOKUP(B2599,[1]Sheet1!$A:$I,9,0)","v":"86.00"},{"$f":"VLOOKUP(B2599,[2]少数民族加分!$C$1:$E$65536,3,FALSE)","v":2},{"v":164.5,"d":"164.50"}]
[2595,"4252270703510","陈义竹","319独山县乡镇中学","02初中历史教师",{"$f":"VLOOKUP(B2600,[1]Sheet1!$A:$I,8,0)","v":"81.00"},{"$f":"VLOOKUP(B2600,[1]Sheet1!$A:$I,9,0)","v":"83.00"},null,{"v":164,"d":"164.00"}]
[2596,"4252270701520","肖芸","319独山县乡镇中学","02初中历史教师",{"$f":"VLOOKUP(B2601,[1]Sheet1!$A:$I,8,0)","v":"84.00"},{"$f":"VLOOKUP(B2601,[1]Sheet1!$A:$I,9,0)","v":"80.00"},null,{"v":164,"d":"164.00"}]
[2598,"4252270701505","李加利","319独山县乡镇中学","02初中历史教师",{"$f":"VLOOKUP(B2602,[1]Sheet1!$A:$I,8,0)","v":"71.50"},{"$f":"VLOOKUP(B2602,[1]Sheet1!$A:$I,9,0)","v":"92.00"},null,{"v":163.5,"d":"163.50"}]
[2600,"4252270704804","陆道生","319独山县乡镇中学","02初中历史教师",{"$f":"VLOOKUP(B2603,[1]Sheet1!$A:$I,8,0)","v":"78.50"},{"$f":"VLOOKUP(B2603,[1]Sheet1!$A:$I,9,0)","v":"85.00"},null,{"v":163.5,"d":"163.50"}]
[2601,"4252270705019","刘学韵","319独山县乡镇中学","02初中历史教师",{"$f":"VLOOKUP(B2604,[1]Sheet1!$A:$I,8,0)","v":"97.50"},{"$f":"VLOOKUP(B2604,[1]Sheet1!$A:$I,9,0)","v":"66.00"},null,{"v":163.5,"d":"163.50"}]
[2606,"4252270704311","杨汉琼","319独山县乡镇中学","02初中历史教师",{"$f":"VLOOKUP(B2605,[1]Sheet1!$A:$I,8,0)","v":"84.00"},{"$f":"VLOOKUP(B2605,[1]Sheet1!$A:$I,9,0)","v":"77.50"},{"$f":"VLOOKUP(B2605,[2]少数民族加分!$C$1:$E$65536,3,FALSE)","v":2},{"v":163.5,"d":"163.50"}]
[2607,"4252270705211","邰昌兰","319独山县乡镇中学","02初中历史教师",{"$f":"VLOOKUP(B2606,[1]Sheet1!$A:$I,8,0)","v":"88.50"},{"$f":"VLOOKUP(B2606,[1]Sheet1!$A:$I,9,0)","v":"73.00"},{"$f":"VLOOKUP(B2606,[2]少数民族加分!$C$1:$E$65536,3,FALSE)","v":2},{"v":163.5,"d":"163.50"}]
[2608,"4252270702329","朱旭松","319独山县乡镇中学","02初中历史教师",{"$f":"VLOOKUP(B2607,[1]Sheet1!$A:$I,8,0)","v":"76.50"},{"$f":"VLOOKUP(B2607,[1]Sheet1!$A:$I,9,0)","v":"85.00"},{"$f":"VLOOKUP(B2607,[2]少数民族加分!$C$1:$E$65536,3,FALSE)","v":2},{"v":163.5,"d":"163.50"}]
[2602,"4252270706520","孙敏多","319独山县乡镇中学","02初中历史教师",{"$f":"VLOOKUP(B2608,[1]Sheet1!$A:$I,8,0)","v":"85.50"},{"$f":"VLOOKUP(B2608,[1]Sheet1!$A:$I,9,0)","v":"77.50"},null,{"v":163,"d":"163.00"}]
[2609,"4252270701821","刘先荣","319独山县乡镇中学","02初中历史教师",{"$f":"VLOOKUP(B2609,[1]Sheet1!$A:$I,8,0)","v":"78.50"},{"$f":"VLOOKUP(B2609,[1]Sheet1!$A:$I,9,0)","v":"82.00"},{"$f":"VLOOKUP(B2609,[2]少数民族加分!$C$1:$E$65536,3,FALSE)","v":2},{"v":162.5,"d":"162.50"}]
[2610,"4252270704022","王成丽","319独山县乡镇中学","02初中历史教师",{"$f":"VLOOKUP(B2610,[1]Sheet1!$A:$I,8,0)","v":"79.50"},{"$f":"VLOOKUP(B2610,[1]Sheet1!$A:$I,9,0)","v":"81.00"},{"$f":"VLOOKUP(B2610,[2]少数民族加分!$C$1:$E$65536,3,FALSE)","v":2},{"v":162.5,"d":"162.50"}]
[2604,"4252270701421","冯建康","319独山县乡镇中学","02初中历史教师",{"$f":"VLOOKUP(B2611,[1]Sheet1!$A:$I,8,0)","v":"78.00"},{"$f":"VLOOKUP(B2611,[1]Sheet1!$A:$I,9,0)","v":"84.00"},null,{"v":162,"d":"162.00"}]
[2605,"4252270706007","陶涛","319独山县乡镇中学","02初中历史教师",{"$f":"VLOOKUP(B2612,[1]Sheet1!$A:$I,8,0)","v":"89.00"},{"$f":"VLOOKUP(B2612,[1]Sheet1!$A:$I,9,0)","v":"73.00"},null,{"v":162,"d":"162.00"}]
[2612,"4252270704130","张连奇","319独山县乡镇中学","02初中历史教师",{"$f":"VLOOKUP(B2613,[1]Sheet1!$A:$I,8,0)","v":"85.00"},{"$f":"VLOOKUP(B2613,[1]Sheet1!$A:$I,9,0)","v":"75.00"},{"$f":"VLOOKUP(B2613,[2]少数民族加分!$C$1:$E$65536,3,FALSE)","v":2},{"v":162,"d":"162.00"}]
[2613,"4252270701624","安春丰","319独山县乡镇中学","02初中历史教师",{"$f":"VLOOKUP(B2614,[1]Sheet1!$A:$I,8,0)","v":"85.50"},{"$f":"VLOOKUP(B2614,[1]Sheet1!$A:$I,9,0)","v":"74.50"},{"$f":"VLOOKUP(B2614,[2]少数民族加分!$C$1:$E$65536,3,FALSE)","v":2},{"v":162,"d":"162.00"}]
[2614,"4252270704916","杨美英","319独山县乡镇中学","02初中历史教师",{"$f":"VLOOKUP(B2615,[1]Sheet1!$A:$I,8,0)","v":"77.50"},{"$f":"VLOOKUP(B2615,[1]Sheet1!$A:$I,9,0)","v":"82.00"},{"$f":"VLOOKUP(B2615,[2]少数民族加分!$C$1:$E$65536,3,FALSE)","v":2},{"v":161.5,"d":"161.50"}]
[2615,"4252270706409","黄世敏","319独山县乡镇中学","02初中历史教师",{"$f":"VLOOKUP(B2616,[1]Sheet1!$A:$I,8,0)","v":"65.50"},{"$f":"VLOOKUP(B2616,[1]Sheet1!$A:$I,9,0)","v":"94.00"},{"$f":"VLOOKUP(B2616,[2]少数民族加分!$C$1:$E$65536,3,FALSE)","v":2},{"v":161.5,"d":"161.50"}]
[2616,"4252270704211","游碧","319独山县乡镇中学","02初中历史教师",{"$f":"VLOOKUP(B2617,[1]Sheet1!$A:$I,8,0)","v":"80.00"},{"$f":"VLOOKUP(B2617,[1]Sheet1!$A:$I,9,0)","v":"79.00"},{"$f":"VLOOKUP(B2617,[2]少数民族加分!$C$1:$E$65536,3,FALSE)","v":2},{"v":161,"d":"161.00"}]
[2617,"4252270704421","杨忠孝","319独山县乡镇中学","02初中历史教师",{"$f":"VLOOKUP(B2618,[1]Sheet1!$A:$I,8,0)","v":"77.50"},{"$f":"VLOOKUP(B2618,[1]Sheet1!$A:$I,9,0)","v":"81.00"},{"$f":"VLOOKUP(B2618,[2]少数民族加分!$C$1:$E$65536,3,FALSE)","v":2},{"v":160.5,"d":"160.50"}]
[2611,"4252270703618","代霞","319独山县乡镇中学","02初中历史教师",{"$f":"VLOOKUP(B2619,[1]Sheet1!$A:$I,8,0)","v":"83.00"},{"$f":"VLOOKUP(B2619,[1]Sheet1!$A:$I,9,0)","v":"77.00"},null,{"v":160,"d":"160.00"}]
[2619,"4252270706026","罗沙","319独山县乡镇中学","02初中历史教师",{"$f":"VLOOKUP(B2620,[1]Sheet1!$A:$I,8,0)","v":"88.00"},{"$f":"VLOOKUP(B2620,[1]Sheet1!$A:$I,9,0)","v":"70.00"},{"$f":"VLOOKUP(B2620,[2]少数民族加分!$C$1:$E$65536,3,FALSE)","v":2},{"v":160,"d":"160.00"}]
[2620,"4252270701706","谷磊","319独山县乡镇中学","02初中历史教师",{"$f":"VLOOKUP(B2621,[1]Sheet1!$A:$I,8,0)","v":"87.00"},{"$f":"VLOOKUP(B2621,[1]Sheet1!$A:$I,9,0)","v":"71.00"},{"$f":"VLOOKUP(B2621,[2]少数民族加分!$C$1:$E$65536,3,FALSE)","v":2},{"v":160,"d":"160.00"}]
[2621,"4252270702012","饶克珊","319独山县乡镇中学","02初中历史教师",{"$f":"VLOOKUP(B2622,[1]Sheet1!$A:$I,8,0)","v":"78.00"},{"$f":"VLOOKUP(B2622,[1]Sheet1!$A:$I,9,0)","v":"80.00"},{"$f":"VLOOKUP(B2622,[2]少数民族加分!$C$1:$E$65536,3,FALSE)","v":2},{"v":160,"d":"160.00"}]
[2622,"4252270702613","吴丽妤","319独山县乡镇中学","02初中历史教师",{"$f":"VLOOKUP(B2623,[1]Sheet1!$A:$I,8,0)","v":"87.50"},{"$f":"VLOOKUP(B2623,[1]Sheet1!$A:$I,9,0)","v":"70.00"},{"$f":"VLOOKUP(B2623,[2]少数民族加分!$C$1:$E$65536,3,FALSE)","v":2},{"v":159.5,"d":"159.50"}]
[2623,"4252270703423","张嘉华","319独山县乡镇中学","02初中历史教师",{"$f":"VLOOKUP(B2624,[1]Sheet1!$A:$I,8,0)","v":"81.50"},{"$f":"VLOOKUP(B2624,[1]Sheet1!$A:$I,9,0)","v":"76.00"},{"$f":"VLOOKUP(B2624,[2]少数民族加分!$C$1:$E$65536,3,FALSE)","v":2},{"v":159.5,"d":"159.50"}]
[2624,"4252270705202","唐大玺","319独山县乡镇中学","02初中历史教师",{"$f":"VLOOKUP(B2625,[1]Sheet1!$A:$I,8,0)","v":"86.00"},{"$f":"VLOOKUP(B2625,[1]Sheet1!$A:$I,9,0)","v":"71.50"},{"$f":"VLOOKUP(B2625,[2]少数民族加分!$C$1:$E$65536,3,FALSE)","v":2},{"v":159.5,"d":"159.50"}]
[2625,"4252270706312","张应美","319独山县乡镇中学","02初中历史教师",{"$f":"VLOOKUP(B2626,[1]Sheet1!$A:$I,8,0)","v":"87.50"},{"$f":"VLOOKUP(B2626,[1]Sheet1!$A:$I,9,0)","v":"70.00"},{"$f":"VLOOKUP(B2626,[2]少数民族加分!$C$1:$E$65536,3,FALSE)","v":2},{"v":159.5,"d":"159.50"}]
[2626,"4252270706302","甘佩","319独山县乡镇中学","02初中历史教师",{"$f":"VLOOKUP(B2627,[1]Sheet1!$A:$I,8,0)","v":"82.00"},{"$f":"VLOOKUP(B2627,[1]Sheet1!$A:$I,9,0)","v":"75.00"},{"$f":"VLOOKUP(B2627,[2]少数民族加分!$C$1:$E$65536,3,FALSE)","v":2},{"v":159,"d":"159.00"}]
[2627,"4252270706617","袁祖会","319独山县乡镇中学","02初中历史教师",{"$f":"VLOOKUP(B2628,[1]Sheet1!$A:$I,8,0)","v":"75.00"},{"$f":"VLOOKUP(B2628,[1]Sheet1!$A:$I,9,0)","v":"82.00"},{"$f":"VLOOKUP(B2628,[2]少数民族加分!$C$1:$E$65536,3,FALSE)","v":2},{"v":159,"d":"159.00"}]
[2628,"4252270706716","吴刚","319独山县乡镇中学","02初中历史教师",{"$f":"VLOOKUP(B2629,[1]Sheet1!$A:$I,8,0)","v":"78.00"},{"$f":"VLOOKUP(B2629,[1]Sheet1!$A:$I,9,0)","v":"79.00"},{"$f":"VLOOKUP(B2629,[2]少数民族加分!$C$1:$E$65536,3,FALSE)","v":2},{"v":159,"d":"159.00"}]
[2629,"4252270704926","肖永厚","319独山县乡镇中学","02初中历史教师",{"$f":"VLOOKUP(B2630,[1]Sheet1!$A:$I,8,0)","v":"76.00"},{"$f":"VLOOKUP(B2630,[1]Sheet1!$A:$I,9,0)","v":"81.00"},{"$f":"VLOOKUP(B2630,[2]少数民族加分!$C$1:$E$65536,3,FALSE)","v":2},{"v":159,"d":"159.00"}]
[2618,"4252270704323","谢登竹","319独山县乡镇中学","02初中历史教师",{"$f":"VLOOKUP(B2631,[1]Sheet1!$A:$I,8,0)","v":"78.00"},{"$f":"VLOOKUP(B2631,[1]Sheet1!$A:$I,9,0)","v":"80.00"},null,{"v":158,"d":"158.00"}]
[2630,"4252270703808","罗德优","319独山县乡镇中学","02初中历史教师",{"$f":"VLOOKUP(B2632,[1]Sheet1!$A:$I,8,0)","v":"78.00"},{"$f":"VLOOKUP(B2632,[1]Sheet1!$A:$I,9,0)","v":"78.00"},{"$f":"VLOOKUP(B2632,[2]少数民族加分!$C$1:$E$65536,3,FALSE)","v":2},{"v":158,"d":"158.00"}]
[2631,"4252270705314","吴世钒","319独山县乡镇中学","02初中历史教师",{"$f":"VLOOKUP(B2633,[1]Sheet1!$A:$I,8,0)","v":"82.00"},{"$f":"VLOOKUP(B2633,[1]Sheet1!$A:$I,9,0)","v":"74.00"},{"$f":"VLOOKUP(B2633,[2]少数民族加分!$C$1:$E$65536,3,FALSE)","v":2},{"v":158,"d":"158.00"}]
[2633,"4252270701501","龙勇飞","319独山县乡镇中学","02初中历史教师",{"$f":"VLOOKUP(B2634,[1]Sheet1!$A:$I,8,0)","v":"74.00"},{"$f":"VLOOKUP(B2634,[1]Sheet1!$A:$I,9,0)","v":"82.00"},{"$f":"VLOOKUP(B2634,[2]少数民族加分!$C$1:$E$65536,3,FALSE)","v":2},{"v":158,"d":"158.00"}]
[2635,"4252270702502","乐启坤","319独山县乡镇中学","02初中历史教师",{"$f":"VLOOKUP(B2635,[1]Sheet1!$A:$I,8,0)","v":"85.50"},{"$f":"VLOOKUP(B2635,[1]Sheet1!$A:$I,9,0)","v":"69.50"},{"$f":"VLOOKUP(B2635,[2]少数民族加分!$C$1:$E$65536,3,FALSE)","v":2},{"v":157,"d":"157.00"}]
[2636,"4252270702715","赵远盛","319独山县乡镇中学","02初中历史教师",{"$f":"VLOOKUP(B2636,[1]Sheet1!$A:$I,8,0)","v":"81.00"},{"$f":"VLOOKUP(B2636,[1]Sheet1!$A:$I,9,0)","v":"74.00"},{"$f":"VLOOKUP(B2636,[2]少数民族加分!$C$1:$E$65536,3,FALSE)","v":2},{"v":157,"d":"157.00"}]
[2638,"4252270704705","杨桂香","319独山县乡镇中学","02初中历史教师",{"$f":"VLOOKUP(B2637,[1]Sheet1!$A:$I,8,0)","v":"79.00"},{"$f":"VLOOKUP(B2637,[1]Sheet1!$A:$I,9,0)","v":"76.00"},{"$f":"VLOOKUP(B2637,[2]少数民族加分!$C$1:$E$65536,3,FALSE)","v":2},{"v":157,"d":"157.00"}]
[2639,"4252270706517","李昌海","319独山县乡镇中学","02初中历史教师",{"$f":"VLOOKUP(B2638,[1]Sheet1!$A:$I,8,0)","v":"79.50"},{"$f":"VLOOKUP(B2638,[1]Sheet1!$A:$I,9,0)","v":"75.00"},{"$f":"VLOOKUP(B2638,[2]少数民族加分!$C$1:$E$65536,3,FALSE)","v":2},{"v":156.5,"d":"156.50"}]
[2632,"4252270705711","吴艳","319独山县乡镇中学","02初中历史教师",{"$f":"VLOOKUP(B2639,[1]Sheet1!$A:$I,8,0)","v":"82.00"},{"$f":"VLOOKUP(B2639,[1]Sheet1!$A:$I,9,0)","v":"74.00"},null,{"v":156,"d":"156.00"}]
[2634,"4252270701423","朱仕成","319独山县乡镇中学","02初中历史教师",{"$f":"VLOOKUP(B2640,[1]Sheet1!$A:$I,8,0)","v":"85.50"},{"$f":"VLOOKUP(B2640,[1]Sheet1!$A:$I,9,0)","v":"70.00"},null,{"v":155.5,"d":"155.50"}]
[2640,"4252270704806","张吉仕","319独山县乡镇中学","02初中历史教师",{"$f":"VLOOKUP(B2641,[1]Sheet1!$A:$I,8,0)","v":"73.50"},{"$f":"VLOOKUP(B2641,[1]Sheet1!$A:$I,9,0)","v":"80.00"},{"$f":"VLOOKUP(B2641,[2]少数民族加分!$C$1:$E$65536,3,FALSE)","v":2},{"v":155.5,"d":"155.50"}]
[2637,"4252270703526","耿钰明","319独山县乡镇中学","02初中历史教师",{"$f":"VLOOKUP(B2642,[1]Sheet1!$A:$I,8,0)","v":"76.00"},{"$f":"VLOOKUP(B2642,[1]Sheet1!$A:$I,9,0)","v":"79.00"},null,{"v":155,"d":"155.00"}]
[2642,"4252270705602","侯艳","319独山县乡镇中学","02初中历史教师",{"$f":"VLOOKUP(B2643,[1]Sheet1!$A:$I,8,0)","v":"89.50"},{"$f":"VLOOKUP(B2643,[1]Sheet1!$A:$I,9,0)","v":"63.50"},{"$f":"VLOOKUP(B2643,[2]少数民族加分!$C$1:$E$65536,3,FALSE)","v":2},{"v":155,"d":"155.00"}]
[2644,"4252270704125","龙凤","319独山县乡镇中学","02初中历史教师",{"$f":"VLOOKUP(B2644,[1]Sheet1!$A:$I,8,0)","v":"86.00"},{"$f":"VLOOKUP(B2644,[1]Sheet1!$A:$I,9,0)","v":"66.50"},{"$f":"VLOOKUP(B2644,[2]少数民族加分!$C$1:$E$65536,3,FALSE)","v":2},{"v":154.5,"d":"154.50"}]
[2645,"4252270705124","张安云","319独山县乡镇中学","02初中历史教师",{"$f":"VLOOKUP(B2645,[1]Sheet1!$A:$I,8,0)","v":"78.50"},{"$f":"VLOOKUP(B2645,[1]Sheet1!$A:$I,9,0)","v":"74.00"},{"$f":"VLOOKUP(B2645,[2]少数民族加分!$C$1:$E$65536,3,FALSE)","v":2},{"v":154.5,"d":"154.50"}]
[2646,"4252270705412","曾纪素","319独山县乡镇中学","02初中历史教师",{"$f":"VLOOKUP(B2646,[1]Sheet1!$A:$I,8,0)","v":"85.50"},{"$f":"VLOOKUP(B2646,[1]Sheet1!$A:$I,9,0)","v":"67.00"},{"$f":"VLOOKUP(B2646,[2]少数民族加分!$C$1:$E$65536,3,FALSE)","v":2},{"v":154.5,"d":"154.50"}]
[2649,"4252270701605","田小云","319独山县乡镇中学","02初中历史教师",{"$f":"VLOOKUP(B2647,[1]Sheet1!$A:$I,8,0)","v":"78.50"},{"$f":"VLOOKUP(B2647,[1]Sheet1!$A:$I,9,0)","v":"73.00"},{"$f":"VLOOKUP(B2647,[2]少数民族加分!$C$1:$E$65536,3,FALSE)","v":2},{"v":153.5,"d":"153.50"}]
[2641,"4252270705420","王云兰","319独山县乡镇中学","02初中历史教师",{"$f":"VLOOKUP(B2648,[1]Sheet1!$A:$I,8,0)","v":"83.00"},{"$f":"VLOOKUP(B2648,[1]Sheet1!$A:$I,9,0)","v":"70.00"},null,{"v":153,"d":"153.00"}]
[2643,"4252270705805","蔡雪芬","319独山县乡镇中学","02初中历史教师",{"$f":"VLOOKUP(B2649,[1]Sheet1!$A:$I,8,0)","v":"78.00"},{"$f":"VLOOKUP(B2649,[1]Sheet1!$A:$I,9,0)","v":"75.00"},null,{"v":153,"d":"153.00"}]
[2647,"4252270706603","杨孟琴","319独山县乡镇中学","02初中历史教师",{"$f":"VLOOKUP(B2650,[1]Sheet1!$A:$I,8,0)","v":"77.50"},{"$f":"VLOOKUP(B2650,[1]Sheet1!$A:$I,9,0)","v":"75.00"},null,{"v":152.5,"d":"152.50"}]
[2648,"4252270702103","王兴","319独山县乡镇中学","02初中历史教师",{"$f":"VLOOKUP(B2651,[1]Sheet1!$A:$I,8,0)","v":"88.00"},{"$f":"VLOOKUP(B2651,[1]Sheet1!$A:$I,9,0)","v":"64.00"},null,{"v":152,"d":"152.00"}]
[2652,"4252270704716","罗文贵","319独山县乡镇中学","02初中历史教师",{"$f":"VLOOKUP(B2652,[1]Sheet1!$A:$I,8,0)","v":"69.00"},{"$f":"VLOOKUP(B2652,[1]Sheet1!$A:$I,9,0)","v":"81.00"},{"$f":"VLOOKUP(B2652,[2]少数民族加分!$C$1:$E$65536,3,FALSE)","v":2},{"v":152,"d":"152.00"}]
[2650,"4252270705721","杨丹","319独山县乡镇中学","02初中历史教师",{"$f":"VLOOKUP(B2653,[1]Sheet1!$A:$I,8,0)","v":"82.50"},{"$f":"VLOOKUP(B2653,[1]Sheet1!$A:$I,9,0)","v":"69.00"},null,{"v":151.5,"d":"151.50"}]
[2651,"4252270705920","熊兴霜","319独山县乡镇中学","02初中历史教师",{"$f":"VLOOKUP(B2654,[1]Sheet1!$A:$I,8,0)","v":"83.50"},{"$f":"VLOOKUP(B2654,[1]Sheet1!$A:$I,9,0)","v":"68.00"},null,{"v":151.5,"d":"151.50"}]
[2654,"4252270701312","张帮兴","319独山县乡镇中学","02初中历史教师",{"$f":"VLOOKUP(B2655,[1]Sheet1!$A:$I,8,0)","v":"74.50"},{"$f":"VLOOKUP(B2655,[1]Sheet1!$A:$I,9,0)","v":"75.00"},{"$f":"VLOOKUP(B2655,[2]少数民族加分!$C$1:$E$65536,3,FALSE)","v":2},{"v":151.5,"d":"151.50"}]
[2656,"4252270704002","韦洋洋","319独山县乡镇中学","02初中历史教师",{"$f":"VLOOKUP(B2656,[1]Sheet1!$A:$I,8,0)","v":"72.00"},{"$f":"VLOOKUP(B2656,[1]Sheet1!$A:$I,9,0)","v":"77.00"},{"$f":"VLOOKUP(B2656,[2]少数民族加分!$C$1:$E$65536,3,FALSE)","v":2},{"v":151,"d":"151.00"}]
[2658,"4252270706330","吴爱莲","319独山县乡镇中学","02初中历史教师",{"$f":"VLOOKUP(B2657,[1]Sheet1!$A:$I,8,0)","v":"69.00"},{"$f":"VLOOKUP(B2657,[1]Sheet1!$A:$I,9,0)","v":"79.00"},{"$f":"VLOOKUP(B2657,[2]少数民族加分!$C$1:$E$65536,3,FALSE)","v":2},{"v":150,"d":"150.00"}]
[2653,"4252270704703","尚星星","319独山县乡镇中学","02初中历史教师",{"$f":"VLOOKUP(B2658,[1]Sheet1!$A:$I,8,0)","v":"78.50"},{"$f":"VLOOKUP(B2658,[1]Sheet1!$A:$I,9,0)","v":"71.00"},null,{"v":149.5,"d":"149.50"}]
[2655,"4252270701819","江金花","319独山县乡镇中学","02初中历史教师",{"$f":"VLOOKUP(B2659,[1]Sheet1!$A:$I,8,0)","v":"72.00"},{"$f":"VLOOKUP(B2659,[1]Sheet1!$A:$I,9,0)","v":"77.00"},null,{"v":149,"d":"149.00"}]
[2661,"4252270706521","张磊","319独山县乡镇中学","02初中历史教师",{"$f":"VLOOKUP(B2660,[1]Sheet1!$A:$I,8,0)","v":"83.50"},{"$f":"VLOOKUP(B2660,[1]Sheet1!$A:$I,9,0)","v":"63.00"},{"$f":"VLOOKUP(B2660,[2]少数民族加分!$C$1:$E$65536,3,FALSE)","v":2},{"v":148.5,"d":"148.50"}]
[2657,"4252270705821","周倩","319独山县乡镇中学","02初中历史教师",{"$f":"VLOOKUP(B2661,[1]Sheet1!$A:$I,8,0)","v":"73.00"},{"$f":"VLOOKUP(B2661,[1]Sheet1!$A:$I,9,0)","v":"75.00"},null,{"v":148,"d":"148.00"}]
[2659,"4252270702703","孔垂饶","319独山县乡镇中学","02初中历史教师",{"$f":"VLOOKUP(B2662,[1]Sheet1!$A:$I,8,0)","v":"88.00"},{"$f":"VLOOKUP(B2662,[1]Sheet1!$A:$I,9,0)","v":"60.00"},null,{"v":148,"d":"148.00"}]
[2662,"4252270703018","覃志坤","319独山县乡镇中学","02初中历史教师",{"$f":"VLOOKUP(B2663,[1]Sheet1!$A:$I,8,0)","v":"68.00"},{"$f":"VLOOKUP(B2663,[1]Sheet1!$A:$I,9,0)","v":"78.00"},{"$f":"VLOOKUP(B2663,[2]少数民族加分!$C$1:$E$65536,3,FALSE)","v":2},{"v":148,"d":"148.00"}]
[2663,"4252270701804","杨华毅","319独山县乡镇中学","02初中历史教师",{"$f":"VLOOKUP(B2664,[1]Sheet1!$A:$I,8,0)","v":"74.50"},{"$f":"VLOOKUP(B2664,[1]Sheet1!$A:$I,9,0)","v":"71.00"},{"$f":"VLOOKUP(B2664,[2]少数民族加分!$C$1:$E$65536,3,FALSE)","v":2},{"v":147.5,"d":"147.50"}]
[2660,"4252270705317","谢江红","319独山县乡镇中学","02初中历史教师",{"$f":"VLOOKUP(B2665,[1]Sheet1!$A:$I,8,0)","v":"75.50"},{"$f":"VLOOKUP(B2665,[1]Sheet1!$A:$I,9,0)","v":"71.00"},null,{"v":146.5,"d":"146.50"}]
[2665,"4252270706509","易佰仟","319独山县乡镇中学","02初中历史教师",{"$f":"VLOOKUP(B2666,[1]Sheet1!$A:$I,8,0)","v":"68.00"},{"$f":"VLOOKUP(B2666,[1]Sheet1!$A:$I,9,0)","v":"74.00"},{"$f":"VLOOKUP(B2666,[2]少数民族加分!$C$1:$E$65536,3,FALSE)","v":2},{"v":144,"d":"144.00"}]
[2664,"4252270703014","王庭秀","319独山县乡镇中学","02初中历史教师",{"$f":"VLOOKUP(B2667,[1]Sheet1!$A:$I,8,0)","v":"64.50"},{"$f":"VLOOKUP(B2667,[1]Sheet1!$A:$I,9,0)","v":"79.00"},null,{"v":143.5,"d":"143.50"}]
[2666,"4252270701330","蒙祖霞","319独山县乡镇中学","02初中历史教师",{"$f":"VLOOKUP(B2668,[1]Sheet1!$A:$I,8,0)","v":"76.00"},{"$f":"VLOOKUP(B2668,[1]Sheet1!$A:$I,9,0)","v":"65.00"},{"$f":"VLOOKUP(B2668,[2]少数民族加分!$C$1:$E$65536,3,FALSE)","v":2},{"v":143,"d":"143.00"}]
[2667,"4252270704803","唐淑芳","319独山县乡镇中学","02初中历史教师",{"$f":"VLOOKUP(B2669,[1]Sheet1!$A:$I,8,0)","v":"81.50"},{"$f":"VLOOKUP(B2669,[1]Sheet1!$A:$I,9,0)","v":"59.00"},{"$f":"VLOOKUP(B2669,[2]少数民族加分!$C$1:$E$65536,3,FALSE)","v":2},{"v":142.5,"d":"142.50"}]
[2668,"4252270705326","王丽","319独山县乡镇中学","02初中历史教师",{"$f":"VLOOKUP(B2670,[1]Sheet1!$A:$I,8,0)","v":"60.00"},{"$f":"VLOOKUP(B2670,[1]Sheet1!$A:$I,9,0)","v":"80.00"},{"$f":"VLOOKUP(B2670,[2]少数民族加分!$C$1:$E$65536,3,FALSE)","v":2},{"v":142,"d":"142.00"}]
[2669,"4252270705919","李宗怀","319独山县乡镇中学","02初中历史教师",{"$f":"VLOOKUP(B2671,[1]Sheet1!$A:$I,8,0)","v":"68.50"},{"$f":"VLOOKUP(B2671,[1]Sheet1!$A:$I,9,0)","v":"71.00"},null,{"v":139.5,"d":"139.50"}]
[2670,"4252270705224","吴方庆","319独山县乡镇中学","02初中历史教师",{"$f":"VLOOKUP(B2672,[1]Sheet1!$A:$I,8,0)","v":"66.50"},{"$f":"VLOOKUP(B2672,[1]Sheet1!$A:$I,9,0)","v":"71.00"},{"$f":"VLOOKUP(B2672,[2]少数民族加分!$C$1:$E$65536,3,FALSE)","v":2},{"v":139.5,"d":"139.50"}]
[2671,"4252270701730","黎蓓蓓","319独山县乡镇中学","02初中历史教师",{"$f":"VLOOKUP(B2673,[1]Sheet1!$A:$I,8,0)","v":"67.50"},{"$f":"VLOOKUP(B2673,[1]Sheet1!$A:$I,9,0)","v":"69.00"},{"$f":"VLOOKUP(B2673,[2]少数民族加分!$C$1:$E$65536,3,FALSE)","v":2},{"v":138.5,"d":"138.50"}]
[2672,"4252270702710","石晓霞","319独山县乡镇中学","02初中历史教师",{"$f":"VLOOKUP(B2674,[1]Sheet1!$A:$I,8,0)","v":"79.00"},{"$f":"VLOOKUP(B2674,[1]Sheet1!$A:$I,9,0)","v":"57.00"},{"$f":"VLOOKUP(B2674,[2]少数民族加分!$C$1:$E$65536,3,FALSE)","v":2},{"v":138,"d":"138.00"}]
[2673,"4252270701403","雷永福","319独山县乡镇中学","02初中历史教师",{"$f":"VLOOKUP(B2675,[1]Sheet1!$A:$I,8,0)","v":"63.00"},{"$f":"VLOOKUP(B2675,[1]Sheet1!$A:$I,9,0)","v":"72.00"},{"$f":"VLOOKUP(B2675,[2]少数民族加分!$C$1:$E$65536,3,FALSE)","v":2},{"v":137,"d":"137.00"}]
[2675,"4252270702007","吴春梅","319独山县乡镇中学","02初中历史教师",{"$f":"VLOOKUP(B2676,[1]Sheet1!$A:$I,8,0)","v":"56.50"},{"$f":"VLOOKUP(B2676,[1]Sheet1!$A:$I,9,0)","v":"77.00"},{"$f":"VLOOKUP(B2676,[2]少数民族加分!$C$1:$E$65536,3,FALSE)","v":2},{"v":135.5,"d":"135.50"}]
[2676,"4252270702605","白如春","319独山县乡镇中学","02初中历史教师",{"$f":"VLOOKUP(B2677,[1]Sheet1!$A:$I,8,0)","v":"60.50"},{"$f":"VLOOKUP(B2677,[1]Sheet1!$A:$I,9,0)","v":"73.00"},{"$f":"VLOOKUP(B2677,[2]少数民族加分!$C$1:$E$65536,3,FALSE)","v":2},{"v":135.5,"d":"135.50"}]
[2677,"4252270701708","龙庆付","319独山县乡镇中学","02初中历史教师",{"$f":"VLOOKUP(B2678,[1]Sheet1!$A:$I,8,0)","v":"62.00"},{"$f":"VLOOKUP(B2678,[1]Sheet1!$A:$I,9,0)","v":"71.00"},{"$f":"VLOOKUP(B2678,[2]少数民族加分!$C$1:$E$65536,3,FALSE)","v":2},{"v":135,"d":"135.00"}]
[2678,"4252270703501","杨春珍","319独山县乡镇中学","02初中历史教师",{"$f":"VLOOKUP(B2679,[1]Sheet1!$A:$I,8,0)","v":"70.00"},{"$f":"VLOOKUP(B2679,[1]Sheet1!$A:$I,9,0)","v":"62.00"},{"$f":"VLOOKUP(B2679,[2]少数民族加分!$C$1:$E$65536,3,FALSE)","v":2},{"v":134,"d":"134.00"}]
[2674,"4252270701813","兰丽丽","319独山县乡镇中学","02初中历史教师",{"$f":"VLOOKUP(B2680,[1]Sheet1!$A:$I,8,0)","v":"77.50"},{"$f":"VLOOKUP(B2680,[1]Sheet1!$A:$I,9,0)","v":"56.00"},null,{"v":133.5,"d":"133.50"}]
[2679,"4252270705225","吴才高","319独山县乡镇中学","02初中历史教师",{"$f":"VLOOKUP(B2681,[1]Sheet1!$A:$I,8,0)","v":"70.00"},{"$f":"VLOOKUP(B2681,[1]Sheet1!$A:$I,9,0)","v":"61.00"},{"$f":"VLOOKUP(B2681,[2]少数民族加分!$C$1:$E$65536,3,FALSE)","v":2},{"v":133,"d":"133.00"}]
[2680,"4252270701818","袁伟","319独山县乡镇中学","02初中历史教师",{"$f":"VLOOKUP(B2682,[1]Sheet1!$A:$I,8,0)","v":"65.00"},{"$f":"VLOOKUP(B2682,[1]Sheet1!$A:$I,9,0)","v":"63.00"},null,{"v":128,"d":"128.00"}]
[2681,"4252270704923","申智勇","319独山县乡镇中学","02初中历史教师",{"$f":"VLOOKUP(B2683,[1]Sheet1!$A:$I,8,0)","v":"74.50"},{"$f":"VLOOKUP(B2683,[1]Sheet1!$A:$I,9,0)","v":"48.00"},{"$f":"VLOOKUP(B2683,[2]少数民族加分!$C$1:$E$65536,3,FALSE)","v":2},{"v":124.5,"d":"124.50"}]
[2682,"4252270705308","李昌顺","319独山县乡镇中学","02初中历史教师",{"$f":"VLOOKUP(B2684,[1]Sheet1!$A:$I,8,0)","v":"88.50"},{"$f":"VLOOKUP(B2684,[1]Sheet1!$A:$I,9,0)","v":"33.00"},{"$f":"VLOOKUP(B2684,[2]少数民族加分!$C$1:$E$65536,3,FALSE)","v":2},{"v":123.5,"d":"123.50"}]
[2683,"4252270706008","蒙有鹏","319独山县乡镇中学","02初中历史教师",{"$f":"VLOOKUP(B2685,[1]Sheet1!$A:$I,8,0)","v":"58.50"},{"$f":"VLOOKUP(B2685,[1]Sheet1!$A:$I,9,0)","v":"57.00"},{"$f":"VLOOKUP(B2685,[2]少数民族加分!$C$1:$E$65536,3,FALSE)","v":2},{"v":117.5,"d":"117.50"}]
[2684,"4252270703720","郭东升","319独山县乡镇中学","02初中历史教师",{"$f":"VLOOKUP(B2686,[1]Sheet1!$A:$I,8,0)","v":"0.00"},{"$f":"VLOOKUP(B2686,[1]Sheet1!$A:$I,9,0)","v":"0.00"},null,"缺考"]
[2685,"4252270703803","刘琴","319独山县乡镇中学","02初中历史教师",{"$f":"VLOOKUP(B2687,[1]Sheet1!$A:$I,8,0)","v":"0.00"},{"$f":"VLOOKUP(B2687,[1]Sheet1!$A:$I,9,0)","v":"0.00"},null,"缺考"]
[2686,"4252270703904","刘芳","319独山县乡镇中学","02初中历史教师",{"$f":"VLOOKUP(B2688,[1]Sheet1!$A:$I,8,0)","v":"0.00"},{"$f":"VLOOKUP(B2688,[1]Sheet1!$A:$I,9,0)","v":"0.00"},{"$f":"VLOOKUP(B2688,[2]少数民族加分!$C$1:$E$65536,3,FALSE)","v":2},"缺考"]
[2687,"4252270703916","冉茂旭","319独山县乡镇中学","02初中历史教师",{"$f":"VLOOKUP(B2689,[1]Sheet1!$A:$I,8,0)","v":"0.00"},{"$f":"VLOOKUP(B2689,[1]Sheet1!$A:$I,9,0)","v":"0.00"},{"$f":"VLOOKUP(B2689,[2]少数民族加分!$C$1:$E$65536,3,FALSE)","v":2},"缺考"]
[2688,"4252270704207","吴金琴","319独山县乡镇中学","02初中历史教师",{"$f":"VLOOKUP(B2690,[1]Sheet1!$A:$I,8,0)","v":"0.00"},{"$f":"VLOOKUP(B2690,[1]Sheet1!$A:$I,9,0)","v":"0.00"},{"$f":"VLOOKUP(B2690,[2]少数民族加分!$C$1:$E$65536,3,FALSE)","v":2},"缺考"]
[2689,"4252270704208","周丽","319独山县乡镇中学","02初中历史教师",{"$f":"VLOOKUP(B2691,[1]Sheet1!$A:$I,8,0)","v":"0.00"},{"$f":"VLOOKUP(B2691,[1]Sheet1!$A:$I,9,0)","v":"0.00"},{"$f":"VLOOKUP(B2691,[2]少数民族加分!$C$1:$E$65536,3,FALSE)","v":2},"缺考"]
[2690,"4252270704604","韩平","319独山县乡镇中学","02初中历史教师",{"$f":"VLOOKUP(B2692,[1]Sheet1!$A:$I,8,0)","v":"0.00"},{"$f":"VLOOKUP(B2692,[1]Sheet1!$A:$I,9,0)","v":"0.00"},null,"缺考"]
[2691,"4252270704612","罗妮","319独山县乡镇中学","02初中历史教师",{"$f":"VLOOKUP(B2693,[1]Sheet1!$A:$I,8,0)","v":"0.00"},{"$f":"VLOOKUP(B2693,[1]Sheet1!$A:$I,9,0)","v":"0.00"},{"$f":"VLOOKUP(B2693,[2]少数民族加分!$C$1:$E$65536,3,FALSE)","v":2},"缺考"]
[2692,"4252270704707","吴秀春","319独山县乡镇中学","02初中历史教师",{"$f":"VLOOKUP(B2694,[1]Sheet1!$A:$I,8,0)","v":"0.00"},{"$f":"VLOOKUP(B2694,[1]Sheet1!$A:$I,9,0)","v":"0.00"},{"$f":"VLOOKUP(B2694,[2]少数民族加分!$C$1:$E$65536,3,FALSE)","v":2},"缺考"]
[2693,"4252270704719","李飞飞","319独山县乡镇中学","02初中历史教师",{"$f":"VLOOKUP(B2695,[1]Sheet1!$A:$I,8,0)","v":"0.00"},{"$f":"VLOOKUP(B2695,[1]Sheet1!$A:$I,9,0)","v":"0.00"},null,"缺考"]
[2694,"4252270704722","李敏红","319独山县乡镇中学","02初中历史教师",{"$f":"VLOOKUP(B2696,[1]Sheet1!$A:$I,8,0)","v":"0.00"},{"$f":"VLOOKUP(B2696,[1]Sheet1!$A:$I,9,0)","v":"0.00"},{"$f":"VLOOKUP(B2696,[2]少数民族加分!$C$1:$E$65536,3,FALSE)","v":2},"缺考"]
[2695,"4252270705020","袁姣姣","319独山县乡镇中学","02初中历史教师",{"$f":"VLOOKUP(B2697,[1]Sheet1!$A:$I,8,0)","v":"0.00"},{"$f":"VLOOKUP(B2697,[1]Sheet1!$A:$I,9,0)","v":"0.00"},null,"缺考"]
[2696,"4252270705021","罗艳洋","319独山县乡镇中学","02初中历史教师",{"$f":"VLOOKUP(B2698,[1]Sheet1!$A:$I,8,0)","v":"0.00"},{"$f":"VLOOKUP(B2698,[1]Sheet1!$A:$I,9,0)","v":"0.00"},{"$f":"VLOOKUP(B2698,[2]少数民族加分!$C$1:$E$65536,3,FALSE)","v":2},"缺考"]
[2697,"4252270705026","杨彦培","319独山县乡镇中学","02初中历史教师",{"$f":"VLOOKUP(B2699,[1]Sheet1!$A:$I,8,0)","v":"0.00"},{"$f":"VLOOKUP(B2699,[1]Sheet1!$A:$I,9,0)","v":"0.00"},{"$f":"VLOOKUP(B2699,[2]少数民族加分!$C$1:$E$65536,3,FALSE)","v":2},"缺考"]
[2698,"4252270705109","陶艳","319独山县乡镇中学","02初中历史教师",{"$f":"VLOOKUP(B2700,[1]Sheet1!$A:$I,8,0)","v":"0.00"},{"$f":"VLOOKUP(B2700,[1]Sheet1!$A:$I,9,0)","v":"0.00"},null,"缺考"]
[2699,"4252270705121","邓明丹","319独山县乡镇中学","02初中历史教师",{"$f":"VLOOKUP(B2701,[1]Sheet1!$A:$I,8,0)","v":"0.00"},{"$f":"VLOOKUP(B2701,[1]Sheet1!$A:$I,9,0)","v":"0.00"},null,"缺考"]
[2700,"4252270705123","杨胜芳","319独山县乡镇中学","02初中历史教师",{"$f":"VLOOKUP(B2702,[1]Sheet1!$A:$I,8,0)","v":"0.00"},{"$f":"VLOOKUP(B2702,[1]Sheet1!$A:$I,9,0)","v":"0.00"},{"$f":"VLOOKUP(B2702,[2]少数民族加分!$C$1:$E$65536,3,FALSE)","v":2},"缺考"]
[2701,"4252270705207","周红敏","319独山县乡镇中学","02初中历史教师",{"$f":"VLOOKUP(B2703,[1]Sheet1!$A:$I,8,0)","v":"0.00"},{"$f":"VLOOKUP(B2703,[1]Sheet1!$A:$I,9,0)","v":"0.00"},{"$f":"VLOOKUP(B2703,[2]少数民族加分!$C$1:$E$65536,3,FALSE)","v":2},"缺考"]
[2702,"4252270705219","刘建兵","319独山县乡镇中学","02初中历史教师",{"$f":"VLOOKUP(B2704,[1]Sheet1!$A:$I,8,0)","v":"0.00"},{"$f":"VLOOKUP(B2704,[1]Sheet1!$A:$I,9,0)","v":"0.00"},null,"缺考"]
[2703,"4252270705603","朱小姚","319独山县乡镇中学","02初中历史教师",{"$f":"VLOOKUP(B2705,[1]Sheet1!$A:$I,8,0)","v":"0.00"},{"$f":"VLOOKUP(B2705,[1]Sheet1!$A:$I,9,0)","v":"0.00"},null,"缺考"]
[2704,"4252270705612","张光桥","319独山县乡镇中学","02初中历史教师",{"$f":"VLOOKUP(B2706,[1]Sheet1!$A:$I,8,0)","v":"0.00"},{"$f":"VLOOKUP(B2706,[1]Sheet1!$A:$I,9,0)","v":"0.00"},{"$f":"VLOOKUP(B2706,[2]少数民族加分!$C$1:$E$65536,3,FALSE)","v":2},"缺考"]
[2705,"4252270705916","罗世泉","319独山县乡镇中学","02初中历史教师",{"$f":"VLOOKUP(B2707,[1]Sheet1!$A:$I,8,0)","v":"0.00"},{"$f":"VLOOKUP(B2707,[1]Sheet1!$A:$I,9,0)","v":"0.00"},{"$f":"VLOOKUP(B2707,[2]少数民族加分!$C$1:$E$65536,3,FALSE)","v":2},"缺考"]
[2706,"4252270705929","杨兴专","319独山县乡镇中学","02初中历史教师",{"$f":"VLOOKUP(B2708,[1]Sheet1!$A:$I,8,0)","v":"0.00"},{"$f":"VLOOKUP(B2708,[1]Sheet1!$A:$I,9,0)","v":"0.00"},{"$f":"VLOOKUP(B2708,[2]少数民族加分!$C$1:$E$65536,3,FALSE)","v":2},"缺考"]
[2707,"4252270706023","杨雪梅","319独山县乡镇中学","02初中历史教师",{"$f":"VLOOKUP(B2709,[1]Sheet1!$A:$I,8,0)","v":"0.00"},{"$f":"VLOOKUP(B2709,[1]Sheet1!$A:$I,9,0)","v":"0.00"},{"$f":"VLOOKUP(B2709,[2]少数民族加分!$C$1:$E$65536,3,FALSE)","v":2},"缺考"]
[2708,"4252270706211","张前","319独山县乡镇中学","02初中历史教师",{"$f":"VLOOKUP(B2710,[1]Sheet1!$A:$I,8,0)","v":"0.00"},{"$f":"VLOOKUP(B2710,[1]Sheet1!$A:$I,9,0)","v":"0.00"},{"$f":"VLOOKUP(B2710,[2]少数民族加分!$C$1:$E$65536,3,FALSE)","v":2},"缺考"]
[2709,"4252270706220","彭欢","319独山县乡镇中学","02初中历史教师",{"$f":"VLOOKUP(B2711,[1]Sheet1!$A:$I,8,0)","v":"0.00"},{"$f":"VLOOKUP(B2711,[1]Sheet1!$A:$I,9,0)","v":"0.00"},null,"缺考"]
[2710,"4252270706307","孔令贤","319独山县乡镇中学","02初中历史教师",{"$f":"VLOOKUP(B2712,[1]Sheet1!$A:$I,8,0)","v":"0.00"},{"$f":"VLOOKUP(B2712,[1]Sheet1!$A:$I,9,0)","v":"0.00"},null,"缺考"]
[2711,"4252270706516","宋燕珍","319独山县乡镇中学","02初中历史教师",{"$f":"VLOOKUP(B2713,[1]Sheet1!$A:$I,8,0)","v":"0.00"},{"$f":"VLOOKUP(B2713,[1]Sheet1!$A:$I,9,0)","v":"0.00"},{"$f":"VLOOKUP(B2713,[2]少数民族加分!$C$1:$E$65536,3,FALSE)","v":2},"缺考"]
[2712,"4252270706619","黄万芬","319独山县乡镇中学","02初中历史教师",{"$f":"VLOOKUP(B2714,[1]Sheet1!$A:$I,8,0)","v":"0.00"},{"$f":"VLOOKUP(B2714,[1]Sheet1!$A:$I,9,0)","v":"0.00"},{"$f":"VLOOKUP(B2714,[2]少数民族加分!$C$1:$E$65536,3,FALSE)","v":2},"缺考"]
[2713,"4252270706627","桂马春","319独山县乡镇中学","02初中历史教师",{"$f":"VLOOKUP(B2715,[1]Sheet1!$A:$I,8,0)","v":"0.00"},{"$f":"VLOOKUP(B2715,[1]Sheet1!$A:$I,9,0)","v":"0.00"},{"$f":"VLOOKUP(B2715,[2]少数民族加分!$C$1:$E$65536,3,FALSE)","v":2},"缺考"]
[2714,"4252270706705","石本富","319独山县乡镇中学","02初中历史教师",{"$f":"VLOOKUP(B2716,[1]Sheet1!$A:$I,8,0)","v":"0.00"},{"$f":"VLOOKUP(B2716,[1]Sheet1!$A:$I,9,0)","v":"0.00"},{"$f":"VLOOKUP(B2716,[2]少数民族加分!$C$1:$E$65536,3,FALSE)","v":2},"缺考"]
[2715,"4252270701417","田燕","319独山县乡镇中学","02初中历史教师",{"$f":"VLOOKUP(B2717,[1]Sheet1!$A:$I,8,0)","v":"0.00"},{"$f":"VLOOKUP(B2717,[1]Sheet1!$A:$I,9,0)","v":"0.00"},null,"缺考"]
[2716,"4252270701424","龙朝凤","319独山县乡镇中学","02初中历史教师",{"$f":"VLOOKUP(B2718,[1]Sheet1!$A:$I,8,0)","v":"0.00"},{"$f":"VLOOKUP(B2718,[1]Sheet1!$A:$I,9,0)","v":"0.00"},{"$f":"VLOOKUP(B2718,[2]少数民族加分!$C$1:$E$65536,3,FALSE)","v":2},"缺考"]
[2717,"4252270701614","陆燕燕","319独山县乡镇中学","02初中历史教师",{"$f":"VLOOKUP(B2719,[1]Sheet1!$A:$I,8,0)","v":"0.00"},{"$f":"VLOOKUP(B2719,[1]Sheet1!$A:$I,9,0)","v":"0.00"},{"$f":"VLOOKUP(B2719,[2]少数民族加分!$C$1:$E$65536,3,FALSE)","v":2},"缺考"]
[2718,"4252270701615","宋清","319独山县乡镇中学","02初中历史教师",{"$f":"VLOOKUP(B2720,[1]Sheet1!$A:$I,8,0)","v":"0.00"},{"$f":"VLOOKUP(B2720,[1]Sheet1!$A:$I,9,0)","v":"0.00"},null,"缺考"]
[2719,"4252270701717","潘梦","319独山县乡镇中学","02初中历史教师",{"$f":"VLOOKUP(B2721,[1]Sheet1!$A:$I,8,0)","v":"0.00"},{"$f":"VLOOKUP(B2721,[1]Sheet1!$A:$I,9,0)","v":"0.00"},{"$f":"VLOOKUP(B2721,[2]少数民族加分!$C$1:$E$65536,3,FALSE)","v":2},"缺考"]
[2720,"4252270701829","孔祥龙","319独山县乡镇中学","02初中历史教师",{"$f":"VLOOKUP(B2722,[1]Sheet1!$A:$I,8,0)","v":"0.00"},{"$f":"VLOOKUP(B2722,[1]Sheet1!$A:$I,9,0)","v":"0.00"},null,"缺考"]
[2721,"4252270702029","蒋丹","319独山县乡镇中学","02初中历史教师",{"$f":"VLOOKUP(B2723,[1]Sheet1!$A:$I,8,0)","v":"0.00"},{"$f":"VLOOKUP(B2723,[1]Sheet1!$A:$I,9,0)","v":"0.00"},null,"缺考"]
[2722,"4252270702308","段杏梅","319独山县乡镇中学","02初中历史教师",{"$f":"VLOOKUP(B2724,[1]Sheet1!$A:$I,8,0)","v":"0.00"},{"$f":"VLOOKUP(B2724,[1]Sheet1!$A:$I,9,0)","v":"0.00"},null,"缺考"]
[2723,"4252270702719","罗廷村","319独山县乡镇中学","02初中历史教师",{"$f":"VLOOKUP(B2725,[1]Sheet1!$A:$I,8,0)","v":"0.00"},{"$f":"VLOOKUP(B2725,[1]Sheet1!$A:$I,9,0)","v":"0.00"},{"$f":"VLOOKUP(B2725,[2]少数民族加分!$C$1:$E$65536,3,FALSE)","v":2},"缺考"]
[2724,"4252270702726","莫剑芳","319独山县乡镇中学","02初中历史教师",{"$f":"VLOOKUP(B2726,[1]Sheet1!$A:$I,8,0)","v":"0.00"},{"$f":"VLOOKUP(B2726,[1]Sheet1!$A:$I,9,0)","v":"0.00"},{"$f":"VLOOKUP(B2726,[2]少数民族加分!$C$1:$E$65536,3,FALSE)","v":2},"缺考"]
[2725,"4252270702915","杨小英","319独山县乡镇中学","02初中历史教师",{"$f":"VLOOKUP(B2727,[1]Sheet1!$A:$I,8,0)","v":"0.00"},{"$f":"VLOOKUP(B2727,[1]Sheet1!$A:$I,9,0)","v":"0.00"},{"$f":"VLOOKUP(B2727,[2]少数民族加分!$C$1:$E$65536,3,FALSE)","v":2},"缺考"]
[2726,"4252270703225","刘小雪","319独山县乡镇中学","02初中历史教师",{"$f":"VLOOKUP(B2728,[1]Sheet1!$A:$I,8,0)","v":"0.00"},{"$f":"VLOOKUP(B2728,[1]Sheet1!$A:$I,9,0)","v":"0.00"},null,"缺考"]
[2727,"4252270705623","颜钰琨","319独山县乡镇中学","03初中地理教师",{"$f":"VLOOKUP(B2729,[1]Sheet1!$A:$I,8,0)","v":"100.50"},{"$f":"VLOOKUP(B2729,[1]Sheet1!$A:$I,9,0)","v":"101.00"},null,{"v":201.5,"d":"201.50"}]
[2728,"4252270704201","罗华富","319独山县乡镇中学","03初中地理教师",{"$f":"VLOOKUP(B2730,[1]Sheet1!$A:$I,8,0)","v":"92.00"},{"$f":"VLOOKUP(B2730,[1]Sheet1!$A:$I,9,0)","v":"104.50"},{"$f":"VLOOKUP(B2730,[2]少数民族加分!$C$1:$E$65536,3,FALSE)","v":2},{"v":198.5,"d":"198.50"}]
[2729,"4252270703609","邰春芬","319独山县乡镇中学","03初中地理教师",{"$f":"VLOOKUP(B2731,[1]Sheet1!$A:$I,8,0)","v":"101.50"},{"$f":"VLOOKUP(B2731,[1]Sheet1!$A:$I,9,0)","v":"93.50"},{"$f":"VLOOKUP(B2731,[2]少数民族加分!$C$1:$E$65536,3,FALSE)","v":2},{"v":197,"d":"197.00"}]
[2730,"4252270705303","王洪欣","319独山县乡镇中学","03初中地理教师",{"$f":"VLOOKUP(B2732,[1]Sheet1!$A:$I,8,0)","v":"99.00"},{"$f":"VLOOKUP(B2732,[1]Sheet1!$A:$I,9,0)","v":"92.50"},{"$f":"VLOOKUP(B2732,[2]少数民族加分!$C$1:$E$65536,3,FALSE)","v":2},{"v":193.5,"d":"193.50"}]
[2731,"4252270701805","陈嘉","319独山县乡镇中学","03初中地理教师",{"$f":"VLOOKUP(B2733,[1]Sheet1!$A:$I,8,0)","v":"95.00"},{"$f":"VLOOKUP(B2733,[1]Sheet1!$A:$I,9,0)","v":"96.00"},{"$f":"VLOOKUP(B2733,[2]少数民族加分!$C$1:$E$65536,3,FALSE)","v":2},{"v":193,"d":"193.00"}]
[2732,"4252270705614","唐亮","319独山县乡镇中学","03初中地理教师",{"$f":"VLOOKUP(B2734,[1]Sheet1!$A:$I,8,0)","v":"103.00"},{"$f":"VLOOKUP(B2734,[1]Sheet1!$A:$I,9,0)","v":"87.00"},{"$f":"VLOOKUP(B2734,[2]少数民族加分!$C$1:$E$65536,3,FALSE)","v":2},{"v":192,"d":"192.00"}]
[2734,"4252270705023","禄颖","319独山县乡镇中学","03初中地理教师",{"$f":"VLOOKUP(B2735,[1]Sheet1!$A:$I,8,0)","v":"100.50"},{"$f":"VLOOKUP(B2735,[1]Sheet1!$A:$I,9,0)","v":"88.50"},{"$f":"VLOOKUP(B2735,[2]少数民族加分!$C$1:$E$65536,3,FALSE)","v":2},{"v":191,"d":"191.00"}]
[2733,"4252270704811","彭益绘","319独山县乡镇中学","03初中地理教师",{"$f":"VLOOKUP(B2736,[1]Sheet1!$A:$I,8,0)","v":"95.00"},{"$f":"VLOOKUP(B2736,[1]Sheet1!$A:$I,9,0)","v":"94.00"},null,{"v":189,"d":"189.00"}]
[2735,"4252270702920","杨鑫","319独山县乡镇中学","03初中地理教师",{"$f":"VLOOKUP(B2737,[1]Sheet1!$A:$I,8,0)","v":"95.50"},{"$f":"VLOOKUP(B2737,[1]Sheet1!$A:$I,9,0)","v":"93.00"},null,{"v":188.5,"d":"188.50"}]
[2739,"4252270705607","蒙菊","319独山县乡镇中学","03初中地理教师",{"$f":"VLOOKUP(B2738,[1]Sheet1!$A:$I,8,0)","v":"96.50"},{"$f":"VLOOKUP(B2738,[1]Sheet1!$A:$I,9,0)","v":"89.50"},{"$f":"VLOOKUP(B2738,[2]少数民族加分!$C$1:$E$65536,3,FALSE)","v":2},{"v":188,"d":"188.00"}]
[2736,"4252270701709","张显菊","319独山县乡镇中学","03初中地理教师",{"$f":"VLOOKUP(B2739,[1]Sheet1!$A:$I,8,0)","v":"96.50"},{"$f":"VLOOKUP(B2739,[1]Sheet1!$A:$I,9,0)","v":"90.50"},null,{"v":187,"d":"187.00"}]
[2741,"4252270704012","杨玉艳","319独山县乡镇中学","03初中地理教师",{"$f":"VLOOKUP(B2740,[1]Sheet1!$A:$I,8,0)","v":"96.50"},{"$f":"VLOOKUP(B2740,[1]Sheet1!$A:$I,9,0)","v":"88.50"},{"$f":"VLOOKUP(B2740,[2]少数民族加分!$C$1:$E$65536,3,FALSE)","v":2},{"v":187,"d":"187.00"}]
[2742,"4252270704611","胡继明","319独山县乡镇中学","03初中地理教师",{"$f":"VLOOKUP(B2741,[1]Sheet1!$A:$I,8,0)","v":"97.00"},{"$f":"VLOOKUP(B2741,[1]Sheet1!$A:$I,9,0)","v":"88.00"},{"$f":"VLOOKUP(B2741,[2]少数民族加分!$C$1:$E$65536,3,FALSE)","v":2},{"v":187,"d":"187.00"}]
[2743,"4252270706614","舒海静","319独山县乡镇中学","03初中地理教师",{"$f":"VLOOKUP(B2742,[1]Sheet1!$A:$I,8,0)","v":"96.50"},{"$f":"VLOOKUP(B2742,[1]Sheet1!$A:$I,9,0)","v":"88.50"},{"$f":"VLOOKUP(B2742,[2]少数民族加分!$C$1:$E$65536,3,FALSE)","v":2},{"v":187,"d":"187.00"}]
[2737,"4252270701418","郑玲","319独山县乡镇中学","03初中地理教师",{"$f":"VLOOKUP(B2743,[1]Sheet1!$A:$I,8,0)","v":"104.50"},{"$f":"VLOOKUP(B2743,[1]Sheet1!$A:$I,9,0)","v":"82.00"},null,{"v":186.5,"d":"186.50"}]
[2738,"4252270702003","张叶红","319独山县乡镇中学","03初中地理教师",{"$f":"VLOOKUP(B2744,[1]Sheet1!$A:$I,8,0)","v":"100.00"},{"$f":"VLOOKUP(B2744,[1]Sheet1!$A:$I,9,0)","v":"86.00"},null,{"v":186,"d":"186.00"}]
[2745,"4252270704714","陈奇","319独山县乡镇中学","03初中地理教师",{"$f":"VLOOKUP(B2745,[1]Sheet1!$A:$I,8,0)","v":"89.00"},{"$f":"VLOOKUP(B2745,[1]Sheet1!$A:$I,9,0)","v":"95.00"},{"$f":"VLOOKUP(B2745,[2]少数民族加分!$C$1:$E$65536,3,FALSE)","v":2},{"v":186,"d":"186.00"}]
[2746,"4252270706209","代明会","319独山县乡镇中学","03初中地理教师",{"$f":"VLOOKUP(B2746,[1]Sheet1!$A:$I,8,0)","v":"87.50"},{"$f":"VLOOKUP(B2746,[1]Sheet1!$A:$I,9,0)","v":"96.00"},{"$f":"VLOOKUP(B2746,[2]少数民族加分!$C$1:$E$65536,3,FALSE)","v":2},{"v":185.5,"d":"185.50"}]
[2747,"4252270706416","龙晓芳","319独山县乡镇中学","03初中地理教师",{"$f":"VLOOKUP(B2747,[1]Sheet1!$A:$I,8,0)","v":"97.50"},{"$f":"VLOOKUP(B2747,[1]Sheet1!$A:$I,9,0)","v":"86.00"},{"$f":"VLOOKUP(B2747,[2]少数民族加分!$C$1:$E$65536,3,FALSE)","v":2},{"v":185.5,"d":"185.50"}]
[2740,"4252270703820","刘艳云","319独山县乡镇中学","03初中地理教师",{"$f":"VLOOKUP(B2748,[1]Sheet1!$A:$I,8,0)","v":"108.00"},{"$f":"VLOOKUP(B2748,[1]Sheet1!$A:$I,9,0)","v":"77.00"},null,{"v":185,"d":"185.00"}]
[2744,"4252270705521","陆承红","319独山县乡镇中学","03初中地理教师",{"$f":"VLOOKUP(B2749,[1]Sheet1!$A:$I,8,0)","v":"93.00"},{"$f":"VLOOKUP(B2749,[1]Sheet1!$A:$I,9,0)","v":"91.50"},null,{"v":184.5,"d":"184.50"}]
[2749,"4252270705007","石丽","319独山县乡镇中学","03初中地理教师",{"$f":"VLOOKUP(B2750,[1]Sheet1!$A:$I,8,0)","v":"92.50"},{"$f":"VLOOKUP(B2750,[1]Sheet1!$A:$I,9,0)","v":"89.00"},{"$f":"VLOOKUP(B2750,[2]少数民族加分!$C$1:$E$65536,3,FALSE)","v":2},{"v":183.5,"d":"183.50"}]
[2752,"4252270703328","徐先桃","319独山县乡镇中学","03初中地理教师",{"$f":"VLOOKUP(B2751,[1]Sheet1!$A:$I,8,0)","v":"90.00"},{"$f":"VLOOKUP(B2751,[1]Sheet1!$A:$I,9,0)","v":"91.00"},{"$f":"VLOOKUP(B2751,[2]少数民族加分!$C$1:$E$65536,3,FALSE)","v":2},{"v":183,"d":"183.00"}]
[2748,"4252270706804","李臣会","319独山县乡镇中学","03初中地理教师",{"$f":"VLOOKUP(B2752,[1]Sheet1!$A:$I,8,0)","v":"90.50"},{"$f":"VLOOKUP(B2752,[1]Sheet1!$A:$I,9,0)","v":"91.50"},null,{"v":182,"d":"182.00"}]
[2750,"4252270705216","宋芳芳","319独山县乡镇中学","03初中地理教师",{"$f":"VLOOKUP(B2753,[1]Sheet1!$A:$I,8,0)","v":"88.00"},{"$f":"VLOOKUP(B2753,[1]Sheet1!$A:$I,9,0)","v":"93.50"},null,{"v":181.5,"d":"181.50"}]
[2753,"4252270702903","何覃爽","319独山县乡镇中学","03初中地理教师",{"$f":"VLOOKUP(B2754,[1]Sheet1!$A:$I,8,0)","v":"91.00"},{"$f":"VLOOKUP(B2754,[1]Sheet1!$A:$I,9,0)","v":"88.50"},{"$f":"VLOOKUP(B2754,[2]少数民族加分!$C$1:$E$65536,3,FALSE)","v":2},{"v":181.5,"d":"181.50"}]
[2754,"4252270705013","吴必尧","319独山县乡镇中学","03初中地理教师",{"$f":"VLOOKUP(B2755,[1]Sheet1!$A:$I,8,0)","v":"92.00"},{"$f":"VLOOKUP(B2755,[1]Sheet1!$A:$I,9,0)","v":"87.50"},{"$f":"VLOOKUP(B2755,[2]少数民族加分!$C$1:$E$65536,3,FALSE)","v":2},{"v":181.5,"d":"181.50"}]
[2751,"4252270702406","何小林","319独山县乡镇中学","03初中地理教师",{"$f":"VLOOKUP(B2756,[1]Sheet1!$A:$I,8,0)","v":"106.00"},{"$f":"VLOOKUP(B2756,[1]Sheet1!$A:$I,9,0)","v":"75.00"},null,{"v":181,"d":"181.00"}]
[2755,"4252270704828","张漂","319独山县乡镇中学","03初中地理教师",{"$f":"VLOOKUP(B2757,[1]Sheet1!$A:$I,8,0)","v":"82.00"},{"$f":"VLOOKUP(B2757,[1]Sheet1!$A:$I,9,0)","v":"97.00"},{"$f":"VLOOKUP(B2757,[2]少数民族加分!$C$1:$E$65536,3,FALSE)","v":2},{"v":181,"d":"181.00"}]
[2757,"4252270706021","秦胜盛","319独山县乡镇中学","03初中地理教师",{"$f":"VLOOKUP(B2758,[1]Sheet1!$A:$I,8,0)","v":"92.00"},{"$f":"VLOOKUP(B2758,[1]Sheet1!$A:$I,9,0)","v":"87.00"},{"$f":"VLOOKUP(B2758,[2]少数民族加分!$C$1:$E$65536,3,FALSE)","v":2},{"v":181,"d":"181.00"}]
[2758,"4252270704523","邓贵平","319独山县乡镇中学","03初中地理教师",{"$f":"VLOOKUP(B2759,[1]Sheet1!$A:$I,8,0)","v":"75.50"},{"$f":"VLOOKUP(B2759,[1]Sheet1!$A:$I,9,0)","v":"103.00"},{"$f":"VLOOKUP(B2759,[2]少数民族加分!$C$1:$E$65536,3,FALSE)","v":2},{"v":180.5,"d":"180.50"}]
[2759,"4252270703211","吴政彬","319独山县乡镇中学","03初中地理教师",{"$f":"VLOOKUP(B2760,[1]Sheet1!$A:$I,8,0)","v":"86.00"},{"$f":"VLOOKUP(B2760,[1]Sheet1!$A:$I,9,0)","v":"92.00"},{"$f":"VLOOKUP(B2760,[2]少数民族加分!$C$1:$E$65536,3,FALSE)","v":2},{"v":180,"d":"180.00"}]
[2756,"4252270705904","王海英","319独山县乡镇中学","03初中地理教师",{"$f":"VLOOKUP(B2761,[1]Sheet1!$A:$I,8,0)","v":"108.00"},{"$f":"VLOOKUP(B2761,[1]Sheet1!$A:$I,9,0)","v":"71.00"},null,{"v":179,"d":"179.00"}]
[2760,"4252270703012","朱维青","319独山县乡镇中学","03初中地理教师",{"$f":"VLOOKUP(B2762,[1]Sheet1!$A:$I,8,0)","v":"97.50"},{"$f":"VLOOKUP(B2762,[1]Sheet1!$A:$I,9,0)","v":"79.00"},{"$f":"VLOOKUP(B2762,[2]少数民族加分!$C$1:$E$65536,3,FALSE)","v":2},{"v":178.5,"d":"178.50"}]
[2761,"4252270704909","杨娟","319独山县乡镇中学","03初中地理教师",{"$f":"VLOOKUP(B2763,[1]Sheet1!$A:$I,8,0)","v":"89.50"},{"$f":"VLOOKUP(B2763,[1]Sheet1!$A:$I,9,0)","v":"87.00"},{"$f":"VLOOKUP(B2763,[2]少数民族加分!$C$1:$E$65536,3,FALSE)","v":2},{"v":178.5,"d":"178.50"}]
[2762,"4252270705911","刘鹏","319独山县乡镇中学","03初中地理教师",{"$f":"VLOOKUP(B2764,[1]Sheet1!$A:$I,8,0)","v":"81.00"},{"$f":"VLOOKUP(B2764,[1]Sheet1!$A:$I,9,0)","v":"95.00"},{"$f":"VLOOKUP(B2764,[2]少数民族加分!$C$1:$E$65536,3,FALSE)","v":2},{"v":178,"d":"178.00"}]
[2763,"4252270702009","胡蓓","319独山县乡镇中学","03初中地理教师",{"$f":"VLOOKUP(B2765,[1]Sheet1!$A:$I,8,0)","v":"95.50"},{"$f":"VLOOKUP(B2765,[1]Sheet1!$A:$I,9,0)","v":"80.50"},{"$f":"VLOOKUP(B2765,[2]少数民族加分!$C$1:$E$65536,3,FALSE)","v":2},{"v":178,"d":"178.00"}]
[2767,"4252270706412","陆倩","319独山县乡镇中学","03初中地理教师",{"$f":"VLOOKUP(B2766,[1]Sheet1!$A:$I,8,0)","v":"78.50"},{"$f":"VLOOKUP(B2766,[1]Sheet1!$A:$I,9,0)","v":"96.00"},{"$f":"VLOOKUP(B2766,[2]少数民族加分!$C$1:$E$65536,3,FALSE)","v":2},{"v":176.5,"d":"176.50"}]
[2768,"4252270706210","陈艳","319独山县乡镇中学","03初中地理教师",{"$f":"VLOOKUP(B2767,[1]Sheet1!$A:$I,8,0)","v":"87.50"},{"$f":"VLOOKUP(B2767,[1]Sheet1!$A:$I,9,0)","v":"86.50"},{"$f":"VLOOKUP(B2767,[2]少数民族加分!$C$1:$E$65536,3,FALSE)","v":2},{"v":176,"d":"176.00"}]
[2769,"4252270704105","吴展有","319独山县乡镇中学","03初中地理教师",{"$f":"VLOOKUP(B2768,[1]Sheet1!$A:$I,8,0)","v":"95.00"},{"$f":"VLOOKUP(B2768,[1]Sheet1!$A:$I,9,0)","v":"79.00"},{"$f":"VLOOKUP(B2768,[2]少数民族加分!$C$1:$E$65536,3,FALSE)","v":2},{"v":176,"d":"176.00"}]
[2764,"4252270704904","郭燕","319独山县乡镇中学","03初中地理教师",{"$f":"VLOOKUP(B2769,[1]Sheet1!$A:$I,8,0)","v":"89.50"},{"$f":"VLOOKUP(B2769,[1]Sheet1!$A:$I,9,0)","v":"86.00"},null,{"v":175.5,"d":"175.50"}]
[2771,"4252270706215","张洁","319独山县乡镇中学","03初中地理教师",{"$f":"VLOOKUP(B2770,[1]Sheet1!$A:$I,8,0)","v":"89.00"},{"$f":"VLOOKUP(B2770,[1]Sheet1!$A:$I,9,0)","v":"84.50"},{"$f":"VLOOKUP(B2770,[2]少数民族加分!$C$1:$E$65536,3,FALSE)","v":2},{"v":175.5,"d":"175.50"}]
[2772,"4252270701518","潘倩玲","319独山县乡镇中学","03初中地理教师",{"$f":"VLOOKUP(B2771,[1]Sheet1!$A:$I,8,0)","v":"86.00"},{"$f":"VLOOKUP(B2771,[1]Sheet1!$A:$I,9,0)","v":"87.50"},{"$f":"VLOOKUP(B2771,[2]少数民族加分!$C$1:$E$65536,3,FALSE)","v":2},{"v":175.5,"d":"175.50"}]
[2765,"4252270703913","张美","319独山县乡镇中学","03初中地理教师",{"$f":"VLOOKUP(B2772,[1]Sheet1!$A:$I,8,0)","v":"100.00"},{"$f":"VLOOKUP(B2772,[1]Sheet1!$A:$I,9,0)","v":"75.00"},null,{"v":175,"d":"175.00"}]
[2773,"4252270706419","罗娜","319独山县乡镇中学","03初中地理教师",{"$f":"VLOOKUP(B2773,[1]Sheet1!$A:$I,8,0)","v":"88.50"},{"$f":"VLOOKUP(B2773,[1]Sheet1!$A:$I,9,0)","v":"84.50"},{"$f":"VLOOKUP(B2773,[2]少数民族加分!$C$1:$E$65536,3,FALSE)","v":2},{"v":175,"d":"175.00"}]
[2766,"4252270702310","何凯利","319独山县乡镇中学","03初中地理教师",{"$f":"VLOOKUP(B2774,[1]Sheet1!$A:$I,8,0)","v":"81.50"},{"$f":"VLOOKUP(B2774,[1]Sheet1!$A:$I,9,0)","v":"93.00"},null,{"v":174.5,"d":"174.50"}]
[2774,"4252270706403","张斐斐","319独山县乡镇中学","03初中地理教师",{"$f":"VLOOKUP(B2775,[1]Sheet1!$A:$I,8,0)","v":"89.50"},{"$f":"VLOOKUP(B2775,[1]Sheet1!$A:$I,9,0)","v":"83.00"},{"$f":"VLOOKUP(B2775,[2]少数民族加分!$C$1:$E$65536,3,FALSE)","v":2},{"v":174.5,"d":"174.50"}]
[2775,"4252270706701","梅良群","319独山县乡镇中学","03初中地理教师",{"$f":"VLOOKUP(B2776,[1]Sheet1!$A:$I,8,0)","v":"84.00"},{"$f":"VLOOKUP(B2776,[1]Sheet1!$A:$I,9,0)","v":"88.50"},{"$f":"VLOOKUP(B2776,[2]少数民族加分!$C$1:$E$65536,3,FALSE)","v":2},{"v":174.5,"d":"174.50"}]
[2776,"4252270706709","杨胜来","319独山县乡镇中学","03初中地理教师",{"$f":"VLOOKUP(B2777,[1]Sheet1!$A:$I,8,0)","v":"96.50"},{"$f":"VLOOKUP(B2777,[1]Sheet1!$A:$I,9,0)","v":"76.00"},{"$f":"VLOOKUP(B2777,[2]少数民族加分!$C$1:$E$65536,3,FALSE)","v":2},{"v":174.5,"d":"174.50"}]
[2778,"4252270702116","彭世平","319独山县乡镇中学","03初中地理教师",{"$f":"VLOOKUP(B2778,[1]Sheet1!$A:$I,8,0)","v":"90.50"},{"$f":"VLOOKUP(B2778,[1]Sheet1!$A:$I,9,0)","v":"82.00"},{"$f":"VLOOKUP(B2778,[2]少数民族加分!$C$1:$E$65536,3,FALSE)","v":2},{"v":174.5,"d":"174.50"}]
[2780,"4252270703028","陈颖慧","319独山县乡镇中学","03初中地理教师",{"$f":"VLOOKUP(B2779,[1]Sheet1!$A:$I,8,0)","v":"99.50"},{"$f":"VLOOKUP(B2779,[1]Sheet1!$A:$I,9,0)","v":"73.00"},{"$f":"VLOOKUP(B2779,[2]少数民族加分!$C$1:$E$65536,3,FALSE)","v":2},{"v":174.5,"d":"174.50"}]
[2770,"4252270704320","周启涛","319独山县乡镇中学","03初中地理教师",{"$f":"VLOOKUP(B2780,[1]Sheet1!$A:$I,8,0)","v":"84.50"},{"$f":"VLOOKUP(B2780,[1]Sheet1!$A:$I,9,0)","v":"89.50"},null,{"v":174,"d":"174.00"}]
[2781,"4252270701830","孟锦兰","319独山县乡镇中学","03初中地理教师",{"$f":"VLOOKUP(B2781,[1]Sheet1!$A:$I,8,0)","v":"84.00"},{"$f":"VLOOKUP(B2781,[1]Sheet1!$A:$I,9,0)","v":"88.00"},{"$f":"VLOOKUP(B2781,[2]少数民族加分!$C$1:$E$65536,3,FALSE)","v":2},{"v":174,"d":"174.00"}]
[2782,"4252270703702","杨黄英","319独山县乡镇中学","03初中地理教师",{"$f":"VLOOKUP(B2782,[1]Sheet1!$A:$I,8,0)","v":"84.50"},{"$f":"VLOOKUP(B2782,[1]Sheet1!$A:$I,9,0)","v":"87.50"},{"$f":"VLOOKUP(B2782,[2]少数民族加分!$C$1:$E$65536,3,FALSE)","v":2},{"v":174,"d":"174.00"}]
[2783,"4252270701902","刘天楠","319独山县乡镇中学","03初中地理教师",{"$f":"VLOOKUP(B2783,[1]Sheet1!$A:$I,8,0)","v":"98.50"},{"$f":"VLOOKUP(B2783,[1]Sheet1!$A:$I,9,0)","v":"73.00"},{"$f":"VLOOKUP(B2783,[2]少数民族加分!$C$1:$E$65536,3,FALSE)","v":2},{"v":173.5,"d":"173.50"}]
[2784,"4252270703025","罗家会","319独山县乡镇中学","03初中地理教师",{"$f":"VLOOKUP(B2784,[1]Sheet1!$A:$I,8,0)","v":"89.00"},{"$f":"VLOOKUP(B2784,[1]Sheet1!$A:$I,9,0)","v":"82.00"},{"$f":"VLOOKUP(B2784,[2]少数民族加分!$C$1:$E$65536,3,FALSE)","v":2},{"v":173,"d":"173.00"}]
[2777,"4252270704006","杨茜","319独山县乡镇中学","03初中地理教师",{"$f":"VLOOKUP(B2785,[1]Sheet1!$A:$I,8,0)","v":"91.00"},{"$f":"VLOOKUP(B2785,[1]Sheet1!$A:$I,9,0)","v":"81.50"},null,{"v":172.5,"d":"172.50"}]
[2779,"4252270702609","汪小燕","319独山县乡镇中学","03初中地理教师",{"$f":"VLOOKUP(B2786,[1]Sheet1!$A:$I,8,0)","v":"91.50"},{"$f":"VLOOKUP(B2786,[1]Sheet1!$A:$I,9,0)","v":"81.00"},null,{"v":172.5,"d":"172.50"}]
[2785,"4252270702220","吴正辉","319独山县乡镇中学","03初中地理教师",{"$f":"VLOOKUP(B2787,[1]Sheet1!$A:$I,8,0)","v":"88.00"},{"$f":"VLOOKUP(B2787,[1]Sheet1!$A:$I,9,0)","v":"82.50"},{"$f":"VLOOKUP(B2787,[2]少数民族加分!$C$1:$E$65536,3,FALSE)","v":2},{"v":172.5,"d":"172.50"}]
[2786,"4252270705401","吴忠羽","319独山县乡镇中学","03初中地理教师",{"$f":"VLOOKUP(B2788,[1]Sheet1!$A:$I,8,0)","v":"74.50"},{"$f":"VLOOKUP(B2788,[1]Sheet1!$A:$I,9,0)","v":"96.00"},{"$f":"VLOOKUP(B2788,[2]少数民族加分!$C$1:$E$65536,3,FALSE)","v":2},{"v":172.5,"d":"172.50"}]
[2787,"4252270702224","张玉","319独山县乡镇中学","03初中地理教师",{"$f":"VLOOKUP(B2789,[1]Sheet1!$A:$I,8,0)","v":"95.00"},{"$f":"VLOOKUP(B2789,[1]Sheet1!$A:$I,9,0)","v":"75.00"},{"$f":"VLOOKUP(B2789,[2]少数民族加分!$C$1:$E$65536,3,FALSE)","v":2},{"v":172,"d":"172.00"}]
[2788,"4252270702017","潘语","319独山县乡镇中学","03初中地理教师",{"$f":"VLOOKUP(B2790,[1]Sheet1!$A:$I,8,0)","v":"94.50"},{"$f":"VLOOKUP(B2790,[1]Sheet1!$A:$I,9,0)","v":"75.00"},{"$f":"VLOOKUP(B2790,[2]少数民族加分!$C$1:$E$65536,3,FALSE)","v":2},{"v":171.5,"d":"171.50"}]
[2789,"4252270702702","刘玉冬","319独山县乡镇中学","03初中地理教师",{"$f":"VLOOKUP(B2791,[1]Sheet1!$A:$I,8,0)","v":"74.50"},{"$f":"VLOOKUP(B2791,[1]Sheet1!$A:$I,9,0)","v":"95.00"},{"$f":"VLOOKUP(B2791,[2]少数民族加分!$C$1:$E$65536,3,FALSE)","v":2},{"v":171.5,"d":"171.50"}]
[2790,"4252270701524","王娜","319独山县乡镇中学","03初中地理教师",{"$f":"VLOOKUP(B2792,[1]Sheet1!$A:$I,8,0)","v":"90.50"},{"$f":"VLOOKUP(B2792,[1]Sheet1!$A:$I,9,0)","v":"78.50"},{"$f":"VLOOKUP(B2792,[2]少数民族加分!$C$1:$E$65536,3,FALSE)","v":2},{"v":171,"d":"171.00"}]
[2791,"4252270701825","许志豪","319独山县乡镇中学","03初中地理教师",{"$f":"VLOOKUP(B2793,[1]Sheet1!$A:$I,8,0)","v":"97.00"},{"$f":"VLOOKUP(B2793,[1]Sheet1!$A:$I,9,0)","v":"72.00"},{"$f":"VLOOKUP(B2793,[2]少数民族加分!$C$1:$E$65536,3,FALSE)","v":2},{"v":171,"d":"171.00"}]
[2792,"4252270702928","吴永梅","319独山县乡镇中学","03初中地理教师",{"$f":"VLOOKUP(B2794,[1]Sheet1!$A:$I,8,0)","v":"77.00"},{"$f":"VLOOKUP(B2794,[1]Sheet1!$A:$I,9,0)","v":"92.00"},{"$f":"VLOOKUP(B2794,[2]少数民族加分!$C$1:$E$65536,3,FALSE)","v":2},{"v":171,"d":"171.00"}]
[2793,"4252270705811","杨洋","319独山县乡镇中学","03初中地理教师",{"$f":"VLOOKUP(B2795,[1]Sheet1!$A:$I,8,0)","v":"79.00"},{"$f":"VLOOKUP(B2795,[1]Sheet1!$A:$I,9,0)","v":"90.00"},{"$f":"VLOOKUP(B2795,[2]少数民族加分!$C$1:$E$65536,3,FALSE)","v":2},{"v":171,"d":"171.00"}]
[2794,"4252270703727","高松云","319独山县乡镇中学","03初中地理教师",{"$f":"VLOOKUP(B2796,[1]Sheet1!$A:$I,8,0)","v":"78.50"},{"$f":"VLOOKUP(B2796,[1]Sheet1!$A:$I,9,0)","v":"90.00"},{"$f":"VLOOKUP(B2796,[2]少数民族加分!$C$1:$E$65536,3,FALSE)","v":2},{"v":170.5,"d":"170.50"}]
[2795,"4252270705414","晏正玉","319独山县乡镇中学","03初中地理教师",{"$f":"VLOOKUP(B2797,[1]Sheet1!$A:$I,8,0)","v":"93.00"},{"$f":"VLOOKUP(B2797,[1]Sheet1!$A:$I,9,0)","v":"75.00"},{"$f":"VLOOKUP(B2797,[2]少数民族加分!$C$1:$E$65536,3,FALSE)","v":2},{"v":170,"d":"170.00"}]
[2796,"4252270703704","陈建忠","319独山县乡镇中学","03初中地理教师",{"$f":"VLOOKUP(B2798,[1]Sheet1!$A:$I,8,0)","v":"84.00"},{"$f":"VLOOKUP(B2798,[1]Sheet1!$A:$I,9,0)","v":"83.50"},{"$f":"VLOOKUP(B2798,[2]少数民族加分!$C$1:$E$65536,3,FALSE)","v":2},{"v":169.5,"d":"169.50"}]
[2798,"4252270706213","石庆贤","319独山县乡镇中学","03初中地理教师",{"$f":"VLOOKUP(B2799,[1]Sheet1!$A:$I,8,0)","v":"79.50"},{"$f":"VLOOKUP(B2799,[1]Sheet1!$A:$I,9,0)","v":"88.00"},{"$f":"VLOOKUP(B2799,[2]少数民族加分!$C$1:$E$65536,3,FALSE)","v":2},{"v":169.5,"d":"169.50"}]
[2799,"4252270702128","石玉会","319独山县乡镇中学","03初中地理教师",{"$f":"VLOOKUP(B2800,[1]Sheet1!$A:$I,8,0)","v":"84.50"},{"$f":"VLOOKUP(B2800,[1]Sheet1!$A:$I,9,0)","v":"83.00"},{"$f":"VLOOKUP(B2800,[2]少数民族加分!$C$1:$E$65536,3,FALSE)","v":2},{"v":169.5,"d":"169.50"}]
[2802,"4252270701809","莫万云","319独山县乡镇中学","03初中地理教师",{"$f":"VLOOKUP(B2801,[1]Sheet1!$A:$I,8,0)","v":"86.00"},{"$f":"VLOOKUP(B2801,[1]Sheet1!$A:$I,9,0)","v":"80.50"},{"$f":"VLOOKUP(B2801,[2]少数民族加分!$C$1:$E$65536,3,FALSE)","v":2},{"v":168.5,"d":"168.50"}]
[2806,"4252270701517","韦冬梅","319独山县乡镇中学","03初中地理教师",{"$f":"VLOOKUP(B2802,[1]Sheet1!$A:$I,8,0)","v":"96.50"},{"$f":"VLOOKUP(B2802,[1]Sheet1!$A:$I,9,0)","v":"69.50"},{"$f":"VLOOKUP(B2802,[2]少数民族加分!$C$1:$E$65536,3,FALSE)","v":2},{"v":168,"d":"168.00"}]
[2797,"4252270703826","刘文文","319独山县乡镇中学","03初中地理教师",{"$f":"VLOOKUP(B2803,[1]Sheet1!$A:$I,8,0)","v":"85.00"},{"$f":"VLOOKUP(B2803,[1]Sheet1!$A:$I,9,0)","v":"82.50"},null,{"v":167.5,"d":"167.50"}]
[2807,"4252270702121","姚岑荣","319独山县乡镇中学","03初中地理教师",{"$f":"VLOOKUP(B2804,[1]Sheet1!$A:$I,8,0)","v":"78.50"},{"$f":"VLOOKUP(B2804,[1]Sheet1!$A:$I,9,0)","v":"87.00"},{"$f":"VLOOKUP(B2804,[2]少数民族加分!$C$1:$E$65536,3,FALSE)","v":2},{"v":167.5,"d":"167.50"}]
[2808,"4252270703020","万椿梅","319独山县乡镇中学","03初中地理教师",{"$f":"VLOOKUP(B2805,[1]Sheet1!$A:$I,8,0)","v":"85.50"},{"$f":"VLOOKUP(B2805,[1]Sheet1!$A:$I,9,0)","v":"80.00"},{"$f":"VLOOKUP(B2805,[2]少数民族加分!$C$1:$E$65536,3,FALSE)","v":2},{"v":167.5,"d":"167.50"}]
[2810,"4252270706321","吴玉芝","319独山县乡镇中学","03初中地理教师",{"$f":"VLOOKUP(B2806,[1]Sheet1!$A:$I,8,0)","v":"80.50"},{"$f":"VLOOKUP(B2806,[1]Sheet1!$A:$I,9,0)","v":"85.00"},{"$f":"VLOOKUP(B2806,[2]少数民族加分!$C$1:$E$65536,3,FALSE)","v":2},{"v":167.5,"d":"167.50"}]
[2813,"4252270705617","黎倩","319独山县乡镇中学","03初中地理教师",{"$f":"VLOOKUP(B2807,[1]Sheet1!$A:$I,8,0)","v":"91.00"},{"$f":"VLOOKUP(B2807,[1]Sheet1!$A:$I,9,0)","v":"74.50"},{"$f":"VLOOKUP(B2807,[2]少数民族加分!$C$1:$E$65536,3,FALSE)","v":2},{"v":167.5,"d":"167.50"}]
[2800,"4252270703219","宋伟","319独山县乡镇中学","03初中地理教师",{"$f":"VLOOKUP(B2808,[1]Sheet1!$A:$I,8,0)","v":"89.00"},{"$f":"VLOOKUP(B2808,[1]Sheet1!$A:$I,9,0)","v":"78.00"},null,{"v":167,"d":"167.00"}]
[2801,"4252270705506","耿和江","319独山县乡镇中学","03初中地理教师",{"$f":"VLOOKUP(B2809,[1]Sheet1!$A:$I,8,0)","v":"81.00"},{"$f":"VLOOKUP(B2809,[1]Sheet1!$A:$I,9,0)","v":"86.00"},null,{"v":167,"d":"167.00"}]
[2815,"4252270705018","施瑀","319独山县乡镇中学","03初中地理教师",{"$f":"VLOOKUP(B2810,[1]Sheet1!$A:$I,8,0)","v":"88.50"},{"$f":"VLOOKUP(B2810,[1]Sheet1!$A:$I,9,0)","v":"76.50"},{"$f":"VLOOKUP(B2810,[2]少数民族加分!$C$1:$E$65536,3,FALSE)","v":2},{"v":167,"d":"167.00"}]
[2803,"4252270702315","时宏进","319独山县乡镇中学","03初中地理教师",{"$f":"VLOOKUP(B2811,[1]Sheet1!$A:$I,8,0)","v":"93.50"},{"$f":"VLOOKUP(B2811,[1]Sheet1!$A:$I,9,0)","v":"73.00"},null,{"v":166.5,"d":"166.50"}]
[2804,"4252270706526","刘明凤","319独山县乡镇中学","03初中地理教师",{"$f":"VLOOKUP(B2812,[1]Sheet1!$A:$I,8,0)","v":"84.50"},{"$f":"VLOOKUP(B2812,[1]Sheet1!$A:$I,9,0)","v":"82.00"},null,{"v":166.5,"d":"166.50"}]
[2817,"4252270704217","韦永青","319独山县乡镇中学","03初中地理教师",{"$f":"VLOOKUP(B2813,[1]Sheet1!$A:$I,8,0)","v":"89.50"},{"$f":"VLOOKUP(B2813,[1]Sheet1!$A:$I,9,0)","v":"75.00"},{"$f":"VLOOKUP(B2813,[2]少数民族加分!$C$1:$E$65536,3,FALSE)","v":2},{"v":166.5,"d":"166.50"}]
[2818,"4252270702811","李俭蓉","319独山县乡镇中学","03初中地理教师",{"$f":"VLOOKUP(B2814,[1]Sheet1!$A:$I,8,0)","v":"91.00"},{"$f":"VLOOKUP(B2814,[1]Sheet1!$A:$I,9,0)","v":"73.50"},{"$f":"VLOOKUP(B2814,[2]少数民族加分!$C$1:$E$65536,3,FALSE)","v":2},{"v":166.5,"d":"166.50"}]
[2805,"4252270703709","况颖","319独山县乡镇中学","03初中地理教师",{"$f":"VLOOKUP(B2815,[1]Sheet1!$A:$I,8,0)","v":"90.50"},{"$f":"VLOOKUP(B2815,[1]Sheet1!$A:$I,9,0)","v":"75.50"},null,{"v":166,"d":"166.00"}]
[2819,"4252270702011","邝国相","319独山县乡镇中学","03初中地理教师",{"$f":"VLOOKUP(B2816,[1]Sheet1!$A:$I,8,0)","v":"84.50"},{"$f":"VLOOKUP(B2816,[1]Sheet1!$A:$I,9,0)","v":"79.50"},{"$f":"VLOOKUP(B2816,[2]少数民族加分!$C$1:$E$65536,3,FALSE)","v":2},{"v":166,"d":"166.00"}]
[2809,"4252270706318","徐飞","319独山县乡镇中学","03初中地理教师",{"$f":"VLOOKUP(B2817,[1]Sheet1!$A:$I,8,0)","v":"81.50"},{"$f":"VLOOKUP(B2817,[1]Sheet1!$A:$I,9,0)","v":"84.00"},null,{"v":165.5,"d":"165.50"}]
[2811,"4252270704313","陈兴敏","319独山县乡镇中学","03初中地理教师",{"$f":"VLOOKUP(B2818,[1]Sheet1!$A:$I,8,0)","v":"75.50"},{"$f":"VLOOKUP(B2818,[1]Sheet1!$A:$I,9,0)","v":"90.00"},null,{"v":165.5,"d":"165.50"}]
[2812,"4252270704624","李章凤","319独山县乡镇中学","03初中地理教师",{"$f":"VLOOKUP(B2819,[1]Sheet1!$A:$I,8,0)","v":"100.50"},{"$f":"VLOOKUP(B2819,[1]Sheet1!$A:$I,9,0)","v":"65.00"},null,{"v":165.5,"d":"165.50"}]
[2814,"4252270706017","董娇娇","319独山县乡镇中学","03初中地理教师",{"$f":"VLOOKUP(B2820,[1]Sheet1!$A:$I,8,0)","v":"93.50"},{"$f":"VLOOKUP(B2820,[1]Sheet1!$A:$I,9,0)","v":"72.00"},null,{"v":165.5,"d":"165.50"}]
[2816,"4252270705619","贾朝献","319独山县乡镇中学","03初中地理教师",{"$f":"VLOOKUP(B2821,[1]Sheet1!$A:$I,8,0)","v":"79.00"},{"$f":"VLOOKUP(B2821,[1]Sheet1!$A:$I,9,0)","v":"86.00"},null,{"v":165,"d":"165.00"}]
[2821,"4252270703710","杨通琴","319独山县乡镇中学","03初中地理教师",{"$f":"VLOOKUP(B2822,[1]Sheet1!$A:$I,8,0)","v":"83.50"},{"$f":"VLOOKUP(B2822,[1]Sheet1!$A:$I,9,0)","v":"79.50"},{"$f":"VLOOKUP(B2822,[2]少数民族加分!$C$1:$E$65536,3,FALSE)","v":2},{"v":165,"d":"165.00"}]
[2822,"4252270704910","陆治海","319独山县乡镇中学","03初中地理教师",{"$f":"VLOOKUP(B2823,[1]Sheet1!$A:$I,8,0)","v":"74.00"},{"$f":"VLOOKUP(B2823,[1]Sheet1!$A:$I,9,0)","v":"89.00"},{"$f":"VLOOKUP(B2823,[2]少数民族加分!$C$1:$E$65536,3,FALSE)","v":2},{"v":165,"d":"165.00"}]
[2824,"4252270704724","杨中华","319独山县乡镇中学","03初中地理教师",{"$f":"VLOOKUP(B2824,[1]Sheet1!$A:$I,8,0)","v":"81.50"},{"$f":"VLOOKUP(B2824,[1]Sheet1!$A:$I,9,0)","v":"81.00"},{"$f":"VLOOKUP(B2824,[2]少数民族加分!$C$1:$E$65536,3,FALSE)","v":2},{"v":164.5,"d":"164.50"}]
[2820,"4252270702905","王丹","319独山县乡镇中学","03初中地理教师",{"$f":"VLOOKUP(B2825,[1]Sheet1!$A:$I,8,0)","v":"88.00"},{"$f":"VLOOKUP(B2825,[1]Sheet1!$A:$I,9,0)","v":"76.00"},null,{"v":164,"d":"164.00"}]
[2825,"4252270702415","杨光英","319独山县乡镇中学","03初中地理教师",{"$f":"VLOOKUP(B2826,[1]Sheet1!$A:$I,8,0)","v":"80.00"},{"$f":"VLOOKUP(B2826,[1]Sheet1!$A:$I,9,0)","v":"82.00"},{"$f":"VLOOKUP(B2826,[2]少数民族加分!$C$1:$E$65536,3,FALSE)","v":2},{"v":164,"d":"164.00"}]
[2826,"4252270706404","李光海","319独山县乡镇中学","03初中地理教师",{"$f":"VLOOKUP(B2827,[1]Sheet1!$A:$I,8,0)","v":"77.00"},{"$f":"VLOOKUP(B2827,[1]Sheet1!$A:$I,9,0)","v":"85.00"},{"$f":"VLOOKUP(B2827,[2]少数民族加分!$C$1:$E$65536,3,FALSE)","v":2},{"v":164,"d":"164.00"}]
[2827,"4252270704222","樊青青","319独山县乡镇中学","03初中地理教师",{"$f":"VLOOKUP(B2828,[1]Sheet1!$A:$I,8,0)","v":"82.50"},{"$f":"VLOOKUP(B2828,[1]Sheet1!$A:$I,9,0)","v":"79.00"},{"$f":"VLOOKUP(B2828,[2]少数民族加分!$C$1:$E$65536,3,FALSE)","v":2},{"v":163.5,"d":"163.50"}]
[2828,"4252270704227","唐稳华","319独山县乡镇中学","03初中地理教师",{"$f":"VLOOKUP(B2829,[1]Sheet1!$A:$I,8,0)","v":"78.50"},{"$f":"VLOOKUP(B2829,[1]Sheet1!$A:$I,9,0)","v":"83.00"},{"$f":"VLOOKUP(B2829,[2]少数民族加分!$C$1:$E$65536,3,FALSE)","v":2},{"v":163.5,"d":"163.50"}]
[2830,"4252270702109","尹鑫鑫","319独山县乡镇中学","03初中地理教师",{"$f":"VLOOKUP(B2830,[1]Sheet1!$A:$I,8,0)","v":"98.00"},{"$f":"VLOOKUP(B2830,[1]Sheet1!$A:$I,9,0)","v":"63.50"},{"$f":"VLOOKUP(B2830,[2]少数民族加分!$C$1:$E$65536,3,FALSE)","v":2},{"v":163.5,"d":"163.50"}]
[2823,"4252270706424","朱明巧","319独山县乡镇中学","03初中地理教师",{"$f":"VLOOKUP(B2831,[1]Sheet1!$A:$I,8,0)","v":"82.00"},{"$f":"VLOOKUP(B2831,[1]Sheet1!$A:$I,9,0)","v":"81.00"},null,{"v":163,"d":"163.00"}]
[2831,"4252270702418","杨銮芳","319独山县乡镇中学","03初中地理教师",{"$f":"VLOOKUP(B2832,[1]Sheet1!$A:$I,8,0)","v":"71.00"},{"$f":"VLOOKUP(B2832,[1]Sheet1!$A:$I,9,0)","v":"90.00"},{"$f":"VLOOKUP(B2832,[2]少数民族加分!$C$1:$E$65536,3,FALSE)","v":2},{"v":163,"d":"163.00"}]
[2832,"4252270705024","韦东秋","319独山县乡镇中学","03初中地理教师",{"$f":"VLOOKUP(B2833,[1]Sheet1!$A:$I,8,0)","v":"82.00"},{"$f":"VLOOKUP(B2833,[1]Sheet1!$A:$I,9,0)","v":"79.00"},{"$f":"VLOOKUP(B2833,[2]少数民族加分!$C$1:$E$65536,3,FALSE)","v":2},{"v":163,"d":"163.00"}]
[2833,"4252270705720","陈娴","319独山县乡镇中学","03初中地理教师",{"$f":"VLOOKUP(B2834,[1]Sheet1!$A:$I,8,0)","v":"80.00"},{"$f":"VLOOKUP(B2834,[1]Sheet1!$A:$I,9,0)","v":"81.00"},{"$f":"VLOOKUP(B2834,[2]少数民族加分!$C$1:$E$65536,3,FALSE)","v":2},{"v":163,"d":"163.00"}]
[2834,"4252270702503","白小莲","319独山县乡镇中学","03初中地理教师",{"$f":"VLOOKUP(B2835,[1]Sheet1!$A:$I,8,0)","v":"94.50"},{"$f":"VLOOKUP(B2835,[1]Sheet1!$A:$I,9,0)","v":"66.00"},{"$f":"VLOOKUP(B2835,[2]少数民族加分!$C$1:$E$65536,3,FALSE)","v":2},{"v":162.5,"d":"162.50"}]
[2829,"4252270706018","周礼平","319独山县乡镇中学","03初中地理教师",{"$f":"VLOOKUP(B2836,[1]Sheet1!$A:$I,8,0)","v":"92.00"},{"$f":"VLOOKUP(B2836,[1]Sheet1!$A:$I,9,0)","v":"69.50"},null,{"v":161.5,"d":"161.50"}]
[2835,"4252270703021","陈丽芬","319独山县乡镇中学","03初中地理教师",{"$f":"VLOOKUP(B2837,[1]Sheet1!$A:$I,8,0)","v":"80.50"},{"$f":"VLOOKUP(B2837,[1]Sheet1!$A:$I,9,0)","v":"79.00"},{"$f":"VLOOKUP(B2837,[2]少数民族加分!$C$1:$E$65536,3,FALSE)","v":2},{"v":161.5,"d":"161.50"}]
[2836,"4252270705116","李时芬","319独山县乡镇中学","03初中地理教师",{"$f":"VLOOKUP(B2838,[1]Sheet1!$A:$I,8,0)","v":"86.50"},{"$f":"VLOOKUP(B2838,[1]Sheet1!$A:$I,9,0)","v":"73.00"},{"$f":"VLOOKUP(B2838,[2]少数民族加分!$C$1:$E$65536,3,FALSE)","v":2},{"v":161.5,"d":"161.50"}]
[2837,"4252270703425","王馨悦","319独山县乡镇中学","03初中地理教师",{"$f":"VLOOKUP(B2839,[1]Sheet1!$A:$I,8,0)","v":"76.00"},{"$f":"VLOOKUP(B2839,[1]Sheet1!$A:$I,9,0)","v":"83.00"},{"$f":"VLOOKUP(B2839,[2]少数民族加分!$C$1:$E$65536,3,FALSE)","v":2},{"v":161,"d":"161.00"}]
[2838,"4252270706605","王海艳","319独山县乡镇中学","03初中地理教师",{"$f":"VLOOKUP(B2840,[1]Sheet1!$A:$I,8,0)","v":"84.00"},{"$f":"VLOOKUP(B2840,[1]Sheet1!$A:$I,9,0)","v":"75.00"},{"$f":"VLOOKUP(B2840,[2]少数民族加分!$C$1:$E$65536,3,FALSE)","v":2},{"v":161,"d":"161.00"}]
[2839,"4252270704810","陆梅","319独山县乡镇中学","03初中地理教师",{"$f":"VLOOKUP(B2841,[1]Sheet1!$A:$I,8,0)","v":"79.50"},{"$f":"VLOOKUP(B2841,[1]Sheet1!$A:$I,9,0)","v":"79.00"},{"$f":"VLOOKUP(B2841,[2]少数民族加分!$C$1:$E$65536,3,FALSE)","v":2},{"v":160.5,"d":"160.50"}]
[2842,"4252270705028","吴英","319独山县乡镇中学","03初中地理教师",{"$f":"VLOOKUP(B2842,[1]Sheet1!$A:$I,8,0)","v":"70.00"},{"$f":"VLOOKUP(B2842,[1]Sheet1!$A:$I,9,0)","v":"87.00"},{"$f":"VLOOKUP(B2842,[2]少数民族加分!$C$1:$E$65536,3,FALSE)","v":2},{"v":159,"d":"159.00"}]
[2840,"4252270702422","张利娜","319独山县乡镇中学","03初中地理教师",{"$f":"VLOOKUP(B2843,[1]Sheet1!$A:$I,8,0)","v":"86.00"},{"$f":"VLOOKUP(B2843,[1]Sheet1!$A:$I,9,0)","v":"72.50"},null,{"v":158.5,"d":"158.50"}]
[2841,"4252270704423","何松","319独山县乡镇中学","03初中地理教师",{"$f":"VLOOKUP(B2844,[1]Sheet1!$A:$I,8,0)","v":"81.00"},{"$f":"VLOOKUP(B2844,[1]Sheet1!$A:$I,9,0)","v":"77.00"},null,{"v":158,"d":"158.00"}]
[2844,"4252270705601","彭支兰","319独山县乡镇中学","03初中地理教师",{"$f":"VLOOKUP(B2845,[1]Sheet1!$A:$I,8,0)","v":"90.50"},{"$f":"VLOOKUP(B2845,[1]Sheet1!$A:$I,9,0)","v":"65.50"},{"$f":"VLOOKUP(B2845,[2]少数民族加分!$C$1:$E$65536,3,FALSE)","v":2},{"v":158,"d":"158.00"}]
[2846,"4252270702401","王庭显","319独山县乡镇中学","03初中地理教师",{"$f":"VLOOKUP(B2846,[1]Sheet1!$A:$I,8,0)","v":"79.50"},{"$f":"VLOOKUP(B2846,[1]Sheet1!$A:$I,9,0)","v":"76.00"},{"$f":"VLOOKUP(B2846,[2]少数民族加分!$C$1:$E$65536,3,FALSE)","v":2},{"v":157.5,"d":"157.50"}]
[2843,"4252270706014","张欢","319独山县乡镇中学","03初中地理教师",{"$f":"VLOOKUP(B2847,[1]Sheet1!$A:$I,8,0)","v":"83.50"},{"$f":"VLOOKUP(B2847,[1]Sheet1!$A:$I,9,0)","v":"73.50"},null,{"v":157,"d":"157.00"}]
[2847,"4252270703027","雷邦雄","319独山县乡镇中学","03初中地理教师",{"$f":"VLOOKUP(B2848,[1]Sheet1!$A:$I,8,0)","v":"68.00"},{"$f":"VLOOKUP(B2848,[1]Sheet1!$A:$I,9,0)","v":"87.00"},{"$f":"VLOOKUP(B2848,[2]少数民族加分!$C$1:$E$65536,3,FALSE)","v":2},{"v":157,"d":"157.00"}]
[2849,"4252270704813","龙冬灵","319独山县乡镇中学","03初中地理教师",{"$f":"VLOOKUP(B2849,[1]Sheet1!$A:$I,8,0)","v":"80.00"},{"$f":"VLOOKUP(B2849,[1]Sheet1!$A:$I,9,0)","v":"75.00"},{"$f":"VLOOKUP(B2849,[2]少数民族加分!$C$1:$E$65536,3,FALSE)","v":2},{"v":157,"d":"157.00"}]
[2845,"4252270702618","吴丹","319独山县乡镇中学","03初中地理教师",{"$f":"VLOOKUP(B2850,[1]Sheet1!$A:$I,8,0)","v":"70.00"},{"$f":"VLOOKUP(B2850,[1]Sheet1!$A:$I,9,0)","v":"86.00"},null,{"v":156,"d":"156.00"}]
[2851,"4252270702824","高艳","319独山县乡镇中学","03初中地理教师",{"$f":"VLOOKUP(B2851,[1]Sheet1!$A:$I,8,0)","v":"86.50"},{"$f":"VLOOKUP(B2851,[1]Sheet1!$A:$I,9,0)","v":"67.50"},{"$f":"VLOOKUP(B2851,[2]少数民族加分!$C$1:$E$65536,3,FALSE)","v":2},{"v":156,"d":"156.00"}]
[2852,"4252270703530","蒙光连","319独山县乡镇中学","03初中地理教师",{"$f":"VLOOKUP(B2852,[1]Sheet1!$A:$I,8,0)","v":"79.00"},{"$f":"VLOOKUP(B2852,[1]Sheet1!$A:$I,9,0)","v":"75.00"},{"$f":"VLOOKUP(B2852,[2]少数民族加分!$C$1:$E$65536,3,FALSE)","v":2},{"v":156,"d":"156.00"}]
[2853,"4252270705015","杨陈","319独山县乡镇中学","03初中地理教师",{"$f":"VLOOKUP(B2853,[1]Sheet1!$A:$I,8,0)","v":"90.50"},{"$f":"VLOOKUP(B2853,[1]Sheet1!$A:$I,9,0)","v":"63.50"},{"$f":"VLOOKUP(B2853,[2]少数民族加分!$C$1:$E$65536,3,FALSE)","v":2},{"v":156,"d":"156.00"}]
[2855,"4252270706622","吴根东","319独山县乡镇中学","03初中地理教师",{"$f":"VLOOKUP(B2854,[1]Sheet1!$A:$I,8,0)","v":"73.00"},{"$f":"VLOOKUP(B2854,[1]Sheet1!$A:$I,9,0)","v":"81.00"},{"$f":"VLOOKUP(B2854,[2]少数民族加分!$C$1:$E$65536,3,FALSE)","v":2},{"v":156,"d":"156.00"}]
[2856,"4252270701530","杨序长","319独山县乡镇中学","03初中地理教师",{"$f":"VLOOKUP(B2855,[1]Sheet1!$A:$I,8,0)","v":"81.50"},{"$f":"VLOOKUP(B2855,[1]Sheet1!$A:$I,9,0)","v":"72.00"},{"$f":"VLOOKUP(B2855,[2]少数民族加分!$C$1:$E$65536,3,FALSE)","v":2},{"v":155.5,"d":"155.50"}]
[2857,"4252270706117","田宇天","319独山县乡镇中学","03初中地理教师",{"$f":"VLOOKUP(B2856,[1]Sheet1!$A:$I,8,0)","v":"65.50"},{"$f":"VLOOKUP(B2856,[1]Sheet1!$A:$I,9,0)","v":"88.00"},{"$f":"VLOOKUP(B2856,[2]少数民族加分!$C$1:$E$65536,3,FALSE)","v":2},{"v":155.5,"d":"155.50"}]
[2848,"4252270706501","邓仕群","319独山县乡镇中学","03初中地理教师",{"$f":"VLOOKUP(B2857,[1]Sheet1!$A:$I,8,0)","v":"78.00"},{"$f":"VLOOKUP(B2857,[1]Sheet1!$A:$I,9,0)","v":"77.00"},null,{"v":155,"d":"155.00"}]
[2850,"4252270702826","徐霞","319独山县乡镇中学","03初中地理教师",{"$f":"VLOOKUP(B2858,[1]Sheet1!$A:$I,8,0)","v":"76.50"},{"$f":"VLOOKUP(B2858,[1]Sheet1!$A:$I,9,0)","v":"78.00"},null,{"v":154.5,"d":"154.50"}]
[2859,"4252270705815","梁婷","319独山县乡镇中学","03初中地理教师",{"$f":"VLOOKUP(B2859,[1]Sheet1!$A:$I,8,0)","v":"77.50"},{"$f":"VLOOKUP(B2859,[1]Sheet1!$A:$I,9,0)","v":"75.00"},{"$f":"VLOOKUP(B2859,[2]少数民族加分!$C$1:$E$65536,3,FALSE)","v":2},{"v":154.5,"d":"154.50"}]
[2860,"4252270706508","王丽萍","319独山县乡镇中学","03初中地理教师",{"$f":"VLOOKUP(B2860,[1]Sheet1!$A:$I,8,0)","v":"91.00"},{"$f":"VLOOKUP(B2860,[1]Sheet1!$A:$I,9,0)","v":"61.50"},{"$f":"VLOOKUP(B2860,[2]少数民族加分!$C$1:$E$65536,3,FALSE)","v":2},{"v":154.5,"d":"154.50"}]
[2861,"4252270702423","杨一萍","319独山县乡镇中学","03初中地理教师",{"$f":"VLOOKUP(B2861,[1]Sheet1!$A:$I,8,0)","v":"73.50"},{"$f":"VLOOKUP(B2861,[1]Sheet1!$A:$I,9,0)","v":"79.00"},{"$f":"VLOOKUP(B2861,[2]少数民族加分!$C$1:$E$65536,3,FALSE)","v":2},{"v":154.5,"d":"154.50"}]
[2854,"4252270705806","康海","319独山县乡镇中学","03初中地理教师",{"$f":"VLOOKUP(B2862,[1]Sheet1!$A:$I,8,0)","v":"67.00"},{"$f":"VLOOKUP(B2862,[1]Sheet1!$A:$I,9,0)","v":"87.00"},null,{"v":154,"d":"154.00"}]
[2862,"4252270703002","黄元元","319独山县乡镇中学","03初中地理教师",{"$f":"VLOOKUP(B2863,[1]Sheet1!$A:$I,8,0)","v":"76.00"},{"$f":"VLOOKUP(B2863,[1]Sheet1!$A:$I,9,0)","v":"76.00"},{"$f":"VLOOKUP(B2863,[2]少数民族加分!$C$1:$E$65536,3,FALSE)","v":2},{"v":154,"d":"154.00"}]
[2863,"4252270706515","龙春香","319独山县乡镇中学","03初中地理教师",{"$f":"VLOOKUP(B2864,[1]Sheet1!$A:$I,8,0)","v":"67.00"},{"$f":"VLOOKUP(B2864,[1]Sheet1!$A:$I,9,0)","v":"85.00"},{"$f":"VLOOKUP(B2864,[2]少数民族加分!$C$1:$E$65536,3,FALSE)","v":2},{"v":154,"d":"154.00"}]
[2865,"4252270702516","谢露","319独山县乡镇中学","03初中地理教师",{"$f":"VLOOKUP(B2865,[1]Sheet1!$A:$I,8,0)","v":"82.00"},{"$f":"VLOOKUP(B2865,[1]Sheet1!$A:$I,9,0)","v":"69.00"},{"$f":"VLOOKUP(B2865,[2]少数民族加分!$C$1:$E$65536,3,FALSE)","v":2},{"v":153,"d":"153.00"}]
[2858,"4252270705625","杨光琴","319独山县乡镇中学","03初中地理教师",{"$f":"VLOOKUP(B2866,[1]Sheet1!$A:$I,8,0)","v":"76.50"},{"$f":"VLOOKUP(B2866,[1]Sheet1!$A:$I,9,0)","v":"76.00"},null,{"v":152.5,"d":"152.50"}]
[2866,"4252270701601","王承荣","319独山县乡镇中学","03初中地理教师",{"$f":"VLOOKUP(B2867,[1]Sheet1!$A:$I,8,0)","v":"78.50"},{"$f":"VLOOKUP(B2867,[1]Sheet1!$A:$I,9,0)","v":"72.00"},{"$f":"VLOOKUP(B2867,[2]少数民族加分!$C$1:$E$65536,3,FALSE)","v":2},{"v":152.5,"d":"152.50"}]
[2868,"4252270705925","龙志文","319独山县乡镇中学","03初中地理教师",{"$f":"VLOOKUP(B2868,[1]Sheet1!$A:$I,8,0)","v":"83.50"},{"$f":"VLOOKUP(B2868,[1]Sheet1!$A:$I,9,0)","v":"67.00"},{"$f":"VLOOKUP(B2868,[2]少数民族加分!$C$1:$E$65536,3,FALSE)","v":2},{"v":152.5,"d":"152.50"}]
[2869,"4252270704324","罗江能","319独山县乡镇中学","03初中地理教师",{"$f":"VLOOKUP(B2869,[1]Sheet1!$A:$I,8,0)","v":"80.00"},{"$f":"VLOOKUP(B2869,[1]Sheet1!$A:$I,9,0)","v":"70.00"},{"$f":"VLOOKUP(B2869,[2]少数民族加分!$C$1:$E$65536,3,FALSE)","v":2},{"v":152,"d":"152.00"}]
[2870,"4252270701808","吴士英","319独山县乡镇中学","03初中地理教师",{"$f":"VLOOKUP(B2870,[1]Sheet1!$A:$I,8,0)","v":"75.50"},{"$f":"VLOOKUP(B2870,[1]Sheet1!$A:$I,9,0)","v":"74.00"},{"$f":"VLOOKUP(B2870,[2]少数民族加分!$C$1:$E$65536,3,FALSE)","v":2},{"v":151.5,"d":"151.50"}]
[2864,"4252270702501","罗家宝","319独山县乡镇中学","03初中地理教师",{"$f":"VLOOKUP(B2871,[1]Sheet1!$A:$I,8,0)","v":"79.00"},{"$f":"VLOOKUP(B2871,[1]Sheet1!$A:$I,9,0)","v":"72.00"},null,{"v":151,"d":"151.00"}]
[2867,"4252270704216","辛家映","319独山县乡镇中学","03初中地理教师",{"$f":"VLOOKUP(B2872,[1]Sheet1!$A:$I,8,0)","v":"77.50"},{"$f":"VLOOKUP(B2872,[1]Sheet1!$A:$I,9,0)","v":"73.00"},null,{"v":150.5,"d":"150.50"}]
[2871,"4252270703714","伍芝丽","319独山县乡镇中学","03初中地理教师",{"$f":"VLOOKUP(B2873,[1]Sheet1!$A:$I,8,0)","v":"79.50"},{"$f":"VLOOKUP(B2873,[1]Sheet1!$A:$I,9,0)","v":"69.00"},{"$f":"VLOOKUP(B2873,[2]少数民族加分!$C$1:$E$65536,3,FALSE)","v":2},{"v":150.5,"d":"150.50"}]
[2874,"4252270702314","王安平","319独山县乡镇中学","03初中地理教师",{"$f":"VLOOKUP(B2874,[1]Sheet1!$A:$I,8,0)","v":"77.00"},{"$f":"VLOOKUP(B2874,[1]Sheet1!$A:$I,9,0)","v":"70.00"},{"$f":"VLOOKUP(B2874,[2]少数民族加分!$C$1:$E$65536,3,FALSE)","v":2},{"v":149,"d":"149.00"}]
[2872,"4252270705719","刘佳佳","319独山县乡镇中学","03初中地理教师",{"$f":"VLOOKUP(B2875,[1]Sheet1!$A:$I,8,0)","v":"81.00"},{"$f":"VLOOKUP(B2875,[1]Sheet1!$A:$I,9,0)","v":"67.00"},null,{"v":148,"d":"148.00"}]
[2875,"4252270702620","吴宏禹","319独山县乡镇中学","03初中地理教师",{"$f":"VLOOKUP(B2876,[1]Sheet1!$A:$I,8,0)","v":"78.00"},{"$f":"VLOOKUP(B2876,[1]Sheet1!$A:$I,9,0)","v":"68.00"},{"$f":"VLOOKUP(B2876,[2]少数民族加分!$C$1:$E$65536,3,FALSE)","v":2},{"v":148,"d":"148.00"}]
[2876,"4252270704301","莫朝县","319独山县乡镇中学","03初中地理教师",{"$f":"VLOOKUP(B2877,[1]Sheet1!$A:$I,8,0)","v":"64.00"},{"$f":"VLOOKUP(B2877,[1]Sheet1!$A:$I,9,0)","v":"82.00"},{"$f":"VLOOKUP(B2877,[2]少数民族加分!$C$1:$E$65536,3,FALSE)","v":2},{"v":148,"d":"148.00"}]
[2877,"4252270706106","潘东","319独山县乡镇中学","03初中地理教师",{"$f":"VLOOKUP(B2878,[1]Sheet1!$A:$I,8,0)","v":"68.00"},{"$f":"VLOOKUP(B2878,[1]Sheet1!$A:$I,9,0)","v":"78.00"},{"$f":"VLOOKUP(B2878,[2]少数民族加分!$C$1:$E$65536,3,FALSE)","v":2},{"v":148,"d":"148.00"}]
[2873,"4252270704226","刘辉","319独山县乡镇中学","03初中地理教师",{"$f":"VLOOKUP(B2879,[1]Sheet1!$A:$I,8,0)","v":"77.50"},{"$f":"VLOOKUP(B2879,[1]Sheet1!$A:$I,9,0)","v":"70.00"},null,{"v":147.5,"d":"147.50"}]
[2878,"4252270705323","潘兴龙","319独山县乡镇中学","03初中地理教师",{"$f":"VLOOKUP(B2880,[1]Sheet1!$A:$I,8,0)","v":"69.50"},{"$f":"VLOOKUP(B2880,[1]Sheet1!$A:$I,9,0)","v":"76.00"},{"$f":"VLOOKUP(B2880,[2]少数民族加分!$C$1:$E$65536,3,FALSE)","v":2},{"v":147.5,"d":"147.50"}]
[2879,"4252270705514","吴水秀","319独山县乡镇中学","03初中地理教师",{"$f":"VLOOKUP(B2881,[1]Sheet1!$A:$I,8,0)","v":"72.50"},{"$f":"VLOOKUP(B2881,[1]Sheet1!$A:$I,9,0)","v":"73.00"},{"$f":"VLOOKUP(B2881,[2]少数民族加分!$C$1:$E$65536,3,FALSE)","v":2},{"v":147.5,"d":"147.50"}]
[2880,"4252270701909","赵俊","319独山县乡镇中学","03初中地理教师",{"$f":"VLOOKUP(B2882,[1]Sheet1!$A:$I,8,0)","v":"66.50"},{"$f":"VLOOKUP(B2882,[1]Sheet1!$A:$I,9,0)","v":"79.00"},{"$f":"VLOOKUP(B2882,[2]少数民族加分!$C$1:$E$65536,3,FALSE)","v":2},{"v":147.5,"d":"147.50"}]
[2882,"4252270705823","熊俊彩","319独山县乡镇中学","03初中地理教师",{"$f":"VLOOKUP(B2883,[1]Sheet1!$A:$I,8,0)","v":"61.00"},{"$f":"VLOOKUP(B2883,[1]Sheet1!$A:$I,9,0)","v":"84.00"},{"$f":"VLOOKUP(B2883,[2]少数民族加分!$C$1:$E$65536,3,FALSE)","v":2},{"v":147,"d":"147.00"}]
[2884,"4252270702603","谢得云","319独山县乡镇中学","03初中地理教师",{"$f":"VLOOKUP(B2884,[1]Sheet1!$A:$I,8,0)","v":"76.00"},{"$f":"VLOOKUP(B2884,[1]Sheet1!$A:$I,9,0)","v":"68.00"},{"$f":"VLOOKUP(B2884,[2]少数民族加分!$C$1:$E$65536,3,FALSE)","v":2},{"v":146,"d":"146.00"}]
[2885,"4252270702821","钱四芳","319独山县乡镇中学","03初中地理教师",{"$f":"VLOOKUP(B2885,[1]Sheet1!$A:$I,8,0)","v":"73.00"},{"$f":"VLOOKUP(B2885,[1]Sheet1!$A:$I,9,0)","v":"71.00"},{"$f":"VLOOKUP(B2885,[2]少数民族加分!$C$1:$E$65536,3,FALSE)","v":2},{"v":146,"d":"146.00"}]
[2886,"4252270704402","罗思武","319独山县乡镇中学","03初中地理教师",{"$f":"VLOOKUP(B2886,[1]Sheet1!$A:$I,8,0)","v":"77.00"},{"$f":"VLOOKUP(B2886,[1]Sheet1!$A:$I,9,0)","v":"67.00"},{"$f":"VLOOKUP(B2886,[2]少数民族加分!$C$1:$E$65536,3,FALSE)","v":2},{"v":146,"d":"146.00"}]
[2887,"4252270705715","杨祥贵","319独山县乡镇中学","03初中地理教师",{"$f":"VLOOKUP(B2887,[1]Sheet1!$A:$I,8,0)","v":"83.50"},{"$f":"VLOOKUP(B2887,[1]Sheet1!$A:$I,9,0)","v":"60.50"},{"$f":"VLOOKUP(B2887,[2]少数民族加分!$C$1:$E$65536,3,FALSE)","v":2},{"v":146,"d":"146.00"}]
[2881,"4252270702110","覃世龙","319独山县乡镇中学","03初中地理教师",{"$f":"VLOOKUP(B2888,[1]Sheet1!$A:$I,8,0)","v":"79.50"},{"$f":"VLOOKUP(B2888,[1]Sheet1!$A:$I,9,0)","v":"66.00"},null,{"v":145.5,"d":"145.50"}]
[2888,"4252270705910","石妹","319独山县乡镇中学","03初中地理教师",{"$f":"VLOOKUP(B2889,[1]Sheet1!$A:$I,8,0)","v":"74.00"},{"$f":"VLOOKUP(B2889,[1]Sheet1!$A:$I,9,0)","v":"69.00"},{"$f":"VLOOKUP(B2889,[2]少数民族加分!$C$1:$E$65536,3,FALSE)","v":2},{"v":145,"d":"145.00"}]
[2883,"4252270706126","杨梦雪","319独山县乡镇中学","03初中地理教师",{"$f":"VLOOKUP(B2890,[1]Sheet1!$A:$I,8,0)","v":"75.50"},{"$f":"VLOOKUP(B2890,[1]Sheet1!$A:$I,9,0)","v":"69.00"},null,{"v":144.5,"d":"144.50"}]
[2890,"4252270702604","杨倩","319独山县乡镇中学","03初中地理教师",{"$f":"VLOOKUP(B2891,[1]Sheet1!$A:$I,8,0)","v":"81.50"},{"$f":"VLOOKUP(B2891,[1]Sheet1!$A:$I,9,0)","v":"61.00"},{"$f":"VLOOKUP(B2891,[2]少数民族加分!$C$1:$E$65536,3,FALSE)","v":2},{"v":144.5,"d":"144.50"}]
[2891,"4252270702218","莫春霞","319独山县乡镇中学","03初中地理教师",{"$f":"VLOOKUP(B2892,[1]Sheet1!$A:$I,8,0)","v":"71.00"},{"$f":"VLOOKUP(B2892,[1]Sheet1!$A:$I,9,0)","v":"71.00"},{"$f":"VLOOKUP(B2892,[2]少数民族加分!$C$1:$E$65536,3,FALSE)","v":2},{"v":144,"d":"144.00"}]
[2892,"4252270706726","陈洁","319独山县乡镇中学","03初中地理教师",{"$f":"VLOOKUP(B2893,[1]Sheet1!$A:$I,8,0)","v":"88.50"},{"$f":"VLOOKUP(B2893,[1]Sheet1!$A:$I,9,0)","v":"53.50"},{"$f":"VLOOKUP(B2893,[2]少数民族加分!$C$1:$E$65536,3,FALSE)","v":2},{"v":144,"d":"144.00"}]
[2894,"4252270706613","李水英","319独山县乡镇中学","03初中地理教师",{"$f":"VLOOKUP(B2894,[1]Sheet1!$A:$I,8,0)","v":"74.50"},{"$f":"VLOOKUP(B2894,[1]Sheet1!$A:$I,9,0)","v":"67.00"},{"$f":"VLOOKUP(B2894,[2]少数民族加分!$C$1:$E$65536,3,FALSE)","v":2},{"v":143.5,"d":"143.50"}]
[2889,"4252270705221","邹红梅","319独山县乡镇中学","03初中地理教师",{"$f":"VLOOKUP(B2895,[1]Sheet1!$A:$I,8,0)","v":"74.50"},{"$f":"VLOOKUP(B2895,[1]Sheet1!$A:$I,9,0)","v":"68.00"},null,{"v":142.5,"d":"142.50"}]
[2893,"4252270704413","王双印","319独山县乡镇中学","03初中地理教师",{"$f":"VLOOKUP(B2896,[1]Sheet1!$A:$I,8,0)","v":"75.00"},{"$f":"VLOOKUP(B2896,[1]Sheet1!$A:$I,9,0)","v":"67.00"},null,{"v":142,"d":"142.00"}]
[2895,"4252270702713","王承湘","319独山县乡镇中学","03初中地理教师",{"$f":"VLOOKUP(B2897,[1]Sheet1!$A:$I,8,0)","v":"81.50"},{"$f":"VLOOKUP(B2897,[1]Sheet1!$A:$I,9,0)","v":"58.00"},{"$f":"VLOOKUP(B2897,[2]少数民族加分!$C$1:$E$65536,3,FALSE)","v":2},{"v":141.5,"d":"141.50"}]
[2896,"4252270702222","成元芳","319独山县乡镇中学","03初中地理教师",{"$f":"VLOOKUP(B2898,[1]Sheet1!$A:$I,8,0)","v":"73.50"},{"$f":"VLOOKUP(B2898,[1]Sheet1!$A:$I,9,0)","v":"65.00"},{"$f":"VLOOKUP(B2898,[2]少数民族加分!$C$1:$E$65536,3,FALSE)","v":2},{"v":140.5,"d":"140.50"}]
[2898,"4252270703930","吴尚有","319独山县乡镇中学","03初中地理教师",{"$f":"VLOOKUP(B2899,[1]Sheet1!$A:$I,8,0)","v":"67.50"},{"$f":"VLOOKUP(B2899,[1]Sheet1!$A:$I,9,0)","v":"70.00"},{"$f":"VLOOKUP(B2899,[2]少数民族加分!$C$1:$E$65536,3,FALSE)","v":2},{"v":139.5,"d":"139.50"}]
[2899,"4252270704429","李艳","319独山县乡镇中学","03初中地理教师",{"$f":"VLOOKUP(B2900,[1]Sheet1!$A:$I,8,0)","v":"60.50"},{"$f":"VLOOKUP(B2900,[1]Sheet1!$A:$I,9,0)","v":"77.00"},{"$f":"VLOOKUP(B2900,[2]少数民族加分!$C$1:$E$65536,3,FALSE)","v":2},{"v":139.5,"d":"139.50"}]
[2900,"4252270702522","潘万凤","319独山县乡镇中学","03初中地理教师",{"$f":"VLOOKUP(B2901,[1]Sheet1!$A:$I,8,0)","v":"60.00"},{"$f":"VLOOKUP(B2901,[1]Sheet1!$A:$I,9,0)","v":"77.00"},{"$f":"VLOOKUP(B2901,[2]少数民族加分!$C$1:$E$65536,3,FALSE)","v":2},{"v":139,"d":"139.00"}]
[2901,"4252270705128","杨兴荣","319独山县乡镇中学","03初中地理教师",{"$f":"VLOOKUP(B2902,[1]Sheet1!$A:$I,8,0)","v":"78.50"},{"$f":"VLOOKUP(B2902,[1]Sheet1!$A:$I,9,0)","v":"58.00"},{"$f":"VLOOKUP(B2902,[2]少数民族加分!$C$1:$E$65536,3,FALSE)","v":2},{"v":138.5,"d":"138.50"}]
[2897,"4252270702230","陆文静","319独山县乡镇中学","03初中地理教师",{"$f":"VLOOKUP(B2903,[1]Sheet1!$A:$I,8,0)","v":"63.00"},{"$f":"VLOOKUP(B2903,[1]Sheet1!$A:$I,9,0)","v":"75.00"},null,{"v":138,"d":"138.00"}]
[2903,"4252270704111","李恋","319独山县乡镇中学","03初中地理教师",{"$f":"VLOOKUP(B2904,[1]Sheet1!$A:$I,8,0)","v":"56.00"},{"$f":"VLOOKUP(B2904,[1]Sheet1!$A:$I,9,0)","v":"79.00"},{"$f":"VLOOKUP(B2904,[2]少数民族加分!$C$1:$E$65536,3,FALSE)","v":2},{"v":137,"d":"137.00"}]
[2904,"4252270703315","李绍嫄","319独山县乡镇中学","03初中地理教师",{"$f":"VLOOKUP(B2905,[1]Sheet1!$A:$I,8,0)","v":"59.50"},{"$f":"VLOOKUP(B2905,[1]Sheet1!$A:$I,9,0)","v":"75.00"},{"$f":"VLOOKUP(B2905,[2]少数民族加分!$C$1:$E$65536,3,FALSE)","v":2},{"v":136.5,"d":"136.50"}]
[2905,"4252270705616","王友","319独山县乡镇中学","03初中地理教师",{"$f":"VLOOKUP(B2906,[1]Sheet1!$A:$I,8,0)","v":"75.00"},{"$f":"VLOOKUP(B2906,[1]Sheet1!$A:$I,9,0)","v":"59.00"},{"$f":"VLOOKUP(B2906,[2]少数民族加分!$C$1:$E$65536,3,FALSE)","v":2},{"v":136,"d":"136.00"}]
[2902,"4252270706807","吴永飞","319独山县乡镇中学","03初中地理教师",{"$f":"VLOOKUP(B2907,[1]Sheet1!$A:$I,8,0)","v":"77.50"},{"$f":"VLOOKUP(B2907,[1]Sheet1!$A:$I,9,0)","v":"58.00"},null,{"v":135.5,"d":"135.50"}]
[2906,"4252270703318","许丽平","319独山县乡镇中学","03初中地理教师",{"$f":"VLOOKUP(B2908,[1]Sheet1!$A:$I,8,0)","v":"77.50"},{"$f":"VLOOKUP(B2908,[1]Sheet1!$A:$I,9,0)","v":"56.00"},{"$f":"VLOOKUP(B2908,[2]少数民族加分!$C$1:$E$65536,3,FALSE)","v":2},{"v":135.5,"d":"135.50"}]
[2907,"4252270705209","韦娟","319独山县乡镇中学","03初中地理教师",{"$f":"VLOOKUP(B2909,[1]Sheet1!$A:$I,8,0)","v":"74.00"},{"$f":"VLOOKUP(B2909,[1]Sheet1!$A:$I,9,0)","v":"59.00"},{"$f":"VLOOKUP(B2909,[2]少数民族加分!$C$1:$E$65536,3,FALSE)","v":2},{"v":135,"d":"135.00"}]
[2908,"4252270706224","刘鲜","319独山县乡镇中学","03初中地理教师",{"$f":"VLOOKUP(B2910,[1]Sheet1!$A:$I,8,0)","v":"64.00"},{"$f":"VLOOKUP(B2910,[1]Sheet1!$A:$I,9,0)","v":"64.00"},{"$f":"VLOOKUP(B2910,[2]少数民族加分!$C$1:$E$65536,3,FALSE)","v":2},{"v":130,"d":"130.00"}]
[2909,"4252270702208","王胜","319独山县乡镇中学","03初中地理教师",{"$f":"VLOOKUP(B2911,[1]Sheet1!$A:$I,8,0)","v":"65.50"},{"$f":"VLOOKUP(B2911,[1]Sheet1!$A:$I,9,0)","v":"60.00"},{"$f":"VLOOKUP(B2911,[2]少数民族加分!$C$1:$E$65536,3,FALSE)","v":2},{"v":127.5,"d":"127.50"}]
[2910,"4252270701324","石相叔","319独山县乡镇中学","03初中地理教师",{"$f":"VLOOKUP(B2912,[1]Sheet1!$A:$I,8,0)","v":"0.00"},{"$f":"VLOOKUP(B2912,[1]Sheet1!$A:$I,9,0)","v":"0.00"},{"$f":"VLOOKUP(B2912,[2]少数民族加分!$C$1:$E$65536,3,FALSE)","v":2},"缺考"]
[2911,"4252270701329","罗美","319独山县乡镇中学","03初中地理教师",{"$f":"VLOOKUP(B2913,[1]Sheet1!$A:$I,8,0)","v":"0.00"},{"$f":"VLOOKUP(B2913,[1]Sheet1!$A:$I,9,0)","v":"0.00"},{"$f":"VLOOKUP(B2913,[2]少数民族加分!$C$1:$E$65536,3,FALSE)","v":2},"缺考"]
[2912,"4252270701413","刘雪娇","319独山县乡镇中学","03初中地理教师",{"$f":"VLOOKUP(B2914,[1]Sheet1!$A:$I,8,0)","v":"0.00"},{"$f":"VLOOKUP(B2914,[1]Sheet1!$A:$I,9,0)","v":"0.00"},{"$f":"VLOOKUP(B2914,[2]少数民族加分!$C$1:$E$65536,3,FALSE)","v":2},"缺考"]
[2913,"4252270701710","蔡永灿","319独山县乡镇中学","03初中地理教师",{"$f":"VLOOKUP(B2915,[1]Sheet1!$A:$I,8,0)","v":"0.00"},{"$f":"VLOOKUP(B2915,[1]Sheet1!$A:$I,9,0)","v":"0.00"},null,"缺考"]
[2914,"4252270701801","王厚用","319独山县乡镇中学","03初中地理教师",{"$f":"VLOOKUP(B2916,[1]Sheet1!$A:$I,8,0)","v":"0.00"},{"$f":"VLOOKUP(B2916,[1]Sheet1!$A:$I,9,0)","v":"0.00"},{"$f":"VLOOKUP(B2916,[2]少数民族加分!$C$1:$E$65536,3,FALSE)","v":2},"缺考"]
[2915,"4252270702115","蔡永强","319独山县乡镇中学","03初中地理教师",{"$f":"VLOOKUP(B2917,[1]Sheet1!$A:$I,8,0)","v":"0.00"},{"$f":"VLOOKUP(B2917,[1]Sheet1!$A:$I,9,0)","v":"0.00"},null,"缺考"]
[2916,"4252270702202","王磊","319独山县乡镇中学","03初中地理教师",{"$f":"VLOOKUP(B2918,[1]Sheet1!$A:$I,8,0)","v":"0.00"},{"$f":"VLOOKUP(B2918,[1]Sheet1!$A:$I,9,0)","v":"0.00"},null,"缺考"]
[2917,"4252270702211","吴迪","319独山县乡镇中学","03初中地理教师",{"$f":"VLOOKUP(B2919,[1]Sheet1!$A:$I,8,0)","v":"0.00"},{"$f":"VLOOKUP(B2919,[1]Sheet1!$A:$I,9,0)","v":"0.00"},{"$f":"VLOOKUP(B2919,[2]少数民族加分!$C$1:$E$65536,3,FALSE)","v":2},"缺考"]
[2918,"4252270702319","陈曼","319独山县乡镇中学","03初中地理教师",{"$f":"VLOOKUP(B2920,[1]Sheet1!$A:$I,8,0)","v":"0.00"},{"$f":"VLOOKUP(B2920,[1]Sheet1!$A:$I,9,0)","v":"0.00"},null,"缺考"]
[2919,"4252270702322","卢泽翠","319独山县乡镇中学","03初中地理教师",{"$f":"VLOOKUP(B2921,[1]Sheet1!$A:$I,8,0)","v":"0.00"},{"$f":"VLOOKUP(B2921,[1]Sheet1!$A:$I,9,0)","v":"0.00"},{"$f":"VLOOKUP(B2921,[2]少数民族加分!$C$1:$E$65536,3,FALSE)","v":2},"缺考"]
[2920,"4252270702404","陈朝丽","319独山县乡镇中学","03初中地理教师",{"$f":"VLOOKUP(B2922,[1]Sheet1!$A:$I,8,0)","v":"0.00"},{"$f":"VLOOKUP(B2922,[1]Sheet1!$A:$I,9,0)","v":"0.00"},{"$f":"VLOOKUP(B2922,[2]少数民族加分!$C$1:$E$65536,3,FALSE)","v":2},"缺考"]
[2921,"4252270702416","陶芊","319独山县乡镇中学","03初中地理教师",{"$f":"VLOOKUP(B2923,[1]Sheet1!$A:$I,8,0)","v":"0.00"},{"$f":"VLOOKUP(B2923,[1]Sheet1!$A:$I,9,0)","v":"0.00"},null,"缺考"]
[2922,"4252270702511","苏思行","319独山县乡镇中学","03初中地理教师",{"$f":"VLOOKUP(B2924,[1]Sheet1!$A:$I,8,0)","v":"0.00"},{"$f":"VLOOKUP(B2924,[1]Sheet1!$A:$I,9,0)","v":"0.00"},null,"缺考"]
[2923,"4252270702705","杨胜仁","319独山县乡镇中学","03初中地理教师",{"$f":"VLOOKUP(B2925,[1]Sheet1!$A:$I,8,0)","v":"0.00"},{"$f":"VLOOKUP(B2925,[1]Sheet1!$A:$I,9,0)","v":"0.00"},{"$f":"VLOOKUP(B2925,[2]少数民族加分!$C$1:$E$65536,3,FALSE)","v":2},"缺考"]
[2924,"4252270702930","张家令","319独山县乡镇中学","03初中地理教师",{"$f":"VLOOKUP(B2926,[1]Sheet1!$A:$I,8,0)","v":"0.00"},{"$f":"VLOOKUP(B2926,[1]Sheet1!$A:$I,9,0)","v":"0.00"},null,"缺考"]
[2925,"4252270703401","陈贤","319独山县乡镇中学","03初中地理教师",{"$f":"VLOOKUP(B2927,[1]Sheet1!$A:$I,8,0)","v":"0.00"},{"$f":"VLOOKUP(B2927,[1]Sheet1!$A:$I,9,0)","v":"0.00"},{"$f":"VLOOKUP(B2927,[2]少数民族加分!$C$1:$E$65536,3,FALSE)","v":2},"缺考"]
[2926,"4252270703413","韦平朗","319独山县乡镇中学","03初中地理教师",{"$f":"VLOOKUP(B2928,[1]Sheet1!$A:$I,8,0)","v":"0.00"},{"$f":"VLOOKUP(B2928,[1]Sheet1!$A:$I,9,0)","v":"0.00"},{"$f":"VLOOKUP(B2928,[2]少数民族加分!$C$1:$E$65536,3,FALSE)","v":2},"缺考"]
[2927,"4252270703518","朱婷婷","319独山县乡镇中学","03初中地理教师",{"$f":"VLOOKUP(B2929,[1]Sheet1!$A:$I,8,0)","v":"0.00"},{"$f":"VLOOKUP(B2929,[1]Sheet1!$A:$I,9,0)","v":"0.00"},null,"缺考"]
[2928,"4252270703523","韦涛","319独山县乡镇中学","03初中地理教师",{"$f":"VLOOKUP(B2930,[1]Sheet1!$A:$I,8,0)","v":"0.00"},{"$f":"VLOOKUP(B2930,[1]Sheet1!$A:$I,9,0)","v":"0.00"},{"$f":"VLOOKUP(B2930,[2]少数民族加分!$C$1:$E$65536,3,FALSE)","v":2},"缺考"]
[2929,"4252270703603","李诗铃","319独山县乡镇中学","03初中地理教师",{"$f":"VLOOKUP(B2931,[1]Sheet1!$A:$I,8,0)","v":"0.00"},{"$f":"VLOOKUP(B2931,[1]Sheet1!$A:$I,9,0)","v":"0.00"},null,"缺考"]
[2930,"4252270703701","杨军","319独山县乡镇中学","03初中地理教师",{"$f":"VLOOKUP(B2932,[1]Sheet1!$A:$I,8,0)","v":"0.00"},{"$f":"VLOOKUP(B2932,[1]Sheet1!$A:$I,9,0)","v":"0.00"},{"$f":"VLOOKUP(B2932,[2]少数民族加分!$C$1:$E$65536,3,FALSE)","v":2},"缺考"]
[2931,"4252270703927","谢刚","319独山县乡镇中学","03初中地理教师",{"$f":"VLOOKUP(B2933,[1]Sheet1!$A:$I,8,0)","v":"0.00"},{"$f":"VLOOKUP(B2933,[1]Sheet1!$A:$I,9,0)","v":"0.00"},null,"缺考"]
[2932,"4252270704013","冯敏","319独山县乡镇中学","03初中地理教师",{"$f":"VLOOKUP(B2934,[1]Sheet1!$A:$I,8,0)","v":"0.00"},{"$f":"VLOOKUP(B2934,[1]Sheet1!$A:$I,9,0)","v":"0.00"},{"$f":"VLOOKUP(B2934,[2]少数民族加分!$C$1:$E$65536,3,FALSE)","v":2},"缺考"]
[2933,"4252270704204","田雪梨","319独山县乡镇中学","03初中地理教师",{"$f":"VLOOKUP(B2935,[1]Sheet1!$A:$I,8,0)","v":"0.00"},{"$f":"VLOOKUP(B2935,[1]Sheet1!$A:$I,9,0)","v":"0.00"},{"$f":"VLOOKUP(B2935,[2]少数民族加分!$C$1:$E$65536,3,FALSE)","v":2},"缺考"]
[2934,"4252270704304","冉啟云","319独山县乡镇中学","03初中地理教师",{"$f":"VLOOKUP(B2936,[1]Sheet1!$A:$I,8,0)","v":"0.00"},{"$f":"VLOOKUP(B2936,[1]Sheet1!$A:$I,9,0)","v":"0.00"},null,"缺考"]
[2935,"4252270704630","贺恋恋","319独山县乡镇中学","03初中地理教师",{"$f":"VLOOKUP(B2937,[1]Sheet1!$A:$I,8,0)","v":"0.00"},{"$f":"VLOOKUP(B2937,[1]Sheet1!$A:$I,9,0)","v":"0.00"},{"$f":"VLOOKUP(B2937,[2]少数民族加分!$C$1:$E$65536,3,FALSE)","v":2},"缺考"]
[2936,"4252270704818","牟镜莉","319独山县乡镇中学","03初中地理教师",{"$f":"VLOOKUP(B2938,[1]Sheet1!$A:$I,8,0)","v":"0.00"},{"$f":"VLOOKUP(B2938,[1]Sheet1!$A:$I,9,0)","v":"0.00"},null,"缺考"]
[2937,"4252270704830","李爱","319独山县乡镇中学","03初中地理教师",{"$f":"VLOOKUP(B2939,[1]Sheet1!$A:$I,8,0)","v":"0.00"},{"$f":"VLOOKUP(B2939,[1]Sheet1!$A:$I,9,0)","v":"0.00"},null,"缺考"]
[2938,"4252270704924","杨政林","319独山县乡镇中学","03初中地理教师",{"$f":"VLOOKUP(B2940,[1]Sheet1!$A:$I,8,0)","v":"0.00"},{"$f":"VLOOKUP(B2940,[1]Sheet1!$A:$I,9,0)","v":"0.00"},{"$f":"VLOOKUP(B2940,[2]少数民族加分!$C$1:$E$65536,3,FALSE)","v":2},"缺考"]
[2939,"4252270705312","陈瑛","319独山县乡镇中学","03初中地理教师",{"$f":"VLOOKUP(B2941,[1]Sheet1!$A:$I,8,0)","v":"0.00"},{"$f":"VLOOKUP(B2941,[1]Sheet1!$A:$I,9,0)","v":"0.00"},{"$f":"VLOOKUP(B2941,[2]少数民族加分!$C$1:$E$65536,3,FALSE)","v":2},"缺考"]
[2940,"4252270705827","石红明","319独山县乡镇中学","03初中地理教师",{"$f":"VLOOKUP(B2942,[1]Sheet1!$A:$I,8,0)","v":"0.00"},{"$f":"VLOOKUP(B2942,[1]Sheet1!$A:$I,9,0)","v":"0.00"},{"$f":"VLOOKUP(B2942,[2]少数民族加分!$C$1:$E$65536,3,FALSE)","v":2},"缺考"]
[2941,"4252270706004","杨绍辉","319独山县乡镇中学","03初中地理教师",{"$f":"VLOOKUP(B2943,[1]Sheet1!$A:$I,8,0)","v":"0.00"},{"$f":"VLOOKUP(B2943,[1]Sheet1!$A:$I,9,0)","v":"0.00"},{"$f":"VLOOKUP(B2943,[2]少数民族加分!$C$1:$E$65536,3,FALSE)","v":2},"缺考"]
[2942,"4252270706105","李春艳","319独山县乡镇中学","03初中地理教师",{"$f":"VLOOKUP(B2944,[1]Sheet1!$A:$I,8,0)","v":"0.00"},{"$f":"VLOOKUP(B2944,[1]Sheet1!$A:$I,9,0)","v":"0.00"},{"$f":"VLOOKUP(B2944,[2]少数民族加分!$C$1:$E$65536,3,FALSE)","v":2},"缺考"]
[2943,"4252270706110","黄光旭","319独山县乡镇中学","03初中地理教师",{"$f":"VLOOKUP(B2945,[1]Sheet1!$A:$I,8,0)","v":"0.00"},{"$f":"VLOOKUP(B2945,[1]Sheet1!$A:$I,9,0)","v":"0.00"},{"$f":"VLOOKUP(B2945,[2]少数民族加分!$C$1:$E$65536,3,FALSE)","v":2},"缺考"]
[2944,"4252270706219","潘盛周","319独山县乡镇中学","03初中地理教师",{"$f":"VLOOKUP(B2946,[1]Sheet1!$A:$I,8,0)","v":"0.00"},{"$f":"VLOOKUP(B2946,[1]Sheet1!$A:$I,9,0)","v":"0.00"},{"$f":"VLOOKUP(B2946,[2]少数民族加分!$C$1:$E$65536,3,FALSE)","v":2},"缺考"]
[2945,"4252270706329","龙毅伟","319独山县乡镇中学","03初中地理教师",{"$f":"VLOOKUP(B2947,[1]Sheet1!$A:$I,8,0)","v":"0.00"},{"$f":"VLOOKUP(B2947,[1]Sheet1!$A:$I,9,0)","v":"0.00"},{"$f":"VLOOKUP(B2947,[2]少数民族加分!$C$1:$E$65536,3,FALSE)","v":2},"缺考"]
[2946,"4252270706621","潘远芬","319独山县乡镇中学","03初中地理教师",{"$f":"VLOOKUP(B2948,[1]Sheet1!$A:$I,8,0)","v":"0.00"},{"$f":"VLOOKUP(B2948,[1]Sheet1!$A:$I,9,0)","v":"0.00"},{"$f":"VLOOKUP(B2948,[2]少数民族加分!$C$1:$E$65536,3,FALSE)","v":2},"缺考"]
[2947,"4252270701310","喻琪芳","319独山县乡镇中学","04初中语文教师",{"$f":"VLOOKUP(B2949,[1]Sheet1!$A:$I,8,0)","v":"108.00"},{"$f":"VLOOKUP(B2949,[1]Sheet1!$A:$I,9,0)","v":"103.50"},null,{"v":211.5,"d":"211.50"}]
[2948,"4252270703621","马春燕","319独山县乡镇中学","04初中语文教师",{"$f":"VLOOKUP(B2950,[1]Sheet1!$A:$I,8,0)","v":"100.50"},{"$f":"VLOOKUP(B2950,[1]Sheet1!$A:$I,9,0)","v":"103.00"},{"$f":"VLOOKUP(B2950,[2]少数民族加分!$C$1:$E$65536,3,FALSE)","v":2},{"v":205.5,"d":"205.50"}]
[2949,"4252270706418","张信","319独山县乡镇中学","04初中语文教师",{"$f":"VLOOKUP(B2951,[1]Sheet1!$A:$I,8,0)","v":"99.50"},{"$f":"VLOOKUP(B2951,[1]Sheet1!$A:$I,9,0)","v":"99.50"},{"$f":"VLOOKUP(B2951,[2]少数民族加分!$C$1:$E$65536,3,FALSE)","v":2},{"v":201,"d":"201.00"}]
[2950,"4252270701716","陈丹","319独山县乡镇中学","04初中语文教师",{"$f":"VLOOKUP(B2952,[1]Sheet1!$A:$I,8,0)","v":"94.50"},{"$f":"VLOOKUP(B2952,[1]Sheet1!$A:$I,9,0)","v":"98.00"},{"$f":"VLOOKUP(B2952,[2]少数民族加分!$C$1:$E$65536,3,FALSE)","v":2},{"v":194.5,"d":"194.50"}]
[2951,"4252270702217","夏林","319独山县乡镇中学","04初中语文教师",{"$f":"VLOOKUP(B2953,[1]Sheet1!$A:$I,8,0)","v":"94.00"},{"$f":"VLOOKUP(B2953,[1]Sheet1!$A:$I,9,0)","v":"97.00"},null,{"v":191,"d":"191.00"}]
[2952,"4252270705710","商霞","319独山县乡镇中学","04初中语文教师",{"$f":"VLOOKUP(B2954,[1]Sheet1!$A:$I,8,0)","v":"89.50"},{"$f":"VLOOKUP(B2954,[1]Sheet1!$A:$I,9,0)","v":"99.50"},null,{"v":189,"d":"189.00"}]
[2954,"4252270705702","赵荣媛","319独山县乡镇中学","04初中语文教师",{"$f":"VLOOKUP(B2955,[1]Sheet1!$A:$I,8,0)","v":"94.00"},{"$f":"VLOOKUP(B2955,[1]Sheet1!$A:$I,9,0)","v":"92.50"},{"$f":"VLOOKUP(B2955,[2]少数民族加分!$C$1:$E$65536,3,FALSE)","v":2},{"v":188.5,"d":"188.50"}]
[2953,"4252270702711","陈昌田","319独山县乡镇中学","04初中语文教师",{"$f":"VLOOKUP(B2956,[1]Sheet1!$A:$I,8,0)","v":"93.50"},{"$f":"VLOOKUP(B2956,[1]Sheet1!$A:$I,9,0)","v":"94.50"},null,{"v":188,"d":"188.00"}]
[2955,"4252270706322","罗福荣","319独山县乡镇中学","04初中语文教师",{"$f":"VLOOKUP(B2957,[1]Sheet1!$A:$I,8,0)","v":"95.50"},{"$f":"VLOOKUP(B2957,[1]Sheet1!$A:$I,9,0)","v":"90.50"},null,{"v":186,"d":"186.00"}]
[2956,"4252270706527","孟廷焕","319独山县乡镇中学","04初中语文教师",{"$f":"VLOOKUP(B2958,[1]Sheet1!$A:$I,8,0)","v":"96.50"},{"$f":"VLOOKUP(B2958,[1]Sheet1!$A:$I,9,0)","v":"86.50"},{"$f":"VLOOKUP(B2958,[2]少数民族加分!$C$1:$E$65536,3,FALSE)","v":2},{"v":185,"d":"185.00"}]
[2957,"4252270701410","罗国菊","319独山县乡镇中学","04初中语文教师",{"$f":"VLOOKUP(B2959,[1]Sheet1!$A:$I,8,0)","v":"99.50"},{"$f":"VLOOKUP(B2959,[1]Sheet1!$A:$I,9,0)","v":"83.00"},{"$f":"VLOOKUP(B2959,[2]少数民族加分!$C$1:$E$65536,3,FALSE)","v":2},{"v":184.5,"d":"184.50"}]
[2958,"4252270701405","玉爽攀","319独山县乡镇中学","04初中语文教师",{"$f":"VLOOKUP(B2960,[1]Sheet1!$A:$I,8,0)","v":"85.00"},{"$f":"VLOOKUP(B2960,[1]Sheet1!$A:$I,9,0)","v":"97.00"},{"$f":"VLOOKUP(B2960,[2]少数民族加分!$C$1:$E$65536,3,FALSE)","v":2},{"v":184,"d":"184.00"}]
[2959,"4252270706723","韦利肖","319独山县乡镇中学","04初中语文教师",{"$f":"VLOOKUP(B2961,[1]Sheet1!$A:$I,8,0)","v":"94.50"},{"$f":"VLOOKUP(B2961,[1]Sheet1!$A:$I,9,0)","v":"86.50"},{"$f":"VLOOKUP(B2961,[2]少数民族加分!$C$1:$E$65536,3,FALSE)","v":2},{"v":183,"d":"183.00"}]
[2960,"4252270703123","潘秀来","319独山县乡镇中学","04初中语文教师",{"$f":"VLOOKUP(B2962,[1]Sheet1!$A:$I,8,0)","v":"89.00"},{"$f":"VLOOKUP(B2962,[1]Sheet1!$A:$I,9,0)","v":"91.00"},{"$f":"VLOOKUP(B2962,[2]少数民族加分!$C$1:$E$65536,3,FALSE)","v":2},{"v":182,"d":"182.00"}]
[2961,"4252270705009","刘玉梅","319独山县乡镇中学","04初中语文教师",{"$f":"VLOOKUP(B2963,[1]Sheet1!$A:$I,8,0)","v":"100.50"},{"$f":"VLOOKUP(B2963,[1]Sheet1!$A:$I,9,0)","v":"79.50"},null,{"v":180,"d":"180.00"}]
[2962,"4252270703205","姚小兰","319独山县乡镇中学","04初中语文教师",{"$f":"VLOOKUP(B2964,[1]Sheet1!$A:$I,8,0)","v":"89.00"},{"$f":"VLOOKUP(B2964,[1]Sheet1!$A:$I,9,0)","v":"89.50"},null,{"v":178.5,"d":"178.50"}]
[2964,"4252270705310","聂雪婷","319独山县乡镇中学","04初中语文教师",{"$f":"VLOOKUP(B2965,[1]Sheet1!$A:$I,8,0)","v":"95.50"},{"$f":"VLOOKUP(B2965,[1]Sheet1!$A:$I,9,0)","v":"80.50"},{"$f":"VLOOKUP(B2965,[2]少数民族加分!$C$1:$E$65536,3,FALSE)","v":2},{"v":178,"d":"178.00"}]
[2966,"4252270706426","陈加凤","319独山县乡镇中学","04初中语文教师",{"$f":"VLOOKUP(B2966,[1]Sheet1!$A:$I,8,0)","v":"87.50"},{"$f":"VLOOKUP(B2966,[1]Sheet1!$A:$I,9,0)","v":"88.00"},{"$f":"VLOOKUP(B2966,[2]少数民族加分!$C$1:$E$65536,3,FALSE)","v":2},{"v":177.5,"d":"177.50"}]
[2967,"4252270704528","龙世云","319独山县乡镇中学","04初中语文教师",{"$f":"VLOOKUP(B2967,[1]Sheet1!$A:$I,8,0)","v":"72.50"},{"$f":"VLOOKUP(B2967,[1]Sheet1!$A:$I,9,0)","v":"103.00"},{"$f":"VLOOKUP(B2967,[2]少数民族加分!$C$1:$E$65536,3,FALSE)","v":2},{"v":177.5,"d":"177.50"}]
[2963,"4252270704101","李水秀","319独山县乡镇中学","04初中语文教师",{"$f":"VLOOKUP(B2968,[1]Sheet1!$A:$I,8,0)","v":"87.50"},{"$f":"VLOOKUP(B2968,[1]Sheet1!$A:$I,9,0)","v":"89.50"},null,{"v":177,"d":"177.00"}]
[2968,"4252270704814","石正琴","319独山县乡镇中学","04初中语文教师",{"$f":"VLOOKUP(B2969,[1]Sheet1!$A:$I,8,0)","v":"82.00"},{"$f":"VLOOKUP(B2969,[1]Sheet1!$A:$I,9,0)","v":"93.00"},{"$f":"VLOOKUP(B2969,[2]少数民族加分!$C$1:$E$65536,3,FALSE)","v":2},{"v":177,"d":"177.00"}]
[2969,"4252270705629","吴雪","319独山县乡镇中学","04初中语文教师",{"$f":"VLOOKUP(B2970,[1]Sheet1!$A:$I,8,0)","v":"79.50"},{"$f":"VLOOKUP(B2970,[1]Sheet1!$A:$I,9,0)","v":"95.00"},{"$f":"VLOOKUP(B2970,[2]少数民族加分!$C$1:$E$65536,3,FALSE)","v":2},{"v":176.5,"d":"176.50"}]
[2965,"4252270701926","彭昌平","319独山县乡镇中学","04初中语文教师",{"$f":"VLOOKUP(B2971,[1]Sheet1!$A:$I,8,0)","v":"93.50"},{"$f":"VLOOKUP(B2971,[1]Sheet1!$A:$I,9,0)","v":"82.50"},null,{"v":176,"d":"176.00"}]
[2970,"4252270706720","文学景","319独山县乡镇中学","04初中语文教师",{"$f":"VLOOKUP(B2972,[1]Sheet1!$A:$I,8,0)","v":"89.50"},{"$f":"VLOOKUP(B2972,[1]Sheet1!$A:$I,9,0)","v":"84.50"},{"$f":"VLOOKUP(B2972,[2]少数民族加分!$C$1:$E$65536,3,FALSE)","v":2},{"v":176,"d":"176.00"}]
[2971,"4252270701828","韦治棉","319独山县乡镇中学","04初中语文教师",{"$f":"VLOOKUP(B2973,[1]Sheet1!$A:$I,8,0)","v":"96.00"},{"$f":"VLOOKUP(B2973,[1]Sheet1!$A:$I,9,0)","v":"77.50"},{"$f":"VLOOKUP(B2973,[2]少数民族加分!$C$1:$E$65536,3,FALSE)","v":2},{"v":175.5,"d":"175.50"}]
[2972,"4252270706207","金梅","319独山县乡镇中学","04初中语文教师",{"$f":"VLOOKUP(B2974,[1]Sheet1!$A:$I,8,0)","v":"86.00"},{"$f":"VLOOKUP(B2974,[1]Sheet1!$A:$I,9,0)","v":"86.50"},{"$f":"VLOOKUP(B2974,[2]少数民族加分!$C$1:$E$65536,3,FALSE)","v":2},{"v":174.5,"d":"174.50"}]
[2973,"4252270704117","梁英","319独山县乡镇中学","04初中语文教师",{"$f":"VLOOKUP(B2975,[1]Sheet1!$A:$I,8,0)","v":"76.00"},{"$f":"VLOOKUP(B2975,[1]Sheet1!$A:$I,9,0)","v":"94.00"},{"$f":"VLOOKUP(B2975,[2]少数民族加分!$C$1:$E$65536,3,FALSE)","v":2},{"v":172,"d":"172.00"}]
[2974,"4252270705611","姚丹","319独山县乡镇中学","04初中语文教师",{"$f":"VLOOKUP(B2976,[1]Sheet1!$A:$I,8,0)","v":"76.00"},{"$f":"VLOOKUP(B2976,[1]Sheet1!$A:$I,9,0)","v":"93.00"},{"$f":"VLOOKUP(B2976,[2]少数民族加分!$C$1:$E$65536,3,FALSE)","v":2},{"v":171,"d":"171.00"}]
[2975,"4252270705918","韦红莲","319独山县乡镇中学","04初中语文教师",{"$f":"VLOOKUP(B2977,[1]Sheet1!$A:$I,8,0)","v":"75.00"},{"$f":"VLOOKUP(B2977,[1]Sheet1!$A:$I,9,0)","v":"93.00"},{"$f":"VLOOKUP(B2977,[2]少数民族加分!$C$1:$E$65536,3,FALSE)","v":2},{"v":170,"d":"170.00"}]
[2976,"4252270706104","张玥","319独山县乡镇中学","04初中语文教师",{"$f":"VLOOKUP(B2978,[1]Sheet1!$A:$I,8,0)","v":"95.50"},{"$f":"VLOOKUP(B2978,[1]Sheet1!$A:$I,9,0)","v":"72.50"},{"$f":"VLOOKUP(B2978,[2]少数民族加分!$C$1:$E$65536,3,FALSE)","v":2},{"v":170,"d":"170.00"}]
[2977,"4252270701725","王秀元","319独山县乡镇中学","04初中语文教师",{"$f":"VLOOKUP(B2979,[1]Sheet1!$A:$I,8,0)","v":"88.00"},{"$f":"VLOOKUP(B2979,[1]Sheet1!$A:$I,9,0)","v":"80.00"},{"$f":"VLOOKUP(B2979,[2]少数民族加分!$C$1:$E$65536,3,FALSE)","v":2},{"v":170,"d":"170.00"}]
[2979,"4252270702428","李亚琴","319独山县乡镇中学","04初中语文教师",{"$f":"VLOOKUP(B2980,[1]Sheet1!$A:$I,8,0)","v":"79.50"},{"$f":"VLOOKUP(B2980,[1]Sheet1!$A:$I,9,0)","v":"88.00"},{"$f":"VLOOKUP(B2980,[2]少数民族加分!$C$1:$E$65536,3,FALSE)","v":2},{"v":169.5,"d":"169.50"}]
[2978,"4252270701824","袁倩","319独山县乡镇中学","04初中语文教师",{"$f":"VLOOKUP(B2981,[1]Sheet1!$A:$I,8,0)","v":"78.00"},{"$f":"VLOOKUP(B2981,[1]Sheet1!$A:$I,9,0)","v":"90.00"},null,{"v":168,"d":"168.00"}]
[2980,"4252270703421","龙正琴","319独山县乡镇中学","04初中语文教师",{"$f":"VLOOKUP(B2982,[1]Sheet1!$A:$I,8,0)","v":"84.00"},{"$f":"VLOOKUP(B2982,[1]Sheet1!$A:$I,9,0)","v":"83.50"},null,{"v":167.5,"d":"167.50"}]
[2981,"4252270701308","黎祥娜","319独山县乡镇中学","04初中语文教师",{"$f":"VLOOKUP(B2983,[1]Sheet1!$A:$I,8,0)","v":"90.50"},{"$f":"VLOOKUP(B2983,[1]Sheet1!$A:$I,9,0)","v":"76.50"},null,{"v":167,"d":"167.00"}]
[2982,"4252270702706","王芝坊","319独山县乡镇中学","04初中语文教师",{"$f":"VLOOKUP(B2984,[1]Sheet1!$A:$I,8,0)","v":"87.00"},{"$f":"VLOOKUP(B2984,[1]Sheet1!$A:$I,9,0)","v":"80.00"},null,{"v":167,"d":"167.00"}]
[2983,"4252270702610","金修海","319独山县乡镇中学","04初中语文教师",{"$f":"VLOOKUP(B2985,[1]Sheet1!$A:$I,8,0)","v":"84.50"},{"$f":"VLOOKUP(B2985,[1]Sheet1!$A:$I,9,0)","v":"80.50"},{"$f":"VLOOKUP(B2985,[2]少数民族加分!$C$1:$E$65536,3,FALSE)","v":2},{"v":167,"d":"167.00"}]
[2984,"4252270702122","陆明欢","319独山县乡镇中学","04初中语文教师",{"$f":"VLOOKUP(B2986,[1]Sheet1!$A:$I,8,0)","v":"82.50"},{"$f":"VLOOKUP(B2986,[1]Sheet1!$A:$I,9,0)","v":"82.00"},{"$f":"VLOOKUP(B2986,[2]少数民族加分!$C$1:$E$65536,3,FALSE)","v":2},{"v":166.5,"d":"166.50"}]
[2985,"4252270702828","白映竹","319独山县乡镇中学","04初中语文教师",{"$f":"VLOOKUP(B2987,[1]Sheet1!$A:$I,8,0)","v":"76.00"},{"$f":"VLOOKUP(B2987,[1]Sheet1!$A:$I,9,0)","v":"88.00"},{"$f":"VLOOKUP(B2987,[2]少数民族加分!$C$1:$E$65536,3,FALSE)","v":2},{"v":166,"d":"166.00"}]
[2986,"4252270703802","杨秉民","319独山县乡镇中学","04初中语文教师",{"$f":"VLOOKUP(B2988,[1]Sheet1!$A:$I,8,0)","v":"86.50"},{"$f":"VLOOKUP(B2988,[1]Sheet1!$A:$I,9,0)","v":"77.00"},{"$f":"VLOOKUP(B2988,[2]少数民族加分!$C$1:$E$65536,3,FALSE)","v":2},{"v":165.5,"d":"165.50"}]
[2987,"4252270701512","潘盛燕","319独山县乡镇中学","04初中语文教师",{"$f":"VLOOKUP(B2989,[1]Sheet1!$A:$I,8,0)","v":"81.00"},{"$f":"VLOOKUP(B2989,[1]Sheet1!$A:$I,9,0)","v":"82.00"},{"$f":"VLOOKUP(B2989,[2]少数民族加分!$C$1:$E$65536,3,FALSE)","v":2},{"v":165,"d":"165.00"}]
[2988,"4252270702305","王江会","319独山县乡镇中学","04初中语文教师",{"$f":"VLOOKUP(B2990,[1]Sheet1!$A:$I,8,0)","v":"73.00"},{"$f":"VLOOKUP(B2990,[1]Sheet1!$A:$I,9,0)","v":"90.00"},{"$f":"VLOOKUP(B2990,[2]少数民族加分!$C$1:$E$65536,3,FALSE)","v":2},{"v":165,"d":"165.00"}]
[2989,"4252270706428","姜文锴","319独山县乡镇中学","04初中语文教师",{"$f":"VLOOKUP(B2991,[1]Sheet1!$A:$I,8,0)","v":"79.50"},{"$f":"VLOOKUP(B2991,[1]Sheet1!$A:$I,9,0)","v":"83.00"},{"$f":"VLOOKUP(B2991,[2]少数民族加分!$C$1:$E$65536,3,FALSE)","v":2},{"v":164.5,"d":"164.50"}]
[2991,"4252270705816","罗仙仙","319独山县乡镇中学","04初中语文教师",{"$f":"VLOOKUP(B2992,[1]Sheet1!$A:$I,8,0)","v":"84.00"},{"$f":"VLOOKUP(B2992,[1]Sheet1!$A:$I,9,0)","v":"77.00"},{"$f":"VLOOKUP(B2992,[2]少数民族加分!$C$1:$E$65536,3,FALSE)","v":2},{"v":163,"d":"163.00"}]
[2992,"4252270703524","袁仁利","319独山县乡镇中学","04初中语文教师",{"$f":"VLOOKUP(B2993,[1]Sheet1!$A:$I,8,0)","v":"76.50"},{"$f":"VLOOKUP(B2993,[1]Sheet1!$A:$I,9,0)","v":"84.00"},{"$f":"VLOOKUP(B2993,[2]少数民族加分!$C$1:$E$65536,3,FALSE)","v":2},{"v":162.5,"d":"162.50"}]
[2993,"4252270704417","李承敏","319独山县乡镇中学","04初中语文教师",{"$f":"VLOOKUP(B2994,[1]Sheet1!$A:$I,8,0)","v":"81.50"},{"$f":"VLOOKUP(B2994,[1]Sheet1!$A:$I,9,0)","v":"78.50"},{"$f":"VLOOKUP(B2994,[2]少数民族加分!$C$1:$E$65536,3,FALSE)","v":2},{"v":162,"d":"162.00"}]
[2990,"4252270703316","陶萍","319独山县乡镇中学","04初中语文教师",{"$f":"VLOOKUP(B2995,[1]Sheet1!$A:$I,8,0)","v":"82.50"},{"$f":"VLOOKUP(B2995,[1]Sheet1!$A:$I,9,0)","v":"79.00"},null,{"v":161.5,"d":"161.50"}]
[2995,"4252270702913","杨昌丽","319独山县乡镇中学","04初中语文教师",{"$f":"VLOOKUP(B2996,[1]Sheet1!$A:$I,8,0)","v":"83.50"},{"$f":"VLOOKUP(B2996,[1]Sheet1!$A:$I,9,0)","v":"75.50"},{"$f":"VLOOKUP(B2996,[2]少数民族加分!$C$1:$E$65536,3,FALSE)","v":2},{"v":161,"d":"161.00"}]
[2994,"4252270702812","周陈倩","319独山县乡镇中学","04初中语文教师",{"$f":"VLOOKUP(B2997,[1]Sheet1!$A:$I,8,0)","v":"75.00"},{"$f":"VLOOKUP(B2997,[1]Sheet1!$A:$I,9,0)","v":"85.00"},null,{"v":160,"d":"160.00"}]
[2996,"4252270705127","瞿芳","319独山县乡镇中学","04初中语文教师",{"$f":"VLOOKUP(B2998,[1]Sheet1!$A:$I,8,0)","v":"74.00"},{"$f":"VLOOKUP(B2998,[1]Sheet1!$A:$I,9,0)","v":"85.00"},null,{"v":159,"d":"159.00"}]
[2997,"4252270705926","陆永美","319独山县乡镇中学","04初中语文教师",{"$f":"VLOOKUP(B2999,[1]Sheet1!$A:$I,8,0)","v":"76.50"},{"$f":"VLOOKUP(B2999,[1]Sheet1!$A:$I,9,0)","v":"79.00"},{"$f":"VLOOKUP(B2999,[2]少数民族加分!$C$1:$E$65536,3,FALSE)","v":2},{"v":157.5,"d":"157.50"}]
[2998,"4252270704209","王丹","319独山县乡镇中学","04初中语文教师",{"$f":"VLOOKUP(B3000,[1]Sheet1!$A:$I,8,0)","v":"66.50"},{"$f":"VLOOKUP(B3000,[1]Sheet1!$A:$I,9,0)","v":"88.00"},{"$f":"VLOOKUP(B3000,[2]少数民族加分!$C$1:$E$65536,3,FALSE)","v":2},{"v":156.5,"d":"156.50"}]
[2999,"4252270702816","龙翠芳","319独山县乡镇中学","04初中语文教师",{"$f":"VLOOKUP(B3001,[1]Sheet1!$A:$I,8,0)","v":"78.50"},{"$f":"VLOOKUP(B3001,[1]Sheet1!$A:$I,9,0)","v":"75.00"},{"$f":"VLOOKUP(B3001,[2]少数民族加分!$C$1:$E$65536,3,FALSE)","v":2},{"v":155.5,"d":"155.50"}]
[3001,"4252270706512","田达珍","319独山县乡镇中学","04初中语文教师",{"$f":"VLOOKUP(B3002,[1]Sheet1!$A:$I,8,0)","v":"83.50"},{"$f":"VLOOKUP(B3002,[1]Sheet1!$A:$I,9,0)","v":"68.50"},{"$f":"VLOOKUP(B3002,[2]少数民族加分!$C$1:$E$65536,3,FALSE)","v":2},{"v":154,"d":"154.00"}]
[3000,"4252270701326","崔凤雪","319独山县乡镇中学","04初中语文教师",{"$f":"VLOOKUP(B3003,[1]Sheet1!$A:$I,8,0)","v":"80.50"},{"$f":"VLOOKUP(B3003,[1]Sheet1!$A:$I,9,0)","v":"72.00"},null,{"v":152.5,"d":"152.50"}]
[3002,"4252270706410","张丽","319独山县乡镇中学","04初中语文教师",{"$f":"VLOOKUP(B3004,[1]Sheet1!$A:$I,8,0)","v":"70.50"},{"$f":"VLOOKUP(B3004,[1]Sheet1!$A:$I,9,0)","v":"80.00"},{"$f":"VLOOKUP(B3004,[2]少数民族加分!$C$1:$E$65536,3,FALSE)","v":2},{"v":152.5,"d":"152.50"}]
[3003,"4252270705130","谢仁学","319独山县乡镇中学","04初中语文教师",{"$f":"VLOOKUP(B3005,[1]Sheet1!$A:$I,8,0)","v":"69.50"},{"$f":"VLOOKUP(B3005,[1]Sheet1!$A:$I,9,0)","v":"81.00"},{"$f":"VLOOKUP(B3005,[2]少数民族加分!$C$1:$E$65536,3,FALSE)","v":2},{"v":152.5,"d":"152.50"}]
[3004,"4252270705923","孟运园","319独山县乡镇中学","04初中语文教师",{"$f":"VLOOKUP(B3006,[1]Sheet1!$A:$I,8,0)","v":"88.00"},{"$f":"VLOOKUP(B3006,[1]Sheet1!$A:$I,9,0)","v":"61.50"},{"$f":"VLOOKUP(B3006,[2]少数民族加分!$C$1:$E$65536,3,FALSE)","v":2},{"v":151.5,"d":"151.50"}]
[3005,"4252270702317","邓倩","319独山县乡镇中学","04初中语文教师",{"$f":"VLOOKUP(B3007,[1]Sheet1!$A:$I,8,0)","v":"81.00"},{"$f":"VLOOKUP(B3007,[1]Sheet1!$A:$I,9,0)","v":"68.00"},{"$f":"VLOOKUP(B3007,[2]少数民族加分!$C$1:$E$65536,3,FALSE)","v":2},{"v":151,"d":"151.00"}]
[3006,"4252270704720","陈美","319独山县乡镇中学","04初中语文教师",{"$f":"VLOOKUP(B3008,[1]Sheet1!$A:$I,8,0)","v":"70.00"},{"$f":"VLOOKUP(B3008,[1]Sheet1!$A:$I,9,0)","v":"78.00"},{"$f":"VLOOKUP(B3008,[2]少数民族加分!$C$1:$E$65536,3,FALSE)","v":2},{"v":150,"d":"150.00"}]
[3007,"4252270706229","周敏燕","319独山县乡镇中学","04初中语文教师",{"$f":"VLOOKUP(B3009,[1]Sheet1!$A:$I,8,0)","v":"67.50"},{"$f":"VLOOKUP(B3009,[1]Sheet1!$A:$I,9,0)","v":"80.00"},{"$f":"VLOOKUP(B3009,[2]少数民族加分!$C$1:$E$65536,3,FALSE)","v":2},{"v":149.5,"d":"149.50"}]
[3008,"4252270701302","陈福凤","319独山县乡镇中学","04初中语文教师",{"$f":"VLOOKUP(B3010,[1]Sheet1!$A:$I,8,0)","v":"70.00"},{"$f":"VLOOKUP(B3010,[1]Sheet1!$A:$I,9,0)","v":"76.00"},{"$f":"VLOOKUP(B3010,[2]少数民族加分!$C$1:$E$65536,3,FALSE)","v":2},{"v":148,"d":"148.00"}]
[3011,"4252270703918","马洪艳","319独山县乡镇中学","04初中语文教师",{"$f":"VLOOKUP(B3011,[1]Sheet1!$A:$I,8,0)","v":"71.50"},{"$f":"VLOOKUP(B3011,[1]Sheet1!$A:$I,9,0)","v":"74.00"},{"$f":"VLOOKUP(B3011,[2]少数民族加分!$C$1:$E$65536,3,FALSE)","v":2},{"v":147.5,"d":"147.50"}]
[3014,"4252270704605","韦启浪","319独山县乡镇中学","04初中语文教师",{"$f":"VLOOKUP(B3012,[1]Sheet1!$A:$I,8,0)","v":"76.50"},{"$f":"VLOOKUP(B3012,[1]Sheet1!$A:$I,9,0)","v":"68.00"},{"$f":"VLOOKUP(B3012,[2]少数民族加分!$C$1:$E$65536,3,FALSE)","v":2},{"v":146.5,"d":"146.50"}]
[3009,"4252270702005","罗豪秀","319独山县乡镇中学","04初中语文教师",{"$f":"VLOOKUP(B3013,[1]Sheet1!$A:$I,8,0)","v":"84.00"},{"$f":"VLOOKUP(B3013,[1]Sheet1!$A:$I,9,0)","v":"62.00"},null,{"v":146,"d":"146.00"}]
[3010,"4252270702114","赵昶","319独山县乡镇中学","04初中语文教师",{"$f":"VLOOKUP(B3014,[1]Sheet1!$A:$I,8,0)","v":"73.00"},{"$f":"VLOOKUP(B3014,[1]Sheet1!$A:$I,9,0)","v":"73.00"},null,{"v":146,"d":"146.00"}]
[3016,"4252270706625","李妍","319独山县乡镇中学","04初中语文教师",{"$f":"VLOOKUP(B3015,[1]Sheet1!$A:$I,8,0)","v":"78.00"},{"$f":"VLOOKUP(B3015,[1]Sheet1!$A:$I,9,0)","v":"66.00"},{"$f":"VLOOKUP(B3015,[2]少数民族加分!$C$1:$E$65536,3,FALSE)","v":2},{"v":146,"d":"146.00"}]
[3012,"4252270701404","骆丹","319独山县乡镇中学","04初中语文教师",{"$f":"VLOOKUP(B3016,[1]Sheet1!$A:$I,8,0)","v":"65.00"},{"$f":"VLOOKUP(B3016,[1]Sheet1!$A:$I,9,0)","v":"80.00"},null,{"v":145,"d":"145.00"}]
[3013,"4252270702909","谢兴艳","319独山县乡镇中学","04初中语文教师",{"$f":"VLOOKUP(B3017,[1]Sheet1!$A:$I,8,0)","v":"76.50"},{"$f":"VLOOKUP(B3017,[1]Sheet1!$A:$I,9,0)","v":"68.00"},null,{"v":144.5,"d":"144.50"}]
[3015,"4252270706624","陈福碧","319独山县乡镇中学","04初中语文教师",{"$f":"VLOOKUP(B3018,[1]Sheet1!$A:$I,8,0)","v":"76.00"},{"$f":"VLOOKUP(B3018,[1]Sheet1!$A:$I,9,0)","v":"68.00"},null,{"v":144,"d":"144.00"}]
[3017,"4252270701309","江国仙","319独山县乡镇中学","04初中语文教师",{"$f":"VLOOKUP(B3019,[1]Sheet1!$A:$I,8,0)","v":"76.50"},{"$f":"VLOOKUP(B3019,[1]Sheet1!$A:$I,9,0)","v":"67.00"},null,{"v":143.5,"d":"143.50"}]
[3018,"4252270706427","徐萍","319独山县乡镇中学","04初中语文教师",{"$f":"VLOOKUP(B3020,[1]Sheet1!$A:$I,8,0)","v":"79.50"},{"$f":"VLOOKUP(B3020,[1]Sheet1!$A:$I,9,0)","v":"60.00"},{"$f":"VLOOKUP(B3020,[2]少数民族加分!$C$1:$E$65536,3,FALSE)","v":2},{"v":141.5,"d":"141.50"}]
[3019,"4252270705206","罗金昭","319独山县乡镇中学","04初中语文教师",{"$f":"VLOOKUP(B3021,[1]Sheet1!$A:$I,8,0)","v":"80.50"},{"$f":"VLOOKUP(B3021,[1]Sheet1!$A:$I,9,0)","v":"59.00"},{"$f":"VLOOKUP(B3021,[2]少数民族加分!$C$1:$E$65536,3,FALSE)","v":2},{"v":141.5,"d":"141.50"}]
[3020,"4252270706121","蔡旭东","319独山县乡镇中学","04初中语文教师",{"$f":"VLOOKUP(B3022,[1]Sheet1!$A:$I,8,0)","v":"73.00"},{"$f":"VLOOKUP(B3022,[1]Sheet1!$A:$I,9,0)","v":"66.00"},{"$f":"VLOOKUP(B3022,[2]少数民族加分!$C$1:$E$65536,3,FALSE)","v":2},{"v":141,"d":"141.00"}]
[3021,"4252270705525","杨凯雁","319独山县乡镇中学","04初中语文教师",{"$f":"VLOOKUP(B3023,[1]Sheet1!$A:$I,8,0)","v":"62.50"},{"$f":"VLOOKUP(B3023,[1]Sheet1!$A:$I,9,0)","v":"73.00"},null,{"v":135.5,"d":"135.50"}]
[3022,"4252270706123","王太秀","319独山县乡镇中学","04初中语文教师",{"$f":"VLOOKUP(B3024,[1]Sheet1!$A:$I,8,0)","v":"67.50"},{"$f":"VLOOKUP(B3024,[1]Sheet1!$A:$I,9,0)","v":"66.00"},null,{"v":133.5,"d":"133.50"}]
[3023,"4252270706718","杨慧敏","319独山县乡镇中学","04初中语文教师",{"$f":"VLOOKUP(B3025,[1]Sheet1!$A:$I,8,0)","v":"59.50"},{"$f":"VLOOKUP(B3025,[1]Sheet1!$A:$I,9,0)","v":"72.00"},{"$f":"VLOOKUP(B3025,[2]少数民族加分!$C$1:$E$65536,3,FALSE)","v":2},{"v":133.5,"d":"133.50"}]
[3024,"4252270703728","王梅","319独山县乡镇中学","04初中语文教师",{"$f":"VLOOKUP(B3026,[1]Sheet1!$A:$I,8,0)","v":"58.00"},{"$f":"VLOOKUP(B3026,[1]Sheet1!$A:$I,9,0)","v":"59.00"},{"$f":"VLOOKUP(B3026,[2]少数民族加分!$C$1:$E$65536,3,FALSE)","v":2},{"v":119,"d":"119.00"}]
[3025,"4252270703614","吴云","319独山县乡镇中学","04初中语文教师",{"$f":"VLOOKUP(B3027,[1]Sheet1!$A:$I,8,0)","v":"0.00"},{"$f":"VLOOKUP(B3027,[1]Sheet1!$A:$I,9,0)","v":"0.00"},null,"缺考"]
[3026,"4252270703723","包敏","319独山县乡镇中学","04初中语文教师",{"$f":"VLOOKUP(B3028,[1]Sheet1!$A:$I,8,0)","v":"0.00"},{"$f":"VLOOKUP(B3028,[1]Sheet1!$A:$I,9,0)","v":"0.00"},null,"缺考"]
[3027,"4252270705119","陈凡","319独山县乡镇中学","04初中语文教师",{"$f":"VLOOKUP(B3029,[1]Sheet1!$A:$I,8,0)","v":"0.00"},{"$f":"VLOOKUP(B3029,[1]Sheet1!$A:$I,9,0)","v":"0.00"},{"$f":"VLOOKUP(B3029,[2]少数民族加分!$C$1:$E$65536,3,FALSE)","v":2},"缺考"]
[3028,"4252270705406","吴厚珊","319独山县乡镇中学","04初中语文教师",{"$f":"VLOOKUP(B3030,[1]Sheet1!$A:$I,8,0)","v":"0.00"},{"$f":"VLOOKUP(B3030,[1]Sheet1!$A:$I,9,0)","v":"0.00"},{"$f":"VLOOKUP(B3030,[2]少数民族加分!$C$1:$E$65536,3,FALSE)","v":2},"缺考"]
[3029,"4252270705829","郎显英","319独山县乡镇中学","04初中语文教师",{"$f":"VLOOKUP(B3031,[1]Sheet1!$A:$I,8,0)","v":"0.00"},{"$f":"VLOOKUP(B3031,[1]Sheet1!$A:$I,9,0)","v":"0.00"},{"$f":"VLOOKUP(B3031,[2]少数民族加分!$C$1:$E$65536,3,FALSE)","v":2},"缺考"]
[3030,"4252270701420","杨平","319独山县乡镇中学","04初中语文教师",{"$f":"VLOOKUP(B3032,[1]Sheet1!$A:$I,8,0)","v":"0.00"},{"$f":"VLOOKUP(B3032,[1]Sheet1!$A:$I,9,0)","v":"0.00"},{"$f":"VLOOKUP(B3032,[2]少数民族加分!$C$1:$E$65536,3,FALSE)","v":2},"缺考"]
[3031,"4252270701422","何立会","319独山县乡镇中学","04初中语文教师",{"$f":"VLOOKUP(B3033,[1]Sheet1!$A:$I,8,0)","v":"0.00"},{"$f":"VLOOKUP(B3033,[1]Sheet1!$A:$I,9,0)","v":"0.00"},null,"缺考"]
[3032,"4252270702210","欧阳琳琳","319独山县乡镇中学","04初中语文教师",{"$f":"VLOOKUP(B3034,[1]Sheet1!$A:$I,8,0)","v":"0.00"},{"$f":"VLOOKUP(B3034,[1]Sheet1!$A:$I,9,0)","v":"0.00"},{"$f":"VLOOKUP(B3034,[2]少数民族加分!$C$1:$E$65536,3,FALSE)","v":2},"缺考"]
[3033,"4252270702616","吴新花","319独山县乡镇中学","04初中语文教师",{"$f":"VLOOKUP(B3035,[1]Sheet1!$A:$I,8,0)","v":"0.00"},{"$f":"VLOOKUP(B3035,[1]Sheet1!$A:$I,9,0)","v":"0.00"},{"$f":"VLOOKUP(B3035,[2]少数民族加分!$C$1:$E$65536,3,FALSE)","v":2},"缺考"]
[3034,"4252270706311","吴德欢","319独山县乡镇中学","04初中语文教师",{"$f":"VLOOKUP(B3036,[1]Sheet1!$A:$I,8,0)","v":"0.00"},{"$f":"VLOOKUP(B3036,[1]Sheet1!$A:$I,9,0)","v":"0.00"},{"$f":"VLOOKUP(B3036,[2]少数民族加分!$C$1:$E$65536,3,FALSE)","v":2},"缺考"]
[3035,"4252270706519","刘茂榕","319独山县乡镇中学","04初中语文教师",{"$f":"VLOOKUP(B3037,[1]Sheet1!$A:$I,8,0)","v":"0.00"},{"$f":"VLOOKUP(B3037,[1]Sheet1!$A:$I,9,0)","v":"0.00"},{"$f":"VLOOKUP(B3037,[2]少数民族加分!$C$1:$E$65536,3,FALSE)","v":2},"缺考"]
[3036,"4252270705407","龙敏","319独山县乡镇中学","05初中数学教师",{"$f":"VLOOKUP(B3038,[1]Sheet1!$A:$I,8,0)","v":"98.00"},{"$f":"VLOOKUP(B3038,[1]Sheet1!$A:$I,9,0)","v":"97.50"},null,{"v":195.5,"d":"195.50"}]
[3037,"4252270705302","周莎莎","319独山县乡镇中学","05初中数学教师",{"$f":"VLOOKUP(B3039,[1]Sheet1!$A:$I,8,0)","v":"85.00"},{"$f":"VLOOKUP(B3039,[1]Sheet1!$A:$I,9,0)","v":"103.50"},null,{"v":188.5,"d":"188.50"}]
[3039,"4252270706406","吴光宇","319独山县乡镇中学","05初中数学教师",{"$f":"VLOOKUP(B3040,[1]Sheet1!$A:$I,8,0)","v":"102.50"},{"$f":"VLOOKUP(B3040,[1]Sheet1!$A:$I,9,0)","v":"83.50"},{"$f":"VLOOKUP(B3040,[2]少数民族加分!$C$1:$E$65536,3,FALSE)","v":2},{"v":188,"d":"188.00"}]
[3038,"4252270701610","张云","319独山县乡镇中学","05初中数学教师",{"$f":"VLOOKUP(B3041,[1]Sheet1!$A:$I,8,0)","v":"89.50"},{"$f":"VLOOKUP(B3041,[1]Sheet1!$A:$I,9,0)","v":"97.00"},null,{"v":186.5,"d":"186.50"}]
[3040,"4252270701817","钱红玲","319独山县乡镇中学","05初中数学教师",{"$f":"VLOOKUP(B3042,[1]Sheet1!$A:$I,8,0)","v":"92.50"},{"$f":"VLOOKUP(B3042,[1]Sheet1!$A:$I,9,0)","v":"91.50"},{"$f":"VLOOKUP(B3042,[2]少数民族加分!$C$1:$E$65536,3,FALSE)","v":2},{"v":186,"d":"186.00"}]
[3041,"4252270702327","袁焕","319独山县乡镇中学","05初中数学教师",{"$f":"VLOOKUP(B3043,[1]Sheet1!$A:$I,8,0)","v":"89.50"},{"$f":"VLOOKUP(B3043,[1]Sheet1!$A:$I,9,0)","v":"94.50"},{"$f":"VLOOKUP(B3043,[2]少数民族加分!$C$1:$E$65536,3,FALSE)","v":2},{"v":186,"d":"186.00"}]
[3042,"4252270703630","王乾兰","319独山县乡镇中学","05初中数学教师",{"$f":"VLOOKUP(B3044,[1]Sheet1!$A:$I,8,0)","v":"91.50"},{"$f":"VLOOKUP(B3044,[1]Sheet1!$A:$I,9,0)","v":"92.50"},null,{"v":184,"d":"184.00"}]
[3043,"4252270703912","张倩","319独山县乡镇中学","05初中数学教师",{"$f":"VLOOKUP(B3045,[1]Sheet1!$A:$I,8,0)","v":"87.00"},{"$f":"VLOOKUP(B3045,[1]Sheet1!$A:$I,9,0)","v":"97.00"},null,{"v":184,"d":"184.00"}]
[3044,"4252270702104","潘雪花","319独山县乡镇中学","05初中数学教师",{"$f":"VLOOKUP(B3046,[1]Sheet1!$A:$I,8,0)","v":"94.00"},{"$f":"VLOOKUP(B3046,[1]Sheet1!$A:$I,9,0)","v":"86.50"},{"$f":"VLOOKUP(B3046,[2]少数民族加分!$C$1:$E$65536,3,FALSE)","v":2},{"v":182.5,"d":"182.50"}]
[3045,"4252270704717","郭荣青","319独山县乡镇中学","05初中数学教师",{"$f":"VLOOKUP(B3047,[1]Sheet1!$A:$I,8,0)","v":"88.50"},{"$f":"VLOOKUP(B3047,[1]Sheet1!$A:$I,9,0)","v":"91.00"},{"$f":"VLOOKUP(B3047,[2]少数民族加分!$C$1:$E$65536,3,FALSE)","v":2},{"v":181.5,"d":"181.50"}]
[3048,"4252270705411","高妤","319独山县乡镇中学","05初中数学教师",{"$f":"VLOOKUP(B3048,[1]Sheet1!$A:$I,8,0)","v":"96.50"},{"$f":"VLOOKUP(B3048,[1]Sheet1!$A:$I,9,0)","v":"80.50"},{"$f":"VLOOKUP(B3048,[2]少数民族加分!$C$1:$E$65536,3,FALSE)","v":2},{"v":179,"d":"179.00"}]
[3046,"4252270701612","涂月艳","319独山县乡镇中学","05初中数学教师",{"$f":"VLOOKUP(B3049,[1]Sheet1!$A:$I,8,0)","v":"84.00"},{"$f":"VLOOKUP(B3049,[1]Sheet1!$A:$I,9,0)","v":"94.50"},null,{"v":178.5,"d":"178.50"}]
[3047,"4252270703829","张敏","319独山县乡镇中学","05初中数学教师",{"$f":"VLOOKUP(B3050,[1]Sheet1!$A:$I,8,0)","v":"91.50"},{"$f":"VLOOKUP(B3050,[1]Sheet1!$A:$I,9,0)","v":"85.50"},null,{"v":177,"d":"177.00"}]
[3049,"4252270704219","赵登婷","319独山县乡镇中学","05初中数学教师",{"$f":"VLOOKUP(B3051,[1]Sheet1!$A:$I,8,0)","v":"78.50"},{"$f":"VLOOKUP(B3051,[1]Sheet1!$A:$I,9,0)","v":"98.00"},null,{"v":176.5,"d":"176.50"}]
[3050,"4252270702917","冯慧","319独山县乡镇中学","05初中数学教师",{"$f":"VLOOKUP(B3052,[1]Sheet1!$A:$I,8,0)","v":"83.00"},{"$f":"VLOOKUP(B3052,[1]Sheet1!$A:$I,9,0)","v":"93.00"},null,{"v":176,"d":"176.00"}]
[3051,"4252270701806","李婷","319独山县乡镇中学","05初中数学教师",{"$f":"VLOOKUP(B3053,[1]Sheet1!$A:$I,8,0)","v":"75.50"},{"$f":"VLOOKUP(B3053,[1]Sheet1!$A:$I,9,0)","v":"97.00"},{"$f":"VLOOKUP(B3053,[2]少数民族加分!$C$1:$E$65536,3,FALSE)","v":2},{"v":174.5,"d":"174.50"}]
[3052,"4252270703114","刘荣学","319独山县乡镇中学","05初中数学教师",{"$f":"VLOOKUP(B3054,[1]Sheet1!$A:$I,8,0)","v":"85.00"},{"$f":"VLOOKUP(B3054,[1]Sheet1!$A:$I,9,0)","v":"87.00"},null,{"v":172,"d":"172.00"}]
[3054,"4252270702118","潘智文","319独山县乡镇中学","05初中数学教师",{"$f":"VLOOKUP(B3055,[1]Sheet1!$A:$I,8,0)","v":"76.50"},{"$f":"VLOOKUP(B3055,[1]Sheet1!$A:$I,9,0)","v":"93.00"},{"$f":"VLOOKUP(B3055,[2]少数民族加分!$C$1:$E$65536,3,FALSE)","v":2},{"v":171.5,"d":"171.50"}]
[3053,"4252270706119","陈鸟","319独山县乡镇中学","05初中数学教师",{"$f":"VLOOKUP(B3056,[1]Sheet1!$A:$I,8,0)","v":"82.00"},{"$f":"VLOOKUP(B3056,[1]Sheet1!$A:$I,9,0)","v":"88.50"},null,{"v":170.5,"d":"170.50"}]
[3055,"4252270705422","柏生洁","319独山县乡镇中学","05初中数学教师",{"$f":"VLOOKUP(B3057,[1]Sheet1!$A:$I,8,0)","v":"93.00"},{"$f":"VLOOKUP(B3057,[1]Sheet1!$A:$I,9,0)","v":"76.00"},null,{"v":169,"d":"169.00"}]
[3056,"4252270702521","邓东义","319独山县乡镇中学","05初中数学教师",{"$f":"VLOOKUP(B3058,[1]Sheet1!$A:$I,8,0)","v":"91.00"},{"$f":"VLOOKUP(B3058,[1]Sheet1!$A:$I,9,0)","v":"77.50"},null,{"v":168.5,"d":"168.50"}]
[3058,"4252270701921","郁薇","319独山县乡镇中学","05初中数学教师",{"$f":"VLOOKUP(B3059,[1]Sheet1!$A:$I,8,0)","v":"86.00"},{"$f":"VLOOKUP(B3059,[1]Sheet1!$A:$I,9,0)","v":"80.50"},{"$f":"VLOOKUP(B3059,[2]少数民族加分!$C$1:$E$65536,3,FALSE)","v":2},{"v":168.5,"d":"168.50"}]
[3060,"4252270704918","覃柔","319独山县乡镇中学","05初中数学教师",{"$f":"VLOOKUP(B3060,[1]Sheet1!$A:$I,8,0)","v":"78.50"},{"$f":"VLOOKUP(B3060,[1]Sheet1!$A:$I,9,0)","v":"88.00"},{"$f":"VLOOKUP(B3060,[2]少数民族加分!$C$1:$E$65536,3,FALSE)","v":2},{"v":168.5,"d":"168.50"}]
[3057,"4252270702204","汪洪","319独山县乡镇中学","05初中数学教师",{"$f":"VLOOKUP(B3061,[1]Sheet1!$A:$I,8,0)","v":"83.00"},{"$f":"VLOOKUP(B3061,[1]Sheet1!$A:$I,9,0)","v":"85.00"},null,{"v":168,"d":"168.00"}]
[3061,"4252270704606","蒙祖群","319独山县乡镇中学","05初中数学教师",{"$f":"VLOOKUP(B3062,[1]Sheet1!$A:$I,8,0)","v":"79.50"},{"$f":"VLOOKUP(B3062,[1]Sheet1!$A:$I,9,0)","v":"86.00"},{"$f":"VLOOKUP(B3062,[2]少数民族加分!$C$1:$E$65536,3,FALSE)","v":2},{"v":167.5,"d":"167.50"}]
[3059,"4252270702606","杨畅畅","319独山县乡镇中学","05初中数学教师",{"$f":"VLOOKUP(B3063,[1]Sheet1!$A:$I,8,0)","v":"76.50"},{"$f":"VLOOKUP(B3063,[1]Sheet1!$A:$I,9,0)","v":"90.00"},null,{"v":166.5,"d":"166.50"}]
[3062,"4252270705413","石纳","319独山县乡镇中学","05初中数学教师",{"$f":"VLOOKUP(B3064,[1]Sheet1!$A:$I,8,0)","v":"85.00"},{"$f":"VLOOKUP(B3064,[1]Sheet1!$A:$I,9,0)","v":"78.50"},{"$f":"VLOOKUP(B3064,[2]少数民族加分!$C$1:$E$65536,3,FALSE)","v":2},{"v":165.5,"d":"165.50"}]
[3063,"4252270703620","吴张星","319独山县乡镇中学","05初中数学教师",{"$f":"VLOOKUP(B3065,[1]Sheet1!$A:$I,8,0)","v":"91.50"},{"$f":"VLOOKUP(B3065,[1]Sheet1!$A:$I,9,0)","v":"71.50"},{"$f":"VLOOKUP(B3065,[2]少数民族加分!$C$1:$E$65536,3,FALSE)","v":2},{"v":165,"d":"165.00"}]
[3064,"4252270701527","罗小秋","319独山县乡镇中学","05初中数学教师",{"$f":"VLOOKUP(B3066,[1]Sheet1!$A:$I,8,0)","v":"69.00"},{"$f":"VLOOKUP(B3066,[1]Sheet1!$A:$I,9,0)","v":"93.00"},{"$f":"VLOOKUP(B3066,[2]少数民族加分!$C$1:$E$65536,3,FALSE)","v":2},{"v":164,"d":"164.00"}]
[3065,"4252270702724","韦娅玲","319独山县乡镇中学","05初中数学教师",{"$f":"VLOOKUP(B3067,[1]Sheet1!$A:$I,8,0)","v":"89.50"},{"$f":"VLOOKUP(B3067,[1]Sheet1!$A:$I,9,0)","v":"71.50"},{"$f":"VLOOKUP(B3067,[2]少数民族加分!$C$1:$E$65536,3,FALSE)","v":2},{"v":163,"d":"163.00"}]
[3066,"4252270705030","黄金源","319独山县乡镇中学","05初中数学教师",{"$f":"VLOOKUP(B3068,[1]Sheet1!$A:$I,8,0)","v":"81.50"},{"$f":"VLOOKUP(B3068,[1]Sheet1!$A:$I,9,0)","v":"75.50"},{"$f":"VLOOKUP(B3068,[2]少数民族加分!$C$1:$E$65536,3,FALSE)","v":2},{"v":159,"d":"159.00"}]
[3067,"4252270701507","梁秀明","319独山县乡镇中学","05初中数学教师",{"$f":"VLOOKUP(B3069,[1]Sheet1!$A:$I,8,0)","v":"75.50"},{"$f":"VLOOKUP(B3069,[1]Sheet1!$A:$I,9,0)","v":"80.00"},{"$f":"VLOOKUP(B3069,[2]少数民族加分!$C$1:$E$65536,3,FALSE)","v":2},{"v":157.5,"d":"157.50"}]
[3068,"4252270706118","石文亚","319独山县乡镇中学","05初中数学教师",{"$f":"VLOOKUP(B3070,[1]Sheet1!$A:$I,8,0)","v":"64.00"},{"$f":"VLOOKUP(B3070,[1]Sheet1!$A:$I,9,0)","v":"91.00"},{"$f":"VLOOKUP(B3070,[2]少数民族加分!$C$1:$E$65536,3,FALSE)","v":2},{"v":157,"d":"157.00"}]
[3069,"4252270704903","韦牛妹","319独山县乡镇中学","05初中数学教师",{"$f":"VLOOKUP(B3071,[1]Sheet1!$A:$I,8,0)","v":"78.00"},{"$f":"VLOOKUP(B3071,[1]Sheet1!$A:$I,9,0)","v":"77.00"},{"$f":"VLOOKUP(B3071,[2]少数民族加分!$C$1:$E$65536,3,FALSE)","v":2},{"v":157,"d":"157.00"}]
[3070,"4252270704506","罗芳芳","319独山县乡镇中学","05初中数学教师",{"$f":"VLOOKUP(B3072,[1]Sheet1!$A:$I,8,0)","v":"76.50"},{"$f":"VLOOKUP(B3072,[1]Sheet1!$A:$I,9,0)","v":"78.00"},{"$f":"VLOOKUP(B3072,[2]少数民族加分!$C$1:$E$65536,3,FALSE)","v":2},{"v":156.5,"d":"156.50"}]
[3076,"4252270702806","陆云峰","319独山县乡镇中学","05初中数学教师",{"$f":"VLOOKUP(B3073,[1]Sheet1!$A:$I,8,0)","v":"73.50"},{"$f":"VLOOKUP(B3073,[1]Sheet1!$A:$I,9,0)","v":"79.00"},{"$f":"VLOOKUP(B3073,[2]少数民族加分!$C$1:$E$65536,3,FALSE)","v":2},{"v":154.5,"d":"154.50"}]
[3071,"4252270704913","廖金琴","319独山县乡镇中学","05初中数学教师",{"$f":"VLOOKUP(B3074,[1]Sheet1!$A:$I,8,0)","v":"68.00"},{"$f":"VLOOKUP(B3074,[1]Sheet1!$A:$I,9,0)","v":"86.00"},null,{"v":154,"d":"154.00"}]
[3072,"4252270701317","朱烨","319独山县乡镇中学","05初中数学教师",{"$f":"VLOOKUP(B3075,[1]Sheet1!$A:$I,8,0)","v":"85.00"},{"$f":"VLOOKUP(B3075,[1]Sheet1!$A:$I,9,0)","v":"69.00"},null,{"v":154,"d":"154.00"}]
[3077,"4252270704613","傅晓飞","319独山县乡镇中学","05初中数学教师",{"$f":"VLOOKUP(B3076,[1]Sheet1!$A:$I,8,0)","v":"99.00"},{"$f":"VLOOKUP(B3076,[1]Sheet1!$A:$I,9,0)","v":"53.00"},{"$f":"VLOOKUP(B3076,[2]少数民族加分!$C$1:$E$65536,3,FALSE)","v":2},{"v":154,"d":"154.00"}]
[3073,"4252270705315","汪兴林","319独山县乡镇中学","05初中数学教师",{"$f":"VLOOKUP(B3077,[1]Sheet1!$A:$I,8,0)","v":"80.50"},{"$f":"VLOOKUP(B3077,[1]Sheet1!$A:$I,9,0)","v":"73.00"},null,{"v":153.5,"d":"153.50"}]
[3074,"4252270704808","周遵江","319独山县乡镇中学","05初中数学教师",{"$f":"VLOOKUP(B3078,[1]Sheet1!$A:$I,8,0)","v":"75.50"},{"$f":"VLOOKUP(B3078,[1]Sheet1!$A:$I,9,0)","v":"77.00"},null,{"v":152.5,"d":"152.50"}]
[3075,"4252270706028","王泽文","319独山县乡镇中学","05初中数学教师",{"$f":"VLOOKUP(B3079,[1]Sheet1!$A:$I,8,0)","v":"88.50"},{"$f":"VLOOKUP(B3079,[1]Sheet1!$A:$I,9,0)","v":"64.00"},null,{"v":152.5,"d":"152.50"}]
[3078,"4252270702125","肖涛","319独山县乡镇中学","05初中数学教师",{"$f":"VLOOKUP(B3080,[1]Sheet1!$A:$I,8,0)","v":"86.00"},{"$f":"VLOOKUP(B3080,[1]Sheet1!$A:$I,9,0)","v":"65.50"},null,{"v":151.5,"d":"151.50"}]
[3079,"4252270705415","王青龙","319独山县乡镇中学","05初中数学教师",{"$f":"VLOOKUP(B3081,[1]Sheet1!$A:$I,8,0)","v":"74.00"},{"$f":"VLOOKUP(B3081,[1]Sheet1!$A:$I,9,0)","v":"77.00"},null,{"v":151,"d":"151.00"}]
[3081,"4252270701910","王林涛","319独山县乡镇中学","05初中数学教师",{"$f":"VLOOKUP(B3082,[1]Sheet1!$A:$I,8,0)","v":"71.00"},{"$f":"VLOOKUP(B3082,[1]Sheet1!$A:$I,9,0)","v":"78.00"},{"$f":"VLOOKUP(B3082,[2]少数民族加分!$C$1:$E$65536,3,FALSE)","v":2},{"v":151,"d":"151.00"}]
[3082,"4252270702818","韦海燕","319独山县乡镇中学","05初中数学教师",{"$f":"VLOOKUP(B3083,[1]Sheet1!$A:$I,8,0)","v":"71.00"},{"$f":"VLOOKUP(B3083,[1]Sheet1!$A:$I,9,0)","v":"78.00"},{"$f":"VLOOKUP(B3083,[2]少数民族加分!$C$1:$E$65536,3,FALSE)","v":2},{"v":151,"d":"151.00"}]
[3080,"4252270705227","刘丽","319独山县乡镇中学","05初中数学教师",{"$f":"VLOOKUP(B3084,[1]Sheet1!$A:$I,8,0)","v":"79.00"},{"$f":"VLOOKUP(B3084,[1]Sheet1!$A:$I,9,0)","v":"71.00"},null,{"v":150,"d":"150.00"}]
[3084,"4252270703201","罗丹","319独山县乡镇中学","05初中数学教师",{"$f":"VLOOKUP(B3085,[1]Sheet1!$A:$I,8,0)","v":"64.50"},{"$f":"VLOOKUP(B3085,[1]Sheet1!$A:$I,9,0)","v":"83.00"},{"$f":"VLOOKUP(B3085,[2]少数民族加分!$C$1:$E$65536,3,FALSE)","v":2},{"v":149.5,"d":"149.50"}]
[3085,"4252270701713","杨文焕","319独山县乡镇中学","05初中数学教师",{"$f":"VLOOKUP(B3086,[1]Sheet1!$A:$I,8,0)","v":"71.50"},{"$f":"VLOOKUP(B3086,[1]Sheet1!$A:$I,9,0)","v":"75.00"},{"$f":"VLOOKUP(B3086,[2]少数民族加分!$C$1:$E$65536,3,FALSE)","v":2},{"v":148.5,"d":"148.50"}]
[3083,"4252270704110","舒淑","319独山县乡镇中学","05初中数学教师",{"$f":"VLOOKUP(B3087,[1]Sheet1!$A:$I,8,0)","v":"75.00"},{"$f":"VLOOKUP(B3087,[1]Sheet1!$A:$I,9,0)","v":"73.00"},null,{"v":148,"d":"148.00"}]
[3086,"4252270703226","汤明松","319独山县乡镇中学","05初中数学教师",{"$f":"VLOOKUP(B3088,[1]Sheet1!$A:$I,8,0)","v":"81.00"},{"$f":"VLOOKUP(B3088,[1]Sheet1!$A:$I,9,0)","v":"64.00"},null,{"v":145,"d":"145.00"}]
[3090,"4252270705402","吴东胜","319独山县乡镇中学","05初中数学教师",{"$f":"VLOOKUP(B3089,[1]Sheet1!$A:$I,8,0)","v":"81.00"},{"$f":"VLOOKUP(B3089,[1]Sheet1!$A:$I,9,0)","v":"60.00"},{"$f":"VLOOKUP(B3089,[2]少数民族加分!$C$1:$E$65536,3,FALSE)","v":2},{"v":143,"d":"143.00"}]
[3087,"4252270705319","刘多旭","319独山县乡镇中学","05初中数学教师",{"$f":"VLOOKUP(B3090,[1]Sheet1!$A:$I,8,0)","v":"59.50"},{"$f":"VLOOKUP(B3090,[1]Sheet1!$A:$I,9,0)","v":"83.00"},null,{"v":142.5,"d":"142.50"}]
[3088,"4252270701912","宋文鸣","319独山县乡镇中学","05初中数学教师",{"$f":"VLOOKUP(B3091,[1]Sheet1!$A:$I,8,0)","v":"75.00"},{"$f":"VLOOKUP(B3091,[1]Sheet1!$A:$I,9,0)","v":"67.00"},null,{"v":142,"d":"142.00"}]
[3089,"4252270705713","杨泽新","319独山县乡镇中学","05初中数学教师",{"$f":"VLOOKUP(B3092,[1]Sheet1!$A:$I,8,0)","v":"85.50"},{"$f":"VLOOKUP(B3092,[1]Sheet1!$A:$I,9,0)","v":"56.00"},null,{"v":141.5,"d":"141.50"}]
[3091,"4252270704112","王启英","319独山县乡镇中学","05初中数学教师",{"$f":"VLOOKUP(B3093,[1]Sheet1!$A:$I,8,0)","v":"60.00"},{"$f":"VLOOKUP(B3093,[1]Sheet1!$A:$I,9,0)","v":"78.00"},{"$f":"VLOOKUP(B3093,[2]少数民族加分!$C$1:$E$65536,3,FALSE)","v":2},{"v":140,"d":"140.00"}]
[3092,"4252270703009","李芬","319独山县乡镇中学","05初中数学教师",{"$f":"VLOOKUP(B3094,[1]Sheet1!$A:$I,8,0)","v":"72.50"},{"$f":"VLOOKUP(B3094,[1]Sheet1!$A:$I,9,0)","v":"64.00"},{"$f":"VLOOKUP(B3094,[2]少数民族加分!$C$1:$E$65536,3,FALSE)","v":2},{"v":138.5,"d":"138.50"}]
[3093,"4252270706125","章波","319独山县乡镇中学","05初中数学教师",{"$f":"VLOOKUP(B3095,[1]Sheet1!$A:$I,8,0)","v":"68.00"},{"$f":"VLOOKUP(B3095,[1]Sheet1!$A:$I,9,0)","v":"68.00"},{"$f":"VLOOKUP(B3095,[2]少数民族加分!$C$1:$E$65536,3,FALSE)","v":2},{"v":138,"d":"138.00"}]
[3094,"4252270702302","杨传花","319独山县乡镇中学","05初中数学教师",{"$f":"VLOOKUP(B3096,[1]Sheet1!$A:$I,8,0)","v":"58.50"},{"$f":"VLOOKUP(B3096,[1]Sheet1!$A:$I,9,0)","v":"77.00"},{"$f":"VLOOKUP(B3096,[2]少数民族加分!$C$1:$E$65536,3,FALSE)","v":2},{"v":137.5,"d":"137.50"}]
[3095,"4252270704310","许佳","319独山县乡镇中学","05初中数学教师",{"$f":"VLOOKUP(B3097,[1]Sheet1!$A:$I,8,0)","v":"57.00"},{"$f":"VLOOKUP(B3097,[1]Sheet1!$A:$I,9,0)","v":"75.00"},{"$f":"VLOOKUP(B3097,[2]少数民族加分!$C$1:$E$65536,3,FALSE)","v":2},{"v":134,"d":"134.00"}]
[3096,"4252270703601","申唯","319独山县乡镇中学","05初中数学教师",{"$f":"VLOOKUP(B3098,[1]Sheet1!$A:$I,8,0)","v":"73.00"},{"$f":"VLOOKUP(B3098,[1]Sheet1!$A:$I,9,0)","v":"58.00"},{"$f":"VLOOKUP(B3098,[2]少数民族加分!$C$1:$E$65536,3,FALSE)","v":2},{"v":133,"d":"133.00"}]
[3097,"4252270704122","陈梦康","319独山县乡镇中学","05初中数学教师",{"$f":"VLOOKUP(B3099,[1]Sheet1!$A:$I,8,0)","v":"58.50"},{"$f":"VLOOKUP(B3099,[1]Sheet1!$A:$I,9,0)","v":"72.00"},{"$f":"VLOOKUP(B3099,[2]少数民族加分!$C$1:$E$65536,3,FALSE)","v":2},{"v":132.5,"d":"132.50"}]
[3098,"4252270701722","龙贵华","319独山县乡镇中学","05初中数学教师",{"$f":"VLOOKUP(B3100,[1]Sheet1!$A:$I,8,0)","v":"57.50"},{"$f":"VLOOKUP(B3100,[1]Sheet1!$A:$I,9,0)","v":"73.00"},{"$f":"VLOOKUP(B3100,[2]少数民族加分!$C$1:$E$65536,3,FALSE)","v":2},{"v":132.5,"d":"132.50"}]
[3099,"4252270706724","席彬","319独山县乡镇中学","05初中数学教师",{"$f":"VLOOKUP(B3101,[1]Sheet1!$A:$I,8,0)","v":"63.50"},{"$f":"VLOOKUP(B3101,[1]Sheet1!$A:$I,9,0)","v":"67.00"},{"$f":"VLOOKUP(B3101,[2]少数民族加分!$C$1:$E$65536,3,FALSE)","v":2},{"v":132.5,"d":"132.50"}]
[3100,"4252270706525","龙朝辉","319独山县乡镇中学","05初中数学教师",{"$f":"VLOOKUP(B3102,[1]Sheet1!$A:$I,8,0)","v":"66.00"},{"$f":"VLOOKUP(B3102,[1]Sheet1!$A:$I,9,0)","v":"63.00"},{"$f":"VLOOKUP(B3102,[2]少数民族加分!$C$1:$E$65536,3,FALSE)","v":2},{"v":131,"d":"131.00"}]
[3101,"4252270702013","胡贵英","319独山县乡镇中学","05初中数学教师",{"$f":"VLOOKUP(B3103,[1]Sheet1!$A:$I,8,0)","v":"60.50"},{"$f":"VLOOKUP(B3103,[1]Sheet1!$A:$I,9,0)","v":"66.00"},{"$f":"VLOOKUP(B3103,[2]少数民族加分!$C$1:$E$65536,3,FALSE)","v":2},{"v":128.5,"d":"128.50"}]
[3102,"4252270703811","覃文君","319独山县乡镇中学","05初中数学教师",{"$f":"VLOOKUP(B3104,[1]Sheet1!$A:$I,8,0)","v":"68.50"},{"$f":"VLOOKUP(B3104,[1]Sheet1!$A:$I,9,0)","v":"50.00"},{"$f":"VLOOKUP(B3104,[2]少数民族加分!$C$1:$E$65536,3,FALSE)","v":2},{"v":120.5,"d":"120.50"}]
[3104,"4252270704026","陈波","319独山县乡镇中学","05初中数学教师",{"$f":"VLOOKUP(B3105,[1]Sheet1!$A:$I,8,0)","v":"49.50"},{"$f":"VLOOKUP(B3105,[1]Sheet1!$A:$I,9,0)","v":"65.00"},{"$f":"VLOOKUP(B3105,[2]少数民族加分!$C$1:$E$65536,3,FALSE)","v":2},{"v":116.5,"d":"116.50"}]
[3103,"4252270704306","唐愉","319独山县乡镇中学","05初中数学教师",{"$f":"VLOOKUP(B3106,[1]Sheet1!$A:$I,8,0)","v":"52.50"},{"$f":"VLOOKUP(B3106,[1]Sheet1!$A:$I,9,0)","v":"63.00"},null,{"v":115.5,"d":"115.50"}]
[3105,"4252270703816","陈娟娟","319独山县乡镇中学","05初中数学教师",{"$f":"VLOOKUP(B3107,[1]Sheet1!$A:$I,8,0)","v":"0.00"},{"$f":"VLOOKUP(B3107,[1]Sheet1!$A:$I,9,0)","v":"0.00"},{"$f":"VLOOKUP(B3107,[2]少数民族加分!$C$1:$E$65536,3,FALSE)","v":2},"缺考"]
[3106,"4252270703903","褚鹏鹏","319独山县乡镇中学","05初中数学教师",{"$f":"VLOOKUP(B3108,[1]Sheet1!$A:$I,8,0)","v":"0.00"},{"$f":"VLOOKUP(B3108,[1]Sheet1!$A:$I,9,0)","v":"0.00"},null,"缺考"]
[3107,"4252270704322","代飞","319独山县乡镇中学","05初中数学教师",{"$f":"VLOOKUP(B3109,[1]Sheet1!$A:$I,8,0)","v":"0.00"},{"$f":"VLOOKUP(B3109,[1]Sheet1!$A:$I,9,0)","v":"0.00"},null,"缺考"]
[3108,"4252270704602","陈福秀","319独山县乡镇中学","05初中数学教师",{"$f":"VLOOKUP(B3110,[1]Sheet1!$A:$I,8,0)","v":"0.00"},{"$f":"VLOOKUP(B3110,[1]Sheet1!$A:$I,9,0)","v":"0.00"},{"$f":"VLOOKUP(B3110,[2]少数民族加分!$C$1:$E$65536,3,FALSE)","v":2},"缺考"]
[3109,"4252270704623","龙仙云","319独山县乡镇中学","05初中数学教师",{"$f":"VLOOKUP(B3111,[1]Sheet1!$A:$I,8,0)","v":"0.00"},{"$f":"VLOOKUP(B3111,[1]Sheet1!$A:$I,9,0)","v":"0.00"},{"$f":"VLOOKUP(B3111,[2]少数民族加分!$C$1:$E$65536,3,FALSE)","v":2},"缺考"]
[3110,"4252270704823","夏菊","319独山县乡镇中学","05初中数学教师",{"$f":"VLOOKUP(B3112,[1]Sheet1!$A:$I,8,0)","v":"0.00"},{"$f":"VLOOKUP(B3112,[1]Sheet1!$A:$I,9,0)","v":"0.00"},null,"缺考"]
[3111,"4252270705025","王海","319独山县乡镇中学","05初中数学教师",{"$f":"VLOOKUP(B3113,[1]Sheet1!$A:$I,8,0)","v":"0.00"},{"$f":"VLOOKUP(B3113,[1]Sheet1!$A:$I,9,0)","v":"0.00"},{"$f":"VLOOKUP(B3113,[2]少数民族加分!$C$1:$E$65536,3,FALSE)","v":2},"缺考"]
[3112,"4252270705707","刘权","319独山县乡镇中学","05初中数学教师",{"$f":"VLOOKUP(B3114,[1]Sheet1!$A:$I,8,0)","v":"0.00"},{"$f":"VLOOKUP(B3114,[1]Sheet1!$A:$I,9,0)","v":"0.00"},{"$f":"VLOOKUP(B3114,[2]少数民族加分!$C$1:$E$65536,3,FALSE)","v":2},"缺考"]
[3113,"4252270701514","蔡建","319独山县乡镇中学","05初中数学教师",{"$f":"VLOOKUP(B3115,[1]Sheet1!$A:$I,8,0)","v":"0.00"},{"$f":"VLOOKUP(B3115,[1]Sheet1!$A:$I,9,0)","v":"0.00"},null,"缺考"]
[3114,"4252270701715","王忠英","319独山县乡镇中学","05初中数学教师",{"$f":"VLOOKUP(B3116,[1]Sheet1!$A:$I,8,0)","v":"0.00"},{"$f":"VLOOKUP(B3116,[1]Sheet1!$A:$I,9,0)","v":"0.00"},{"$f":"VLOOKUP(B3116,[2]少数民族加分!$C$1:$E$65536,3,FALSE)","v":2},"缺考"]
[3115,"4252270702102","陈俊西","319独山县乡镇中学","05初中数学教师",{"$f":"VLOOKUP(B3117,[1]Sheet1!$A:$I,8,0)","v":"0.00"},{"$f":"VLOOKUP(B3117,[1]Sheet1!$A:$I,9,0)","v":"0.00"},null,"缺考"]
[3116,"4252270702214","黄平平","319独山县乡镇中学","05初中数学教师",{"$f":"VLOOKUP(B3118,[1]Sheet1!$A:$I,8,0)","v":"0.00"},{"$f":"VLOOKUP(B3118,[1]Sheet1!$A:$I,9,0)","v":"0.00"},null,"缺考"]
[3117,"4252270702421","潘武林","319独山县乡镇中学","05初中数学教师",{"$f":"VLOOKUP(B3119,[1]Sheet1!$A:$I,8,0)","v":"0.00"},{"$f":"VLOOKUP(B3119,[1]Sheet1!$A:$I,9,0)","v":"0.00"},{"$f":"VLOOKUP(B3119,[2]少数民族加分!$C$1:$E$65536,3,FALSE)","v":2},"缺考"]
[3118,"4252270702528","龙明华","319独山县乡镇中学","05初中数学教师",{"$f":"VLOOKUP(B3120,[1]Sheet1!$A:$I,8,0)","v":"0.00"},{"$f":"VLOOKUP(B3120,[1]Sheet1!$A:$I,9,0)","v":"0.00"},{"$f":"VLOOKUP(B3120,[2]少数民族加分!$C$1:$E$65536,3,FALSE)","v":2},"缺考"]
[3119,"4252270703220","邹坤发","319独山县乡镇中学","05初中数学教师",{"$f":"VLOOKUP(B3121,[1]Sheet1!$A:$I,8,0)","v":"0.00"},{"$f":"VLOOKUP(B3121,[1]Sheet1!$A:$I,9,0)","v":"0.00"},null,"缺考"]
[3120,"4252270703311","舒艳华","319独山县乡镇中学","05初中数学教师",{"$f":"VLOOKUP(B3122,[1]Sheet1!$A:$I,8,0)","v":"0.00"},{"$f":"VLOOKUP(B3122,[1]Sheet1!$A:$I,9,0)","v":"0.00"},{"$f":"VLOOKUP(B3122,[2]少数民族加分!$C$1:$E$65536,3,FALSE)","v":2},"缺考"]
[3121,"4252270706326","江玫","319独山县乡镇中学","05初中数学教师",{"$f":"VLOOKUP(B3123,[1]Sheet1!$A:$I,8,0)","v":"0.00"},{"$f":"VLOOKUP(B3123,[1]Sheet1!$A:$I,9,0)","v":"0.00"},{"$f":"VLOOKUP(B3123,[2]少数民族加分!$C$1:$E$65536,3,FALSE)","v":2},"缺考"]
[3122,"4252270706725","陈文香","319独山县乡镇中学","05初中数学教师",{"$f":"VLOOKUP(B3124,[1]Sheet1!$A:$I,8,0)","v":"0.00"},{"$f":"VLOOKUP(B3124,[1]Sheet1!$A:$I,9,0)","v":"0.00"},null,"缺考"]
[3123,"4252270703719","张春","319独山县乡镇中学","06初中英语教师",{"$f":"VLOOKUP(B3125,[1]Sheet1!$A:$I,8,0)","v":"103.00"},{"$f":"VLOOKUP(B3125,[1]Sheet1!$A:$I,9,0)","v":"102.00"},{"$f":"VLOOKUP(B3125,[2]少数民族加分!$C$1:$E$65536,3,FALSE)","v":2},{"v":207,"d":"207.00"}]
[3124,"4252270703122","陆瑞","319独山县乡镇中学","06初中英语教师",{"$f":"VLOOKUP(B3126,[1]Sheet1!$A:$I,8,0)","v":"108.50"},{"$f":"VLOOKUP(B3126,[1]Sheet1!$A:$I,9,0)","v":"88.50"},{"$f":"VLOOKUP(B3126,[2]少数民族加分!$C$1:$E$65536,3,FALSE)","v":2},{"v":199,"d":"199.00"}]
[3125,"4252270703627","韦大芳","319独山县乡镇中学","06初中英语教师",{"$f":"VLOOKUP(B3127,[1]Sheet1!$A:$I,8,0)","v":"97.00"},{"$f":"VLOOKUP(B3127,[1]Sheet1!$A:$I,9,0)","v":"96.00"},{"$f":"VLOOKUP(B3127,[2]少数民族加分!$C$1:$E$65536,3,FALSE)","v":2},{"v":195,"d":"195.00"}]
[3126,"4252270704908","韦章倩","319独山县乡镇中学","06初中英语教师",{"$f":"VLOOKUP(B3128,[1]Sheet1!$A:$I,8,0)","v":"88.50"},{"$f":"VLOOKUP(B3128,[1]Sheet1!$A:$I,9,0)","v":"99.50"},null,{"v":188,"d":"188.00"}]
[3127,"4252270704001","余红灵","319独山县乡镇中学","06初中英语教师",{"$f":"VLOOKUP(B3129,[1]Sheet1!$A:$I,8,0)","v":"97.00"},{"$f":"VLOOKUP(B3129,[1]Sheet1!$A:$I,9,0)","v":"89.00"},{"$f":"VLOOKUP(B3129,[2]少数民族加分!$C$1:$E$65536,3,FALSE)","v":2},{"v":188,"d":"188.00"}]
[3128,"4252270703410","龙桂凤","319独山县乡镇中学","06初中英语教师",{"$f":"VLOOKUP(B3130,[1]Sheet1!$A:$I,8,0)","v":"85.50"},{"$f":"VLOOKUP(B3130,[1]Sheet1!$A:$I,9,0)","v":"98.00"},{"$f":"VLOOKUP(B3130,[2]少数民族加分!$C$1:$E$65536,3,FALSE)","v":2},{"v":185.5,"d":"185.50"}]
[3129,"4252270704802","谭珠","319独山县乡镇中学","06初中英语教师",{"$f":"VLOOKUP(B3131,[1]Sheet1!$A:$I,8,0)","v":"94.00"},{"$f":"VLOOKUP(B3131,[1]Sheet1!$A:$I,9,0)","v":"89.00"},{"$f":"VLOOKUP(B3131,[2]少数民族加分!$C$1:$E$65536,3,FALSE)","v":2},{"v":185,"d":"185.00"}]
[3130,"4252270704203","李龙姣","319独山县乡镇中学","06初中英语教师",{"$f":"VLOOKUP(B3132,[1]Sheet1!$A:$I,8,0)","v":"100.50"},{"$f":"VLOOKUP(B3132,[1]Sheet1!$A:$I,9,0)","v":"81.50"},{"$f":"VLOOKUP(B3132,[2]少数民族加分!$C$1:$E$65536,3,FALSE)","v":2},{"v":184,"d":"184.00"}]
[3132,"4252270702607","韦开聘","319独山县乡镇中学","06初中英语教师",{"$f":"VLOOKUP(B3133,[1]Sheet1!$A:$I,8,0)","v":"80.00"},{"$f":"VLOOKUP(B3133,[1]Sheet1!$A:$I,9,0)","v":"100.00"},{"$f":"VLOOKUP(B3133,[2]少数民族加分!$C$1:$E$65536,3,FALSE)","v":2},{"v":182,"d":"182.00"}]
[3131,"4252270704704","邵大敏","319独山县乡镇中学","06初中英语教师",{"$f":"VLOOKUP(B3134,[1]Sheet1!$A:$I,8,0)","v":"88.00"},{"$f":"VLOOKUP(B3134,[1]Sheet1!$A:$I,9,0)","v":"92.50"},null,{"v":180.5,"d":"180.50"}]
[3133,"4252270702518","陈洪培","319独山县乡镇中学","06初中英语教师",{"$f":"VLOOKUP(B3135,[1]Sheet1!$A:$I,8,0)","v":"87.00"},{"$f":"VLOOKUP(B3135,[1]Sheet1!$A:$I,9,0)","v":"92.50"},null,{"v":179.5,"d":"179.50"}]
[3134,"4252270705609","罗梅","319独山县乡镇中学","06初中英语教师",{"$f":"VLOOKUP(B3136,[1]Sheet1!$A:$I,8,0)","v":"86.50"},{"$f":"VLOOKUP(B3136,[1]Sheet1!$A:$I,9,0)","v":"90.50"},{"$f":"VLOOKUP(B3136,[2]少数民族加分!$C$1:$E$65536,3,FALSE)","v":2},{"v":179,"d":"179.00"}]
[3135,"4252270705417","何立庆","319独山县乡镇中学","06初中英语教师",{"$f":"VLOOKUP(B3137,[1]Sheet1!$A:$I,8,0)","v":"88.00"},{"$f":"VLOOKUP(B3137,[1]Sheet1!$A:$I,9,0)","v":"88.50"},{"$f":"VLOOKUP(B3137,[2]少数民族加分!$C$1:$E$65536,3,FALSE)","v":2},{"v":178.5,"d":"178.50"}]
[3137,"4252270705712","罗先芳","319独山县乡镇中学","06初中英语教师",{"$f":"VLOOKUP(B3138,[1]Sheet1!$A:$I,8,0)","v":"95.00"},{"$f":"VLOOKUP(B3138,[1]Sheet1!$A:$I,9,0)","v":"80.50"},{"$f":"VLOOKUP(B3138,[2]少数民族加分!$C$1:$E$65536,3,FALSE)","v":2},{"v":177.5,"d":"177.50"}]
[3138,"4252270706029","刘慧芳","319独山县乡镇中学","06初中英语教师",{"$f":"VLOOKUP(B3139,[1]Sheet1!$A:$I,8,0)","v":"83.00"},{"$f":"VLOOKUP(B3139,[1]Sheet1!$A:$I,9,0)","v":"92.50"},{"$f":"VLOOKUP(B3139,[2]少数民族加分!$C$1:$E$65536,3,FALSE)","v":2},{"v":177.5,"d":"177.50"}]
[3136,"4252270701603","张祥菊","319独山县乡镇中学","06初中英语教师",{"$f":"VLOOKUP(B3140,[1]Sheet1!$A:$I,8,0)","v":"87.00"},{"$f":"VLOOKUP(B3140,[1]Sheet1!$A:$I,9,0)","v":"89.50"},null,{"v":176.5,"d":"176.50"}]
[3139,"4252270703118","吴静","319独山县乡镇中学","06初中英语教师",{"$f":"VLOOKUP(B3141,[1]Sheet1!$A:$I,8,0)","v":"72.50"},{"$f":"VLOOKUP(B3141,[1]Sheet1!$A:$I,9,0)","v":"102.00"},{"$f":"VLOOKUP(B3141,[2]少数民族加分!$C$1:$E$65536,3,FALSE)","v":2},{"v":176.5,"d":"176.50"}]
[3142,"4252270703001","周颖","319独山县乡镇中学","06初中英语教师",{"$f":"VLOOKUP(B3142,[1]Sheet1!$A:$I,8,0)","v":"99.00"},{"$f":"VLOOKUP(B3142,[1]Sheet1!$A:$I,9,0)","v":"75.00"},{"$f":"VLOOKUP(B3142,[2]少数民族加分!$C$1:$E$65536,3,FALSE)","v":2},{"v":176,"d":"176.00"}]
[3143,"4252270705408","吴艳红","319独山县乡镇中学","06初中英语教师",{"$f":"VLOOKUP(B3143,[1]Sheet1!$A:$I,8,0)","v":"90.00"},{"$f":"VLOOKUP(B3143,[1]Sheet1!$A:$I,9,0)","v":"83.50"},{"$f":"VLOOKUP(B3143,[2]少数民族加分!$C$1:$E$65536,3,FALSE)","v":2},{"v":175.5,"d":"175.50"}]
[3145,"4252270704415","杨美花","319独山县乡镇中学","06初中英语教师",{"$f":"VLOOKUP(B3144,[1]Sheet1!$A:$I,8,0)","v":"81.50"},{"$f":"VLOOKUP(B3144,[1]Sheet1!$A:$I,9,0)","v":"91.00"},{"$f":"VLOOKUP(B3144,[2]少数民族加分!$C$1:$E$65536,3,FALSE)","v":2},{"v":174.5,"d":"174.50"}]
[3140,"4252270701319","张丹","319独山县乡镇中学","06初中英语教师",{"$f":"VLOOKUP(B3145,[1]Sheet1!$A:$I,8,0)","v":"86.50"},{"$f":"VLOOKUP(B3145,[1]Sheet1!$A:$I,9,0)","v":"87.50"},null,{"v":174,"d":"174.00"}]
[3141,"4252270701905","姚秋香","319独山县乡镇中学","06初中英语教师",{"$f":"VLOOKUP(B3146,[1]Sheet1!$A:$I,8,0)","v":"82.50"},{"$f":"VLOOKUP(B3146,[1]Sheet1!$A:$I,9,0)","v":"91.50"},null,{"v":174,"d":"174.00"}]
[3146,"4252270704905","周德丽","319独山县乡镇中学","06初中英语教师",{"$f":"VLOOKUP(B3147,[1]Sheet1!$A:$I,8,0)","v":"81.00"},{"$f":"VLOOKUP(B3147,[1]Sheet1!$A:$I,9,0)","v":"91.00"},{"$f":"VLOOKUP(B3147,[2]少数民族加分!$C$1:$E$65536,3,FALSE)","v":2},{"v":174,"d":"174.00"}]
[3144,"4252270704721","田茂华","319独山县乡镇中学","06初中英语教师",{"$f":"VLOOKUP(B3148,[1]Sheet1!$A:$I,8,0)","v":"77.00"},{"$f":"VLOOKUP(B3148,[1]Sheet1!$A:$I,9,0)","v":"96.00"},null,{"v":173,"d":"173.00"}]
[3147,"4252270703322","汪海艳","319独山县乡镇中学","06初中英语教师",{"$f":"VLOOKUP(B3149,[1]Sheet1!$A:$I,8,0)","v":"82.00"},{"$f":"VLOOKUP(B3149,[1]Sheet1!$A:$I,9,0)","v":"89.00"},{"$f":"VLOOKUP(B3149,[2]少数民族加分!$C$1:$E$65536,3,FALSE)","v":2},{"v":173,"d":"173.00"}]
[3148,"4252270701602","蒙霜倩","319独山县乡镇中学","06初中英语教师",{"$f":"VLOOKUP(B3150,[1]Sheet1!$A:$I,8,0)","v":"87.50"},{"$f":"VLOOKUP(B3150,[1]Sheet1!$A:$I,9,0)","v":"83.00"},{"$f":"VLOOKUP(B3150,[2]少数民族加分!$C$1:$E$65536,3,FALSE)","v":2},{"v":172.5,"d":"172.50"}]
[3150,"4252270706711","吴丽丽","319独山县乡镇中学","06初中英语教师",{"$f":"VLOOKUP(B3151,[1]Sheet1!$A:$I,8,0)","v":"79.50"},{"$f":"VLOOKUP(B3151,[1]Sheet1!$A:$I,9,0)","v":"91.00"},{"$f":"VLOOKUP(B3151,[2]少数民族加分!$C$1:$E$65536,3,FALSE)","v":2},{"v":172.5,"d":"172.50"}]
[3152,"4252270706111","刘素莲","319独山县乡镇中学","06初中英语教师",{"$f":"VLOOKUP(B3152,[1]Sheet1!$A:$I,8,0)","v":"88.00"},{"$f":"VLOOKUP(B3152,[1]Sheet1!$A:$I,9,0)","v":"82.50"},{"$f":"VLOOKUP(B3152,[2]少数民族加分!$C$1:$E$65536,3,FALSE)","v":2},{"v":172.5,"d":"172.50"}]
[3153,"4252270701616","陆秋云","319独山县乡镇中学","06初中英语教师",{"$f":"VLOOKUP(B3153,[1]Sheet1!$A:$I,8,0)","v":"92.50"},{"$f":"VLOOKUP(B3153,[1]Sheet1!$A:$I,9,0)","v":"77.50"},{"$f":"VLOOKUP(B3153,[2]少数民族加分!$C$1:$E$65536,3,FALSE)","v":2},{"v":172,"d":"172.00"}]
[3154,"4252270702919","罗成琴","319独山县乡镇中学","06初中英语教师",{"$f":"VLOOKUP(B3154,[1]Sheet1!$A:$I,8,0)","v":"73.50"},{"$f":"VLOOKUP(B3154,[1]Sheet1!$A:$I,9,0)","v":"96.00"},{"$f":"VLOOKUP(B3154,[2]少数民族加分!$C$1:$E$65536,3,FALSE)","v":2},{"v":171.5,"d":"171.50"}]
[3149,"4252270703230","岑祥稳","319独山县乡镇中学","06初中英语教师",{"$f":"VLOOKUP(B3155,[1]Sheet1!$A:$I,8,0)","v":"80.50"},{"$f":"VLOOKUP(B3155,[1]Sheet1!$A:$I,9,0)","v":"90.00"},null,{"v":170.5,"d":"170.50"}]
[3151,"4252270706016","王月红","319独山县乡镇中学","06初中英语教师",{"$f":"VLOOKUP(B3156,[1]Sheet1!$A:$I,8,0)","v":"78.50"},{"$f":"VLOOKUP(B3156,[1]Sheet1!$A:$I,9,0)","v":"92.00"},null,{"v":170.5,"d":"170.50"}]
[3156,"4252270701320","莫春花","319独山县乡镇中学","06初中英语教师",{"$f":"VLOOKUP(B3157,[1]Sheet1!$A:$I,8,0)","v":"86.00"},{"$f":"VLOOKUP(B3157,[1]Sheet1!$A:$I,9,0)","v":"82.50"},{"$f":"VLOOKUP(B3157,[2]少数民族加分!$C$1:$E$65536,3,FALSE)","v":2},{"v":170.5,"d":"170.50"}]
[3157,"4252270704223","罗婷","319独山县乡镇中学","06初中英语教师",{"$f":"VLOOKUP(B3158,[1]Sheet1!$A:$I,8,0)","v":"89.50"},{"$f":"VLOOKUP(B3158,[1]Sheet1!$A:$I,9,0)","v":"78.50"},{"$f":"VLOOKUP(B3158,[2]少数民族加分!$C$1:$E$65536,3,FALSE)","v":2},{"v":170,"d":"170.00"}]
[3155,"4252270703015","李霞","319独山县乡镇中学","06初中英语教师",{"$f":"VLOOKUP(B3159,[1]Sheet1!$A:$I,8,0)","v":"92.50"},{"$f":"VLOOKUP(B3159,[1]Sheet1!$A:$I,9,0)","v":"77.00"},null,{"v":169.5,"d":"169.50"}]
[3158,"4252270705210","孔希","319独山县乡镇中学","06初中英语教师",{"$f":"VLOOKUP(B3160,[1]Sheet1!$A:$I,8,0)","v":"77.50"},{"$f":"VLOOKUP(B3160,[1]Sheet1!$A:$I,9,0)","v":"90.00"},null,{"v":167.5,"d":"167.50"}]
[3160,"4252270703326","杨又春","319独山县乡镇中学","06初中英语教师",{"$f":"VLOOKUP(B3161,[1]Sheet1!$A:$I,8,0)","v":"83.00"},{"$f":"VLOOKUP(B3161,[1]Sheet1!$A:$I,9,0)","v":"82.50"},{"$f":"VLOOKUP(B3161,[2]少数民族加分!$C$1:$E$65536,3,FALSE)","v":2},{"v":167.5,"d":"167.50"}]
[3161,"4252270701515","陈凤鱼","319独山县乡镇中学","06初中英语教师",{"$f":"VLOOKUP(B3162,[1]Sheet1!$A:$I,8,0)","v":"83.00"},{"$f":"VLOOKUP(B3162,[1]Sheet1!$A:$I,9,0)","v":"82.00"},{"$f":"VLOOKUP(B3162,[2]少数民族加分!$C$1:$E$65536,3,FALSE)","v":2},{"v":167,"d":"167.00"}]
[3162,"4252270703113","冉光翠","319独山县乡镇中学","06初中英语教师",{"$f":"VLOOKUP(B3163,[1]Sheet1!$A:$I,8,0)","v":"92.50"},{"$f":"VLOOKUP(B3163,[1]Sheet1!$A:$I,9,0)","v":"72.00"},{"$f":"VLOOKUP(B3163,[2]少数民族加分!$C$1:$E$65536,3,FALSE)","v":2},{"v":166.5,"d":"166.50"}]
[3159,"4252270704708","江相欢","319独山县乡镇中学","06初中英语教师",{"$f":"VLOOKUP(B3164,[1]Sheet1!$A:$I,8,0)","v":"78.50"},{"$f":"VLOOKUP(B3164,[1]Sheet1!$A:$I,9,0)","v":"87.00"},null,{"v":165.5,"d":"165.50"}]
[3164,"4252270702505","罗国粉","319独山县乡镇中学","06初中英语教师",{"$f":"VLOOKUP(B3165,[1]Sheet1!$A:$I,8,0)","v":"72.50"},{"$f":"VLOOKUP(B3165,[1]Sheet1!$A:$I,9,0)","v":"91.00"},{"$f":"VLOOKUP(B3165,[2]少数民族加分!$C$1:$E$65536,3,FALSE)","v":2},{"v":165.5,"d":"165.50"}]
[3165,"4252270701523","常伟","319独山县乡镇中学","06初中英语教师",{"$f":"VLOOKUP(B3166,[1]Sheet1!$A:$I,8,0)","v":"88.00"},{"$f":"VLOOKUP(B3166,[1]Sheet1!$A:$I,9,0)","v":"74.50"},{"$f":"VLOOKUP(B3166,[2]少数民族加分!$C$1:$E$65536,3,FALSE)","v":2},{"v":164.5,"d":"164.50"}]
[3167,"4252270702918","柏丽","319独山县乡镇中学","06初中英语教师",{"$f":"VLOOKUP(B3167,[1]Sheet1!$A:$I,8,0)","v":"79.50"},{"$f":"VLOOKUP(B3167,[1]Sheet1!$A:$I,9,0)","v":"83.00"},{"$f":"VLOOKUP(B3167,[2]少数民族加分!$C$1:$E$65536,3,FALSE)","v":2},{"v":164.5,"d":"164.50"}]
[3163,"4252270704230","曾祖琴","319独山县乡镇中学","06初中英语教师",{"$f":"VLOOKUP(B3168,[1]Sheet1!$A:$I,8,0)","v":"87.00"},{"$f":"VLOOKUP(B3168,[1]Sheet1!$A:$I,9,0)","v":"77.00"},null,{"v":164,"d":"164.00"}]
[3168,"4252270704401","杨琴","319独山县乡镇中学","06初中英语教师",{"$f":"VLOOKUP(B3169,[1]Sheet1!$A:$I,8,0)","v":"80.50"},{"$f":"VLOOKUP(B3169,[1]Sheet1!$A:$I,9,0)","v":"81.00"},{"$f":"VLOOKUP(B3169,[2]少数民族加分!$C$1:$E$65536,3,FALSE)","v":2},{"v":163.5,"d":"163.50"}]
[3166,"4252270701919","白玲娜","319独山县乡镇中学","06初中英语教师",{"$f":"VLOOKUP(B3170,[1]Sheet1!$A:$I,8,0)","v":"75.50"},{"$f":"VLOOKUP(B3170,[1]Sheet1!$A:$I,9,0)","v":"87.00"},null,{"v":162.5,"d":"162.50"}]
[3171,"4252270706708","张丹丹","319独山县乡镇中学","06初中英语教师",{"$f":"VLOOKUP(B3171,[1]Sheet1!$A:$I,8,0)","v":"71.50"},{"$f":"VLOOKUP(B3171,[1]Sheet1!$A:$I,9,0)","v":"89.00"},{"$f":"VLOOKUP(B3171,[2]少数民族加分!$C$1:$E$65536,3,FALSE)","v":2},{"v":162.5,"d":"162.50"}]
[3172,"4252270703823","韦丽","319独山县乡镇中学","06初中英语教师",{"$f":"VLOOKUP(B3172,[1]Sheet1!$A:$I,8,0)","v":"84.00"},{"$f":"VLOOKUP(B3172,[1]Sheet1!$A:$I,9,0)","v":"76.50"},{"$f":"VLOOKUP(B3172,[2]少数民族加分!$C$1:$E$65536,3,FALSE)","v":2},{"v":162.5,"d":"162.50"}]
[3173,"4252270704702","金佑星","319独山县乡镇中学","06初中英语教师",{"$f":"VLOOKUP(B3173,[1]Sheet1!$A:$I,8,0)","v":"84.00"},{"$f":"VLOOKUP(B3173,[1]Sheet1!$A:$I,9,0)","v":"76.50"},{"$f":"VLOOKUP(B3173,[2]少数民族加分!$C$1:$E$65536,3,FALSE)","v":2},{"v":162.5,"d":"162.50"}]
[3169,"4252270705505","刘光霞","319独山县乡镇中学","06初中英语教师",{"$f":"VLOOKUP(B3174,[1]Sheet1!$A:$I,8,0)","v":"82.50"},{"$f":"VLOOKUP(B3174,[1]Sheet1!$A:$I,9,0)","v":"79.00"},null,{"v":161.5,"d":"161.50"}]
[3170,"4252270706127","周冬菊","319独山县乡镇中学","06初中英语教师",{"$f":"VLOOKUP(B3175,[1]Sheet1!$A:$I,8,0)","v":"86.50"},{"$f":"VLOOKUP(B3175,[1]Sheet1!$A:$I,9,0)","v":"74.50"},null,{"v":161,"d":"161.00"}]
[3175,"4252270702216","何慧丽","319独山县乡镇中学","06初中英语教师",{"$f":"VLOOKUP(B3176,[1]Sheet1!$A:$I,8,0)","v":"82.00"},{"$f":"VLOOKUP(B3176,[1]Sheet1!$A:$I,9,0)","v":"77.00"},{"$f":"VLOOKUP(B3176,[2]少数民族加分!$C$1:$E$65536,3,FALSE)","v":2},{"v":161,"d":"161.00"}]
[3176,"4252270702525","杨瑾","319独山县乡镇中学","06初中英语教师",{"$f":"VLOOKUP(B3177,[1]Sheet1!$A:$I,8,0)","v":"80.00"},{"$f":"VLOOKUP(B3177,[1]Sheet1!$A:$I,9,0)","v":"79.00"},{"$f":"VLOOKUP(B3177,[2]少数民族加分!$C$1:$E$65536,3,FALSE)","v":2},{"v":161,"d":"161.00"}]
[3174,"4252270703807","晏江会","319独山县乡镇中学","06初中英语教师",{"$f":"VLOOKUP(B3178,[1]Sheet1!$A:$I,8,0)","v":"84.50"},{"$f":"VLOOKUP(B3178,[1]Sheet1!$A:$I,9,0)","v":"74.50"},null,{"v":159,"d":"159.00"}]
[3178,"4252270701714","杨春花","319独山县乡镇中学","06初中英语教师",{"$f":"VLOOKUP(B3179,[1]Sheet1!$A:$I,8,0)","v":"81.00"},{"$f":"VLOOKUP(B3179,[1]Sheet1!$A:$I,9,0)","v":"76.00"},{"$f":"VLOOKUP(B3179,[2]少数民族加分!$C$1:$E$65536,3,FALSE)","v":2},{"v":159,"d":"159.00"}]
[3179,"4252270706013","潘艳","319独山县乡镇中学","06初中英语教师",{"$f":"VLOOKUP(B3180,[1]Sheet1!$A:$I,8,0)","v":"83.00"},{"$f":"VLOOKUP(B3180,[1]Sheet1!$A:$I,9,0)","v":"74.00"},{"$f":"VLOOKUP(B3180,[2]少数民族加分!$C$1:$E$65536,3,FALSE)","v":2},{"v":159,"d":"159.00"}]
[3177,"4252270703304","陈燕","319独山县乡镇中学","06初中英语教师",{"$f":"VLOOKUP(B3181,[1]Sheet1!$A:$I,8,0)","v":"83.00"},{"$f":"VLOOKUP(B3181,[1]Sheet1!$A:$I,9,0)","v":"75.00"},null,{"v":158,"d":"158.00"}]
[3184,"4252270704302","柳家翠","319独山县乡镇中学","06初中英语教师",{"$f":"VLOOKUP(B3182,[1]Sheet1!$A:$I,8,0)","v":"94.50"},{"$f":"VLOOKUP(B3182,[1]Sheet1!$A:$I,9,0)","v":"60.50"},{"$f":"VLOOKUP(B3182,[2]少数民族加分!$C$1:$E$65536,3,FALSE)","v":2},{"v":157,"d":"157.00"}]
[3180,"4252270704508","曹英","319独山县乡镇中学","06初中英语教师",{"$f":"VLOOKUP(B3183,[1]Sheet1!$A:$I,8,0)","v":"70.50"},{"$f":"VLOOKUP(B3183,[1]Sheet1!$A:$I,9,0)","v":"86.00"},null,{"v":156.5,"d":"156.50"}]
[3186,"4252270701401","蒙培艳","319独山县乡镇中学","06初中英语教师",{"$f":"VLOOKUP(B3184,[1]Sheet1!$A:$I,8,0)","v":"78.50"},{"$f":"VLOOKUP(B3184,[1]Sheet1!$A:$I,9,0)","v":"76.00"},{"$f":"VLOOKUP(B3184,[2]少数民族加分!$C$1:$E$65536,3,FALSE)","v":2},{"v":156.5,"d":"156.50"}]
[3187,"4252270702126","文丽琴","319独山县乡镇中学","06初中英语教师",{"$f":"VLOOKUP(B3185,[1]Sheet1!$A:$I,8,0)","v":"77.50"},{"$f":"VLOOKUP(B3185,[1]Sheet1!$A:$I,9,0)","v":"77.00"},{"$f":"VLOOKUP(B3185,[2]少数民族加分!$C$1:$E$65536,3,FALSE)","v":2},{"v":156.5,"d":"156.50"}]
[3181,"4252270703426","杨月","319独山县乡镇中学","06初中英语教师",{"$f":"VLOOKUP(B3186,[1]Sheet1!$A:$I,8,0)","v":"89.50"},{"$f":"VLOOKUP(B3186,[1]Sheet1!$A:$I,9,0)","v":"66.00"},null,{"v":155.5,"d":"155.50"}]
[3182,"4252270701918","李定珍","319独山县乡镇中学","06初中英语教师",{"$f":"VLOOKUP(B3187,[1]Sheet1!$A:$I,8,0)","v":"85.00"},{"$f":"VLOOKUP(B3187,[1]Sheet1!$A:$I,9,0)","v":"70.50"},null,{"v":155.5,"d":"155.50"}]
[3183,"4252270706607","段锡碧","319独山县乡镇中学","06初中英语教师",{"$f":"VLOOKUP(B3188,[1]Sheet1!$A:$I,8,0)","v":"82.50"},{"$f":"VLOOKUP(B3188,[1]Sheet1!$A:$I,9,0)","v":"73.00"},null,{"v":155.5,"d":"155.50"}]
[3185,"4252270706128","丰元兰","319独山县乡镇中学","06初中英语教师",{"$f":"VLOOKUP(B3189,[1]Sheet1!$A:$I,8,0)","v":"83.00"},{"$f":"VLOOKUP(B3189,[1]Sheet1!$A:$I,9,0)","v":"71.50"},null,{"v":154.5,"d":"154.50"}]
[3188,"4252270703106","郑海勇","319独山县乡镇中学","06初中英语教师",{"$f":"VLOOKUP(B3190,[1]Sheet1!$A:$I,8,0)","v":"89.50"},{"$f":"VLOOKUP(B3190,[1]Sheet1!$A:$I,9,0)","v":"65.00"},null,{"v":154.5,"d":"154.50"}]
[3189,"4252270702221","唐姣","319独山县乡镇中学","06初中英语教师",{"$f":"VLOOKUP(B3191,[1]Sheet1!$A:$I,8,0)","v":"88.00"},{"$f":"VLOOKUP(B3191,[1]Sheet1!$A:$I,9,0)","v":"65.00"},null,{"v":153,"d":"153.00"}]
[3190,"4252270703402","吴小倩","319独山县乡镇中学","06初中英语教师",{"$f":"VLOOKUP(B3192,[1]Sheet1!$A:$I,8,0)","v":"76.00"},{"$f":"VLOOKUP(B3192,[1]Sheet1!$A:$I,9,0)","v":"77.00"},null,{"v":153,"d":"153.00"}]
[3192,"4252270703708","陈绿云","319独山县乡镇中学","06初中英语教师",{"$f":"VLOOKUP(B3193,[1]Sheet1!$A:$I,8,0)","v":"77.00"},{"$f":"VLOOKUP(B3193,[1]Sheet1!$A:$I,9,0)","v":"74.00"},{"$f":"VLOOKUP(B3193,[2]少数民族加分!$C$1:$E$65536,3,FALSE)","v":2},{"v":153,"d":"153.00"}]
[3193,"4252270702810","张芬","319独山县乡镇中学","06初中英语教师",{"$f":"VLOOKUP(B3194,[1]Sheet1!$A:$I,8,0)","v":"77.50"},{"$f":"VLOOKUP(B3194,[1]Sheet1!$A:$I,9,0)","v":"73.00"},{"$f":"VLOOKUP(B3194,[2]少数民族加分!$C$1:$E$65536,3,FALSE)","v":2},{"v":152.5,"d":"152.50"}]
[3191,"4252270703104","刘阳敏","319独山县乡镇中学","06初中英语教师",{"$f":"VLOOKUP(B3195,[1]Sheet1!$A:$I,8,0)","v":"73.50"},{"$f":"VLOOKUP(B3195,[1]Sheet1!$A:$I,9,0)","v":"78.00"},null,{"v":151.5,"d":"151.50"}]
[3195,"4252270705001","吴珍","319独山县乡镇中学","06初中英语教师",{"$f":"VLOOKUP(B3196,[1]Sheet1!$A:$I,8,0)","v":"56.50"},{"$f":"VLOOKUP(B3196,[1]Sheet1!$A:$I,9,0)","v":"92.00"},{"$f":"VLOOKUP(B3196,[2]少数民族加分!$C$1:$E$65536,3,FALSE)","v":2},{"v":150.5,"d":"150.50"}]
[3196,"4252270703324","杨雅群","319独山县乡镇中学","06初中英语教师",{"$f":"VLOOKUP(B3197,[1]Sheet1!$A:$I,8,0)","v":"73.00"},{"$f":"VLOOKUP(B3197,[1]Sheet1!$A:$I,9,0)","v":"75.00"},{"$f":"VLOOKUP(B3197,[2]少数民族加分!$C$1:$E$65536,3,FALSE)","v":2},{"v":150,"d":"150.00"}]
[3194,"4252270705011","杨燕","319独山县乡镇中学","06初中英语教师",{"$f":"VLOOKUP(B3198,[1]Sheet1!$A:$I,8,0)","v":"72.50"},{"$f":"VLOOKUP(B3198,[1]Sheet1!$A:$I,9,0)","v":"77.00"},null,{"v":149.5,"d":"149.50"}]
[3198,"4252270706303","石学雯","319独山县乡镇中学","06初中英语教师",{"$f":"VLOOKUP(B3199,[1]Sheet1!$A:$I,8,0)","v":"83.50"},{"$f":"VLOOKUP(B3199,[1]Sheet1!$A:$I,9,0)","v":"63.50"},{"$f":"VLOOKUP(B3199,[2]少数民族加分!$C$1:$E$65536,3,FALSE)","v":2},{"v":149,"d":"149.00"}]
[3199,"4252270702722","杨焕珍","319独山县乡镇中学","06初中英语教师",{"$f":"VLOOKUP(B3200,[1]Sheet1!$A:$I,8,0)","v":"71.50"},{"$f":"VLOOKUP(B3200,[1]Sheet1!$A:$I,9,0)","v":"75.00"},{"$f":"VLOOKUP(B3200,[2]少数民族加分!$C$1:$E$65536,3,FALSE)","v":2},{"v":148.5,"d":"148.50"}]
[3200,"4252270702901","杨再丹","319独山县乡镇中学","06初中英语教师",{"$f":"VLOOKUP(B3201,[1]Sheet1!$A:$I,8,0)","v":"75.50"},{"$f":"VLOOKUP(B3201,[1]Sheet1!$A:$I,9,0)","v":"71.00"},{"$f":"VLOOKUP(B3201,[2]少数民族加分!$C$1:$E$65536,3,FALSE)","v":2},{"v":148.5,"d":"148.50"}]
[3197,"4252270701509","莫品燕","319独山县乡镇中学","06初中英语教师",{"$f":"VLOOKUP(B3202,[1]Sheet1!$A:$I,8,0)","v":"75.00"},{"$f":"VLOOKUP(B3202,[1]Sheet1!$A:$I,9,0)","v":"72.00"},null,{"v":147,"d":"147.00"}]
[3201,"4252270702520","吴俊杰","319独山县乡镇中学","06初中英语教师",{"$f":"VLOOKUP(B3203,[1]Sheet1!$A:$I,8,0)","v":"75.50"},{"$f":"VLOOKUP(B3203,[1]Sheet1!$A:$I,9,0)","v":"69.00"},{"$f":"VLOOKUP(B3203,[2]少数民族加分!$C$1:$E$65536,3,FALSE)","v":2},{"v":146.5,"d":"146.50"}]
[3202,"4252270703327","李小丽","319独山县乡镇中学","06初中英语教师",{"$f":"VLOOKUP(B3204,[1]Sheet1!$A:$I,8,0)","v":"58.50"},{"$f":"VLOOKUP(B3204,[1]Sheet1!$A:$I,9,0)","v":"86.00"},{"$f":"VLOOKUP(B3204,[2]少数民族加分!$C$1:$E$65536,3,FALSE)","v":2},{"v":146.5,"d":"146.50"}]
[3203,"4252270705321","石焕丽","319独山县乡镇中学","06初中英语教师",{"$f":"VLOOKUP(B3205,[1]Sheet1!$A:$I,8,0)","v":"81.00"},{"$f":"VLOOKUP(B3205,[1]Sheet1!$A:$I,9,0)","v":"63.00"},{"$f":"VLOOKUP(B3205,[2]少数民族加分!$C$1:$E$65536,3,FALSE)","v":2},{"v":146,"d":"146.00"}]
[3205,"4252270703611","秦娟","319独山县乡镇中学","06初中英语教师",{"$f":"VLOOKUP(B3206,[1]Sheet1!$A:$I,8,0)","v":"76.00"},{"$f":"VLOOKUP(B3206,[1]Sheet1!$A:$I,9,0)","v":"67.00"},{"$f":"VLOOKUP(B3206,[2]少数民族加分!$C$1:$E$65536,3,FALSE)","v":2},{"v":145,"d":"145.00"}]
[3206,"4252270703111","何云芬","319独山县乡镇中学","06初中英语教师",{"$f":"VLOOKUP(B3207,[1]Sheet1!$A:$I,8,0)","v":"75.00"},{"$f":"VLOOKUP(B3207,[1]Sheet1!$A:$I,9,0)","v":"67.00"},{"$f":"VLOOKUP(B3207,[2]少数民族加分!$C$1:$E$65536,3,FALSE)","v":2},{"v":144,"d":"144.00"}]
[3204,"4252270706616","苏时娟","319独山县乡镇中学","06初中英语教师",{"$f":"VLOOKUP(B3208,[1]Sheet1!$A:$I,8,0)","v":"74.50"},{"$f":"VLOOKUP(B3208,[1]Sheet1!$A:$I,9,0)","v":"69.00"},null,{"v":143.5,"d":"143.50"}]
[3207,"4252270704516","陆丽群","319独山县乡镇中学","06初中英语教师",{"$f":"VLOOKUP(B3209,[1]Sheet1!$A:$I,8,0)","v":"71.50"},{"$f":"VLOOKUP(B3209,[1]Sheet1!$A:$I,9,0)","v":"70.00"},{"$f":"VLOOKUP(B3209,[2]少数民族加分!$C$1:$E$65536,3,FALSE)","v":2},{"v":143.5,"d":"143.50"}]
[3208,"4252270704511","姚胜东","319独山县乡镇中学","06初中英语教师",{"$f":"VLOOKUP(B3210,[1]Sheet1!$A:$I,8,0)","v":"57.50"},{"$f":"VLOOKUP(B3210,[1]Sheet1!$A:$I,9,0)","v":"80.00"},{"$f":"VLOOKUP(B3210,[2]少数民族加分!$C$1:$E$65536,3,FALSE)","v":2},{"v":139.5,"d":"139.50"}]
[3209,"4252270702018","雷淑芬","319独山县乡镇中学","06初中英语教师",{"$f":"VLOOKUP(B3211,[1]Sheet1!$A:$I,8,0)","v":"69.00"},{"$f":"VLOOKUP(B3211,[1]Sheet1!$A:$I,9,0)","v":"67.00"},null,{"v":136,"d":"136.00"}]
[3210,"4252270703417","黄福春","319独山县乡镇中学","06初中英语教师",{"$f":"VLOOKUP(B3212,[1]Sheet1!$A:$I,8,0)","v":"72.00"},{"$f":"VLOOKUP(B3212,[1]Sheet1!$A:$I,9,0)","v":"62.00"},{"$f":"VLOOKUP(B3212,[2]少数民族加分!$C$1:$E$65536,3,FALSE)","v":2},{"v":136,"d":"136.00"}]
[3211,"4252270702619","莫树凤","319独山县乡镇中学","06初中英语教师",{"$f":"VLOOKUP(B3213,[1]Sheet1!$A:$I,8,0)","v":"74.00"},{"$f":"VLOOKUP(B3213,[1]Sheet1!$A:$I,9,0)","v":"58.00"},{"$f":"VLOOKUP(B3213,[2]少数民族加分!$C$1:$E$65536,3,FALSE)","v":2},{"v":134,"d":"134.00"}]
[3212,"4252270702325","龙开庭","319独山县乡镇中学","06初中英语教师",{"$f":"VLOOKUP(B3214,[1]Sheet1!$A:$I,8,0)","v":"74.50"},{"$f":"VLOOKUP(B3214,[1]Sheet1!$A:$I,9,0)","v":"57.00"},null,{"v":131.5,"d":"131.50"}]
[3213,"4252270704718","宋知豪","319独山县乡镇中学","06初中英语教师",{"$f":"VLOOKUP(B3215,[1]Sheet1!$A:$I,8,0)","v":"70.00"},{"$f":"VLOOKUP(B3215,[1]Sheet1!$A:$I,9,0)","v":"59.00"},null,{"v":129,"d":"129.00"}]
[3214,"4252270702819","许梦林","319独山县乡镇中学","06初中英语教师",{"$f":"VLOOKUP(B3216,[1]Sheet1!$A:$I,8,0)","v":"52.50"},{"$f":"VLOOKUP(B3216,[1]Sheet1!$A:$I,9,0)","v":"69.00"},{"$f":"VLOOKUP(B3216,[2]少数民族加分!$C$1:$E$65536,3,FALSE)","v":2},{"v":123.5,"d":"123.50"}]
[3215,"4252270702729","韦锦强","319独山县乡镇中学","06初中英语教师",{"$f":"VLOOKUP(B3217,[1]Sheet1!$A:$I,8,0)","v":"55.00"},{"$f":"VLOOKUP(B3217,[1]Sheet1!$A:$I,9,0)","v":"61.00"},{"$f":"VLOOKUP(B3217,[2]少数民族加分!$C$1:$E$65536,3,FALSE)","v":2},{"v":118,"d":"118.00"}]
[3216,"4252270705826","温欢欢","319独山县乡镇中学","06初中英语教师",{"$f":"VLOOKUP(B3218,[1]Sheet1!$A:$I,8,0)","v":"78.00"},{"$f":"VLOOKUP(B3218,[1]Sheet1!$A:$I,9,0)","v":"33.00"},{"$f":"VLOOKUP(B3218,[2]少数民族加分!$C$1:$E$65536,3,FALSE)","v":2},{"v":113,"d":"113.00"}]
[3217,"4252270706503","潘世秀","319独山县乡镇中学","06初中英语教师",{"$f":"VLOOKUP(B3219,[1]Sheet1!$A:$I,8,0)","v":"79.00"},{"$f":"VLOOKUP(B3219,[1]Sheet1!$A:$I,9,0)","v":"32.00"},{"$f":"VLOOKUP(B3219,[2]少数民族加分!$C$1:$E$65536,3,FALSE)","v":2},{"v":113,"d":"113.00"}]
[3218,"4252270706226","雷以丽","319独山县乡镇中学","06初中英语教师",{"$f":"VLOOKUP(B3220,[1]Sheet1!$A:$I,8,0)","v":"0.00"},{"$f":"VLOOKUP(B3220,[1]Sheet1!$A:$I,9,0)","v":"0.00"},null,"缺考"]
[3219,"4252270701402","刘祥丽","319独山县乡镇中学","06初中英语教师",{"$f":"VLOOKUP(B3221,[1]Sheet1!$A:$I,8,0)","v":"0.00"},{"$f":"VLOOKUP(B3221,[1]Sheet1!$A:$I,9,0)","v":"0.00"},{"$f":"VLOOKUP(B3221,[2]少数民族加分!$C$1:$E$65536,3,FALSE)","v":2},"缺考"]
[3220,"4252270701411","王金莲","319独山县乡镇中学","06初中英语教师",{"$f":"VLOOKUP(B3222,[1]Sheet1!$A:$I,8,0)","v":"0.00"},{"$f":"VLOOKUP(B3222,[1]Sheet1!$A:$I,9,0)","v":"0.00"},null,"缺考"]
[3221,"4252270701502","张青梅","319独山县乡镇中学","06初中英语教师",{"$f":"VLOOKUP(B3223,[1]Sheet1!$A:$I,8,0)","v":"0.00"},{"$f":"VLOOKUP(B3223,[1]Sheet1!$A:$I,9,0)","v":"0.00"},null,"缺考"]
[3222,"4252270701924","杨兰花","319独山县乡镇中学","06初中英语教师",{"$f":"VLOOKUP(B3224,[1]Sheet1!$A:$I,8,0)","v":"0.00"},{"$f":"VLOOKUP(B3224,[1]Sheet1!$A:$I,9,0)","v":"0.00"},{"$f":"VLOOKUP(B3224,[2]少数民族加分!$C$1:$E$65536,3,FALSE)","v":2},"缺考"]
[3223,"4252270702409","何之语","319独山县乡镇中学","06初中英语教师",{"$f":"VLOOKUP(B3225,[1]Sheet1!$A:$I,8,0)","v":"0.00"},{"$f":"VLOOKUP(B3225,[1]Sheet1!$A:$I,9,0)","v":"0.00"},{"$f":"VLOOKUP(B3225,[2]少数民族加分!$C$1:$E$65536,3,FALSE)","v":2},"缺考"]
[3224,"4252270702728","牟芳","319独山县乡镇中学","06初中英语教师",{"$f":"VLOOKUP(B3226,[1]Sheet1!$A:$I,8,0)","v":"0.00"},{"$f":"VLOOKUP(B3226,[1]Sheet1!$A:$I,9,0)","v":"0.00"},null,"缺考"]
[3225,"4252270702807","彭福敏","319独山县乡镇中学","06初中英语教师",{"$f":"VLOOKUP(B3227,[1]Sheet1!$A:$I,8,0)","v":"0.00"},{"$f":"VLOOKUP(B3227,[1]Sheet1!$A:$I,9,0)","v":"0.00"},{"$f":"VLOOKUP(B3227,[2]少数民族加分!$C$1:$E$65536,3,FALSE)","v":2},"缺考"]
[3226,"4252270702815","陆清巧","319独山县乡镇中学","06初中英语教师",{"$f":"VLOOKUP(B3228,[1]Sheet1!$A:$I,8,0)","v":"0.00"},{"$f":"VLOOKUP(B3228,[1]Sheet1!$A:$I,9,0)","v":"0.00"},{"$f":"VLOOKUP(B3228,[2]少数民族加分!$C$1:$E$65536,3,FALSE)","v":2},"缺考"]
[3227,"4252270703108","黄珊珊","319独山县乡镇中学","06初中英语教师",{"$f":"VLOOKUP(B3229,[1]Sheet1!$A:$I,8,0)","v":"0.00"},{"$f":"VLOOKUP(B3229,[1]Sheet1!$A:$I,9,0)","v":"0.00"},{"$f":"VLOOKUP(B3229,[2]少数民族加分!$C$1:$E$65536,3,FALSE)","v":2},"缺考"]
[3228,"4252270703112","任明惠","319独山县乡镇中学","06初中英语教师",{"$f":"VLOOKUP(B3230,[1]Sheet1!$A:$I,8,0)","v":"0.00"},{"$f":"VLOOKUP(B3230,[1]Sheet1!$A:$I,9,0)","v":"0.00"},null,"缺考"]
[3229,"4252270703229","陈石桃","319独山县乡镇中学","06初中英语教师",{"$f":"VLOOKUP(B3231,[1]Sheet1!$A:$I,8,0)","v":"0.00"},{"$f":"VLOOKUP(B3231,[1]Sheet1!$A:$I,9,0)","v":"0.00"},{"$f":"VLOOKUP(B3231,[2]少数民族加分!$C$1:$E$65536,3,FALSE)","v":2},"缺考"]
[3230,"4252270703302","何玉霞","319独山县乡镇中学","06初中英语教师",{"$f":"VLOOKUP(B3232,[1]Sheet1!$A:$I,8,0)","v":"0.00"},{"$f":"VLOOKUP(B3232,[1]Sheet1!$A:$I,9,0)","v":"0.00"},{"$f":"VLOOKUP(B3232,[2]少数民族加分!$C$1:$E$65536,3,FALSE)","v":2},"缺考"]
[3231,"4252270703428","韦荣姣","319独山县乡镇中学","06初中英语教师",{"$f":"VLOOKUP(B3233,[1]Sheet1!$A:$I,8,0)","v":"0.00"},{"$f":"VLOOKUP(B3233,[1]Sheet1!$A:$I,9,0)","v":"0.00"},{"$f":"VLOOKUP(B3233,[2]少数民族加分!$C$1:$E$65536,3,FALSE)","v":2},"缺考"]
[3232,"4252270703504","徐宇","319独山县乡镇中学","06初中英语教师",{"$f":"VLOOKUP(B3234,[1]Sheet1!$A:$I,8,0)","v":"0.00"},{"$f":"VLOOKUP(B3234,[1]Sheet1!$A:$I,9,0)","v":"0.00"},null,"缺考"]
[3233,"4252270703822","宋石锦","319独山县乡镇中学","06初中英语教师",{"$f":"VLOOKUP(B3235,[1]Sheet1!$A:$I,8,0)","v":"0.00"},{"$f":"VLOOKUP(B3235,[1]Sheet1!$A:$I,9,0)","v":"0.00"},null,"缺考"]
[3234,"4252270703922","韦彦","319独山县乡镇中学","06初中英语教师",{"$f":"VLOOKUP(B3236,[1]Sheet1!$A:$I,8,0)","v":"0.00"},{"$f":"VLOOKUP(B3236,[1]Sheet1!$A:$I,9,0)","v":"0.00"},{"$f":"VLOOKUP(B3236,[2]少数民族加分!$C$1:$E$65536,3,FALSE)","v":2},"缺考"]
[3235,"4252270704115","陶梦蝶","319独山县乡镇中学","06初中英语教师",{"$f":"VLOOKUP(B3237,[1]Sheet1!$A:$I,8,0)","v":"0.00"},{"$f":"VLOOKUP(B3237,[1]Sheet1!$A:$I,9,0)","v":"0.00"},{"$f":"VLOOKUP(B3237,[2]少数民族加分!$C$1:$E$65536,3,FALSE)","v":2},"缺考"]
[3236,"4252270704603","李金花","319独山县乡镇中学","06初中英语教师",{"$f":"VLOOKUP(B3238,[1]Sheet1!$A:$I,8,0)","v":"0.00"},{"$f":"VLOOKUP(B3238,[1]Sheet1!$A:$I,9,0)","v":"0.00"},{"$f":"VLOOKUP(B3238,[2]少数民族加分!$C$1:$E$65536,3,FALSE)","v":2},"缺考"]
[3237,"4252270704728","李倩","319独山县乡镇中学","06初中英语教师",{"$f":"VLOOKUP(B3239,[1]Sheet1!$A:$I,8,0)","v":"0.00"},{"$f":"VLOOKUP(B3239,[1]Sheet1!$A:$I,9,0)","v":"0.00"},{"$f":"VLOOKUP(B3239,[2]少数民族加分!$C$1:$E$65536,3,FALSE)","v":2},"缺考"]
[3238,"4252270704827","黄琴","319独山县乡镇中学","06初中英语教师",{"$f":"VLOOKUP(B3240,[1]Sheet1!$A:$I,8,0)","v":"0.00"},{"$f":"VLOOKUP(B3240,[1]Sheet1!$A:$I,9,0)","v":"0.00"},null,"缺考"]
[3239,"4252270705108","王鑫","319独山县乡镇中学","06初中英语教师",{"$f":"VLOOKUP(B3241,[1]Sheet1!$A:$I,8,0)","v":"0.00"},{"$f":"VLOOKUP(B3241,[1]Sheet1!$A:$I,9,0)","v":"0.00"},{"$f":"VLOOKUP(B3241,[2]少数民族加分!$C$1:$E$65536,3,FALSE)","v":2},"缺考"]
[3240,"4252270705517","陈静","319独山县乡镇中学","06初中英语教师",{"$f":"VLOOKUP(B3242,[1]Sheet1!$A:$I,8,0)","v":"0.00"},{"$f":"VLOOKUP(B3242,[1]Sheet1!$A:$I,9,0)","v":"0.00"},null,"缺考"]
[3241,"4252270705725","杨兰兴","319独山县乡镇中学","06初中英语教师",{"$f":"VLOOKUP(B3243,[1]Sheet1!$A:$I,8,0)","v":"0.00"},{"$f":"VLOOKUP(B3243,[1]Sheet1!$A:$I,9,0)","v":"0.00"},{"$f":"VLOOKUP(B3243,[2]少数民族加分!$C$1:$E$65536,3,FALSE)","v":2},"缺考"]
[3242,"4252270705813","陈婉清","319独山县乡镇中学","06初中英语教师",{"$f":"VLOOKUP(B3244,[1]Sheet1!$A:$I,8,0)","v":"0.00"},{"$f":"VLOOKUP(B3244,[1]Sheet1!$A:$I,9,0)","v":"0.00"},null,"缺考"]
[3243,"4252270706103","舒羽","319独山县乡镇中学","06初中英语教师",{"$f":"VLOOKUP(B3245,[1]Sheet1!$A:$I,8,0)","v":"0.00"},{"$f":"VLOOKUP(B3245,[1]Sheet1!$A:$I,9,0)","v":"0.00"},null,"缺考"]
[3244,"4252270704326","骆庆姣","319独山县乡镇中学","07初中音乐教师",{"$f":"VLOOKUP(B3246,[1]Sheet1!$A:$I,8,0)","v":"86.00"},{"$f":"VLOOKUP(B3246,[1]Sheet1!$A:$I,9,0)","v":"106.50"},{"$f":"VLOOKUP(B3246,[2]少数民族加分!$C$1:$E$65536,3,FALSE)","v":2},{"v":194.5,"d":"194.50"}]
[3245,"4252270702223","冯世佳","319独山县乡镇中学","07初中音乐教师",{"$f":"VLOOKUP(B3247,[1]Sheet1!$A:$I,8,0)","v":"110.50"},{"$f":"VLOOKUP(B3247,[1]Sheet1!$A:$I,9,0)","v":"75.00"},{"$f":"VLOOKUP(B3247,[2]少数民族加分!$C$1:$E$65536,3,FALSE)","v":2},{"v":187.5,"d":"187.50"}]
[3246,"4252270706005","袁婷","319独山县乡镇中学","07初中音乐教师",{"$f":"VLOOKUP(B3248,[1]Sheet1!$A:$I,8,0)","v":"88.00"},{"$f":"VLOOKUP(B3248,[1]Sheet1!$A:$I,9,0)","v":"85.50"},{"$f":"VLOOKUP(B3248,[2]少数民族加分!$C$1:$E$65536,3,FALSE)","v":2},{"v":175.5,"d":"175.50"}]
[3247,"4252270705110","潘泽思","319独山县乡镇中学","07初中音乐教师",{"$f":"VLOOKUP(B3249,[1]Sheet1!$A:$I,8,0)","v":"89.00"},{"$f":"VLOOKUP(B3249,[1]Sheet1!$A:$I,9,0)","v":"83.00"},{"$f":"VLOOKUP(B3249,[2]少数民族加分!$C$1:$E$65536,3,FALSE)","v":2},{"v":174,"d":"174.00"}]
[3248,"4252270705803","白刚璇","319独山县乡镇中学","07初中音乐教师",{"$f":"VLOOKUP(B3250,[1]Sheet1!$A:$I,8,0)","v":"87.50"},{"$f":"VLOOKUP(B3250,[1]Sheet1!$A:$I,9,0)","v":"80.00"},{"$f":"VLOOKUP(B3250,[2]少数民族加分!$C$1:$E$65536,3,FALSE)","v":2},{"v":169.5,"d":"169.50"}]
[3250,"4252270703023","张鲜艳","319独山县乡镇中学","07初中音乐教师",{"$f":"VLOOKUP(B3251,[1]Sheet1!$A:$I,8,0)","v":"79.50"},{"$f":"VLOOKUP(B3251,[1]Sheet1!$A:$I,9,0)","v":"82.00"},{"$f":"VLOOKUP(B3251,[2]少数民族加分!$C$1:$E$65536,3,FALSE)","v":2},{"v":163.5,"d":"163.50"}]
[3249,"4252270705421","付治钢","319独山县乡镇中学","07初中音乐教师",{"$f":"VLOOKUP(B3252,[1]Sheet1!$A:$I,8,0)","v":"80.50"},{"$f":"VLOOKUP(B3252,[1]Sheet1!$A:$I,9,0)","v":"81.50"},null,{"v":162,"d":"162.00"}]
[3251,"4252270704119","陈帅","319独山县乡镇中学","07初中音乐教师",{"$f":"VLOOKUP(B3253,[1]Sheet1!$A:$I,8,0)","v":"77.50"},{"$f":"VLOOKUP(B3253,[1]Sheet1!$A:$I,9,0)","v":"77.50"},{"$f":"VLOOKUP(B3253,[2]少数民族加分!$C$1:$E$65536,3,FALSE)","v":2},{"v":157,"d":"157.00"}]
[3252,"4252270701705","袁世珍","319独山县乡镇中学","07初中音乐教师",{"$f":"VLOOKUP(B3254,[1]Sheet1!$A:$I,8,0)","v":"79.00"},{"$f":"VLOOKUP(B3254,[1]Sheet1!$A:$I,9,0)","v":"75.00"},null,{"v":154,"d":"154.00"}]
[3254,"4252270702904","李付辉","319独山县乡镇中学","07初中音乐教师",{"$f":"VLOOKUP(B3255,[1]Sheet1!$A:$I,8,0)","v":"78.00"},{"$f":"VLOOKUP(B3255,[1]Sheet1!$A:$I,9,0)","v":"74.00"},{"$f":"VLOOKUP(B3255,[2]少数民族加分!$C$1:$E$65536,3,FALSE)","v":2},{"v":154,"d":"154.00"}]
[3255,"4252270703218","潘元巧","319独山县乡镇中学","07初中音乐教师",{"$f":"VLOOKUP(B3256,[1]Sheet1!$A:$I,8,0)","v":"77.00"},{"$f":"VLOOKUP(B3256,[1]Sheet1!$A:$I,9,0)","v":"75.00"},{"$f":"VLOOKUP(B3256,[2]少数民族加分!$C$1:$E$65536,3,FALSE)","v":2},{"v":154,"d":"154.00"}]
[3253,"4252270703308","李菊","319独山县乡镇中学","07初中音乐教师",{"$f":"VLOOKUP(B3257,[1]Sheet1!$A:$I,8,0)","v":"83.50"},{"$f":"VLOOKUP(B3257,[1]Sheet1!$A:$I,9,0)","v":"69.00"},null,{"v":152.5,"d":"152.50"}]
[3256,"4252270704303","罗零刚","319独山县乡镇中学","07初中音乐教师",{"$f":"VLOOKUP(B3258,[1]Sheet1!$A:$I,8,0)","v":"75.50"},{"$f":"VLOOKUP(B3258,[1]Sheet1!$A:$I,9,0)","v":"74.50"},{"$f":"VLOOKUP(B3258,[2]少数民族加分!$C$1:$E$65536,3,FALSE)","v":2},{"v":152,"d":"152.00"}]
[3257,"4252270704030","余会","319独山县乡镇中学","07初中音乐教师",{"$f":"VLOOKUP(B3259,[1]Sheet1!$A:$I,8,0)","v":"73.50"},{"$f":"VLOOKUP(B3259,[1]Sheet1!$A:$I,9,0)","v":"76.00"},{"$f":"VLOOKUP(B3259,[2]少数民族加分!$C$1:$E$65536,3,FALSE)","v":2},{"v":151.5,"d":"151.50"}]
[3258,"4252270703825","陈守兴","319独山县乡镇中学","07初中音乐教师",{"$f":"VLOOKUP(B3260,[1]Sheet1!$A:$I,8,0)","v":"68.00"},{"$f":"VLOOKUP(B3260,[1]Sheet1!$A:$I,9,0)","v":"80.00"},{"$f":"VLOOKUP(B3260,[2]少数民族加分!$C$1:$E$65536,3,FALSE)","v":2},{"v":150,"d":"150.00"}]
[3259,"4252270706719","刘福莲","319独山县乡镇中学","07初中音乐教师",{"$f":"VLOOKUP(B3261,[1]Sheet1!$A:$I,8,0)","v":"66.50"},{"$f":"VLOOKUP(B3261,[1]Sheet1!$A:$I,9,0)","v":"80.00"},null,{"v":146.5,"d":"146.50"}]
[3260,"4252270702907","余再琴","319独山县乡镇中学","07初中音乐教师",{"$f":"VLOOKUP(B3262,[1]Sheet1!$A:$I,8,0)","v":"77.00"},{"$f":"VLOOKUP(B3262,[1]Sheet1!$A:$I,9,0)","v":"69.00"},null,{"v":146,"d":"146.00"}]
[3261,"4252270704711","陈厚琴","319独山县乡镇中学","07初中音乐教师",{"$f":"VLOOKUP(B3263,[1]Sheet1!$A:$I,8,0)","v":"71.00"},{"$f":"VLOOKUP(B3263,[1]Sheet1!$A:$I,9,0)","v":"74.00"},null,{"v":145,"d":"145.00"}]
[3262,"4252270703908","韦元琼","319独山县乡镇中学","07初中音乐教师",{"$f":"VLOOKUP(B3264,[1]Sheet1!$A:$I,8,0)","v":"69.50"},{"$f":"VLOOKUP(B3264,[1]Sheet1!$A:$I,9,0)","v":"72.00"},{"$f":"VLOOKUP(B3264,[2]少数民族加分!$C$1:$E$65536,3,FALSE)","v":2},{"v":143.5,"d":"143.50"}]
[3263,"4252270705701","黄芳","319独山县乡镇中学","07初中音乐教师",{"$f":"VLOOKUP(B3265,[1]Sheet1!$A:$I,8,0)","v":"69.00"},{"$f":"VLOOKUP(B3265,[1]Sheet1!$A:$I,9,0)","v":"72.00"},{"$f":"VLOOKUP(B3265,[2]少数民族加分!$C$1:$E$65536,3,FALSE)","v":2},{"v":143,"d":"143.00"}]
[3264,"4252270702226","邓冬琼","319独山县乡镇中学","07初中音乐教师",{"$f":"VLOOKUP(B3266,[1]Sheet1!$A:$I,8,0)","v":"63.50"},{"$f":"VLOOKUP(B3266,[1]Sheet1!$A:$I,9,0)","v":"77.00"},{"$f":"VLOOKUP(B3266,[2]少数民族加分!$C$1:$E$65536,3,FALSE)","v":2},{"v":142.5,"d":"142.50"}]
[3265,"4252270705822","杨群","319独山县乡镇中学","07初中音乐教师",{"$f":"VLOOKUP(B3267,[1]Sheet1!$A:$I,8,0)","v":"69.50"},{"$f":"VLOOKUP(B3267,[1]Sheet1!$A:$I,9,0)","v":"69.00"},{"$f":"VLOOKUP(B3267,[2]少数民族加分!$C$1:$E$65536,3,FALSE)","v":2},{"v":140.5,"d":"140.50"}]
[3266,"4252270705809","陆盛禹","319独山县乡镇中学","07初中音乐教师",{"$f":"VLOOKUP(B3268,[1]Sheet1!$A:$I,8,0)","v":"63.00"},{"$f":"VLOOKUP(B3268,[1]Sheet1!$A:$I,9,0)","v":"74.00"},{"$f":"VLOOKUP(B3268,[2]少数民族加分!$C$1:$E$65536,3,FALSE)","v":2},{"v":139,"d":"139.00"}]
[3267,"4252270706015","杨光美","319独山县乡镇中学","07初中音乐教师",{"$f":"VLOOKUP(B3269,[1]Sheet1!$A:$I,8,0)","v":"57.50"},{"$f":"VLOOKUP(B3269,[1]Sheet1!$A:$I,9,0)","v":"79.00"},{"$f":"VLOOKUP(B3269,[2]少数民族加分!$C$1:$E$65536,3,FALSE)","v":2},{"v":138.5,"d":"138.50"}]
[3268,"4252270702117","李大贵","319独山县乡镇中学","07初中音乐教师",{"$f":"VLOOKUP(B3270,[1]Sheet1!$A:$I,8,0)","v":"49.00"},{"$f":"VLOOKUP(B3270,[1]Sheet1!$A:$I,9,0)","v":"84.00"},{"$f":"VLOOKUP(B3270,[2]少数民族加分!$C$1:$E$65536,3,FALSE)","v":2},{"v":135,"d":"135.00"}]
[3269,"4252270703129","杨雪","319独山县乡镇中学","07初中音乐教师",{"$f":"VLOOKUP(B3271,[1]Sheet1!$A:$I,8,0)","v":"70.00"},{"$f":"VLOOKUP(B3271,[1]Sheet1!$A:$I,9,0)","v":"63.00"},{"$f":"VLOOKUP(B3271,[2]少数民族加分!$C$1:$E$65536,3,FALSE)","v":2},{"v":135,"d":"135.00"}]
[3271,"4252270702016","梁平阳","319独山县乡镇中学","07初中音乐教师",{"$f":"VLOOKUP(B3272,[1]Sheet1!$A:$I,8,0)","v":"70.50"},{"$f":"VLOOKUP(B3272,[1]Sheet1!$A:$I,9,0)","v":"61.00"},{"$f":"VLOOKUP(B3272,[2]少数民族加分!$C$1:$E$65536,3,FALSE)","v":2},{"v":133.5,"d":"133.50"}]
[3270,"4252270703508","刘棋","319独山县乡镇中学","07初中音乐教师",{"$f":"VLOOKUP(B3273,[1]Sheet1!$A:$I,8,0)","v":"67.00"},{"$f":"VLOOKUP(B3273,[1]Sheet1!$A:$I,9,0)","v":"65.00"},null,{"v":132,"d":"132.00"}]
[3273,"4252270704308","曹丹","319独山县乡镇中学","07初中音乐教师",{"$f":"VLOOKUP(B3274,[1]Sheet1!$A:$I,8,0)","v":"65.00"},{"$f":"VLOOKUP(B3274,[1]Sheet1!$A:$I,9,0)","v":"63.00"},{"$f":"VLOOKUP(B3274,[2]少数民族加分!$C$1:$E$65536,3,FALSE)","v":2},{"v":130,"d":"130.00"}]
[3272,"4252270705915","熊忠应","319独山县乡镇中学","07初中音乐教师",{"$f":"VLOOKUP(B3275,[1]Sheet1!$A:$I,8,0)","v":"55.50"},{"$f":"VLOOKUP(B3275,[1]Sheet1!$A:$I,9,0)","v":"73.00"},null,{"v":128.5,"d":"128.50"}]
[3274,"4252270705325","岑诚","319独山县乡镇中学","07初中音乐教师",{"$f":"VLOOKUP(B3276,[1]Sheet1!$A:$I,8,0)","v":"0.00"},{"$f":"VLOOKUP(B3276,[1]Sheet1!$A:$I,9,0)","v":"0.00"},{"$f":"VLOOKUP(B3276,[2]少数民族加分!$C$1:$E$65536,3,FALSE)","v":2},"缺考"]
[3275,"4252270702101","白代洪","319独山县乡镇中学","07初中音乐教师",{"$f":"VLOOKUP(B3277,[1]Sheet1!$A:$I,8,0)","v":"0.00"},{"$f":"VLOOKUP(B3277,[1]Sheet1!$A:$I,9,0)","v":"0.00"},{"$f":"VLOOKUP(B3277,[2]少数民族加分!$C$1:$E$65536,3,FALSE)","v":2},"缺考"]
[3276,"4252270702417","王婷兴","319独山县乡镇中学","07初中音乐教师",{"$f":"VLOOKUP(B3278,[1]Sheet1!$A:$I,8,0)","v":"0.00"},{"$f":"VLOOKUP(B3278,[1]Sheet1!$A:$I,9,0)","v":"0.00"},{"$f":"VLOOKUP(B3278,[2]少数民族加分!$C$1:$E$65536,3,FALSE)","v":2},"缺考"]
[3277,"4252270702924","雷帮林","319独山县乡镇中学","07初中音乐教师",{"$f":"VLOOKUP(B3279,[1]Sheet1!$A:$I,8,0)","v":"0.00"},{"$f":"VLOOKUP(B3279,[1]Sheet1!$A:$I,9,0)","v":"0.00"},{"$f":"VLOOKUP(B3279,[2]少数民族加分!$C$1:$E$65536,3,FALSE)","v":2},"缺考"]
[3278,"4252270706502","金小燕","319独山县乡镇中学","07初中音乐教师",{"$f":"VLOOKUP(B3280,[1]Sheet1!$A:$I,8,0)","v":"0.00"},{"$f":"VLOOKUP(B3280,[1]Sheet1!$A:$I,9,0)","v":"0.00"},{"$f":"VLOOKUP(B3280,[2]少数民族加分!$C$1:$E$65536,3,FALSE)","v":2},"缺考"]
[3279,"4252270706618","王晓凤","319独山县乡镇中学","07初中音乐教师",{"$f":"VLOOKUP(B3281,[1]Sheet1!$A:$I,8,0)","v":"0.00"},{"$f":"VLOOKUP(B3281,[1]Sheet1!$A:$I,9,0)","v":"0.00"},{"$f":"VLOOKUP(B3281,[2]少数民族加分!$C$1:$E$65536,3,FALSE)","v":2},"缺考"]
[3280,"4252270706114","罗应琼","319独山县乡镇中学","08初中信息技术教师",{"$f":"VLOOKUP(B3282,[1]Sheet1!$A:$I,8,0)","v":"98.00"},{"$f":"VLOOKUP(B3282,[1]Sheet1!$A:$I,9,0)","v":"108.00"},{"$f":"VLOOKUP(B3282,[2]少数民族加分!$C$1:$E$65536,3,FALSE)","v":2},{"v":208,"d":"208.00"}]
[3281,"4252270702205","张诗婕","319独山县乡镇中学","08初中信息技术教师",{"$f":"VLOOKUP(B3283,[1]Sheet1!$A:$I,8,0)","v":"91.00"},{"$f":"VLOOKUP(B3283,[1]Sheet1!$A:$I,9,0)","v":"96.50"},{"$f":"VLOOKUP(B3283,[2]少数民族加分!$C$1:$E$65536,3,FALSE)","v":2},{"v":189.5,"d":"189.50"}]
[3283,"4252270704407","罗加银","319独山县乡镇中学","08初中信息技术教师",{"$f":"VLOOKUP(B3284,[1]Sheet1!$A:$I,8,0)","v":"77.00"},{"$f":"VLOOKUP(B3284,[1]Sheet1!$A:$I,9,0)","v":"101.00"},{"$f":"VLOOKUP(B3284,[2]少数民族加分!$C$1:$E$65536,3,FALSE)","v":2},{"v":180,"d":"180.00"}]
[3282,"4252270703505","葛俞成","319独山县乡镇中学","08初中信息技术教师",{"$f":"VLOOKUP(B3285,[1]Sheet1!$A:$I,8,0)","v":"91.50"},{"$f":"VLOOKUP(B3285,[1]Sheet1!$A:$I,9,0)","v":"88.00"},null,{"v":179.5,"d":"179.50"}]
[3284,"4252270703010","蒙俐如","319独山县乡镇中学","08初中信息技术教师",{"$f":"VLOOKUP(B3286,[1]Sheet1!$A:$I,8,0)","v":"84.00"},{"$f":"VLOOKUP(B3286,[1]Sheet1!$A:$I,9,0)","v":"91.50"},{"$f":"VLOOKUP(B3286,[2]少数民族加分!$C$1:$E$65536,3,FALSE)","v":2},{"v":177.5,"d":"177.50"}]
[3285,"4252270702113","张健华","319独山县乡镇中学","08初中信息技术教师",{"$f":"VLOOKUP(B3287,[1]Sheet1!$A:$I,8,0)","v":"76.50"},{"$f":"VLOOKUP(B3287,[1]Sheet1!$A:$I,9,0)","v":"97.00"},{"$f":"VLOOKUP(B3287,[2]少数民族加分!$C$1:$E$65536,3,FALSE)","v":2},{"v":175.5,"d":"175.50"}]
[3286,"4252270702014","申春梅","319独山县乡镇中学","08初中信息技术教师",{"$f":"VLOOKUP(B3288,[1]Sheet1!$A:$I,8,0)","v":"91.00"},{"$f":"VLOOKUP(B3288,[1]Sheet1!$A:$I,9,0)","v":"81.50"},null,{"v":172.5,"d":"172.50"}]
[3287,"4252270701327","田文凤","319独山县乡镇中学","08初中信息技术教师",{"$f":"VLOOKUP(B3289,[1]Sheet1!$A:$I,8,0)","v":"87.00"},{"$f":"VLOOKUP(B3289,[1]Sheet1!$A:$I,9,0)","v":"82.00"},{"$f":"VLOOKUP(B3289,[2]少数民族加分!$C$1:$E$65536,3,FALSE)","v":2},{"v":171,"d":"171.00"}]
[3288,"4252270704919","吴沙沙","319独山县乡镇中学","08初中信息技术教师",{"$f":"VLOOKUP(B3290,[1]Sheet1!$A:$I,8,0)","v":"86.00"},{"$f":"VLOOKUP(B3290,[1]Sheet1!$A:$I,9,0)","v":"83.00"},{"$f":"VLOOKUP(B3290,[2]少数民族加分!$C$1:$E$65536,3,FALSE)","v":2},{"v":171,"d":"171.00"}]
[3289,"4252270703612","蒙娜","319独山县乡镇中学","08初中信息技术教师",{"$f":"VLOOKUP(B3291,[1]Sheet1!$A:$I,8,0)","v":"79.50"},{"$f":"VLOOKUP(B3291,[1]Sheet1!$A:$I,9,0)","v":"89.00"},{"$f":"VLOOKUP(B3291,[2]少数民族加分!$C$1:$E$65536,3,FALSE)","v":2},{"v":170.5,"d":"170.50"}]
[3290,"4252270704501","石祥影","319独山县乡镇中学","08初中信息技术教师",{"$f":"VLOOKUP(B3292,[1]Sheet1!$A:$I,8,0)","v":"83.00"},{"$f":"VLOOKUP(B3292,[1]Sheet1!$A:$I,9,0)","v":"85.50"},{"$f":"VLOOKUP(B3292,[2]少数民族加分!$C$1:$E$65536,3,FALSE)","v":2},{"v":170.5,"d":"170.50"}]
[3292,"4252270703515","杨小燕","319独山县乡镇中学","08初中信息技术教师",{"$f":"VLOOKUP(B3293,[1]Sheet1!$A:$I,8,0)","v":"76.00"},{"$f":"VLOOKUP(B3293,[1]Sheet1!$A:$I,9,0)","v":"91.00"},{"$f":"VLOOKUP(B3293,[2]少数民族加分!$C$1:$E$65536,3,FALSE)","v":2},{"v":169,"d":"169.00"}]
[3291,"4252270702805","张代菊","319独山县乡镇中学","08初中信息技术教师",{"$f":"VLOOKUP(B3294,[1]Sheet1!$A:$I,8,0)","v":"91.50"},{"$f":"VLOOKUP(B3294,[1]Sheet1!$A:$I,9,0)","v":"76.50"},null,{"v":168,"d":"168.00"}]
[3293,"4252270704212","杨辉露","319独山县乡镇中学","08初中信息技术教师",{"$f":"VLOOKUP(B3295,[1]Sheet1!$A:$I,8,0)","v":"81.50"},{"$f":"VLOOKUP(B3295,[1]Sheet1!$A:$I,9,0)","v":"84.00"},{"$f":"VLOOKUP(B3295,[2]少数民族加分!$C$1:$E$65536,3,FALSE)","v":2},{"v":167.5,"d":"167.50"}]
[3294,"4252270706608","田莎莎","319独山县乡镇中学","08初中信息技术教师",{"$f":"VLOOKUP(B3296,[1]Sheet1!$A:$I,8,0)","v":"95.00"},{"$f":"VLOOKUP(B3296,[1]Sheet1!$A:$I,9,0)","v":"69.50"},{"$f":"VLOOKUP(B3296,[2]少数民族加分!$C$1:$E$65536,3,FALSE)","v":2},{"v":166.5,"d":"166.50"}]
[3295,"4252270703924","姚会丹","319独山县乡镇中学","08初中信息技术教师",{"$f":"VLOOKUP(B3297,[1]Sheet1!$A:$I,8,0)","v":"83.00"},{"$f":"VLOOKUP(B3297,[1]Sheet1!$A:$I,9,0)","v":"80.50"},{"$f":"VLOOKUP(B3297,[2]少数民族加分!$C$1:$E$65536,3,FALSE)","v":2},{"v":165.5,"d":"165.50"}]
[3296,"4252270705724","陆小谍","319独山县乡镇中学","08初中信息技术教师",{"$f":"VLOOKUP(B3298,[1]Sheet1!$A:$I,8,0)","v":"79.50"},{"$f":"VLOOKUP(B3298,[1]Sheet1!$A:$I,9,0)","v":"83.00"},{"$f":"VLOOKUP(B3298,[2]少数民族加分!$C$1:$E$65536,3,FALSE)","v":2},{"v":164.5,"d":"164.50"}]
[3297,"4252270705305","韦杰","319独山县乡镇中学","08初中信息技术教师",{"$f":"VLOOKUP(B3299,[1]Sheet1!$A:$I,8,0)","v":"69.50"},{"$f":"VLOOKUP(B3299,[1]Sheet1!$A:$I,9,0)","v":"92.00"},{"$f":"VLOOKUP(B3299,[2]少数民族加分!$C$1:$E$65536,3,FALSE)","v":2},{"v":163.5,"d":"163.50"}]
[3299,"4252270703513","杨雪薇","319独山县乡镇中学","08初中信息技术教师",{"$f":"VLOOKUP(B3300,[1]Sheet1!$A:$I,8,0)","v":"70.00"},{"$f":"VLOOKUP(B3300,[1]Sheet1!$A:$I,9,0)","v":"91.00"},{"$f":"VLOOKUP(B3300,[2]少数民族加分!$C$1:$E$65536,3,FALSE)","v":2},{"v":163,"d":"163.00"}]
[3300,"4252270705730","周艳","319独山县乡镇中学","08初中信息技术教师",{"$f":"VLOOKUP(B3301,[1]Sheet1!$A:$I,8,0)","v":"83.00"},{"$f":"VLOOKUP(B3301,[1]Sheet1!$A:$I,9,0)","v":"77.50"},{"$f":"VLOOKUP(B3301,[2]少数民族加分!$C$1:$E$65536,3,FALSE)","v":2},{"v":162.5,"d":"162.50"}]
[3301,"4252270703210","罗小芳","319独山县乡镇中学","08初中信息技术教师",{"$f":"VLOOKUP(B3302,[1]Sheet1!$A:$I,8,0)","v":"76.00"},{"$f":"VLOOKUP(B3302,[1]Sheet1!$A:$I,9,0)","v":"84.00"},{"$f":"VLOOKUP(B3302,[2]少数民族加分!$C$1:$E$65536,3,FALSE)","v":2},{"v":162,"d":"162.00"}]
[3298,"4252270706217","刘娟","319独山县乡镇中学","08初中信息技术教师",{"$f":"VLOOKUP(B3303,[1]Sheet1!$A:$I,8,0)","v":"79.50"},{"$f":"VLOOKUP(B3303,[1]Sheet1!$A:$I,9,0)","v":"82.00"},null,{"v":161.5,"d":"161.50"}]
[3302,"4252270705905","莫碧孟","319独山县乡镇中学","08初中信息技术教师",{"$f":"VLOOKUP(B3304,[1]Sheet1!$A:$I,8,0)","v":"90.00"},{"$f":"VLOOKUP(B3304,[1]Sheet1!$A:$I,9,0)","v":"69.50"},{"$f":"VLOOKUP(B3304,[2]少数民族加分!$C$1:$E$65536,3,FALSE)","v":2},{"v":161.5,"d":"161.50"}]
[3303,"4252270701625","吴明青","319独山县乡镇中学","08初中信息技术教师",{"$f":"VLOOKUP(B3305,[1]Sheet1!$A:$I,8,0)","v":"89.50"},{"$f":"VLOOKUP(B3305,[1]Sheet1!$A:$I,9,0)","v":"69.50"},{"$f":"VLOOKUP(B3305,[2]少数民族加分!$C$1:$E$65536,3,FALSE)","v":2},{"v":161,"d":"161.00"}]
[3305,"4252270705818","蒙泽娇","319独山县乡镇中学","08初中信息技术教师",{"$f":"VLOOKUP(B3306,[1]Sheet1!$A:$I,8,0)","v":"78.50"},{"$f":"VLOOKUP(B3306,[1]Sheet1!$A:$I,9,0)","v":"80.00"},{"$f":"VLOOKUP(B3306,[2]少数民族加分!$C$1:$E$65536,3,FALSE)","v":2},{"v":160.5,"d":"160.50"}]
[3307,"4252270703319","杨钧","319独山县乡镇中学","08初中信息技术教师",{"$f":"VLOOKUP(B3307,[1]Sheet1!$A:$I,8,0)","v":"81.00"},{"$f":"VLOOKUP(B3307,[1]Sheet1!$A:$I,9,0)","v":"76.00"},{"$f":"VLOOKUP(B3307,[2]少数民族加分!$C$1:$E$65536,3,FALSE)","v":2},{"v":159,"d":"159.00"}]
[3304,"4252270705220","黄珊","319独山县乡镇中学","08初中信息技术教师",{"$f":"VLOOKUP(B3308,[1]Sheet1!$A:$I,8,0)","v":"90.00"},{"$f":"VLOOKUP(B3308,[1]Sheet1!$A:$I,9,0)","v":"68.50"},null,{"v":158.5,"d":"158.50"}]
[3308,"4252270704815","周章乐","319独山县乡镇中学","08初中信息技术教师",{"$f":"VLOOKUP(B3309,[1]Sheet1!$A:$I,8,0)","v":"86.50"},{"$f":"VLOOKUP(B3309,[1]Sheet1!$A:$I,9,0)","v":"70.00"},{"$f":"VLOOKUP(B3309,[2]少数民族加分!$C$1:$E$65536,3,FALSE)","v":2},{"v":158.5,"d":"158.50"}]
[3306,"4252270704029","吕世梅","319独山县乡镇中学","08初中信息技术教师",{"$f":"VLOOKUP(B3310,[1]Sheet1!$A:$I,8,0)","v":"78.00"},{"$f":"VLOOKUP(B3310,[1]Sheet1!$A:$I,9,0)","v":"80.00"},null,{"v":158,"d":"158.00"}]
[3309,"4252270704512","杨凤","319独山县乡镇中学","08初中信息技术教师",{"$f":"VLOOKUP(B3311,[1]Sheet1!$A:$I,8,0)","v":"78.00"},{"$f":"VLOOKUP(B3311,[1]Sheet1!$A:$I,9,0)","v":"78.00"},{"$f":"VLOOKUP(B3311,[2]少数民族加分!$C$1:$E$65536,3,FALSE)","v":2},{"v":158,"d":"158.00"}]
[3310,"4252270705103","王冰艳","319独山县乡镇中学","08初中信息技术教师",{"$f":"VLOOKUP(B3312,[1]Sheet1!$A:$I,8,0)","v":"93.00"},{"$f":"VLOOKUP(B3312,[1]Sheet1!$A:$I,9,0)","v":"62.50"},null,{"v":155.5,"d":"155.50"}]
[3311,"4252270705501","黎成慧","319独山县乡镇中学","08初中信息技术教师",{"$f":"VLOOKUP(B3313,[1]Sheet1!$A:$I,8,0)","v":"79.00"},{"$f":"VLOOKUP(B3313,[1]Sheet1!$A:$I,9,0)","v":"70.00"},{"$f":"VLOOKUP(B3313,[2]少数民族加分!$C$1:$E$65536,3,FALSE)","v":2},{"v":151,"d":"151.00"}]
[3312,"4252270704016","姜继云","319独山县乡镇中学","08初中信息技术教师",{"$f":"VLOOKUP(B3314,[1]Sheet1!$A:$I,8,0)","v":"68.00"},{"$f":"VLOOKUP(B3314,[1]Sheet1!$A:$I,9,0)","v":"78.00"},{"$f":"VLOOKUP(B3314,[2]少数民族加分!$C$1:$E$65536,3,FALSE)","v":2},{"v":148,"d":"148.00"}]
[3313,"4252270706707","吴伯丽","319独山县乡镇中学","08初中信息技术教师",{"$f":"VLOOKUP(B3315,[1]Sheet1!$A:$I,8,0)","v":"81.00"},{"$f":"VLOOKUP(B3315,[1]Sheet1!$A:$I,9,0)","v":"65.00"},{"$f":"VLOOKUP(B3315,[2]少数民族加分!$C$1:$E$65536,3,FALSE)","v":2},{"v":148,"d":"148.00"}]
[3314,"4252270701904","吴航宇","319独山县乡镇中学","08初中信息技术教师",{"$f":"VLOOKUP(B3316,[1]Sheet1!$A:$I,8,0)","v":"84.00"},{"$f":"VLOOKUP(B3316,[1]Sheet1!$A:$I,9,0)","v":"61.50"},{"$f":"VLOOKUP(B3316,[2]少数民族加分!$C$1:$E$65536,3,FALSE)","v":2},{"v":147.5,"d":"147.50"}]
[3315,"4252270701723","周静","319独山县乡镇中学","08初中信息技术教师",{"$f":"VLOOKUP(B3317,[1]Sheet1!$A:$I,8,0)","v":"77.50"},{"$f":"VLOOKUP(B3317,[1]Sheet1!$A:$I,9,0)","v":"63.00"},{"$f":"VLOOKUP(B3317,[2]少数民族加分!$C$1:$E$65536,3,FALSE)","v":2},{"v":142.5,"d":"142.50"}]
[3316,"4252270704412","陈蓉","319独山县乡镇中学","08初中信息技术教师",{"$f":"VLOOKUP(B3318,[1]Sheet1!$A:$I,8,0)","v":"76.50"},{"$f":"VLOOKUP(B3318,[1]Sheet1!$A:$I,9,0)","v":"64.00"},{"$f":"VLOOKUP(B3318,[2]少数民族加分!$C$1:$E$65536,3,FALSE)","v":2},{"v":142.5,"d":"142.50"}]
[3317,"4252270705906","莫建雨","319独山县乡镇中学","08初中信息技术教师",{"$f":"VLOOKUP(B3319,[1]Sheet1!$A:$I,8,0)","v":"65.50"},{"$f":"VLOOKUP(B3319,[1]Sheet1!$A:$I,9,0)","v":"74.00"},{"$f":"VLOOKUP(B3319,[2]少数民族加分!$C$1:$E$65536,3,FALSE)","v":2},{"v":141.5,"d":"141.50"}]
[3318,"4252270705212","秦祖兴","319独山县乡镇中学","08初中信息技术教师",{"$f":"VLOOKUP(B3320,[1]Sheet1!$A:$I,8,0)","v":"75.50"},{"$f":"VLOOKUP(B3320,[1]Sheet1!$A:$I,9,0)","v":"62.00"},null,{"v":137.5,"d":"137.50"}]
[3319,"4252270706715","赵智","319独山县乡镇中学","08初中信息技术教师",{"$f":"VLOOKUP(B3321,[1]Sheet1!$A:$I,8,0)","v":"63.00"},{"$f":"VLOOKUP(B3321,[1]Sheet1!$A:$I,9,0)","v":"73.00"},null,{"v":136,"d":"136.00"}]
[3320,"4252270705723","胡光霞","319独山县乡镇中学","08初中信息技术教师",{"$f":"VLOOKUP(B3322,[1]Sheet1!$A:$I,8,0)","v":"62.00"},{"$f":"VLOOKUP(B3322,[1]Sheet1!$A:$I,9,0)","v":"72.00"},{"$f":"VLOOKUP(B3322,[2]少数民族加分!$C$1:$E$65536,3,FALSE)","v":2},{"v":136,"d":"136.00"}]
[3321,"4252270704121","李寿云","319独山县乡镇中学","08初中信息技术教师",{"$f":"VLOOKUP(B3323,[1]Sheet1!$A:$I,8,0)","v":"59.00"},{"$f":"VLOOKUP(B3323,[1]Sheet1!$A:$I,9,0)","v":"67.00"},{"$f":"VLOOKUP(B3323,[2]少数民族加分!$C$1:$E$65536,3,FALSE)","v":2},{"v":128,"d":"128.00"}]
[3322,"4252270701519","吴瑕","319独山县乡镇中学","08初中信息技术教师",{"$f":"VLOOKUP(B3324,[1]Sheet1!$A:$I,8,0)","v":"57.00"},{"$f":"VLOOKUP(B3324,[1]Sheet1!$A:$I,9,0)","v":"68.00"},{"$f":"VLOOKUP(B3324,[2]少数民族加分!$C$1:$E$65536,3,FALSE)","v":2},{"v":127,"d":"127.00"}]
[3323,"4252270704807","姚从院","319独山县乡镇中学","08初中信息技术教师",{"$f":"VLOOKUP(B3325,[1]Sheet1!$A:$I,8,0)","v":"59.50"},{"$f":"VLOOKUP(B3325,[1]Sheet1!$A:$I,9,0)","v":"61.00"},{"$f":"VLOOKUP(B3325,[2]少数民族加分!$C$1:$E$65536,3,FALSE)","v":2},{"v":122.5,"d":"122.50"}]
[3324,"4252270704527","石国兵","319独山县乡镇中学","08初中信息技术教师",{"$f":"VLOOKUP(B3326,[1]Sheet1!$A:$I,8,0)","v":"0.00"},{"$f":"VLOOKUP(B3326,[1]Sheet1!$A:$I,9,0)","v":"0.00"},{"$f":"VLOOKUP(B3326,[2]少数民族加分!$C$1:$E$65536,3,FALSE)","v":2},"缺考"]
[3325,"4252270705327","樊廷娟","319独山县乡镇中学","08初中信息技术教师",{"$f":"VLOOKUP(B3327,[1]Sheet1!$A:$I,8,0)","v":"0.00"},{"$f":"VLOOKUP(B3327,[1]Sheet1!$A:$I,9,0)","v":"0.00"},{"$f":"VLOOKUP(B3327,[2]少数民族加分!$C$1:$E$65536,3,FALSE)","v":2},"缺考"]
[3326,"4252270705630","朱亮","319独山县乡镇中学","08初中信息技术教师",{"$f":"VLOOKUP(B3328,[1]Sheet1!$A:$I,8,0)","v":"0.00"},{"$f":"VLOOKUP(B3328,[1]Sheet1!$A:$I,9,0)","v":"0.00"},null,"缺考"]
[3327,"4252270701630","戴曜鲜","319独山县乡镇中学","08初中信息技术教师",{"$f":"VLOOKUP(B3329,[1]Sheet1!$A:$I,8,0)","v":"0.00"},{"$f":"VLOOKUP(B3329,[1]Sheet1!$A:$I,9,0)","v":"0.00"},{"$f":"VLOOKUP(B3329,[2]少数民族加分!$C$1:$E$65536,3,FALSE)","v":2},"缺考"]
[3328,"4252270702626","蒋娅红","319独山县乡镇中学","08初中信息技术教师",{"$f":"VLOOKUP(B3330,[1]Sheet1!$A:$I,8,0)","v":"0.00"},{"$f":"VLOOKUP(B3330,[1]Sheet1!$A:$I,9,0)","v":"0.00"},null,"缺考"]
[3329,"4152270603728","申开梅","320独山县乡镇小学","01小学语文教师",{"$f":"VLOOKUP(B3331,[1]Sheet1!$A:$I,8,0)","v":"103.00"},{"$f":"VLOOKUP(B3331,[1]Sheet1!$A:$I,9,0)","v":"92.50"},null,{"v":195.5,"d":"195.50"}]
[3330,"4152270605206","孟秀娜","320独山县乡镇小学","01小学语文教师",{"$f":"VLOOKUP(B3332,[1]Sheet1!$A:$I,8,0)","v":"94.00"},{"$f":"VLOOKUP(B3332,[1]Sheet1!$A:$I,9,0)","v":"97.00"},{"$f":"VLOOKUP(B3332,[2]少数民族加分!$C$1:$E$65536,3,FALSE)","v":2},{"v":193,"d":"193.00"}]
[3331,"4152270700429","蔡欢","320独山县乡镇小学","01小学语文教师",{"$f":"VLOOKUP(B3333,[1]Sheet1!$A:$I,8,0)","v":"93.00"},{"$f":"VLOOKUP(B3333,[1]Sheet1!$A:$I,9,0)","v":"96.50"},{"$f":"VLOOKUP(B3333,[2]少数民族加分!$C$1:$E$65536,3,FALSE)","v":2},{"v":191.5,"d":"191.50"}]
[3332,"4152270604811","龙秀英","320独山县乡镇小学","01小学语文教师",{"$f":"VLOOKUP(B3334,[1]Sheet1!$A:$I,8,0)","v":"80.50"},{"$f":"VLOOKUP(B3334,[1]Sheet1!$A:$I,9,0)","v":"104.00"},{"$f":"VLOOKUP(B3334,[2]少数民族加分!$C$1:$E$65536,3,FALSE)","v":2},{"v":186.5,"d":"186.50"}]
[3334,"4152270605326","吴兴梅","320独山县乡镇小学","01小学语文教师",{"$f":"VLOOKUP(B3335,[1]Sheet1!$A:$I,8,0)","v":"92.00"},{"$f":"VLOOKUP(B3335,[1]Sheet1!$A:$I,9,0)","v":"89.00"},{"$f":"VLOOKUP(B3335,[2]少数民族加分!$C$1:$E$65536,3,FALSE)","v":2},{"v":183,"d":"183.00"}]
[3335,"4152270604229","吴霞","320独山县乡镇小学","01小学语文教师",{"$f":"VLOOKUP(B3336,[1]Sheet1!$A:$I,8,0)","v":"97.00"},{"$f":"VLOOKUP(B3336,[1]Sheet1!$A:$I,9,0)","v":"83.50"},{"$f":"VLOOKUP(B3336,[2]少数民族加分!$C$1:$E$65536,3,FALSE)","v":2},{"v":182.5,"d":"182.50"}]
[3333,"4152270604420","王志利","320独山县乡镇小学","01小学语文教师",{"$f":"VLOOKUP(B3337,[1]Sheet1!$A:$I,8,0)","v":"83.00"},{"$f":"VLOOKUP(B3337,[1]Sheet1!$A:$I,9,0)","v":"99.00"},null,{"v":182,"d":"182.00"}]
[3336,"4152270604803","潘小花","320独山县乡镇小学","01小学语文教师",{"$f":"VLOOKUP(B3338,[1]Sheet1!$A:$I,8,0)","v":"103.50"},{"$f":"VLOOKUP(B3338,[1]Sheet1!$A:$I,9,0)","v":"76.00"},{"$f":"VLOOKUP(B3338,[2]少数民族加分!$C$1:$E$65536,3,FALSE)","v":2},{"v":181.5,"d":"181.50"}]
[3338,"4152270602809","陆秋曼","320独山县乡镇小学","01小学语文教师",{"$f":"VLOOKUP(B3339,[1]Sheet1!$A:$I,8,0)","v":"88.50"},{"$f":"VLOOKUP(B3339,[1]Sheet1!$A:$I,9,0)","v":"87.50"},{"$f":"VLOOKUP(B3339,[2]少数民族加分!$C$1:$E$65536,3,FALSE)","v":2},{"v":178,"d":"178.00"}]
[3337,"4152270603516","左雪露","320独山县乡镇小学","01小学语文教师",{"$f":"VLOOKUP(B3340,[1]Sheet1!$A:$I,8,0)","v":"82.50"},{"$f":"VLOOKUP(B3340,[1]Sheet1!$A:$I,9,0)","v":"95.00"},null,{"v":177.5,"d":"177.50"}]
[3340,"4152270604903","王池茹","320独山县乡镇小学","01小学语文教师",{"$f":"VLOOKUP(B3341,[1]Sheet1!$A:$I,8,0)","v":"102.50"},{"$f":"VLOOKUP(B3341,[1]Sheet1!$A:$I,9,0)","v":"73.00"},{"$f":"VLOOKUP(B3341,[2]少数民族加分!$C$1:$E$65536,3,FALSE)","v":2},{"v":177.5,"d":"177.50"}]
[3341,"4152270700226","王水翻","320独山县乡镇小学","01小学语文教师",{"$f":"VLOOKUP(B3342,[1]Sheet1!$A:$I,8,0)","v":"74.50"},{"$f":"VLOOKUP(B3342,[1]Sheet1!$A:$I,9,0)","v":"101.00"},{"$f":"VLOOKUP(B3342,[2]少数民族加分!$C$1:$E$65536,3,FALSE)","v":2},{"v":177.5,"d":"177.50"}]
[3339,"4152270605106","李思瑾","320独山县乡镇小学","01小学语文教师",{"$f":"VLOOKUP(B3343,[1]Sheet1!$A:$I,8,0)","v":"97.00"},{"$f":"VLOOKUP(B3343,[1]Sheet1!$A:$I,9,0)","v":"79.00"},null,{"v":176,"d":"176.00"}]
[3342,"4152270604306","胡熙","320独山县乡镇小学","01小学语文教师",{"$f":"VLOOKUP(B3344,[1]Sheet1!$A:$I,8,0)","v":"91.50"},{"$f":"VLOOKUP(B3344,[1]Sheet1!$A:$I,9,0)","v":"83.00"},null,{"v":174.5,"d":"174.50"}]
[3343,"4152270604020","李虹","320独山县乡镇小学","01小学语文教师",{"$f":"VLOOKUP(B3345,[1]Sheet1!$A:$I,8,0)","v":"90.00"},{"$f":"VLOOKUP(B3345,[1]Sheet1!$A:$I,9,0)","v":"84.00"},null,{"v":174,"d":"174.00"}]
[3344,"4152270700319","王飘","320独山县乡镇小学","01小学语文教师",{"$f":"VLOOKUP(B3346,[1]Sheet1!$A:$I,8,0)","v":"87.50"},{"$f":"VLOOKUP(B3346,[1]Sheet1!$A:$I,9,0)","v":"81.50"},{"$f":"VLOOKUP(B3346,[2]少数民族加分!$C$1:$E$65536,3,FALSE)","v":2},{"v":171,"d":"171.00"}]
[3346,"4152270604316","王加丽","320独山县乡镇小学","01小学语文教师",{"$f":"VLOOKUP(B3347,[1]Sheet1!$A:$I,8,0)","v":"83.00"},{"$f":"VLOOKUP(B3347,[1]Sheet1!$A:$I,9,0)","v":"83.50"},{"$f":"VLOOKUP(B3347,[2]少数民族加分!$C$1:$E$65536,3,FALSE)","v":2},{"v":168.5,"d":"168.50"}]
[3348,"4152270700506","潘锦燕","320独山县乡镇小学","01小学语文教师",{"$f":"VLOOKUP(B3348,[1]Sheet1!$A:$I,8,0)","v":"82.50"},{"$f":"VLOOKUP(B3348,[1]Sheet1!$A:$I,9,0)","v":"83.00"},{"$f":"VLOOKUP(B3348,[2]少数民族加分!$C$1:$E$65536,3,FALSE)","v":2},{"v":167.5,"d":"167.50"}]
[3345,"4152270605615","吴玉琴","320独山县乡镇小学","01小学语文教师",{"$f":"VLOOKUP(B3349,[1]Sheet1!$A:$I,8,0)","v":"81.00"},{"$f":"VLOOKUP(B3349,[1]Sheet1!$A:$I,9,0)","v":"86.00"},null,{"v":167,"d":"167.00"}]
[3347,"4152270605226","李洁","320独山县乡镇小学","01小学语文教师",{"$f":"VLOOKUP(B3350,[1]Sheet1!$A:$I,8,0)","v":"78.50"},{"$f":"VLOOKUP(B3350,[1]Sheet1!$A:$I,9,0)","v":"87.00"},null,{"v":165.5,"d":"165.50"}]
[3350,"4152270700224","王小渊","320独山县乡镇小学","01小学语文教师",{"$f":"VLOOKUP(B3351,[1]Sheet1!$A:$I,8,0)","v":"87.00"},{"$f":"VLOOKUP(B3351,[1]Sheet1!$A:$I,9,0)","v":"76.00"},{"$f":"VLOOKUP(B3351,[2]少数民族加分!$C$1:$E$65536,3,FALSE)","v":2},{"v":165,"d":"165.00"}]
[3349,"4152270701005","杨海建","320独山县乡镇小学","01小学语文教师",{"$f":"VLOOKUP(B3352,[1]Sheet1!$A:$I,8,0)","v":"101.50"},{"$f":"VLOOKUP(B3352,[1]Sheet1!$A:$I,9,0)","v":"63.00"},null,{"v":164.5,"d":"164.50"}]
[3351,"4152270605415","杨秀妮","320独山县乡镇小学","01小学语文教师",{"$f":"VLOOKUP(B3353,[1]Sheet1!$A:$I,8,0)","v":"85.50"},{"$f":"VLOOKUP(B3353,[1]Sheet1!$A:$I,9,0)","v":"77.00"},{"$f":"VLOOKUP(B3353,[2]少数民族加分!$C$1:$E$65536,3,FALSE)","v":2},{"v":164.5,"d":"164.50"}]
[3352,"4152270700204","莫泽燕","320独山县乡镇小学","01小学语文教师",{"$f":"VLOOKUP(B3354,[1]Sheet1!$A:$I,8,0)","v":"82.00"},{"$f":"VLOOKUP(B3354,[1]Sheet1!$A:$I,9,0)","v":"80.50"},null,{"v":162.5,"d":"162.50"}]
[3354,"4152270602802","潘启胜","320独山县乡镇小学","01小学语文教师",{"$f":"VLOOKUP(B3355,[1]Sheet1!$A:$I,8,0)","v":"93.50"},{"$f":"VLOOKUP(B3355,[1]Sheet1!$A:$I,9,0)","v":"66.50"},{"$f":"VLOOKUP(B3355,[2]少数民族加分!$C$1:$E$65536,3,FALSE)","v":2},{"v":162,"d":"162.00"}]
[3355,"4152270604322","索莎莎","320独山县乡镇小学","01小学语文教师",{"$f":"VLOOKUP(B3356,[1]Sheet1!$A:$I,8,0)","v":"88.50"},{"$f":"VLOOKUP(B3356,[1]Sheet1!$A:$I,9,0)","v":"71.50"},{"$f":"VLOOKUP(B3356,[2]少数民族加分!$C$1:$E$65536,3,FALSE)","v":2},{"v":162,"d":"162.00"}]
[3358,"4152270604705","李丹","320独山县乡镇小学","01小学语文教师",{"$f":"VLOOKUP(B3357,[1]Sheet1!$A:$I,8,0)","v":"66.50"},{"$f":"VLOOKUP(B3357,[1]Sheet1!$A:$I,9,0)","v":"92.00"},{"$f":"VLOOKUP(B3357,[2]少数民族加分!$C$1:$E$65536,3,FALSE)","v":2},{"v":160.5,"d":"160.50"}]
[3353,"4152270602616","林宜东","320独山县乡镇小学","01小学语文教师",{"$f":"VLOOKUP(B3358,[1]Sheet1!$A:$I,8,0)","v":"92.50"},{"$f":"VLOOKUP(B3358,[1]Sheet1!$A:$I,9,0)","v":"67.50"},null,{"v":160,"d":"160.00"}]
[3359,"4152270700208","盘升晴","320独山县乡镇小学","01小学语文教师",{"$f":"VLOOKUP(B3359,[1]Sheet1!$A:$I,8,0)","v":"98.00"},{"$f":"VLOOKUP(B3359,[1]Sheet1!$A:$I,9,0)","v":"60.00"},{"$f":"VLOOKUP(B3359,[2]少数民族加分!$C$1:$E$65536,3,FALSE)","v":2},{"v":160,"d":"160.00"}]
[3356,"4152270603619","邓萍","320独山县乡镇小学","01小学语文教师",{"$f":"VLOOKUP(B3360,[1]Sheet1!$A:$I,8,0)","v":"82.50"},{"$f":"VLOOKUP(B3360,[1]Sheet1!$A:$I,9,0)","v":"76.50"},null,{"v":159,"d":"159.00"}]
[3357,"4152270603630","胡成月","320独山县乡镇小学","01小学语文教师",{"$f":"VLOOKUP(B3361,[1]Sheet1!$A:$I,8,0)","v":"81.00"},{"$f":"VLOOKUP(B3361,[1]Sheet1!$A:$I,9,0)","v":"78.00"},null,{"v":159,"d":"159.00"}]
[3360,"4152270700216","陈文茹","320独山县乡镇小学","01小学语文教师",{"$f":"VLOOKUP(B3362,[1]Sheet1!$A:$I,8,0)","v":"85.50"},{"$f":"VLOOKUP(B3362,[1]Sheet1!$A:$I,9,0)","v":"71.50"},{"$f":"VLOOKUP(B3362,[2]少数民族加分!$C$1:$E$65536,3,FALSE)","v":2},{"v":159,"d":"159.00"}]
[3361,"4152270700606","刘优","320独山县乡镇小学","01小学语文教师",{"$f":"VLOOKUP(B3363,[1]Sheet1!$A:$I,8,0)","v":"88.00"},{"$f":"VLOOKUP(B3363,[1]Sheet1!$A:$I,9,0)","v":"68.50"},{"$f":"VLOOKUP(B3363,[2]少数民族加分!$C$1:$E$65536,3,FALSE)","v":2},{"v":158.5,"d":"158.50"}]
[3362,"4152270604028","刘康来","320独山县乡镇小学","01小学语文教师",{"$f":"VLOOKUP(B3364,[1]Sheet1!$A:$I,8,0)","v":"80.00"},{"$f":"VLOOKUP(B3364,[1]Sheet1!$A:$I,9,0)","v":"75.00"},{"$f":"VLOOKUP(B3364,[2]少数民族加分!$C$1:$E$65536,3,FALSE)","v":2},{"v":157,"d":"157.00"}]
[3364,"4152270603909","杨秀梅","320独山县乡镇小学","01小学语文教师",{"$f":"VLOOKUP(B3365,[1]Sheet1!$A:$I,8,0)","v":"75.00"},{"$f":"VLOOKUP(B3365,[1]Sheet1!$A:$I,9,0)","v":"79.00"},{"$f":"VLOOKUP(B3365,[2]少数民族加分!$C$1:$E$65536,3,FALSE)","v":2},{"v":156,"d":"156.00"}]
[3365,"4152270604329","黄骏娜","320独山县乡镇小学","01小学语文教师",{"$f":"VLOOKUP(B3366,[1]Sheet1!$A:$I,8,0)","v":"77.00"},{"$f":"VLOOKUP(B3366,[1]Sheet1!$A:$I,9,0)","v":"77.00"},{"$f":"VLOOKUP(B3366,[2]少数民族加分!$C$1:$E$65536,3,FALSE)","v":2},{"v":156,"d":"156.00"}]
[3366,"4152270604409","杨德琴","320独山县乡镇小学","01小学语文教师",{"$f":"VLOOKUP(B3367,[1]Sheet1!$A:$I,8,0)","v":"84.50"},{"$f":"VLOOKUP(B3367,[1]Sheet1!$A:$I,9,0)","v":"69.50"},{"$f":"VLOOKUP(B3367,[2]少数民族加分!$C$1:$E$65536,3,FALSE)","v":2},{"v":156,"d":"156.00"}]
[3363,"4152270602828","卢建敏","320独山县乡镇小学","01小学语文教师",{"$f":"VLOOKUP(B3368,[1]Sheet1!$A:$I,8,0)","v":"96.00"},{"$f":"VLOOKUP(B3368,[1]Sheet1!$A:$I,9,0)","v":"58.50"},null,{"v":154.5,"d":"154.50"}]
[3368,"4152270604725","周顺兰","320独山县乡镇小学","01小学语文教师",{"$f":"VLOOKUP(B3369,[1]Sheet1!$A:$I,8,0)","v":"85.50"},{"$f":"VLOOKUP(B3369,[1]Sheet1!$A:$I,9,0)","v":"67.00"},{"$f":"VLOOKUP(B3369,[2]少数民族加分!$C$1:$E$65536,3,FALSE)","v":2},{"v":154.5,"d":"154.50"}]
[3367,"4152270605607","赵胜","320独山县乡镇小学","01小学语文教师",{"$f":"VLOOKUP(B3370,[1]Sheet1!$A:$I,8,0)","v":"79.00"},{"$f":"VLOOKUP(B3370,[1]Sheet1!$A:$I,9,0)","v":"75.00"},null,{"v":154,"d":"154.00"}]
[3371,"4152270603215","罗明芳","320独山县乡镇小学","01小学语文教师",{"$f":"VLOOKUP(B3371,[1]Sheet1!$A:$I,8,0)","v":"72.50"},{"$f":"VLOOKUP(B3371,[1]Sheet1!$A:$I,9,0)","v":"79.00"},{"$f":"VLOOKUP(B3371,[2]少数民族加分!$C$1:$E$65536,3,FALSE)","v":2},{"v":153.5,"d":"153.50"}]
[3372,"4152270700505","谢远江","320独山县乡镇小学","01小学语文教师",{"$f":"VLOOKUP(B3372,[1]Sheet1!$A:$I,8,0)","v":"70.00"},{"$f":"VLOOKUP(B3372,[1]Sheet1!$A:$I,9,0)","v":"81.00"},{"$f":"VLOOKUP(B3372,[2]少数民族加分!$C$1:$E$65536,3,FALSE)","v":2},{"v":153,"d":"153.00"}]
[3369,"4152270604617","王定江","320独山县乡镇小学","01小学语文教师",{"$f":"VLOOKUP(B3373,[1]Sheet1!$A:$I,8,0)","v":"77.00"},{"$f":"VLOOKUP(B3373,[1]Sheet1!$A:$I,9,0)","v":"75.00"},null,{"v":152,"d":"152.00"}]
[3370,"4152270605020","严科举","320独山县乡镇小学","01小学语文教师",{"$f":"VLOOKUP(B3374,[1]Sheet1!$A:$I,8,0)","v":"75.00"},{"$f":"VLOOKUP(B3374,[1]Sheet1!$A:$I,9,0)","v":"77.00"},null,{"v":152,"d":"152.00"}]
[3373,"4152270605519","文铁","320独山县乡镇小学","01小学语文教师",{"$f":"VLOOKUP(B3375,[1]Sheet1!$A:$I,8,0)","v":"76.00"},{"$f":"VLOOKUP(B3375,[1]Sheet1!$A:$I,9,0)","v":"73.00"},{"$f":"VLOOKUP(B3375,[2]少数民族加分!$C$1:$E$65536,3,FALSE)","v":2},{"v":151,"d":"151.00"}]
[3375,"4152270604118","杨文珊","320独山县乡镇小学","01小学语文教师",{"$f":"VLOOKUP(B3376,[1]Sheet1!$A:$I,8,0)","v":"73.50"},{"$f":"VLOOKUP(B3376,[1]Sheet1!$A:$I,9,0)","v":"74.00"},{"$f":"VLOOKUP(B3376,[2]少数民族加分!$C$1:$E$65536,3,FALSE)","v":2},{"v":149.5,"d":"149.50"}]
[3374,"4152270602715","王发慧","320独山县乡镇小学","01小学语文教师",{"$f":"VLOOKUP(B3377,[1]Sheet1!$A:$I,8,0)","v":"84.50"},{"$f":"VLOOKUP(B3377,[1]Sheet1!$A:$I,9,0)","v":"64.00"},null,{"v":148.5,"d":"148.50"}]
[3377,"4152270604015","杨龙","320独山县乡镇小学","01小学语文教师",{"$f":"VLOOKUP(B3378,[1]Sheet1!$A:$I,8,0)","v":"79.00"},{"$f":"VLOOKUP(B3378,[1]Sheet1!$A:$I,9,0)","v":"67.00"},{"$f":"VLOOKUP(B3378,[2]少数民族加分!$C$1:$E$65536,3,FALSE)","v":2},{"v":148,"d":"148.00"}]
[3378,"4152270701122","罗发跃","320独山县乡镇小学","01小学语文教师",{"$f":"VLOOKUP(B3379,[1]Sheet1!$A:$I,8,0)","v":"82.50"},{"$f":"VLOOKUP(B3379,[1]Sheet1!$A:$I,9,0)","v":"63.00"},{"$f":"VLOOKUP(B3379,[2]少数民族加分!$C$1:$E$65536,3,FALSE)","v":2},{"v":147.5,"d":"147.50"}]
[3379,"4152270700326","王宏英","320独山县乡镇小学","01小学语文教师",{"$f":"VLOOKUP(B3380,[1]Sheet1!$A:$I,8,0)","v":"82.50"},{"$f":"VLOOKUP(B3380,[1]Sheet1!$A:$I,9,0)","v":"62.50"},{"$f":"VLOOKUP(B3380,[2]少数民族加分!$C$1:$E$65536,3,FALSE)","v":2},{"v":147,"d":"147.00"}]
[3380,"4152270604522","吴丽明","320独山县乡镇小学","01小学语文教师",{"$f":"VLOOKUP(B3381,[1]Sheet1!$A:$I,8,0)","v":"87.00"},{"$f":"VLOOKUP(B3381,[1]Sheet1!$A:$I,9,0)","v":"58.00"},{"$f":"VLOOKUP(B3381,[2]少数民族加分!$C$1:$E$65536,3,FALSE)","v":2},{"v":147,"d":"147.00"}]
[3376,"4152270604124","牟彬彬","320独山县乡镇小学","01小学语文教师",{"$f":"VLOOKUP(B3382,[1]Sheet1!$A:$I,8,0)","v":"67.50"},{"$f":"VLOOKUP(B3382,[1]Sheet1!$A:$I,9,0)","v":"79.00"},null,{"v":146.5,"d":"146.50"}]
[3381,"4152270701126","林燕","320独山县乡镇小学","01小学语文教师",{"$f":"VLOOKUP(B3383,[1]Sheet1!$A:$I,8,0)","v":"79.50"},{"$f":"VLOOKUP(B3383,[1]Sheet1!$A:$I,9,0)","v":"65.00"},{"$f":"VLOOKUP(B3383,[2]少数民族加分!$C$1:$E$65536,3,FALSE)","v":2},{"v":146.5,"d":"146.50"}]
[3382,"4152270700101","吴光兰","320独山县乡镇小学","01小学语文教师",{"$f":"VLOOKUP(B3384,[1]Sheet1!$A:$I,8,0)","v":"68.50"},{"$f":"VLOOKUP(B3384,[1]Sheet1!$A:$I,9,0)","v":"75.00"},{"$f":"VLOOKUP(B3384,[2]少数民族加分!$C$1:$E$65536,3,FALSE)","v":2},{"v":145.5,"d":"145.50"}]
[3383,"4152270604726","邹鸿莲","320独山县乡镇小学","01小学语文教师",{"$f":"VLOOKUP(B3385,[1]Sheet1!$A:$I,8,0)","v":"66.00"},{"$f":"VLOOKUP(B3385,[1]Sheet1!$A:$I,9,0)","v":"76.00"},null,{"v":142,"d":"142.00"}]
[3384,"4152270603425","谢应春","320独山县乡镇小学","01小学语文教师",{"$f":"VLOOKUP(B3386,[1]Sheet1!$A:$I,8,0)","v":"82.00"},{"$f":"VLOOKUP(B3386,[1]Sheet1!$A:$I,9,0)","v":"56.50"},{"$f":"VLOOKUP(B3386,[2]少数民族加分!$C$1:$E$65536,3,FALSE)","v":2},{"v":140.5,"d":"140.50"}]
[3385,"4152270604104","兰玉春","320独山县乡镇小学","01小学语文教师",{"$f":"VLOOKUP(B3387,[1]Sheet1!$A:$I,8,0)","v":"78.50"},{"$f":"VLOOKUP(B3387,[1]Sheet1!$A:$I,9,0)","v":"59.00"},{"$f":"VLOOKUP(B3387,[2]少数民族加分!$C$1:$E$65536,3,FALSE)","v":2},{"v":139.5,"d":"139.50"}]
[3386,"4152270700629","韦启桃","320独山县乡镇小学","01小学语文教师",{"$f":"VLOOKUP(B3388,[1]Sheet1!$A:$I,8,0)","v":"77.50"},{"$f":"VLOOKUP(B3388,[1]Sheet1!$A:$I,9,0)","v":"60.00"},{"$f":"VLOOKUP(B3388,[2]少数民族加分!$C$1:$E$65536,3,FALSE)","v":2},{"v":139.5,"d":"139.50"}]
[3387,"4152270700812","谭惠方","320独山县乡镇小学","01小学语文教师",{"$f":"VLOOKUP(B3389,[1]Sheet1!$A:$I,8,0)","v":"78.50"},{"$f":"VLOOKUP(B3389,[1]Sheet1!$A:$I,9,0)","v":"56.00"},{"$f":"VLOOKUP(B3389,[2]少数民族加分!$C$1:$E$65536,3,FALSE)","v":2},{"v":136.5,"d":"136.50"}]
[3388,"4152270605105","杨小群","320独山县乡镇小学","01小学语文教师",{"$f":"VLOOKUP(B3390,[1]Sheet1!$A:$I,8,0)","v":"74.00"},{"$f":"VLOOKUP(B3390,[1]Sheet1!$A:$I,9,0)","v":"60.00"},{"$f":"VLOOKUP(B3390,[2]少数民族加分!$C$1:$E$65536,3,FALSE)","v":2},{"v":136,"d":"136.00"}]
[3389,"4152270605115","马宣","320独山县乡镇小学","01小学语文教师",{"$f":"VLOOKUP(B3391,[1]Sheet1!$A:$I,8,0)","v":"66.00"},{"$f":"VLOOKUP(B3391,[1]Sheet1!$A:$I,9,0)","v":"68.00"},{"$f":"VLOOKUP(B3391,[2]少数民族加分!$C$1:$E$65536,3,FALSE)","v":2},{"v":136,"d":"136.00"}]
[3390,"4152270603117","李玉芬","320独山县乡镇小学","01小学语文教师",{"$f":"VLOOKUP(B3392,[1]Sheet1!$A:$I,8,0)","v":"65.50"},{"$f":"VLOOKUP(B3392,[1]Sheet1!$A:$I,9,0)","v":"65.00"},{"$f":"VLOOKUP(B3392,[2]少数民族加分!$C$1:$E$65536,3,FALSE)","v":2},{"v":132.5,"d":"132.50"}]
[3391,"4152270604910","王正梅","320独山县乡镇小学","01小学语文教师",{"$f":"VLOOKUP(B3393,[1]Sheet1!$A:$I,8,0)","v":"73.00"},{"$f":"VLOOKUP(B3393,[1]Sheet1!$A:$I,9,0)","v":"53.00"},{"$f":"VLOOKUP(B3393,[2]少数民族加分!$C$1:$E$65536,3,FALSE)","v":2},{"v":128,"d":"128.00"}]
[3392,"4152270605202","吴水燕","320独山县乡镇小学","01小学语文教师",{"$f":"VLOOKUP(B3394,[1]Sheet1!$A:$I,8,0)","v":"65.50"},{"$f":"VLOOKUP(B3394,[1]Sheet1!$A:$I,9,0)","v":"60.00"},{"$f":"VLOOKUP(B3394,[2]少数民族加分!$C$1:$E$65536,3,FALSE)","v":2},{"v":127.5,"d":"127.50"}]
[3393,"4152270603007","方景艳","320独山县乡镇小学","01小学语文教师",{"$f":"VLOOKUP(B3395,[1]Sheet1!$A:$I,8,0)","v":"57.50"},{"$f":"VLOOKUP(B3395,[1]Sheet1!$A:$I,9,0)","v":"66.00"},{"$f":"VLOOKUP(B3395,[2]少数民族加分!$C$1:$E$65536,3,FALSE)","v":2},{"v":125.5,"d":"125.50"}]
[3395,"4152270603113","蒙新亚","320独山县乡镇小学","01小学语文教师",{"$f":"VLOOKUP(B3396,[1]Sheet1!$A:$I,8,0)","v":"69.50"},{"$f":"VLOOKUP(B3396,[1]Sheet1!$A:$I,9,0)","v":"52.00"},{"$f":"VLOOKUP(B3396,[2]少数民族加分!$C$1:$E$65536,3,FALSE)","v":2},{"v":123.5,"d":"123.50"}]
[3394,"4152270602714","杨强","320独山县乡镇小学","01小学语文教师",{"$f":"VLOOKUP(B3397,[1]Sheet1!$A:$I,8,0)","v":"60.00"},{"$f":"VLOOKUP(B3397,[1]Sheet1!$A:$I,9,0)","v":"62.00"},null,{"v":122,"d":"122.00"}]
[3396,"4152270603629","潘承藩","320独山县乡镇小学","01小学语文教师",{"$f":"VLOOKUP(B3398,[1]Sheet1!$A:$I,8,0)","v":"67.00"},{"$f":"VLOOKUP(B3398,[1]Sheet1!$A:$I,9,0)","v":"52.00"},{"$f":"VLOOKUP(B3398,[2]少数民族加分!$C$1:$E$65536,3,FALSE)","v":2},{"v":121,"d":"121.00"}]
[3397,"4152270604825","周小飘","320独山县乡镇小学","01小学语文教师",{"$f":"VLOOKUP(B3399,[1]Sheet1!$A:$I,8,0)","v":"64.50"},{"$f":"VLOOKUP(B3399,[1]Sheet1!$A:$I,9,0)","v":"54.00"},{"$f":"VLOOKUP(B3399,[2]少数民族加分!$C$1:$E$65536,3,FALSE)","v":2},{"v":120.5,"d":"120.50"}]
[3398,"4152270603413","欧喜党","320独山县乡镇小学","01小学语文教师",{"$f":"VLOOKUP(B3400,[1]Sheet1!$A:$I,8,0)","v":"63.00"},{"$f":"VLOOKUP(B3400,[1]Sheet1!$A:$I,9,0)","v":"55.00"},{"$f":"VLOOKUP(B3400,[2]少数民族加分!$C$1:$E$65536,3,FALSE)","v":2},{"v":120,"d":"120.00"}]
[3399,"4152270700228","吴伟","320独山县乡镇小学","01小学语文教师",{"$f":"VLOOKUP(B3401,[1]Sheet1!$A:$I,8,0)","v":"61.00"},{"$f":"VLOOKUP(B3401,[1]Sheet1!$A:$I,9,0)","v":"54.00"},{"$f":"VLOOKUP(B3401,[2]少数民族加分!$C$1:$E$65536,3,FALSE)","v":2},{"v":117,"d":"117.00"}]
[3401,"4152270603828","杨梅芝","320独山县乡镇小学","01小学语文教师",{"$f":"VLOOKUP(B3402,[1]Sheet1!$A:$I,8,0)","v":"57.00"},{"$f":"VLOOKUP(B3402,[1]Sheet1!$A:$I,9,0)","v":"56.00"},{"$f":"VLOOKUP(B3402,[2]少数民族加分!$C$1:$E$65536,3,FALSE)","v":2},{"v":115,"d":"115.00"}]
[3400,"4152270700420","谢瑞","320独山县乡镇小学","01小学语文教师",{"$f":"VLOOKUP(B3403,[1]Sheet1!$A:$I,8,0)","v":"69.00"},{"$f":"VLOOKUP(B3403,[1]Sheet1!$A:$I,9,0)","v":"45.00"},null,{"v":114,"d":"114.00"}]
[3402,"4152270603407","龙欢云","320独山县乡镇小学","01小学语文教师",{"$f":"VLOOKUP(B3404,[1]Sheet1!$A:$I,8,0)","v":"0.00"},{"$f":"VLOOKUP(B3404,[1]Sheet1!$A:$I,9,0)","v":"0.00"},null,"缺考"]
[3403,"4152270603617","杨英","320独山县乡镇小学","01小学语文教师",{"$f":"VLOOKUP(B3405,[1]Sheet1!$A:$I,8,0)","v":"0.00"},{"$f":"VLOOKUP(B3405,[1]Sheet1!$A:$I,9,0)","v":"0.00"},{"$f":"VLOOKUP(B3405,[2]少数民族加分!$C$1:$E$65536,3,FALSE)","v":2},"缺考"]
[3404,"4152270603624","杨友生","320独山县乡镇小学","01小学语文教师",{"$f":"VLOOKUP(B3406,[1]Sheet1!$A:$I,8,0)","v":"0.00"},{"$f":"VLOOKUP(B3406,[1]Sheet1!$A:$I,9,0)","v":"0.00"},{"$f":"VLOOKUP(B3406,[2]少数民族加分!$C$1:$E$65536,3,FALSE)","v":2},"缺考"]
[3405,"4152270603806","左琴","320独山县乡镇小学","01小学语文教师",{"$f":"VLOOKUP(B3407,[1]Sheet1!$A:$I,8,0)","v":"0.00"},{"$f":"VLOOKUP(B3407,[1]Sheet1!$A:$I,9,0)","v":"0.00"},null,"缺考"]
[3406,"4152270603929","谭靖","320独山县乡镇小学","01小学语文教师",{"$f":"VLOOKUP(B3408,[1]Sheet1!$A:$I,8,0)","v":"0.00"},{"$f":"VLOOKUP(B3408,[1]Sheet1!$A:$I,9,0)","v":"0.00"},null,"缺考"]
[3407,"4152270604009","姚世丹","320独山县乡镇小学","01小学语文教师",{"$f":"VLOOKUP(B3409,[1]Sheet1!$A:$I,8,0)","v":"0.00"},{"$f":"VLOOKUP(B3409,[1]Sheet1!$A:$I,9,0)","v":"0.00"},{"$f":"VLOOKUP(B3409,[2]少数民族加分!$C$1:$E$65536,3,FALSE)","v":2},"缺考"]
[3408,"4152270604112","马丽飞","320独山县乡镇小学","01小学语文教师",{"$f":"VLOOKUP(B3410,[1]Sheet1!$A:$I,8,0)","v":"0.00"},{"$f":"VLOOKUP(B3410,[1]Sheet1!$A:$I,9,0)","v":"0.00"},{"$f":"VLOOKUP(B3410,[2]少数民族加分!$C$1:$E$65536,3,FALSE)","v":2},"缺考"]
[3409,"4152270604313","吴茶","320独山县乡镇小学","01小学语文教师",{"$f":"VLOOKUP(B3411,[1]Sheet1!$A:$I,8,0)","v":"0.00"},{"$f":"VLOOKUP(B3411,[1]Sheet1!$A:$I,9,0)","v":"0.00"},null,"缺考"]
[3410,"4152270604818","杨通胜","320独山县乡镇小学","01小学语文教师",{"$f":"VLOOKUP(B3412,[1]Sheet1!$A:$I,8,0)","v":"0.00"},{"$f":"VLOOKUP(B3412,[1]Sheet1!$A:$I,9,0)","v":"0.00"},{"$f":"VLOOKUP(B3412,[2]少数民族加分!$C$1:$E$65536,3,FALSE)","v":2},"缺考"]
[3411,"4152270604902","石禹燕","320独山县乡镇小学","01小学语文教师",{"$f":"VLOOKUP(B3413,[1]Sheet1!$A:$I,8,0)","v":"0.00"},{"$f":"VLOOKUP(B3413,[1]Sheet1!$A:$I,9,0)","v":"0.00"},{"$f":"VLOOKUP(B3413,[2]少数民族加分!$C$1:$E$65536,3,FALSE)","v":2},"缺考"]
[3412,"4152270605320","胡一珊","320独山县乡镇小学","01小学语文教师",{"$f":"VLOOKUP(B3414,[1]Sheet1!$A:$I,8,0)","v":"0.00"},{"$f":"VLOOKUP(B3414,[1]Sheet1!$A:$I,9,0)","v":"0.00"},{"$f":"VLOOKUP(B3414,[2]少数民族加分!$C$1:$E$65536,3,FALSE)","v":2},"缺考"]
[3413,"4152270605620","姜冰洁","320独山县乡镇小学","01小学语文教师",{"$f":"VLOOKUP(B3415,[1]Sheet1!$A:$I,8,0)","v":"0.00"},{"$f":"VLOOKUP(B3415,[1]Sheet1!$A:$I,9,0)","v":"0.00"},{"$f":"VLOOKUP(B3415,[2]少数民族加分!$C$1:$E$65536,3,FALSE)","v":2},"缺考"]
[3414,"4152270700130","刘春","320独山县乡镇小学","01小学语文教师",{"$f":"VLOOKUP(B3416,[1]Sheet1!$A:$I,8,0)","v":"0.00"},{"$f":"VLOOKUP(B3416,[1]Sheet1!$A:$I,9,0)","v":"0.00"},null,"缺考"]
[3415,"4152270700223","黄春","320独山县乡镇小学","01小学语文教师",{"$f":"VLOOKUP(B3417,[1]Sheet1!$A:$I,8,0)","v":"0.00"},{"$f":"VLOOKUP(B3417,[1]Sheet1!$A:$I,9,0)","v":"0.00"},null,"缺考"]
[3416,"4152270700305","潘胜军","320独山县乡镇小学","01小学语文教师",{"$f":"VLOOKUP(B3418,[1]Sheet1!$A:$I,8,0)","v":"0.00"},{"$f":"VLOOKUP(B3418,[1]Sheet1!$A:$I,9,0)","v":"0.00"},{"$f":"VLOOKUP(B3418,[2]少数民族加分!$C$1:$E$65536,3,FALSE)","v":2},"缺考"]
[3417,"4152270700706","陈万红","320独山县乡镇小学","01小学语文教师",{"$f":"VLOOKUP(B3419,[1]Sheet1!$A:$I,8,0)","v":"0.00"},{"$f":"VLOOKUP(B3419,[1]Sheet1!$A:$I,9,0)","v":"0.00"},{"$f":"VLOOKUP(B3419,[2]少数民族加分!$C$1:$E$65536,3,FALSE)","v":2},"缺考"]
[3418,"4152270700724","谭龙伟","320独山县乡镇小学","01小学语文教师",{"$f":"VLOOKUP(B3420,[1]Sheet1!$A:$I,8,0)","v":"0.00"},{"$f":"VLOOKUP(B3420,[1]Sheet1!$A:$I,9,0)","v":"0.00"},null,"缺考"]
[3419,"4152270700826","余霞","320独山县乡镇小学","01小学语文教师",{"$f":"VLOOKUP(B3421,[1]Sheet1!$A:$I,8,0)","v":"0.00"},{"$f":"VLOOKUP(B3421,[1]Sheet1!$A:$I,9,0)","v":"0.00"},null,"缺考"]
[3420,"4152270701009","朱代粉","320独山县乡镇小学","01小学语文教师",{"$f":"VLOOKUP(B3422,[1]Sheet1!$A:$I,8,0)","v":"0.00"},{"$f":"VLOOKUP(B3422,[1]Sheet1!$A:$I,9,0)","v":"0.00"},{"$f":"VLOOKUP(B3422,[2]少数民族加分!$C$1:$E$65536,3,FALSE)","v":2},"缺考"]
[3421,"4152270701125","刘坤云","320独山县乡镇小学","01小学语文教师",{"$f":"VLOOKUP(B3423,[1]Sheet1!$A:$I,8,0)","v":"0.00"},{"$f":"VLOOKUP(B3423,[1]Sheet1!$A:$I,9,0)","v":"0.00"},null,"缺考"]
[3422,"4152270701211","唐琴","320独山县乡镇小学","01小学语文教师",{"$f":"VLOOKUP(B3424,[1]Sheet1!$A:$I,8,0)","v":"0.00"},{"$f":"VLOOKUP(B3424,[1]Sheet1!$A:$I,9,0)","v":"0.00"},{"$f":"VLOOKUP(B3424,[2]少数民族加分!$C$1:$E$65536,3,FALSE)","v":2},"缺考"]
[3423,"4152270604709","熊明怡","320独山县乡镇小学","02小学语文教师",{"$f":"VLOOKUP(B3425,[1]Sheet1!$A:$I,8,0)","v":"96.50"},{"$f":"VLOOKUP(B3425,[1]Sheet1!$A:$I,9,0)","v":"101.50"},{"$f":"VLOOKUP(B3425,[2]少数民族加分!$C$1:$E$65536,3,FALSE)","v":2},{"v":200,"d":"200.00"}]
[3424,"4152270603520","雷桃","320独山县乡镇小学","02小学语文教师",{"$f":"VLOOKUP(B3426,[1]Sheet1!$A:$I,8,0)","v":"89.50"},{"$f":"VLOOKUP(B3426,[1]Sheet1!$A:$I,9,0)","v":"92.00"},{"$f":"VLOOKUP(B3426,[2]少数民族加分!$C$1:$E$65536,3,FALSE)","v":2},{"v":183.5,"d":"183.50"}]
[3425,"4152270603807","田萧雨","320独山县乡镇小学","02小学语文教师",{"$f":"VLOOKUP(B3427,[1]Sheet1!$A:$I,8,0)","v":"87.00"},{"$f":"VLOOKUP(B3427,[1]Sheet1!$A:$I,9,0)","v":"91.50"},{"$f":"VLOOKUP(B3427,[2]少数民族加分!$C$1:$E$65536,3,FALSE)","v":2},{"v":180.5,"d":"180.50"}]
[3426,"4152270605012","吴莹","320独山县乡镇小学","02小学语文教师",{"$f":"VLOOKUP(B3428,[1]Sheet1!$A:$I,8,0)","v":"98.50"},{"$f":"VLOOKUP(B3428,[1]Sheet1!$A:$I,9,0)","v":"79.00"},{"$f":"VLOOKUP(B3428,[2]少数民族加分!$C$1:$E$65536,3,FALSE)","v":2},{"v":179.5,"d":"179.50"}]
[3427,"4152270604519","文秀春","320独山县乡镇小学","02小学语文教师",{"$f":"VLOOKUP(B3429,[1]Sheet1!$A:$I,8,0)","v":"77.50"},{"$f":"VLOOKUP(B3429,[1]Sheet1!$A:$I,9,0)","v":"95.50"},{"$f":"VLOOKUP(B3429,[2]少数民族加分!$C$1:$E$65536,3,FALSE)","v":2},{"v":175,"d":"175.00"}]
[3429,"4152270604525","杨时琴","320独山县乡镇小学","02小学语文教师",{"$f":"VLOOKUP(B3430,[1]Sheet1!$A:$I,8,0)","v":"76.50"},{"$f":"VLOOKUP(B3430,[1]Sheet1!$A:$I,9,0)","v":"92.00"},{"$f":"VLOOKUP(B3430,[2]少数民族加分!$C$1:$E$65536,3,FALSE)","v":2},{"v":170.5,"d":"170.50"}]
[3431,"4152270605323","江敏","320独山县乡镇小学","02小学语文教师",{"$f":"VLOOKUP(B3431,[1]Sheet1!$A:$I,8,0)","v":"73.00"},{"$f":"VLOOKUP(B3431,[1]Sheet1!$A:$I,9,0)","v":"95.00"},{"$f":"VLOOKUP(B3431,[2]少数民族加分!$C$1:$E$65536,3,FALSE)","v":2},{"v":170,"d":"170.00"}]
[3432,"4152270603309","张慧","320独山县乡镇小学","02小学语文教师",{"$f":"VLOOKUP(B3432,[1]Sheet1!$A:$I,8,0)","v":"82.50"},{"$f":"VLOOKUP(B3432,[1]Sheet1!$A:$I,9,0)","v":"84.50"},{"$f":"VLOOKUP(B3432,[2]少数民族加分!$C$1:$E$65536,3,FALSE)","v":2},{"v":169,"d":"169.00"}]
[3428,"4152270604406","陈艳","320独山县乡镇小学","02小学语文教师",{"$f":"VLOOKUP(B3433,[1]Sheet1!$A:$I,8,0)","v":"70.50"},{"$f":"VLOOKUP(B3433,[1]Sheet1!$A:$I,9,0)","v":"98.00"},null,{"v":168.5,"d":"168.50"}]
[3430,"4152270602814","余兴武","320独山县乡镇小学","02小学语文教师",{"$f":"VLOOKUP(B3434,[1]Sheet1!$A:$I,8,0)","v":"89.50"},{"$f":"VLOOKUP(B3434,[1]Sheet1!$A:$I,9,0)","v":"78.50"},null,{"v":168,"d":"168.00"}]
[3433,"4152270603810","曾钰雯","320独山县乡镇小学","02小学语文教师",{"$f":"VLOOKUP(B3435,[1]Sheet1!$A:$I,8,0)","v":"78.00"},{"$f":"VLOOKUP(B3435,[1]Sheet1!$A:$I,9,0)","v":"89.00"},null,{"v":167,"d":"167.00"}]
[3434,"4152270701017","蒲启雪","320独山县乡镇小学","02小学语文教师",{"$f":"VLOOKUP(B3436,[1]Sheet1!$A:$I,8,0)","v":"89.50"},{"$f":"VLOOKUP(B3436,[1]Sheet1!$A:$I,9,0)","v":"76.00"},null,{"v":165.5,"d":"165.50"}]
[3436,"4152270700206","谢永宇","320独山县乡镇小学","02小学语文教师",{"$f":"VLOOKUP(B3437,[1]Sheet1!$A:$I,8,0)","v":"87.00"},{"$f":"VLOOKUP(B3437,[1]Sheet1!$A:$I,9,0)","v":"75.50"},{"$f":"VLOOKUP(B3437,[2]少数民族加分!$C$1:$E$65536,3,FALSE)","v":2},{"v":164.5,"d":"164.50"}]
[3435,"4152270700304","周兵琴","320独山县乡镇小学","02小学语文教师",{"$f":"VLOOKUP(B3438,[1]Sheet1!$A:$I,8,0)","v":"83.50"},{"$f":"VLOOKUP(B3438,[1]Sheet1!$A:$I,9,0)","v":"80.00"},null,{"v":163.5,"d":"163.50"}]
[3438,"4152270603804","杨国艳","320独山县乡镇小学","02小学语文教师",{"$f":"VLOOKUP(B3439,[1]Sheet1!$A:$I,8,0)","v":"83.50"},{"$f":"VLOOKUP(B3439,[1]Sheet1!$A:$I,9,0)","v":"77.00"},{"$f":"VLOOKUP(B3439,[2]少数民族加分!$C$1:$E$65536,3,FALSE)","v":2},{"v":162.5,"d":"162.50"}]
[3437,"4152270604716","何仁琴","320独山县乡镇小学","02小学语文教师",{"$f":"VLOOKUP(B3440,[1]Sheet1!$A:$I,8,0)","v":"88.50"},{"$f":"VLOOKUP(B3440,[1]Sheet1!$A:$I,9,0)","v":"72.50"},null,{"v":161,"d":"161.00"}]
[3442,"4152270603321","罗贤艾","320独山县乡镇小学","02小学语文教师",{"$f":"VLOOKUP(B3441,[1]Sheet1!$A:$I,8,0)","v":"77.00"},{"$f":"VLOOKUP(B3441,[1]Sheet1!$A:$I,9,0)","v":"82.00"},{"$f":"VLOOKUP(B3441,[2]少数民族加分!$C$1:$E$65536,3,FALSE)","v":2},{"v":161,"d":"161.00"}]
[3439,"4152270701105","傅凯琼","320独山县乡镇小学","02小学语文教师",{"$f":"VLOOKUP(B3442,[1]Sheet1!$A:$I,8,0)","v":"94.00"},{"$f":"VLOOKUP(B3442,[1]Sheet1!$A:$I,9,0)","v":"66.00"},null,{"v":160,"d":"160.00"}]
[3443,"4152270603318","白阳珊","320独山县乡镇小学","02小学语文教师",{"$f":"VLOOKUP(B3443,[1]Sheet1!$A:$I,8,0)","v":"83.00"},{"$f":"VLOOKUP(B3443,[1]Sheet1!$A:$I,9,0)","v":"75.00"},{"$f":"VLOOKUP(B3443,[2]少数民族加分!$C$1:$E$65536,3,FALSE)","v":2},{"v":160,"d":"160.00"}]
[3440,"4152270603604","孙小豪","320独山县乡镇小学","02小学语文教师",{"$f":"VLOOKUP(B3444,[1]Sheet1!$A:$I,8,0)","v":"78.00"},{"$f":"VLOOKUP(B3444,[1]Sheet1!$A:$I,9,0)","v":"81.50"},null,{"v":159.5,"d":"159.50"}]
[3441,"4152270605111","李治宏","320独山县乡镇小学","02小学语文教师",{"$f":"VLOOKUP(B3445,[1]Sheet1!$A:$I,8,0)","v":"71.50"},{"$f":"VLOOKUP(B3445,[1]Sheet1!$A:$I,9,0)","v":"88.00"},null,{"v":159.5,"d":"159.50"}]
[3444,"4152270603429","龙秋芳","320独山县乡镇小学","02小学语文教师",{"$f":"VLOOKUP(B3446,[1]Sheet1!$A:$I,8,0)","v":"85.00"},{"$f":"VLOOKUP(B3446,[1]Sheet1!$A:$I,9,0)","v":"70.00"},{"$f":"VLOOKUP(B3446,[2]少数民族加分!$C$1:$E$65536,3,FALSE)","v":2},{"v":157,"d":"157.00"}]
[3445,"4152270605505","廖青","320独山县乡镇小学","02小学语文教师",{"$f":"VLOOKUP(B3447,[1]Sheet1!$A:$I,8,0)","v":"83.00"},{"$f":"VLOOKUP(B3447,[1]Sheet1!$A:$I,9,0)","v":"71.50"},{"$f":"VLOOKUP(B3447,[2]少数民族加分!$C$1:$E$65536,3,FALSE)","v":2},{"v":156.5,"d":"156.50"}]
[3446,"4152270604309","潘秀娟","320独山县乡镇小学","02小学语文教师",{"$f":"VLOOKUP(B3448,[1]Sheet1!$A:$I,8,0)","v":"79.00"},{"$f":"VLOOKUP(B3448,[1]Sheet1!$A:$I,9,0)","v":"75.00"},{"$f":"VLOOKUP(B3448,[2]少数民族加分!$C$1:$E$65536,3,FALSE)","v":2},{"v":156,"d":"156.00"}]
[3447,"4152270602601","林芳","320独山县乡镇小学","02小学语文教师",{"$f":"VLOOKUP(B3449,[1]Sheet1!$A:$I,8,0)","v":"72.50"},{"$f":"VLOOKUP(B3449,[1]Sheet1!$A:$I,9,0)","v":"81.00"},{"$f":"VLOOKUP(B3449,[2]少数民族加分!$C$1:$E$65536,3,FALSE)","v":2},{"v":155.5,"d":"155.50"}]
[3448,"4152270603819","杨和群","320独山县乡镇小学","02小学语文教师",{"$f":"VLOOKUP(B3450,[1]Sheet1!$A:$I,8,0)","v":"71.50"},{"$f":"VLOOKUP(B3450,[1]Sheet1!$A:$I,9,0)","v":"82.00"},{"$f":"VLOOKUP(B3450,[2]少数民族加分!$C$1:$E$65536,3,FALSE)","v":2},{"v":155.5,"d":"155.50"}]
[3449,"4152270604607","潘文","320独山县乡镇小学","02小学语文教师",{"$f":"VLOOKUP(B3451,[1]Sheet1!$A:$I,8,0)","v":"77.50"},{"$f":"VLOOKUP(B3451,[1]Sheet1!$A:$I,9,0)","v":"76.00"},{"$f":"VLOOKUP(B3451,[2]少数民族加分!$C$1:$E$65536,3,FALSE)","v":2},{"v":155.5,"d":"155.50"}]
[3451,"4152270604206","代芳敏","320独山县乡镇小学","02小学语文教师",{"$f":"VLOOKUP(B3452,[1]Sheet1!$A:$I,8,0)","v":"84.50"},{"$f":"VLOOKUP(B3452,[1]Sheet1!$A:$I,9,0)","v":"67.50"},{"$f":"VLOOKUP(B3452,[2]少数民族加分!$C$1:$E$65536,3,FALSE)","v":2},{"v":154,"d":"154.00"}]
[3452,"4152270700329","杨黎霞","320独山县乡镇小学","02小学语文教师",{"$f":"VLOOKUP(B3453,[1]Sheet1!$A:$I,8,0)","v":"80.50"},{"$f":"VLOOKUP(B3453,[1]Sheet1!$A:$I,9,0)","v":"71.50"},{"$f":"VLOOKUP(B3453,[2]少数民族加分!$C$1:$E$65536,3,FALSE)","v":2},{"v":154,"d":"154.00"}]
[3450,"4152270605203","付丹","320独山县乡镇小学","02小学语文教师",{"$f":"VLOOKUP(B3454,[1]Sheet1!$A:$I,8,0)","v":"80.00"},{"$f":"VLOOKUP(B3454,[1]Sheet1!$A:$I,9,0)","v":"73.50"},null,{"v":153.5,"d":"153.50"}]
[3453,"4152270602611","马江艳","320独山县乡镇小学","02小学语文教师",{"$f":"VLOOKUP(B3455,[1]Sheet1!$A:$I,8,0)","v":"67.50"},{"$f":"VLOOKUP(B3455,[1]Sheet1!$A:$I,9,0)","v":"84.00"},{"$f":"VLOOKUP(B3455,[2]少数民族加分!$C$1:$E$65536,3,FALSE)","v":2},{"v":153.5,"d":"153.50"}]
[3454,"4152270603112","谭长春","320独山县乡镇小学","02小学语文教师",{"$f":"VLOOKUP(B3456,[1]Sheet1!$A:$I,8,0)","v":"95.50"},{"$f":"VLOOKUP(B3456,[1]Sheet1!$A:$I,9,0)","v":"55.50"},null,{"v":151,"d":"151.00"}]
[3458,"4152270605608","石国英","320独山县乡镇小学","02小学语文教师",{"$f":"VLOOKUP(B3457,[1]Sheet1!$A:$I,8,0)","v":"76.50"},{"$f":"VLOOKUP(B3457,[1]Sheet1!$A:$I,9,0)","v":"72.00"},{"$f":"VLOOKUP(B3457,[2]少数民族加分!$C$1:$E$65536,3,FALSE)","v":2},{"v":150.5,"d":"150.50"}]
[3455,"4152270603119","罗宗芳","320独山县乡镇小学","02小学语文教师",{"$f":"VLOOKUP(B3458,[1]Sheet1!$A:$I,8,0)","v":"78.50"},{"$f":"VLOOKUP(B3458,[1]Sheet1!$A:$I,9,0)","v":"71.00"},null,{"v":149.5,"d":"149.50"}]
[3456,"4152270603606","张金根","320独山县乡镇小学","02小学语文教师",{"$f":"VLOOKUP(B3459,[1]Sheet1!$A:$I,8,0)","v":"83.50"},{"$f":"VLOOKUP(B3459,[1]Sheet1!$A:$I,9,0)","v":"66.00"},null,{"v":149.5,"d":"149.50"}]
[3459,"4152270604303","吴剋燕","320独山县乡镇小学","02小学语文教师",{"$f":"VLOOKUP(B3460,[1]Sheet1!$A:$I,8,0)","v":"72.50"},{"$f":"VLOOKUP(B3460,[1]Sheet1!$A:$I,9,0)","v":"75.00"},{"$f":"VLOOKUP(B3460,[2]少数民族加分!$C$1:$E$65536,3,FALSE)","v":2},{"v":149.5,"d":"149.50"}]
[3460,"4152270604401","韦佳佳","320独山县乡镇小学","02小学语文教师",{"$f":"VLOOKUP(B3461,[1]Sheet1!$A:$I,8,0)","v":"73.50"},{"$f":"VLOOKUP(B3461,[1]Sheet1!$A:$I,9,0)","v":"74.00"},{"$f":"VLOOKUP(B3461,[2]少数民族加分!$C$1:$E$65536,3,FALSE)","v":2},{"v":149.5,"d":"149.50"}]
[3457,"4152270604625","郭迈","320独山县乡镇小学","02小学语文教师",{"$f":"VLOOKUP(B3462,[1]Sheet1!$A:$I,8,0)","v":"79.00"},{"$f":"VLOOKUP(B3462,[1]Sheet1!$A:$I,9,0)","v":"70.00"},null,{"v":149,"d":"149.00"}]
[3461,"4152270604823","石家芳","320独山县乡镇小学","02小学语文教师",{"$f":"VLOOKUP(B3463,[1]Sheet1!$A:$I,8,0)","v":"71.00"},{"$f":"VLOOKUP(B3463,[1]Sheet1!$A:$I,9,0)","v":"74.00"},{"$f":"VLOOKUP(B3463,[2]少数民族加分!$C$1:$E$65536,3,FALSE)","v":2},{"v":147,"d":"147.00"}]
[3462,"4152270605529","丁明丽","320独山县乡镇小学","02小学语文教师",{"$f":"VLOOKUP(B3464,[1]Sheet1!$A:$I,8,0)","v":"72.00"},{"$f":"VLOOKUP(B3464,[1]Sheet1!$A:$I,9,0)","v":"72.00"},{"$f":"VLOOKUP(B3464,[2]少数民族加分!$C$1:$E$65536,3,FALSE)","v":2},{"v":146,"d":"146.00"}]
[3465,"4152270603304","张成","320独山县乡镇小学","02小学语文教师",{"$f":"VLOOKUP(B3465,[1]Sheet1!$A:$I,8,0)","v":"77.00"},{"$f":"VLOOKUP(B3465,[1]Sheet1!$A:$I,9,0)","v":"66.00"},{"$f":"VLOOKUP(B3465,[2]少数民族加分!$C$1:$E$65536,3,FALSE)","v":2},{"v":145,"d":"145.00"}]
[3466,"4152270604721","杨淳裕","320独山县乡镇小学","02小学语文教师",{"$f":"VLOOKUP(B3466,[1]Sheet1!$A:$I,8,0)","v":"68.50"},{"$f":"VLOOKUP(B3466,[1]Sheet1!$A:$I,9,0)","v":"74.00"},{"$f":"VLOOKUP(B3466,[2]少数民族加分!$C$1:$E$65536,3,FALSE)","v":2},{"v":144.5,"d":"144.50"}]
[3463,"4152270602902","刘美","320独山县乡镇小学","02小学语文教师",{"$f":"VLOOKUP(B3467,[1]Sheet1!$A:$I,8,0)","v":"80.50"},{"$f":"VLOOKUP(B3467,[1]Sheet1!$A:$I,9,0)","v":"63.00"},null,{"v":143.5,"d":"143.50"}]
[3464,"4152270604103","何柳","320独山县乡镇小学","02小学语文教师",{"$f":"VLOOKUP(B3468,[1]Sheet1!$A:$I,8,0)","v":"79.50"},{"$f":"VLOOKUP(B3468,[1]Sheet1!$A:$I,9,0)","v":"64.00"},null,{"v":143.5,"d":"143.50"}]
[3467,"4152270602924","莫秀运","320独山县乡镇小学","02小学语文教师",{"$f":"VLOOKUP(B3469,[1]Sheet1!$A:$I,8,0)","v":"62.00"},{"$f":"VLOOKUP(B3469,[1]Sheet1!$A:$I,9,0)","v":"79.00"},{"$f":"VLOOKUP(B3469,[2]少数民族加分!$C$1:$E$65536,3,FALSE)","v":2},{"v":143,"d":"143.00"}]
[3468,"4152270603102","莫杜娟","320独山县乡镇小学","02小学语文教师",{"$f":"VLOOKUP(B3470,[1]Sheet1!$A:$I,8,0)","v":"69.00"},{"$f":"VLOOKUP(B3470,[1]Sheet1!$A:$I,9,0)","v":"72.00"},{"$f":"VLOOKUP(B3470,[2]少数民族加分!$C$1:$E$65536,3,FALSE)","v":2},{"v":143,"d":"143.00"}]
[3469,"4152270603521","滚凡丽","320独山县乡镇小学","02小学语文教师",{"$f":"VLOOKUP(B3471,[1]Sheet1!$A:$I,8,0)","v":"79.00"},{"$f":"VLOOKUP(B3471,[1]Sheet1!$A:$I,9,0)","v":"62.00"},{"$f":"VLOOKUP(B3471,[2]少数民族加分!$C$1:$E$65536,3,FALSE)","v":2},{"v":143,"d":"143.00"}]
[3470,"4152270700214","林小芝","320独山县乡镇小学","02小学语文教师",{"$f":"VLOOKUP(B3472,[1]Sheet1!$A:$I,8,0)","v":"84.50"},{"$f":"VLOOKUP(B3472,[1]Sheet1!$A:$I,9,0)","v":"56.00"},{"$f":"VLOOKUP(B3472,[2]少数民族加分!$C$1:$E$65536,3,FALSE)","v":2},{"v":142.5,"d":"142.50"}]
[3471,"4152270604919","张灵芝","320独山县乡镇小学","02小学语文教师",{"$f":"VLOOKUP(B3473,[1]Sheet1!$A:$I,8,0)","v":"72.00"},{"$f":"VLOOKUP(B3473,[1]Sheet1!$A:$I,9,0)","v":"67.00"},{"$f":"VLOOKUP(B3473,[2]少数民族加分!$C$1:$E$65536,3,FALSE)","v":2},{"v":141,"d":"141.00"}]
[3472,"4152270603908","石庆艳","320独山县乡镇小学","02小学语文教师",{"$f":"VLOOKUP(B3474,[1]Sheet1!$A:$I,8,0)","v":"76.00"},{"$f":"VLOOKUP(B3474,[1]Sheet1!$A:$I,9,0)","v":"62.00"},null,{"v":138,"d":"138.00"}]
[3473,"4152270603308","李兴旺","320独山县乡镇小学","02小学语文教师",{"$f":"VLOOKUP(B3475,[1]Sheet1!$A:$I,8,0)","v":"84.50"},{"$f":"VLOOKUP(B3475,[1]Sheet1!$A:$I,9,0)","v":"51.00"},{"$f":"VLOOKUP(B3475,[2]少数民族加分!$C$1:$E$65536,3,FALSE)","v":2},{"v":137.5,"d":"137.50"}]
[3475,"4152270700115","侯艳琴","320独山县乡镇小学","02小学语文教师",{"$f":"VLOOKUP(B3476,[1]Sheet1!$A:$I,8,0)","v":"72.00"},{"$f":"VLOOKUP(B3476,[1]Sheet1!$A:$I,9,0)","v":"63.00"},{"$f":"VLOOKUP(B3476,[2]少数民族加分!$C$1:$E$65536,3,FALSE)","v":2},{"v":137,"d":"137.00"}]
[3476,"4152270700529","高述琴","320独山县乡镇小学","02小学语文教师",{"$f":"VLOOKUP(B3477,[1]Sheet1!$A:$I,8,0)","v":"65.00"},{"$f":"VLOOKUP(B3477,[1]Sheet1!$A:$I,9,0)","v":"70.00"},{"$f":"VLOOKUP(B3477,[2]少数民族加分!$C$1:$E$65536,3,FALSE)","v":2},{"v":137,"d":"137.00"}]
[3477,"4152270701103","金寻","320独山县乡镇小学","02小学语文教师",{"$f":"VLOOKUP(B3478,[1]Sheet1!$A:$I,8,0)","v":"77.00"},{"$f":"VLOOKUP(B3478,[1]Sheet1!$A:$I,9,0)","v":"58.00"},{"$f":"VLOOKUP(B3478,[2]少数民族加分!$C$1:$E$65536,3,FALSE)","v":2},{"v":137,"d":"137.00"}]
[3478,"4152270602926","王露","320独山县乡镇小学","02小学语文教师",{"$f":"VLOOKUP(B3479,[1]Sheet1!$A:$I,8,0)","v":"67.00"},{"$f":"VLOOKUP(B3479,[1]Sheet1!$A:$I,9,0)","v":"68.00"},{"$f":"VLOOKUP(B3479,[2]少数民族加分!$C$1:$E$65536,3,FALSE)","v":2},{"v":137,"d":"137.00"}]
[3479,"4152270603307","石贵松","320独山县乡镇小学","02小学语文教师",{"$f":"VLOOKUP(B3480,[1]Sheet1!$A:$I,8,0)","v":"75.50"},{"$f":"VLOOKUP(B3480,[1]Sheet1!$A:$I,9,0)","v":"59.00"},{"$f":"VLOOKUP(B3480,[2]少数民族加分!$C$1:$E$65536,3,FALSE)","v":2},{"v":136.5,"d":"136.50"}]
[3474,"4152270701022","冯文丽","320独山县乡镇小学","02小学语文教师",{"$f":"VLOOKUP(B3481,[1]Sheet1!$A:$I,8,0)","v":"74.50"},{"$f":"VLOOKUP(B3481,[1]Sheet1!$A:$I,9,0)","v":"61.00"},null,{"v":135.5,"d":"135.50"}]
[3480,"4152270700421","龙建泽","320独山县乡镇小学","02小学语文教师",{"$f":"VLOOKUP(B3482,[1]Sheet1!$A:$I,8,0)","v":"78.50"},{"$f":"VLOOKUP(B3482,[1]Sheet1!$A:$I,9,0)","v":"55.00"},{"$f":"VLOOKUP(B3482,[2]少数民族加分!$C$1:$E$65536,3,FALSE)","v":2},{"v":135.5,"d":"135.50"}]
[3481,"4152270700609","莫雅媛","320独山县乡镇小学","02小学语文教师",{"$f":"VLOOKUP(B3483,[1]Sheet1!$A:$I,8,0)","v":"78.00"},{"$f":"VLOOKUP(B3483,[1]Sheet1!$A:$I,9,0)","v":"53.50"},{"$f":"VLOOKUP(B3483,[2]少数民族加分!$C$1:$E$65536,3,FALSE)","v":2},{"v":133.5,"d":"133.50"}]
[3482,"4152270603328","张秀芳","320独山县乡镇小学","02小学语文教师",{"$f":"VLOOKUP(B3484,[1]Sheet1!$A:$I,8,0)","v":"68.00"},{"$f":"VLOOKUP(B3484,[1]Sheet1!$A:$I,9,0)","v":"63.00"},{"$f":"VLOOKUP(B3484,[2]少数民族加分!$C$1:$E$65536,3,FALSE)","v":2},{"v":133,"d":"133.00"}]
[3483,"4152270603116","杨海林","320独山县乡镇小学","02小学语文教师",{"$f":"VLOOKUP(B3485,[1]Sheet1!$A:$I,8,0)","v":"67.50"},{"$f":"VLOOKUP(B3485,[1]Sheet1!$A:$I,9,0)","v":"63.00"},{"$f":"VLOOKUP(B3485,[2]少数民族加分!$C$1:$E$65536,3,FALSE)","v":2},{"v":132.5,"d":"132.50"}]
[3484,"4152270603708","宋远兵","320独山县乡镇小学","02小学语文教师",{"$f":"VLOOKUP(B3486,[1]Sheet1!$A:$I,8,0)","v":"63.00"},{"$f":"VLOOKUP(B3486,[1]Sheet1!$A:$I,9,0)","v":"62.00"},{"$f":"VLOOKUP(B3486,[2]少数民族加分!$C$1:$E$65536,3,FALSE)","v":2},{"v":127,"d":"127.00"}]
[3486,"4152270604605","陈欣","320独山县乡镇小学","02小学语文教师",{"$f":"VLOOKUP(B3487,[1]Sheet1!$A:$I,8,0)","v":"65.00"},{"$f":"VLOOKUP(B3487,[1]Sheet1!$A:$I,9,0)","v":"57.00"},{"$f":"VLOOKUP(B3487,[2]少数民族加分!$C$1:$E$65536,3,FALSE)","v":2},{"v":124,"d":"124.00"}]
[3485,"4152270700823","丁福益","320独山县乡镇小学","02小学语文教师",{"$f":"VLOOKUP(B3488,[1]Sheet1!$A:$I,8,0)","v":"73.50"},{"$f":"VLOOKUP(B3488,[1]Sheet1!$A:$I,9,0)","v":"49.00"},null,{"v":122.5,"d":"122.50"}]
[3487,"4152270604723","莫荣磊","320独山县乡镇小学","02小学语文教师",{"$f":"VLOOKUP(B3489,[1]Sheet1!$A:$I,8,0)","v":"53.00"},{"$f":"VLOOKUP(B3489,[1]Sheet1!$A:$I,9,0)","v":"66.00"},{"$f":"VLOOKUP(B3489,[2]少数民族加分!$C$1:$E$65536,3,FALSE)","v":2},{"v":121,"d":"121.00"}]
[3488,"4152270603417","杨俊","320独山县乡镇小学","02小学语文教师",{"$f":"VLOOKUP(B3490,[1]Sheet1!$A:$I,8,0)","v":"58.50"},{"$f":"VLOOKUP(B3490,[1]Sheet1!$A:$I,9,0)","v":"60.00"},{"$f":"VLOOKUP(B3490,[2]少数民族加分!$C$1:$E$65536,3,FALSE)","v":2},{"v":120.5,"d":"120.50"}]
[3489,"4152270603213","程佳丽","320独山县乡镇小学","02小学语文教师",{"$f":"VLOOKUP(B3491,[1]Sheet1!$A:$I,8,0)","v":"62.00"},{"$f":"VLOOKUP(B3491,[1]Sheet1!$A:$I,9,0)","v":"56.00"},null,{"v":118,"d":"118.00"}]
[3490,"4152270603418","唐莞瑜","320独山县乡镇小学","02小学语文教师",{"$f":"VLOOKUP(B3492,[1]Sheet1!$A:$I,8,0)","v":"0.00"},{"$f":"VLOOKUP(B3492,[1]Sheet1!$A:$I,9,0)","v":"0.00"},{"$f":"VLOOKUP(B3492,[2]少数民族加分!$C$1:$E$65536,3,FALSE)","v":2},"缺考"]
[3491,"4152270603426","莫叙蜜","320独山县乡镇小学","02小学语文教师",{"$f":"VLOOKUP(B3493,[1]Sheet1!$A:$I,8,0)","v":"0.00"},{"$f":"VLOOKUP(B3493,[1]Sheet1!$A:$I,9,0)","v":"0.00"},{"$f":"VLOOKUP(B3493,[2]少数民族加分!$C$1:$E$65536,3,FALSE)","v":2},"缺考"]
[3492,"4152270603513","陶小华","320独山县乡镇小学","02小学语文教师",{"$f":"VLOOKUP(B3494,[1]Sheet1!$A:$I,8,0)","v":"0.00"},{"$f":"VLOOKUP(B3494,[1]Sheet1!$A:$I,9,0)","v":"0.00"},{"$f":"VLOOKUP(B3494,[2]少数民族加分!$C$1:$E$65536,3,FALSE)","v":2},"缺考"]
[3493,"4152270603911","杨雅菲","320独山县乡镇小学","02小学语文教师",{"$f":"VLOOKUP(B3495,[1]Sheet1!$A:$I,8,0)","v":"0.00"},{"$f":"VLOOKUP(B3495,[1]Sheet1!$A:$I,9,0)","v":"0.00"},{"$f":"VLOOKUP(B3495,[2]少数民族加分!$C$1:$E$65536,3,FALSE)","v":2},"缺考"]
[3494,"4152270604614","陈艳","320独山县乡镇小学","02小学语文教师",{"$f":"VLOOKUP(B3496,[1]Sheet1!$A:$I,8,0)","v":"0.00"},{"$f":"VLOOKUP(B3496,[1]Sheet1!$A:$I,9,0)","v":"0.00"},null,"缺考"]
[3495,"4152270605104","郭悦","320独山县乡镇小学","02小学语文教师",{"$f":"VLOOKUP(B3497,[1]Sheet1!$A:$I,8,0)","v":"0.00"},{"$f":"VLOOKUP(B3497,[1]Sheet1!$A:$I,9,0)","v":"0.00"},{"$f":"VLOOKUP(B3497,[2]少数民族加分!$C$1:$E$65536,3,FALSE)","v":2},"缺考"]
[3496,"4152270605114","周书会","320独山县乡镇小学","02小学语文教师",{"$f":"VLOOKUP(B3498,[1]Sheet1!$A:$I,8,0)","v":"0.00"},{"$f":"VLOOKUP(B3498,[1]Sheet1!$A:$I,9,0)","v":"0.00"},null,"缺考"]
[3497,"4152270605212","张美玲","320独山县乡镇小学","02小学语文教师",{"$f":"VLOOKUP(B3499,[1]Sheet1!$A:$I,8,0)","v":"0.00"},{"$f":"VLOOKUP(B3499,[1]Sheet1!$A:$I,9,0)","v":"0.00"},{"$f":"VLOOKUP(B3499,[2]少数民族加分!$C$1:$E$65536,3,FALSE)","v":2},"缺考"]
[3498,"4152270700210","桂承文","320独山县乡镇小学","02小学语文教师",{"$f":"VLOOKUP(B3500,[1]Sheet1!$A:$I,8,0)","v":"0.00"},{"$f":"VLOOKUP(B3500,[1]Sheet1!$A:$I,9,0)","v":"0.00"},{"$f":"VLOOKUP(B3500,[2]少数民族加分!$C$1:$E$65536,3,FALSE)","v":2},"缺考"]
[3499,"4152270700213","潘祖夯","320独山县乡镇小学","02小学语文教师",{"$f":"VLOOKUP(B3501,[1]Sheet1!$A:$I,8,0)","v":"0.00"},{"$f":"VLOOKUP(B3501,[1]Sheet1!$A:$I,9,0)","v":"0.00"},{"$f":"VLOOKUP(B3501,[2]少数民族加分!$C$1:$E$65536,3,FALSE)","v":2},"缺考"]
[3500,"4152270700315","张祥松","320独山县乡镇小学","02小学语文教师",{"$f":"VLOOKUP(B3502,[1]Sheet1!$A:$I,8,0)","v":"0.00"},{"$f":"VLOOKUP(B3502,[1]Sheet1!$A:$I,9,0)","v":"0.00"},{"$f":"VLOOKUP(B3502,[2]少数民族加分!$C$1:$E$65536,3,FALSE)","v":2},"缺考"]
[3501,"4152270701008","丁梅","320独山县乡镇小学","02小学语文教师",{"$f":"VLOOKUP(B3503,[1]Sheet1!$A:$I,8,0)","v":"0.00"},{"$f":"VLOOKUP(B3503,[1]Sheet1!$A:$I,9,0)","v":"0.00"},null,"缺考"]
[3502,"4152270701119","周妮","320独山县乡镇小学","02小学语文教师",{"$f":"VLOOKUP(B3504,[1]Sheet1!$A:$I,8,0)","v":"0.00"},{"$f":"VLOOKUP(B3504,[1]Sheet1!$A:$I,9,0)","v":"0.00"},null,"缺考"]
[3503,"4152270604012","廖容贤","320独山县乡镇小学","03小学数学教师",{"$f":"VLOOKUP(B3505,[1]Sheet1!$A:$I,8,0)","v":"86.00"},{"$f":"VLOOKUP(B3505,[1]Sheet1!$A:$I,9,0)","v":"93.50"},null,{"v":179.5,"d":"179.50"}]
[3504,"4152270604027","杨先州","320独山县乡镇小学","03小学数学教师",{"$f":"VLOOKUP(B3506,[1]Sheet1!$A:$I,8,0)","v":"91.50"},{"$f":"VLOOKUP(B3506,[1]Sheet1!$A:$I,9,0)","v":"85.50"},{"$f":"VLOOKUP(B3506,[2]少数民族加分!$C$1:$E$65536,3,FALSE)","v":2},{"v":179,"d":"179.00"}]
[3505,"4152270700422","张媛","320独山县乡镇小学","03小学数学教师",{"$f":"VLOOKUP(B3507,[1]Sheet1!$A:$I,8,0)","v":"92.50"},{"$f":"VLOOKUP(B3507,[1]Sheet1!$A:$I,9,0)","v":"75.00"},null,{"v":167.5,"d":"167.50"}]
[3506,"4152270604304","冯牧","320独山县乡镇小学","03小学数学教师",{"$f":"VLOOKUP(B3508,[1]Sheet1!$A:$I,8,0)","v":"97.00"},{"$f":"VLOOKUP(B3508,[1]Sheet1!$A:$I,9,0)","v":"64.50"},{"$f":"VLOOKUP(B3508,[2]少数民族加分!$C$1:$E$65536,3,FALSE)","v":2},{"v":163.5,"d":"163.50"}]
[3507,"4152270700425","吴五莲","320独山县乡镇小学","03小学数学教师",{"$f":"VLOOKUP(B3509,[1]Sheet1!$A:$I,8,0)","v":"75.50"},{"$f":"VLOOKUP(B3509,[1]Sheet1!$A:$I,9,0)","v":"78.00"},{"$f":"VLOOKUP(B3509,[2]少数民族加分!$C$1:$E$65536,3,FALSE)","v":2},{"v":155.5,"d":"155.50"}]
[3508,"4152270603903","韦香凌","320独山县乡镇小学","03小学数学教师",{"$f":"VLOOKUP(B3510,[1]Sheet1!$A:$I,8,0)","v":"81.50"},{"$f":"VLOOKUP(B3510,[1]Sheet1!$A:$I,9,0)","v":"70.00"},{"$f":"VLOOKUP(B3510,[2]少数民族加分!$C$1:$E$65536,3,FALSE)","v":2},{"v":153.5,"d":"153.50"}]
[3509,"4152270604720","张啟刚","320独山县乡镇小学","03小学数学教师",{"$f":"VLOOKUP(B3511,[1]Sheet1!$A:$I,8,0)","v":"93.50"},{"$f":"VLOOKUP(B3511,[1]Sheet1!$A:$I,9,0)","v":"58.00"},{"$f":"VLOOKUP(B3511,[2]少数民族加分!$C$1:$E$65536,3,FALSE)","v":2},{"v":153.5,"d":"153.50"}]
[3510,"4152270603725","罗玉保","320独山县乡镇小学","03小学数学教师",{"$f":"VLOOKUP(B3512,[1]Sheet1!$A:$I,8,0)","v":"70.00"},{"$f":"VLOOKUP(B3512,[1]Sheet1!$A:$I,9,0)","v":"72.00"},{"$f":"VLOOKUP(B3512,[2]少数民族加分!$C$1:$E$65536,3,FALSE)","v":2},{"v":144,"d":"144.00"}]
[3511,"4152270700917","杨开云","320独山县乡镇小学","03小学数学教师",{"$f":"VLOOKUP(B3513,[1]Sheet1!$A:$I,8,0)","v":"63.50"},{"$f":"VLOOKUP(B3513,[1]Sheet1!$A:$I,9,0)","v":"77.50"},{"$f":"VLOOKUP(B3513,[2]少数民族加分!$C$1:$E$65536,3,FALSE)","v":2},{"v":143,"d":"143.00"}]
[3512,"4152270602810","李瑞阳","320独山县乡镇小学","03小学数学教师",{"$f":"VLOOKUP(B3514,[1]Sheet1!$A:$I,8,0)","v":"79.00"},{"$f":"VLOOKUP(B3514,[1]Sheet1!$A:$I,9,0)","v":"58.50"},null,{"v":137.5,"d":"137.50"}]
[3513,"4152270603105","蒙丹","320独山县乡镇小学","03小学数学教师",{"$f":"VLOOKUP(B3515,[1]Sheet1!$A:$I,8,0)","v":"73.00"},{"$f":"VLOOKUP(B3515,[1]Sheet1!$A:$I,9,0)","v":"64.50"},null,{"v":137.5,"d":"137.50"}]
[3514,"4152270604007","李帮勇","320独山县乡镇小学","03小学数学教师",{"$f":"VLOOKUP(B3516,[1]Sheet1!$A:$I,8,0)","v":"75.50"},{"$f":"VLOOKUP(B3516,[1]Sheet1!$A:$I,9,0)","v":"51.00"},{"$f":"VLOOKUP(B3516,[2]少数民族加分!$C$1:$E$65536,3,FALSE)","v":2},{"v":128.5,"d":"128.50"}]
[3515,"4152270604511","陈飘","320独山县乡镇小学","03小学数学教师",{"$f":"VLOOKUP(B3517,[1]Sheet1!$A:$I,8,0)","v":"0.00"},{"$f":"VLOOKUP(B3517,[1]Sheet1!$A:$I,9,0)","v":"0.00"},{"$f":"VLOOKUP(B3517,[2]少数民族加分!$C$1:$E$65536,3,FALSE)","v":2},"缺考"]
[3516,"4152270700230","王小康","320独山县乡镇小学","03小学数学教师",{"$f":"VLOOKUP(B3518,[1]Sheet1!$A:$I,8,0)","v":"0.00"},{"$f":"VLOOKUP(B3518,[1]Sheet1!$A:$I,9,0)","v":"0.00"},null,"缺考"]
[3517,"4152270700802","龙丹","320独山县乡镇小学","04小学英语教师",{"$f":"VLOOKUP(B3519,[1]Sheet1!$A:$I,8,0)","v":"102.00"},{"$f":"VLOOKUP(B3519,[1]Sheet1!$A:$I,9,0)","v":"98.00"},{"$f":"VLOOKUP(B3519,[2]少数民族加分!$C$1:$E$65536,3,FALSE)","v":2},{"v":202,"d":"202.00"}]
[3518,"4152270604204","王琳","320独山县乡镇小学","04小学英语教师",{"$f":"VLOOKUP(B3520,[1]Sheet1!$A:$I,8,0)","v":"107.50"},{"$f":"VLOOKUP(B3520,[1]Sheet1!$A:$I,9,0)","v":"81.00"},null,{"v":188.5,"d":"188.50"}]
[3519,"4152270700827","蔡吉花","320独山县乡镇小学","04小学英语教师",{"$f":"VLOOKUP(B3521,[1]Sheet1!$A:$I,8,0)","v":"85.00"},{"$f":"VLOOKUP(B3521,[1]Sheet1!$A:$I,9,0)","v":"96.00"},null,{"v":181,"d":"181.00"}]
[3520,"4152270604126","冉龙丽","320独山县乡镇小学","04小学英语教师",{"$f":"VLOOKUP(B3522,[1]Sheet1!$A:$I,8,0)","v":"102.00"},{"$f":"VLOOKUP(B3522,[1]Sheet1!$A:$I,9,0)","v":"77.00"},{"$f":"VLOOKUP(B3522,[2]少数民族加分!$C$1:$E$65536,3,FALSE)","v":2},{"v":181,"d":"181.00"}]
[3521,"4152270604429","邹懿健","320独山县乡镇小学","04小学英语教师",{"$f":"VLOOKUP(B3523,[1]Sheet1!$A:$I,8,0)","v":"74.00"},{"$f":"VLOOKUP(B3523,[1]Sheet1!$A:$I,9,0)","v":"100.00"},{"$f":"VLOOKUP(B3523,[2]少数民族加分!$C$1:$E$65536,3,FALSE)","v":2},{"v":176,"d":"176.00"}]
[3522,"4152270605117","罗国欢","320独山县乡镇小学","04小学英语教师",{"$f":"VLOOKUP(B3524,[1]Sheet1!$A:$I,8,0)","v":"96.50"},{"$f":"VLOOKUP(B3524,[1]Sheet1!$A:$I,9,0)","v":"77.00"},{"$f":"VLOOKUP(B3524,[2]少数民族加分!$C$1:$E$65536,3,FALSE)","v":2},{"v":175.5,"d":"175.50"}]
[3523,"4152270603529","欧吉燕","320独山县乡镇小学","04小学英语教师",{"$f":"VLOOKUP(B3525,[1]Sheet1!$A:$I,8,0)","v":"84.00"},{"$f":"VLOOKUP(B3525,[1]Sheet1!$A:$I,9,0)","v":"86.00"},{"$f":"VLOOKUP(B3525,[2]少数民族加分!$C$1:$E$65536,3,FALSE)","v":2},{"v":172,"d":"172.00"}]
[3524,"4152270605410","黎波瑶","320独山县乡镇小学","04小学英语教师",{"$f":"VLOOKUP(B3526,[1]Sheet1!$A:$I,8,0)","v":"77.00"},{"$f":"VLOOKUP(B3526,[1]Sheet1!$A:$I,9,0)","v":"93.00"},{"$f":"VLOOKUP(B3526,[2]少数民族加分!$C$1:$E$65536,3,FALSE)","v":2},{"v":172,"d":"172.00"}]
[3525,"4152270604108","姚娟","320独山县乡镇小学","04小学英语教师",{"$f":"VLOOKUP(B3527,[1]Sheet1!$A:$I,8,0)","v":"98.00"},{"$f":"VLOOKUP(B3527,[1]Sheet1!$A:$I,9,0)","v":"70.50"},null,{"v":168.5,"d":"168.50"}]
[3526,"4152270605502","刘露","320独山县乡镇小学","04小学英语教师",{"$f":"VLOOKUP(B3528,[1]Sheet1!$A:$I,8,0)","v":"84.50"},{"$f":"VLOOKUP(B3528,[1]Sheet1!$A:$I,9,0)","v":"81.50"},{"$f":"VLOOKUP(B3528,[2]少数民族加分!$C$1:$E$65536,3,FALSE)","v":2},{"v":168,"d":"168.00"}]
[3527,"4152270605429","李成香","320独山县乡镇小学","04小学英语教师",{"$f":"VLOOKUP(B3529,[1]Sheet1!$A:$I,8,0)","v":"93.00"},{"$f":"VLOOKUP(B3529,[1]Sheet1!$A:$I,9,0)","v":"71.00"},{"$f":"VLOOKUP(B3529,[2]少数民族加分!$C$1:$E$65536,3,FALSE)","v":2},{"v":166,"d":"166.00"}]
[3528,"4152270602923","黎祖晓","320独山县乡镇小学","04小学英语教师",{"$f":"VLOOKUP(B3530,[1]Sheet1!$A:$I,8,0)","v":"79.50"},{"$f":"VLOOKUP(B3530,[1]Sheet1!$A:$I,9,0)","v":"84.00"},{"$f":"VLOOKUP(B3530,[2]少数民族加分!$C$1:$E$65536,3,FALSE)","v":2},{"v":165.5,"d":"165.50"}]
[3529,"4152270603730","唐代青","320独山县乡镇小学","04小学英语教师",{"$f":"VLOOKUP(B3531,[1]Sheet1!$A:$I,8,0)","v":"84.50"},{"$f":"VLOOKUP(B3531,[1]Sheet1!$A:$I,9,0)","v":"79.00"},{"$f":"VLOOKUP(B3531,[2]少数民族加分!$C$1:$E$65536,3,FALSE)","v":2},{"v":165.5,"d":"165.50"}]
[3530,"4152270603716","陈兵","320独山县乡镇小学","04小学英语教师",{"$f":"VLOOKUP(B3532,[1]Sheet1!$A:$I,8,0)","v":"91.50"},{"$f":"VLOOKUP(B3532,[1]Sheet1!$A:$I,9,0)","v":"71.00"},{"$f":"VLOOKUP(B3532,[2]少数民族加分!$C$1:$E$65536,3,FALSE)","v":2},{"v":164.5,"d":"164.50"}]
[3531,"4152270603902","张春艳","320独山县乡镇小学","04小学英语教师",{"$f":"VLOOKUP(B3533,[1]Sheet1!$A:$I,8,0)","v":"82.00"},{"$f":"VLOOKUP(B3533,[1]Sheet1!$A:$I,9,0)","v":"80.00"},null,{"v":162,"d":"162.00"}]
[3533,"4152270604703","刘厚颖","320独山县乡镇小学","04小学英语教师",{"$f":"VLOOKUP(B3534,[1]Sheet1!$A:$I,8,0)","v":"93.50"},{"$f":"VLOOKUP(B3534,[1]Sheet1!$A:$I,9,0)","v":"66.50"},{"$f":"VLOOKUP(B3534,[2]少数民族加分!$C$1:$E$65536,3,FALSE)","v":2},{"v":162,"d":"162.00"}]
[3532,"4152270604404","鲁璐","320独山县乡镇小学","04小学英语教师",{"$f":"VLOOKUP(B3535,[1]Sheet1!$A:$I,8,0)","v":"95.50"},{"$f":"VLOOKUP(B3535,[1]Sheet1!$A:$I,9,0)","v":"66.00"},null,{"v":161.5,"d":"161.50"}]
[3534,"4152270701018","陆明倩","320独山县乡镇小学","04小学英语教师",{"$f":"VLOOKUP(B3536,[1]Sheet1!$A:$I,8,0)","v":"85.50"},{"$f":"VLOOKUP(B3536,[1]Sheet1!$A:$I,9,0)","v":"74.00"},{"$f":"VLOOKUP(B3536,[2]少数民族加分!$C$1:$E$65536,3,FALSE)","v":2},{"v":161.5,"d":"161.50"}]
[3535,"4152270700723","张儒芳","320独山县乡镇小学","04小学英语教师",{"$f":"VLOOKUP(B3537,[1]Sheet1!$A:$I,8,0)","v":"68.50"},{"$f":"VLOOKUP(B3537,[1]Sheet1!$A:$I,9,0)","v":"89.00"},{"$f":"VLOOKUP(B3537,[2]少数民族加分!$C$1:$E$65536,3,FALSE)","v":2},{"v":159.5,"d":"159.50"}]
[3536,"4152270603227","罗慧敏","320独山县乡镇小学","04小学英语教师",{"$f":"VLOOKUP(B3538,[1]Sheet1!$A:$I,8,0)","v":"82.00"},{"$f":"VLOOKUP(B3538,[1]Sheet1!$A:$I,9,0)","v":"75.50"},{"$f":"VLOOKUP(B3538,[2]少数民族加分!$C$1:$E$65536,3,FALSE)","v":2},{"v":159.5,"d":"159.50"}]
[3537,"4152270603406","杨倩","320独山县乡镇小学","04小学英语教师",{"$f":"VLOOKUP(B3539,[1]Sheet1!$A:$I,8,0)","v":"89.00"},{"$f":"VLOOKUP(B3539,[1]Sheet1!$A:$I,9,0)","v":"66.50"},{"$f":"VLOOKUP(B3539,[2]少数民族加分!$C$1:$E$65536,3,FALSE)","v":2},{"v":157.5,"d":"157.50"}]
[3540,"4152270602624","梁光标","320独山县乡镇小学","04小学英语教师",{"$f":"VLOOKUP(B3540,[1]Sheet1!$A:$I,8,0)","v":"95.00"},{"$f":"VLOOKUP(B3540,[1]Sheet1!$A:$I,9,0)","v":"59.50"},{"$f":"VLOOKUP(B3540,[2]少数民族加分!$C$1:$E$65536,3,FALSE)","v":2},{"v":156.5,"d":"156.50"}]
[3542,"4152270604222","熊昌琴","320独山县乡镇小学","04小学英语教师",{"$f":"VLOOKUP(B3541,[1]Sheet1!$A:$I,8,0)","v":"83.50"},{"$f":"VLOOKUP(B3541,[1]Sheet1!$A:$I,9,0)","v":"71.00"},{"$f":"VLOOKUP(B3541,[2]少数民族加分!$C$1:$E$65536,3,FALSE)","v":2},{"v":156.5,"d":"156.50"}]
[3543,"4152270700502","欧阳玲慧","320独山县乡镇小学","04小学英语教师",{"$f":"VLOOKUP(B3542,[1]Sheet1!$A:$I,8,0)","v":"81.00"},{"$f":"VLOOKUP(B3542,[1]Sheet1!$A:$I,9,0)","v":"73.00"},{"$f":"VLOOKUP(B3542,[2]少数民族加分!$C$1:$E$65536,3,FALSE)","v":2},{"v":156,"d":"156.00"}]
[3538,"4152270604410","黄丹","320独山县乡镇小学","04小学英语教师",{"$f":"VLOOKUP(B3543,[1]Sheet1!$A:$I,8,0)","v":"82.50"},{"$f":"VLOOKUP(B3543,[1]Sheet1!$A:$I,9,0)","v":"73.00"},null,{"v":155.5,"d":"155.50"}]
[3539,"4152270603706","吴雪梅","320独山县乡镇小学","04小学英语教师",{"$f":"VLOOKUP(B3544,[1]Sheet1!$A:$I,8,0)","v":"96.00"},{"$f":"VLOOKUP(B3544,[1]Sheet1!$A:$I,9,0)","v":"59.00"},null,{"v":155,"d":"155.00"}]
[3541,"4152270603303","喻金凤","320独山县乡镇小学","04小学英语教师",{"$f":"VLOOKUP(B3545,[1]Sheet1!$A:$I,8,0)","v":"86.50"},{"$f":"VLOOKUP(B3545,[1]Sheet1!$A:$I,9,0)","v":"68.00"},null,{"v":154.5,"d":"154.50"}]
[3545,"4152270603927","张优凤","320独山县乡镇小学","04小学英语教师",{"$f":"VLOOKUP(B3546,[1]Sheet1!$A:$I,8,0)","v":"75.00"},{"$f":"VLOOKUP(B3546,[1]Sheet1!$A:$I,9,0)","v":"77.00"},{"$f":"VLOOKUP(B3546,[2]少数民族加分!$C$1:$E$65536,3,FALSE)","v":2},{"v":154,"d":"154.00"}]
[3544,"4152270701114","贺匀","320独山县乡镇小学","04小学英语教师",{"$f":"VLOOKUP(B3547,[1]Sheet1!$A:$I,8,0)","v":"81.50"},{"$f":"VLOOKUP(B3547,[1]Sheet1!$A:$I,9,0)","v":"72.00"},null,{"v":153.5,"d":"153.50"}]
[3546,"4152270604305","周伟露","320独山县乡镇小学","04小学英语教师",{"$f":"VLOOKUP(B3548,[1]Sheet1!$A:$I,8,0)","v":"83.00"},{"$f":"VLOOKUP(B3548,[1]Sheet1!$A:$I,9,0)","v":"67.50"},{"$f":"VLOOKUP(B3548,[2]少数民族加分!$C$1:$E$65536,3,FALSE)","v":2},{"v":152.5,"d":"152.50"}]
[3548,"4152270604413","吴艳情","320独山县乡镇小学","04小学英语教师",{"$f":"VLOOKUP(B3549,[1]Sheet1!$A:$I,8,0)","v":"75.00"},{"$f":"VLOOKUP(B3549,[1]Sheet1!$A:$I,9,0)","v":"74.00"},{"$f":"VLOOKUP(B3549,[2]少数民族加分!$C$1:$E$65536,3,FALSE)","v":2},{"v":151,"d":"151.00"}]
[3547,"4152270700323","刘大娟","320独山县乡镇小学","04小学英语教师",{"$f":"VLOOKUP(B3550,[1]Sheet1!$A:$I,8,0)","v":"84.50"},{"$f":"VLOOKUP(B3550,[1]Sheet1!$A:$I,9,0)","v":"65.00"},null,{"v":149.5,"d":"149.50"}]
[3549,"4152270700129","张黔娜","320独山县乡镇小学","04小学英语教师",{"$f":"VLOOKUP(B3551,[1]Sheet1!$A:$I,8,0)","v":"73.50"},{"$f":"VLOOKUP(B3551,[1]Sheet1!$A:$I,9,0)","v":"73.00"},{"$f":"VLOOKUP(B3551,[2]少数民族加分!$C$1:$E$65536,3,FALSE)","v":2},{"v":148.5,"d":"148.50"}]
[3551,"4152270604430","蒙应维","320独山县乡镇小学","04小学英语教师",{"$f":"VLOOKUP(B3552,[1]Sheet1!$A:$I,8,0)","v":"78.00"},{"$f":"VLOOKUP(B3552,[1]Sheet1!$A:$I,9,0)","v":"67.00"},{"$f":"VLOOKUP(B3552,[2]少数民族加分!$C$1:$E$65536,3,FALSE)","v":2},{"v":147,"d":"147.00"}]
[3550,"4152270700619","姚萍","320独山县乡镇小学","04小学英语教师",{"$f":"VLOOKUP(B3553,[1]Sheet1!$A:$I,8,0)","v":"81.00"},{"$f":"VLOOKUP(B3553,[1]Sheet1!$A:$I,9,0)","v":"65.00"},null,{"v":146,"d":"146.00"}]
[3552,"4152270603607","翁铭欢","320独山县乡镇小学","04小学英语教师",{"$f":"VLOOKUP(B3554,[1]Sheet1!$A:$I,8,0)","v":"69.50"},{"$f":"VLOOKUP(B3554,[1]Sheet1!$A:$I,9,0)","v":"73.00"},null,{"v":142.5,"d":"142.50"}]
[3553,"4152270700128","陆双双","320独山县乡镇小学","04小学英语教师",{"$f":"VLOOKUP(B3555,[1]Sheet1!$A:$I,8,0)","v":"73.00"},{"$f":"VLOOKUP(B3555,[1]Sheet1!$A:$I,9,0)","v":"68.00"},null,{"v":141,"d":"141.00"}]
[3555,"4152270604510","吴柳枝","320独山县乡镇小学","04小学英语教师",{"$f":"VLOOKUP(B3556,[1]Sheet1!$A:$I,8,0)","v":"60.50"},{"$f":"VLOOKUP(B3556,[1]Sheet1!$A:$I,9,0)","v":"74.00"},{"$f":"VLOOKUP(B3556,[2]少数民族加分!$C$1:$E$65536,3,FALSE)","v":2},{"v":136.5,"d":"136.50"}]
[3554,"4152270603021","张玲","320独山县乡镇小学","04小学英语教师",{"$f":"VLOOKUP(B3557,[1]Sheet1!$A:$I,8,0)","v":"62.00"},{"$f":"VLOOKUP(B3557,[1]Sheet1!$A:$I,9,0)","v":"74.00"},null,{"v":136,"d":"136.00"}]
[3556,"4152270700519","欧美林","320独山县乡镇小学","04小学英语教师",{"$f":"VLOOKUP(B3558,[1]Sheet1!$A:$I,8,0)","v":"81.50"},{"$f":"VLOOKUP(B3558,[1]Sheet1!$A:$I,9,0)","v":"51.00"},{"$f":"VLOOKUP(B3558,[2]少数民族加分!$C$1:$E$65536,3,FALSE)","v":2},{"v":134.5,"d":"134.50"}]
[3557,"4152270602829","张勤思","320独山县乡镇小学","04小学英语教师",{"$f":"VLOOKUP(B3559,[1]Sheet1!$A:$I,8,0)","v":"63.00"},{"$f":"VLOOKUP(B3559,[1]Sheet1!$A:$I,9,0)","v":"69.00"},{"$f":"VLOOKUP(B3559,[2]少数民族加分!$C$1:$E$65536,3,FALSE)","v":2},{"v":134,"d":"134.00"}]
[3558,"4152270603030","旷琴丹","320独山县乡镇小学","04小学英语教师",{"$f":"VLOOKUP(B3560,[1]Sheet1!$A:$I,8,0)","v":"64.50"},{"$f":"VLOOKUP(B3560,[1]Sheet1!$A:$I,9,0)","v":"66.00"},{"$f":"VLOOKUP(B3560,[2]少数民族加分!$C$1:$E$65536,3,FALSE)","v":2},{"v":132.5,"d":"132.50"}]
[3559,"4152270603823","莫燕红","320独山县乡镇小学","04小学英语教师",{"$f":"VLOOKUP(B3561,[1]Sheet1!$A:$I,8,0)","v":"67.50"},{"$f":"VLOOKUP(B3561,[1]Sheet1!$A:$I,9,0)","v":"61.00"},{"$f":"VLOOKUP(B3561,[2]少数民族加分!$C$1:$E$65536,3,FALSE)","v":2},{"v":130.5,"d":"130.50"}]
[3560,"4152270604624","王海艳","320独山县乡镇小学","04小学英语教师",{"$f":"VLOOKUP(B3562,[1]Sheet1!$A:$I,8,0)","v":"61.50"},{"$f":"VLOOKUP(B3562,[1]Sheet1!$A:$I,9,0)","v":"67.00"},{"$f":"VLOOKUP(B3562,[2]少数民族加分!$C$1:$E$65536,3,FALSE)","v":2},{"v":130.5,"d":"130.50"}]
[3561,"4152270700105","吴荣佳","320独山县乡镇小学","04小学英语教师",{"$f":"VLOOKUP(B3563,[1]Sheet1!$A:$I,8,0)","v":"73.50"},{"$f":"VLOOKUP(B3563,[1]Sheet1!$A:$I,9,0)","v":"54.00"},{"$f":"VLOOKUP(B3563,[2]少数民族加分!$C$1:$E$65536,3,FALSE)","v":2},{"v":129.5,"d":"129.50"}]
[3562,"4152270701115","李家焕","320独山县乡镇小学","04小学英语教师",{"$f":"VLOOKUP(B3564,[1]Sheet1!$A:$I,8,0)","v":"69.50"},{"$f":"VLOOKUP(B3564,[1]Sheet1!$A:$I,9,0)","v":"57.00"},{"$f":"VLOOKUP(B3564,[2]少数民族加分!$C$1:$E$65536,3,FALSE)","v":2},{"v":128.5,"d":"128.50"}]
[3563,"4152270603301","赵远青","320独山县乡镇小学","04小学英语教师",{"$f":"VLOOKUP(B3565,[1]Sheet1!$A:$I,8,0)","v":"69.00"},{"$f":"VLOOKUP(B3565,[1]Sheet1!$A:$I,9,0)","v":"55.00"},{"$f":"VLOOKUP(B3565,[2]少数民族加分!$C$1:$E$65536,3,FALSE)","v":2},{"v":126,"d":"126.00"}]
[3564,"4152270700218","谭忠线","320独山县乡镇小学","04小学英语教师",{"$f":"VLOOKUP(B3566,[1]Sheet1!$A:$I,8,0)","v":"81.50"},{"$f":"VLOOKUP(B3566,[1]Sheet1!$A:$I,9,0)","v":"39.00"},null,{"v":120.5,"d":"120.50"}]
[3565,"4152270605330","蒙秉琼","320独山县乡镇小学","04小学英语教师",{"$f":"VLOOKUP(B3567,[1]Sheet1!$A:$I,8,0)","v":"0.00"},{"$f":"VLOOKUP(B3567,[1]Sheet1!$A:$I,9,0)","v":"0.00"},null,"缺考"]
[3566,"4152270605407","黄针九","320独山县乡镇小学","04小学英语教师",{"$f":"VLOOKUP(B3568,[1]Sheet1!$A:$I,8,0)","v":"0.00"},{"$f":"VLOOKUP(B3568,[1]Sheet1!$A:$I,9,0)","v":"0.00"},{"$f":"VLOOKUP(B3568,[2]少数民族加分!$C$1:$E$65536,3,FALSE)","v":2},"缺考"]
[3567,"4152270605512","黄晓琴","320独山县乡镇小学","04小学英语教师",{"$f":"VLOOKUP(B3569,[1]Sheet1!$A:$I,8,0)","v":"0.00"},{"$f":"VLOOKUP(B3569,[1]Sheet1!$A:$I,9,0)","v":"0.00"},{"$f":"VLOOKUP(B3569,[2]少数民族加分!$C$1:$E$65536,3,FALSE)","v":2},"缺考"]
[3568,"4152270605622","杨时丽","320独山县乡镇小学","04小学英语教师",{"$f":"VLOOKUP(B3570,[1]Sheet1!$A:$I,8,0)","v":"0.00"},{"$f":"VLOOKUP(B3570,[1]Sheet1!$A:$I,9,0)","v":"0.00"},{"$f":"VLOOKUP(B3570,[2]少数民族加分!$C$1:$E$65536,3,FALSE)","v":2},"缺考"]
[3569,"4152270701208","罗春梅","320独山县乡镇小学","04小学英语教师",{"$f":"VLOOKUP(B3571,[1]Sheet1!$A:$I,8,0)","v":"0.00"},{"$f":"VLOOKUP(B3571,[1]Sheet1!$A:$I,9,0)","v":"0.00"},null,"缺考"]
[3570,"4152270603103","张敏","320独山县乡镇小学","04小学英语教师",{"$f":"VLOOKUP(B3572,[1]Sheet1!$A:$I,8,0)","v":"0.00"},{"$f":"VLOOKUP(B3572,[1]Sheet1!$A:$I,9,0)","v":"0.00"},null,"缺考"]
[3571,"4152270603409","林叶","320独山县乡镇小学","04小学英语教师",{"$f":"VLOOKUP(B3573,[1]Sheet1!$A:$I,8,0)","v":"0.00"},{"$f":"VLOOKUP(B3573,[1]Sheet1!$A:$I,9,0)","v":"0.00"},{"$f":"VLOOKUP(B3573,[2]少数民族加分!$C$1:$E$65536,3,FALSE)","v":2},"缺考"]
[3572,"4152270603509","杨校","320独山县乡镇小学","04小学英语教师",{"$f":"VLOOKUP(B3574,[1]Sheet1!$A:$I,8,0)","v":"0.00"},{"$f":"VLOOKUP(B3574,[1]Sheet1!$A:$I,9,0)","v":"0.00"},{"$f":"VLOOKUP(B3574,[2]少数民族加分!$C$1:$E$65536,3,FALSE)","v":2},"缺考"]
[3573,"4152270603627","曾祥花","320独山县乡镇小学","04小学英语教师",{"$f":"VLOOKUP(B3575,[1]Sheet1!$A:$I,8,0)","v":"0.00"},{"$f":"VLOOKUP(B3575,[1]Sheet1!$A:$I,9,0)","v":"0.00"},null,"缺考"]
[3574,"4152270603924","陆秀娟","320独山县乡镇小学","04小学英语教师",{"$f":"VLOOKUP(B3576,[1]Sheet1!$A:$I,8,0)","v":"0.00"},{"$f":"VLOOKUP(B3576,[1]Sheet1!$A:$I,9,0)","v":"0.00"},{"$f":"VLOOKUP(B3576,[2]少数民族加分!$C$1:$E$65536,3,FALSE)","v":2},"缺考"]
[3575,"4152270604506","陆明琴","320独山县乡镇小学","04小学英语教师",{"$f":"VLOOKUP(B3577,[1]Sheet1!$A:$I,8,0)","v":"0.00"},{"$f":"VLOOKUP(B3577,[1]Sheet1!$A:$I,9,0)","v":"0.00"},null,"缺考"]
[3576,"4152270604915","梁虹","320独山县乡镇小学","04小学英语教师",{"$f":"VLOOKUP(B3578,[1]Sheet1!$A:$I,8,0)","v":"0.00"},{"$f":"VLOOKUP(B3578,[1]Sheet1!$A:$I,9,0)","v":"0.00"},{"$f":"VLOOKUP(B3578,[2]少数民族加分!$C$1:$E$65536,3,FALSE)","v":2},"缺考"]
[3577,"4152270605201","胡贵雪","320独山县乡镇小学","04小学英语教师",{"$f":"VLOOKUP(B3579,[1]Sheet1!$A:$I,8,0)","v":"0.00"},{"$f":"VLOOKUP(B3579,[1]Sheet1!$A:$I,9,0)","v":"0.00"},null,"缺考"]
[3578,"4152270700528","金芳","320独山县乡镇小学","05小学音乐教师",{"$f":"VLOOKUP(B3580,[1]Sheet1!$A:$I,8,0)","v":"97.50"},{"$f":"VLOOKUP(B3580,[1]Sheet1!$A:$I,9,0)","v":"76.50"},{"$f":"VLOOKUP(B3580,[2]少数民族加分!$C$1:$E$65536,3,FALSE)","v":2},{"v":176,"d":"176.00"}]
[3579,"4152270602618","王颖","320独山县乡镇小学","05小学音乐教师",{"$f":"VLOOKUP(B3581,[1]Sheet1!$A:$I,8,0)","v":"84.00"},{"$f":"VLOOKUP(B3581,[1]Sheet1!$A:$I,9,0)","v":"75.00"},{"$f":"VLOOKUP(B3581,[2]少数民族加分!$C$1:$E$65536,3,FALSE)","v":2},{"v":161,"d":"161.00"}]
[3580,"4152270604513","杨晓丽","320独山县乡镇小学","05小学音乐教师",{"$f":"VLOOKUP(B3582,[1]Sheet1!$A:$I,8,0)","v":"84.00"},{"$f":"VLOOKUP(B3582,[1]Sheet1!$A:$I,9,0)","v":"73.50"},{"$f":"VLOOKUP(B3582,[2]少数民族加分!$C$1:$E$65536,3,FALSE)","v":2},{"v":159.5,"d":"159.50"}]
[3581,"4152270700813","余海波","320独山县乡镇小学","05小学音乐教师",{"$f":"VLOOKUP(B3583,[1]Sheet1!$A:$I,8,0)","v":"89.00"},{"$f":"VLOOKUP(B3583,[1]Sheet1!$A:$I,9,0)","v":"66.50"},null,{"v":155.5,"d":"155.50"}]
[3582,"4152270603004","陈艺","320独山县乡镇小学","05小学音乐教师",{"$f":"VLOOKUP(B3584,[1]Sheet1!$A:$I,8,0)","v":"82.00"},{"$f":"VLOOKUP(B3584,[1]Sheet1!$A:$I,9,0)","v":"70.00"},{"$f":"VLOOKUP(B3584,[2]少数民族加分!$C$1:$E$65536,3,FALSE)","v":2},{"v":154,"d":"154.00"}]
[3583,"4152270605205","黄秋琳","320独山县乡镇小学","05小学音乐教师",{"$f":"VLOOKUP(B3585,[1]Sheet1!$A:$I,8,0)","v":"76.50"},{"$f":"VLOOKUP(B3585,[1]Sheet1!$A:$I,9,0)","v":"75.50"},{"$f":"VLOOKUP(B3585,[2]少数民族加分!$C$1:$E$65536,3,FALSE)","v":2},{"v":154,"d":"154.00"}]
[3585,"4152270700406","王必凤","320独山县乡镇小学","05小学音乐教师",{"$f":"VLOOKUP(B3586,[1]Sheet1!$A:$I,8,0)","v":"89.50"},{"$f":"VLOOKUP(B3586,[1]Sheet1!$A:$I,9,0)","v":"60.50"},{"$f":"VLOOKUP(B3586,[2]少数民族加分!$C$1:$E$65536,3,FALSE)","v":2},{"v":152,"d":"152.00"}]
[3584,"4152270603618","蔡明凤","320独山县乡镇小学","05小学音乐教师",{"$f":"VLOOKUP(B3587,[1]Sheet1!$A:$I,8,0)","v":"79.00"},{"$f":"VLOOKUP(B3587,[1]Sheet1!$A:$I,9,0)","v":"72.00"},null,{"v":151,"d":"151.00"}]
[3586,"4152270604216","张娅麒","320独山县乡镇小学","05小学音乐教师",{"$f":"VLOOKUP(B3588,[1]Sheet1!$A:$I,8,0)","v":"75.00"},{"$f":"VLOOKUP(B3588,[1]Sheet1!$A:$I,9,0)","v":"73.00"},{"$f":"VLOOKUP(B3588,[2]少数民族加分!$C$1:$E$65536,3,FALSE)","v":2},{"v":150,"d":"150.00"}]
[3587,"4152270604502","刘洪桃","320独山县乡镇小学","05小学音乐教师",{"$f":"VLOOKUP(B3589,[1]Sheet1!$A:$I,8,0)","v":"73.50"},{"$f":"VLOOKUP(B3589,[1]Sheet1!$A:$I,9,0)","v":"71.50"},{"$f":"VLOOKUP(B3589,[2]少数民族加分!$C$1:$E$65536,3,FALSE)","v":2},{"v":147,"d":"147.00"}]
[3588,"4152270603026","王贵真","320独山县乡镇小学","05小学音乐教师",{"$f":"VLOOKUP(B3590,[1]Sheet1!$A:$I,8,0)","v":"66.00"},{"$f":"VLOOKUP(B3590,[1]Sheet1!$A:$I,9,0)","v":"78.00"},{"$f":"VLOOKUP(B3590,[2]少数民族加分!$C$1:$E$65536,3,FALSE)","v":2},{"v":146,"d":"146.00"}]
[3589,"4152270604407","张佳","320独山县乡镇小学","05小学音乐教师",{"$f":"VLOOKUP(B3591,[1]Sheet1!$A:$I,8,0)","v":"78.00"},{"$f":"VLOOKUP(B3591,[1]Sheet1!$A:$I,9,0)","v":"64.00"},{"$f":"VLOOKUP(B3591,[2]少数民族加分!$C$1:$E$65536,3,FALSE)","v":2},{"v":144,"d":"144.00"}]
[3590,"4152270604004","骆开欢","320独山县乡镇小学","05小学音乐教师",{"$f":"VLOOKUP(B3592,[1]Sheet1!$A:$I,8,0)","v":"71.00"},{"$f":"VLOOKUP(B3592,[1]Sheet1!$A:$I,9,0)","v":"70.00"},{"$f":"VLOOKUP(B3592,[2]少数民族加分!$C$1:$E$65536,3,FALSE)","v":2},{"v":143,"d":"143.00"}]
[3591,"4152270602704","蔡文琴","320独山县乡镇小学","05小学音乐教师",{"$f":"VLOOKUP(B3593,[1]Sheet1!$A:$I,8,0)","v":"65.00"},{"$f":"VLOOKUP(B3593,[1]Sheet1!$A:$I,9,0)","v":"75.00"},{"$f":"VLOOKUP(B3593,[2]少数民族加分!$C$1:$E$65536,3,FALSE)","v":2},{"v":142,"d":"142.00"}]
[3592,"4152270605310","杨宗梅","320独山县乡镇小学","05小学音乐教师",{"$f":"VLOOKUP(B3594,[1]Sheet1!$A:$I,8,0)","v":"75.50"},{"$f":"VLOOKUP(B3594,[1]Sheet1!$A:$I,9,0)","v":"64.50"},{"$f":"VLOOKUP(B3594,[2]少数民族加分!$C$1:$E$65536,3,FALSE)","v":2},{"v":142,"d":"142.00"}]
[3594,"4152270604609","罗树梅","320独山县乡镇小学","05小学音乐教师",{"$f":"VLOOKUP(B3595,[1]Sheet1!$A:$I,8,0)","v":"72.50"},{"$f":"VLOOKUP(B3595,[1]Sheet1!$A:$I,9,0)","v":"65.00"},{"$f":"VLOOKUP(B3595,[2]少数民族加分!$C$1:$E$65536,3,FALSE)","v":2},{"v":139.5,"d":"139.50"}]
[3593,"4152270605004","杨芸","320独山县乡镇小学","05小学音乐教师",{"$f":"VLOOKUP(B3596,[1]Sheet1!$A:$I,8,0)","v":"66.00"},{"$f":"VLOOKUP(B3596,[1]Sheet1!$A:$I,9,0)","v":"72.00"},null,{"v":138,"d":"138.00"}]
[3595,"4152270604111","吴廷云","320独山县乡镇小学","05小学音乐教师",{"$f":"VLOOKUP(B3597,[1]Sheet1!$A:$I,8,0)","v":"71.50"},{"$f":"VLOOKUP(B3597,[1]Sheet1!$A:$I,9,0)","v":"63.00"},null,{"v":134.5,"d":"134.50"}]
[3596,"4152270604929","杨春","320独山县乡镇小学","05小学音乐教师",{"$f":"VLOOKUP(B3598,[1]Sheet1!$A:$I,8,0)","v":"65.00"},{"$f":"VLOOKUP(B3598,[1]Sheet1!$A:$I,9,0)","v":"67.00"},null,{"v":132,"d":"132.00"}]
[3598,"4152270604516","杨时静","320独山县乡镇小学","05小学音乐教师",{"$f":"VLOOKUP(B3599,[1]Sheet1!$A:$I,8,0)","v":"75.50"},{"$f":"VLOOKUP(B3599,[1]Sheet1!$A:$I,9,0)","v":"52.50"},{"$f":"VLOOKUP(B3599,[2]少数民族加分!$C$1:$E$65536,3,FALSE)","v":2},{"v":130,"d":"130.00"}]
[3597,"4152270602621","朱发雄","320独山县乡镇小学","05小学音乐教师",{"$f":"VLOOKUP(B3600,[1]Sheet1!$A:$I,8,0)","v":"65.00"},{"$f":"VLOOKUP(B3600,[1]Sheet1!$A:$I,9,0)","v":"64.00"},null,{"v":129,"d":"129.00"}]
[3599,"4152270701219","杨雪茗","320独山县乡镇小学","05小学音乐教师",{"$f":"VLOOKUP(B3601,[1]Sheet1!$A:$I,8,0)","v":"59.50"},{"$f":"VLOOKUP(B3601,[1]Sheet1!$A:$I,9,0)","v":"66.00"},{"$f":"VLOOKUP(B3601,[2]少数民族加分!$C$1:$E$65536,3,FALSE)","v":2},{"v":127.5,"d":"127.50"}]
[3600,"4152270605401","吴梦霖","320独山县乡镇小学","05小学音乐教师",{"$f":"VLOOKUP(B3602,[1]Sheet1!$A:$I,8,0)","v":"64.50"},{"$f":"VLOOKUP(B3602,[1]Sheet1!$A:$I,9,0)","v":"60.00"},{"$f":"VLOOKUP(B3602,[2]少数民族加分!$C$1:$E$65536,3,FALSE)","v":2},{"v":126.5,"d":"126.50"}]
[3601,"4152270603203","张淑芳","320独山县乡镇小学","05小学音乐教师",{"$f":"VLOOKUP(B3603,[1]Sheet1!$A:$I,8,0)","v":"55.00"},{"$f":"VLOOKUP(B3603,[1]Sheet1!$A:$I,9,0)","v":"68.00"},{"$f":"VLOOKUP(B3603,[2]少数民族加分!$C$1:$E$65536,3,FALSE)","v":2},{"v":125,"d":"125.00"}]
[3602,"4152270604507","狄先婷","320独山县乡镇小学","05小学音乐教师",{"$f":"VLOOKUP(B3604,[1]Sheet1!$A:$I,8,0)","v":"66.00"},{"$f":"VLOOKUP(B3604,[1]Sheet1!$A:$I,9,0)","v":"56.00"},null,{"v":122,"d":"122.00"}]
[3603,"4152270701003","徐国微","320独山县乡镇小学","05小学音乐教师",{"$f":"VLOOKUP(B3605,[1]Sheet1!$A:$I,8,0)","v":"63.00"},{"$f":"VLOOKUP(B3605,[1]Sheet1!$A:$I,9,0)","v":"52.00"},null,{"v":115,"d":"115.00"}]
[3604,"4152270604310","卢仙庆","320独山县乡镇小学","05小学音乐教师",{"$f":"VLOOKUP(B3606,[1]Sheet1!$A:$I,8,0)","v":"53.50"},{"$f":"VLOOKUP(B3606,[1]Sheet1!$A:$I,9,0)","v":"50.00"},{"$f":"VLOOKUP(B3606,[2]少数民族加分!$C$1:$E$65536,3,FALSE)","v":2},{"v":105.5,"d":"105.50"}]
[3605,"4152270602622","樊启月","320独山县乡镇小学","05小学音乐教师",{"$f":"VLOOKUP(B3607,[1]Sheet1!$A:$I,8,0)","v":"0.00"},{"$f":"VLOOKUP(B3607,[1]Sheet1!$A:$I,9,0)","v":"0.00"},{"$f":"VLOOKUP(B3607,[2]少数民族加分!$C$1:$E$65536,3,FALSE)","v":2},"缺考"]
[3606,"4152270603018","杨胜云","320独山县乡镇小学","05小学音乐教师",{"$f":"VLOOKUP(B3608,[1]Sheet1!$A:$I,8,0)","v":"0.00"},{"$f":"VLOOKUP(B3608,[1]Sheet1!$A:$I,9,0)","v":"0.00"},{"$f":"VLOOKUP(B3608,[2]少数民族加分!$C$1:$E$65536,3,FALSE)","v":2},"缺考"]
[3607,"4152270604701","崔尧宇","320独山县乡镇小学","05小学音乐教师",{"$f":"VLOOKUP(B3609,[1]Sheet1!$A:$I,8,0)","v":"0.00"},{"$f":"VLOOKUP(B3609,[1]Sheet1!$A:$I,9,0)","v":"0.00"},null,"缺考"]
[3608,"4152270605311","付启航","320独山县乡镇小学","05小学音乐教师",{"$f":"VLOOKUP(B3610,[1]Sheet1!$A:$I,8,0)","v":"0.00"},{"$f":"VLOOKUP(B3610,[1]Sheet1!$A:$I,9,0)","v":"0.00"},null,"缺考"]
[3609,"4152270605501","魏啟念","320独山县乡镇小学","05小学音乐教师",{"$f":"VLOOKUP(B3611,[1]Sheet1!$A:$I,8,0)","v":"0.00"},{"$f":"VLOOKUP(B3611,[1]Sheet1!$A:$I,9,0)","v":"0.00"},null,"缺考"]
[3610,"4152270604512","吴英倩","320独山县乡镇小学","06小学美术教师",{"$f":"VLOOKUP(B3612,[1]Sheet1!$A:$I,8,0)","v":"83.50"},{"$f":"VLOOKUP(B3612,[1]Sheet1!$A:$I,9,0)","v":"83.50"},{"$f":"VLOOKUP(B3612,[2]少数民族加分!$C$1:$E$65536,3,FALSE)","v":2},{"v":169,"d":"169.00"}]
[3611,"4152270603020","张贵","320独山县乡镇小学","06小学美术教师",{"$f":"VLOOKUP(B3613,[1]Sheet1!$A:$I,8,0)","v":"83.00"},{"$f":"VLOOKUP(B3613,[1]Sheet1!$A:$I,9,0)","v":"79.50"},null,{"v":162.5,"d":"162.50"}]
[3612,"4152270700205","罗贤美","320独山县乡镇小学","06小学美术教师",{"$f":"VLOOKUP(B3614,[1]Sheet1!$A:$I,8,0)","v":"83.50"},{"$f":"VLOOKUP(B3614,[1]Sheet1!$A:$I,9,0)","v":"76.00"},{"$f":"VLOOKUP(B3614,[2]少数民族加分!$C$1:$E$65536,3,FALSE)","v":2},{"v":161.5,"d":"161.50"}]
[3613,"4152270605219","罗兴燕","320独山县乡镇小学","06小学美术教师",{"$f":"VLOOKUP(B3615,[1]Sheet1!$A:$I,8,0)","v":"73.00"},{"$f":"VLOOKUP(B3615,[1]Sheet1!$A:$I,9,0)","v":"85.00"},{"$f":"VLOOKUP(B3615,[2]少数民族加分!$C$1:$E$65536,3,FALSE)","v":2},{"v":160,"d":"160.00"}]
[3614,"4152270605102","朱定艳","320独山县乡镇小学","06小学美术教师",{"$f":"VLOOKUP(B3616,[1]Sheet1!$A:$I,8,0)","v":"81.00"},{"$f":"VLOOKUP(B3616,[1]Sheet1!$A:$I,9,0)","v":"75.00"},null,{"v":156,"d":"156.00"}]
[3615,"4152270604419","刘羽弘竹","320独山县乡镇小学","06小学美术教师",{"$f":"VLOOKUP(B3617,[1]Sheet1!$A:$I,8,0)","v":"81.50"},{"$f":"VLOOKUP(B3617,[1]Sheet1!$A:$I,9,0)","v":"70.50"},null,{"v":152,"d":"152.00"}]
[3616,"4152270604621","吴东慧","320独山县乡镇小学","06小学美术教师",{"$f":"VLOOKUP(B3618,[1]Sheet1!$A:$I,8,0)","v":"78.00"},{"$f":"VLOOKUP(B3618,[1]Sheet1!$A:$I,9,0)","v":"72.00"},{"$f":"VLOOKUP(B3618,[2]少数民族加分!$C$1:$E$65536,3,FALSE)","v":2},{"v":152,"d":"152.00"}]
[3617,"4152270603925","罗雅","320独山县乡镇小学","06小学美术教师",{"$f":"VLOOKUP(B3619,[1]Sheet1!$A:$I,8,0)","v":"82.00"},{"$f":"VLOOKUP(B3619,[1]Sheet1!$A:$I,9,0)","v":"67.00"},{"$f":"VLOOKUP(B3619,[2]少数民族加分!$C$1:$E$65536,3,FALSE)","v":2},{"v":151,"d":"151.00"}]
[3618,"4152270605003","韦朝春","320独山县乡镇小学","06小学美术教师",{"$f":"VLOOKUP(B3620,[1]Sheet1!$A:$I,8,0)","v":"83.00"},{"$f":"VLOOKUP(B3620,[1]Sheet1!$A:$I,9,0)","v":"66.00"},{"$f":"VLOOKUP(B3620,[2]少数民族加分!$C$1:$E$65536,3,FALSE)","v":2},{"v":151,"d":"151.00"}]
[3619,"4152270700413","王建芳","320独山县乡镇小学","06小学美术教师",{"$f":"VLOOKUP(B3621,[1]Sheet1!$A:$I,8,0)","v":"70.50"},{"$f":"VLOOKUP(B3621,[1]Sheet1!$A:$I,9,0)","v":"78.00"},{"$f":"VLOOKUP(B3621,[2]少数民族加分!$C$1:$E$65536,3,FALSE)","v":2},{"v":150.5,"d":"150.50"}]
[3620,"4152270700116","罗文欢","320独山县乡镇小学","06小学美术教师",{"$f":"VLOOKUP(B3622,[1]Sheet1!$A:$I,8,0)","v":"66.50"},{"$f":"VLOOKUP(B3622,[1]Sheet1!$A:$I,9,0)","v":"80.00"},{"$f":"VLOOKUP(B3622,[2]少数民族加分!$C$1:$E$65536,3,FALSE)","v":2},{"v":148.5,"d":"148.50"}]
[3621,"4152270603503","罗来顺","320独山县乡镇小学","06小学美术教师",{"$f":"VLOOKUP(B3623,[1]Sheet1!$A:$I,8,0)","v":"88.50"},{"$f":"VLOOKUP(B3623,[1]Sheet1!$A:$I,9,0)","v":"58.00"},{"$f":"VLOOKUP(B3623,[2]少数民族加分!$C$1:$E$65536,3,FALSE)","v":2},{"v":148.5,"d":"148.50"}]
[3622,"4152270602919","吴友妹","320独山县乡镇小学","06小学美术教师",{"$f":"VLOOKUP(B3624,[1]Sheet1!$A:$I,8,0)","v":"76.50"},{"$f":"VLOOKUP(B3624,[1]Sheet1!$A:$I,9,0)","v":"68.50"},{"$f":"VLOOKUP(B3624,[2]少数民族加分!$C$1:$E$65536,3,FALSE)","v":2},{"v":147,"d":"147.00"}]
[3623,"4152270604518","曹时琼","320独山县乡镇小学","06小学美术教师",{"$f":"VLOOKUP(B3625,[1]Sheet1!$A:$I,8,0)","v":"60.00"},{"$f":"VLOOKUP(B3625,[1]Sheet1!$A:$I,9,0)","v":"83.00"},null,{"v":143,"d":"143.00"}]
[3624,"4152270604021","杨莎","320独山县乡镇小学","06小学美术教师",{"$f":"VLOOKUP(B3626,[1]Sheet1!$A:$I,8,0)","v":"70.00"},{"$f":"VLOOKUP(B3626,[1]Sheet1!$A:$I,9,0)","v":"70.00"},{"$f":"VLOOKUP(B3626,[2]少数民族加分!$C$1:$E$65536,3,FALSE)","v":2},{"v":142,"d":"142.00"}]
[3625,"4152270604107","杨时铸","320独山县乡镇小学","06小学美术教师",{"$f":"VLOOKUP(B3627,[1]Sheet1!$A:$I,8,0)","v":"77.50"},{"$f":"VLOOKUP(B3627,[1]Sheet1!$A:$I,9,0)","v":"61.50"},null,{"v":139,"d":"139.00"}]
[3627,"4152270602630","胡钦萍","320独山县乡镇小学","06小学美术教师",{"$f":"VLOOKUP(B3628,[1]Sheet1!$A:$I,8,0)","v":"74.50"},{"$f":"VLOOKUP(B3628,[1]Sheet1!$A:$I,9,0)","v":"61.00"},{"$f":"VLOOKUP(B3628,[2]少数民族加分!$C$1:$E$65536,3,FALSE)","v":2},{"v":137.5,"d":"137.50"}]
[3628,"4152270604603","龙绍平","320独山县乡镇小学","06小学美术教师",{"$f":"VLOOKUP(B3629,[1]Sheet1!$A:$I,8,0)","v":"76.00"},{"$f":"VLOOKUP(B3629,[1]Sheet1!$A:$I,9,0)","v":"59.50"},{"$f":"VLOOKUP(B3629,[2]少数民族加分!$C$1:$E$65536,3,FALSE)","v":2},{"v":137.5,"d":"137.50"}]
[3629,"4152270604704","莫泽倩","320独山县乡镇小学","06小学美术教师",{"$f":"VLOOKUP(B3630,[1]Sheet1!$A:$I,8,0)","v":"69.50"},{"$f":"VLOOKUP(B3630,[1]Sheet1!$A:$I,9,0)","v":"66.00"},{"$f":"VLOOKUP(B3630,[2]少数民族加分!$C$1:$E$65536,3,FALSE)","v":2},{"v":137.5,"d":"137.50"}]
[3626,"4152270603917","李艳","320独山县乡镇小学","06小学美术教师",{"$f":"VLOOKUP(B3631,[1]Sheet1!$A:$I,8,0)","v":"63.50"},{"$f":"VLOOKUP(B3631,[1]Sheet1!$A:$I,9,0)","v":"73.00"},null,{"v":136.5,"d":"136.50"}]
[3630,"4152270603423","刘应琼","320独山县乡镇小学","06小学美术教师",{"$f":"VLOOKUP(B3632,[1]Sheet1!$A:$I,8,0)","v":"68.00"},{"$f":"VLOOKUP(B3632,[1]Sheet1!$A:$I,9,0)","v":"67.00"},null,{"v":135,"d":"135.00"}]
[3631,"4152270605025","兰会","320独山县乡镇小学","06小学美术教师",{"$f":"VLOOKUP(B3633,[1]Sheet1!$A:$I,8,0)","v":"66.00"},{"$f":"VLOOKUP(B3633,[1]Sheet1!$A:$I,9,0)","v":"66.00"},{"$f":"VLOOKUP(B3633,[2]少数民族加分!$C$1:$E$65536,3,FALSE)","v":2},{"v":134,"d":"134.00"}]
[3632,"4152270700714","王忠琴","320独山县乡镇小学","06小学美术教师",{"$f":"VLOOKUP(B3634,[1]Sheet1!$A:$I,8,0)","v":"67.00"},{"$f":"VLOOKUP(B3634,[1]Sheet1!$A:$I,9,0)","v":"65.00"},{"$f":"VLOOKUP(B3634,[2]少数民族加分!$C$1:$E$65536,3,FALSE)","v":2},{"v":134,"d":"134.00"}]
[3633,"4152270700427","邓敏","320独山县乡镇小学","06小学美术教师",{"$f":"VLOOKUP(B3635,[1]Sheet1!$A:$I,8,0)","v":"67.00"},{"$f":"VLOOKUP(B3635,[1]Sheet1!$A:$I,9,0)","v":"64.00"},{"$f":"VLOOKUP(B3635,[2]少数民族加分!$C$1:$E$65536,3,FALSE)","v":2},{"v":133,"d":"133.00"}]
[3634,"4152270700320","王启燕","320独山县乡镇小学","06小学美术教师",{"$f":"VLOOKUP(B3636,[1]Sheet1!$A:$I,8,0)","v":"65.00"},{"$f":"VLOOKUP(B3636,[1]Sheet1!$A:$I,9,0)","v":"65.00"},{"$f":"VLOOKUP(B3636,[2]少数民族加分!$C$1:$E$65536,3,FALSE)","v":2},{"v":132,"d":"132.00"}]
[3635,"4152270603011","陆春美","320独山县乡镇小学","06小学美术教师",{"$f":"VLOOKUP(B3637,[1]Sheet1!$A:$I,8,0)","v":"68.50"},{"$f":"VLOOKUP(B3637,[1]Sheet1!$A:$I,9,0)","v":"57.00"},{"$f":"VLOOKUP(B3637,[2]少数民族加分!$C$1:$E$65536,3,FALSE)","v":2},{"v":127.5,"d":"127.50"}]
[3636,"4152270603311","王飞","320独山县乡镇小学","06小学美术教师",{"$f":"VLOOKUP(B3638,[1]Sheet1!$A:$I,8,0)","v":"69.50"},{"$f":"VLOOKUP(B3638,[1]Sheet1!$A:$I,9,0)","v":"56.00"},{"$f":"VLOOKUP(B3638,[2]少数民族加分!$C$1:$E$65536,3,FALSE)","v":2},{"v":127.5,"d":"127.50"}]
[3637,"4152270700225","龙峥嵘","320独山县乡镇小学","06小学美术教师",{"$f":"VLOOKUP(B3639,[1]Sheet1!$A:$I,8,0)","v":"59.00"},{"$f":"VLOOKUP(B3639,[1]Sheet1!$A:$I,9,0)","v":"66.00"},{"$f":"VLOOKUP(B3639,[2]少数民族加分!$C$1:$E$65536,3,FALSE)","v":2},{"v":127,"d":"127.00"}]
[3638,"4152270602722","马燕姿","320独山县乡镇小学","06小学美术教师",{"$f":"VLOOKUP(B3640,[1]Sheet1!$A:$I,8,0)","v":"64.50"},{"$f":"VLOOKUP(B3640,[1]Sheet1!$A:$I,9,0)","v":"60.00"},{"$f":"VLOOKUP(B3640,[2]少数民族加分!$C$1:$E$65536,3,FALSE)","v":2},{"v":126.5,"d":"126.50"}]
[3639,"4152270604201","潘小娘","320独山县乡镇小学","06小学美术教师",{"$f":"VLOOKUP(B3641,[1]Sheet1!$A:$I,8,0)","v":"63.00"},{"$f":"VLOOKUP(B3641,[1]Sheet1!$A:$I,9,0)","v":"60.00"},{"$f":"VLOOKUP(B3641,[2]少数民族加分!$C$1:$E$65536,3,FALSE)","v":2},{"v":125,"d":"125.00"}]
[3640,"4152270700909","罗暖","320独山县乡镇小学","06小学美术教师",{"$f":"VLOOKUP(B3642,[1]Sheet1!$A:$I,8,0)","v":"67.50"},{"$f":"VLOOKUP(B3642,[1]Sheet1!$A:$I,9,0)","v":"55.00"},{"$f":"VLOOKUP(B3642,[2]少数民族加分!$C$1:$E$65536,3,FALSE)","v":2},{"v":124.5,"d":"124.50"}]
[3641,"4152270603121","田子航","320独山县乡镇小学","06小学美术教师",{"$f":"VLOOKUP(B3643,[1]Sheet1!$A:$I,8,0)","v":"68.00"},{"$f":"VLOOKUP(B3643,[1]Sheet1!$A:$I,9,0)","v":"52.00"},{"$f":"VLOOKUP(B3643,[2]少数民族加分!$C$1:$E$65536,3,FALSE)","v":2},{"v":122,"d":"122.00"}]
[3642,"4152270603405","杨秀信","320独山县乡镇小学","06小学美术教师",{"$f":"VLOOKUP(B3644,[1]Sheet1!$A:$I,8,0)","v":"63.00"},{"$f":"VLOOKUP(B3644,[1]Sheet1!$A:$I,9,0)","v":"57.00"},{"$f":"VLOOKUP(B3644,[2]少数民族加分!$C$1:$E$65536,3,FALSE)","v":2},{"v":122,"d":"122.00"}]
[3643,"4152270602808","徐荣","320独山县乡镇小学","06小学美术教师",{"$f":"VLOOKUP(B3645,[1]Sheet1!$A:$I,8,0)","v":"58.00"},{"$f":"VLOOKUP(B3645,[1]Sheet1!$A:$I,9,0)","v":"58.00"},null,{"v":116,"d":"116.00"}]
[3645,"4152270604712","华高飞","320独山县乡镇小学","06小学美术教师",{"$f":"VLOOKUP(B3646,[1]Sheet1!$A:$I,8,0)","v":"60.50"},{"$f":"VLOOKUP(B3646,[1]Sheet1!$A:$I,9,0)","v":"53.00"},{"$f":"VLOOKUP(B3646,[2]少数民族加分!$C$1:$E$65536,3,FALSE)","v":2},{"v":115.5,"d":"115.50"}]
[3644,"4152270605022","杨兴云","320独山县乡镇小学","06小学美术教师",{"$f":"VLOOKUP(B3647,[1]Sheet1!$A:$I,8,0)","v":"40.00"},{"$f":"VLOOKUP(B3647,[1]Sheet1!$A:$I,9,0)","v":"75.00"},null,{"v":115,"d":"115.00"}]
[3646,"4152270602720","王健梁","320独山县乡镇小学","06小学美术教师",{"$f":"VLOOKUP(B3648,[1]Sheet1!$A:$I,8,0)","v":"63.50"},{"$f":"VLOOKUP(B3648,[1]Sheet1!$A:$I,9,0)","v":"48.00"},{"$f":"VLOOKUP(B3648,[2]少数民族加分!$C$1:$E$65536,3,FALSE)","v":2},{"v":113.5,"d":"113.50"}]
[3647,"4152270603312","杨昇","320独山县乡镇小学","06小学美术教师",{"$f":"VLOOKUP(B3649,[1]Sheet1!$A:$I,8,0)","v":"57.50"},{"$f":"VLOOKUP(B3649,[1]Sheet1!$A:$I,9,0)","v":"54.00"},{"$f":"VLOOKUP(B3649,[2]少数民族加分!$C$1:$E$65536,3,FALSE)","v":2},{"v":113.5,"d":"113.50"}]
[3648,"4152270701118","熊菊英","320独山县乡镇小学","06小学美术教师",{"$f":"VLOOKUP(B3650,[1]Sheet1!$A:$I,8,0)","v":"61.00"},{"$f":"VLOOKUP(B3650,[1]Sheet1!$A:$I,9,0)","v":"49.00"},{"$f":"VLOOKUP(B3650,[2]少数民族加分!$C$1:$E$65536,3,FALSE)","v":2},{"v":112,"d":"112.00"}]
[3649,"4152270603801","李艳秋","320独山县乡镇小学","06小学美术教师",{"$f":"VLOOKUP(B3651,[1]Sheet1!$A:$I,8,0)","v":"45.50"},{"$f":"VLOOKUP(B3651,[1]Sheet1!$A:$I,9,0)","v":"51.00"},{"$f":"VLOOKUP(B3651,[2]少数民族加分!$C$1:$E$65536,3,FALSE)","v":2},{"v":98.5,"d":"98.50"}]
[3650,"4152270602821","吴倩","320独山县乡镇小学","06小学美术教师",{"$f":"VLOOKUP(B3652,[1]Sheet1!$A:$I,8,0)","v":"49.50"},{"$f":"VLOOKUP(B3652,[1]Sheet1!$A:$I,9,0)","v":"45.00"},{"$f":"VLOOKUP(B3652,[2]少数民族加分!$C$1:$E$65536,3,FALSE)","v":2},{"v":96.5,"d":"96.50"}]
[3651,"4152270700314","潘双梅","320独山县乡镇小学","06小学美术教师",{"$f":"VLOOKUP(B3653,[1]Sheet1!$A:$I,8,0)","v":"56.50"},{"$f":"VLOOKUP(B3653,[1]Sheet1!$A:$I,9,0)","v":"29.00"},{"$f":"VLOOKUP(B3653,[2]少数民族加分!$C$1:$E$65536,3,FALSE)","v":2},{"v":87.5,"d":"87.50"}]
[3652,"4152270605518","王芬","320独山县乡镇小学","06小学美术教师",{"$f":"VLOOKUP(B3654,[1]Sheet1!$A:$I,8,0)","v":"0.00"},{"$f":"VLOOKUP(B3654,[1]Sheet1!$A:$I,9,0)","v":"0.00"},null,"缺考"]
[3653,"4152270700123","王涛","320独山县乡镇小学","06小学美术教师",{"$f":"VLOOKUP(B3655,[1]Sheet1!$A:$I,8,0)","v":"0.00"},{"$f":"VLOOKUP(B3655,[1]Sheet1!$A:$I,9,0)","v":"0.00"},null,"缺考"]
[3654,"4152270700209","程明慧","320独山县乡镇小学","06小学美术教师",{"$f":"VLOOKUP(B3656,[1]Sheet1!$A:$I,8,0)","v":"0.00"},{"$f":"VLOOKUP(B3656,[1]Sheet1!$A:$I,9,0)","v":"0.00"},null,"缺考"]
[3655,"4152270700308","赵一梅","320独山县乡镇小学","06小学美术教师",{"$f":"VLOOKUP(B3657,[1]Sheet1!$A:$I,8,0)","v":"0.00"},{"$f":"VLOOKUP(B3657,[1]Sheet1!$A:$I,9,0)","v":"0.00"},null,"缺考"]
[3656,"4152270701029","张国军","320独山县乡镇小学","06小学美术教师",{"$f":"VLOOKUP(B3658,[1]Sheet1!$A:$I,8,0)","v":"0.00"},{"$f":"VLOOKUP(B3658,[1]Sheet1!$A:$I,9,0)","v":"0.00"},{"$f":"VLOOKUP(B3658,[2]少数民族加分!$C$1:$E$65536,3,FALSE)","v":2},"缺考"]
[3657,"4152270701207","杨小艳","320独山县乡镇小学","06小学美术教师",{"$f":"VLOOKUP(B3659,[1]Sheet1!$A:$I,8,0)","v":"0.00"},{"$f":"VLOOKUP(B3659,[1]Sheet1!$A:$I,9,0)","v":"0.00"},{"$f":"VLOOKUP(B3659,[2]少数民族加分!$C$1:$E$65536,3,FALSE)","v":2},"缺考"]
[3658,"4152270603201","杨利香","320独山县乡镇小学","06小学美术教师",{"$f":"VLOOKUP(B3660,[1]Sheet1!$A:$I,8,0)","v":"0.00"},{"$f":"VLOOKUP(B3660,[1]Sheet1!$A:$I,9,0)","v":"0.00"},{"$f":"VLOOKUP(B3660,[2]少数民族加分!$C$1:$E$65536,3,FALSE)","v":2},"缺考"]
[3659,"4152270603424","李钊","320独山县乡镇小学","06小学美术教师",{"$f":"VLOOKUP(B3661,[1]Sheet1!$A:$I,8,0)","v":"0.00"},{"$f":"VLOOKUP(B3661,[1]Sheet1!$A:$I,9,0)","v":"0.00"},null,"缺考"]
[3660,"4152270604326","张慈","320独山县乡镇小学","06小学美术教师",{"$f":"VLOOKUP(B3662,[1]Sheet1!$A:$I,8,0)","v":"0.00"},{"$f":"VLOOKUP(B3662,[1]Sheet1!$A:$I,9,0)","v":"0.00"},{"$f":"VLOOKUP(B3662,[2]少数民族加分!$C$1:$E$65536,3,FALSE)","v":2},"缺考"]
[3661,"4152270604411","潘盛材","320独山县乡镇小学","06小学美术教师",{"$f":"VLOOKUP(B3663,[1]Sheet1!$A:$I,8,0)","v":"0.00"},{"$f":"VLOOKUP(B3663,[1]Sheet1!$A:$I,9,0)","v":"0.00"},{"$f":"VLOOKUP(B3663,[2]少数民族加分!$C$1:$E$65536,3,FALSE)","v":2},"缺考"]
[3662,"4152270604520","罗定红","320独山县乡镇小学","06小学美术教师",{"$f":"VLOOKUP(B3664,[1]Sheet1!$A:$I,8,0)","v":"0.00"},{"$f":"VLOOKUP(B3664,[1]Sheet1!$A:$I,9,0)","v":"0.00"},{"$f":"VLOOKUP(B3664,[2]少数民族加分!$C$1:$E$65536,3,FALSE)","v":2},"缺考"]
[3663,"4152270604816","杨雪雪","320独山县乡镇小学","06小学美术教师",{"$f":"VLOOKUP(B3665,[1]Sheet1!$A:$I,8,0)","v":"0.00"},{"$f":"VLOOKUP(B3665,[1]Sheet1!$A:$I,9,0)","v":"0.00"},null,"缺考"]
[3664,"4152270605127","龙安阳","320独山县乡镇小学","06小学美术教师",{"$f":"VLOOKUP(B3666,[1]Sheet1!$A:$I,8,0)","v":"0.00"},{"$f":"VLOOKUP(B3666,[1]Sheet1!$A:$I,9,0)","v":"0.00"},null,"缺考"]
[3665,"5452270503527","李晓花","322独山县中等职业学校","01中等职业学校教师",{"$f":"VLOOKUP(B3667,[1]Sheet1!$A:$I,8,0)","v":"81.00"},{"$f":"VLOOKUP(B3667,[1]Sheet1!$A:$I,9,0)","v":"90.10"},{"$f":"VLOOKUP(B3667,[2]少数民族加分!$C$1:$E$65536,3,FALSE)","v":2},{"v":173.1,"d":"173.10"}]
[3666,"5452270503007","高秘密","322独山县中等职业学校","01中等职业学校教师",{"$f":"VLOOKUP(B3668,[1]Sheet1!$A:$I,8,0)","v":"75.50"},{"$f":"VLOOKUP(B3668,[1]Sheet1!$A:$I,9,0)","v":"88.10"},null,{"v":163.6,"d":"163.60"}]
[3667,"5452270509320","吴正英","322独山县中等职业学校","01中等职业学校教师",{"$f":"VLOOKUP(B3669,[1]Sheet1!$A:$I,8,0)","v":"67.00"},{"$f":"VLOOKUP(B3669,[1]Sheet1!$A:$I,9,0)","v":"69.20"},{"$f":"VLOOKUP(B3669,[2]少数民族加分!$C$1:$E$65536,3,FALSE)","v":2},{"v":138.2,"d":"138.20"}]
[3668,"5452270503802","龙燕","322独山县中等职业学校","01中等职业学校教师",{"$f":"VLOOKUP(B3670,[1]Sheet1!$A:$I,8,0)","v":"48.00"},{"$f":"VLOOKUP(B3670,[1]Sheet1!$A:$I,9,0)","v":"63.60"},{"$f":"VLOOKUP(B3670,[2]少数民族加分!$C$1:$E$65536,3,FALSE)","v":2},{"v":113.6,"d":"113.60"}]
[3669,"5452270502809","陈婷","322独山县中等职业学校","01中等职业学校教师",{"$f":"VLOOKUP(B3671,[1]Sheet1!$A:$I,8,0)","v":"0.00"},{"$f":"VLOOKUP(B3671,[1]Sheet1!$A:$I,9,0)","v":"0.00"},null,"缺考"]
[3670,"4252270706012","王惠杰","322独山县中等职业学校","03中等职业学校教师",{"$f":"VLOOKUP(B3672,[1]Sheet1!$A:$I,8,0)","v":"82.50"},{"$f":"VLOOKUP(B3672,[1]Sheet1!$A:$I,9,0)","v":"85.50"},{"$f":"VLOOKUP(B3672,[2]少数民族加分!$C$1:$E$65536,3,FALSE)","v":2},{"v":170,"d":"170.00"}]
[3671,"4252270706120","陆成鹏","322独山县中等职业学校","03中等职业学校教师",{"$f":"VLOOKUP(B3673,[1]Sheet1!$A:$I,8,0)","v":"86.00"},{"$f":"VLOOKUP(B3673,[1]Sheet1!$A:$I,9,0)","v":"78.50"},{"$f":"VLOOKUP(B3673,[2]少数民族加分!$C$1:$E$65536,3,FALSE)","v":2},{"v":166.5,"d":"166.50"}]
[3672,"4252270702622","莫清秀","322独山县中等职业学校","03中等职业学校教师",{"$f":"VLOOKUP(B3674,[1]Sheet1!$A:$I,8,0)","v":"74.50"},{"$f":"VLOOKUP(B3674,[1]Sheet1!$A:$I,9,0)","v":"84.50"},{"$f":"VLOOKUP(B3674,[2]少数民族加分!$C$1:$E$65536,3,FALSE)","v":2},{"v":161,"d":"161.00"}]
[3673,"4252270701604","李中","322独山县中等职业学校","03中等职业学校教师",{"$f":"VLOOKUP(B3675,[1]Sheet1!$A:$I,8,0)","v":"82.00"},{"$f":"VLOOKUP(B3675,[1]Sheet1!$A:$I,9,0)","v":"69.50"},null,{"v":151.5,"d":"151.50"}]
[3674,"4252270706320","王小江","322独山县中等职业学校","03中等职业学校教师",{"$f":"VLOOKUP(B3676,[1]Sheet1!$A:$I,8,0)","v":"61.50"},{"$f":"VLOOKUP(B3676,[1]Sheet1!$A:$I,9,0)","v":"80.00"},{"$f":"VLOOKUP(B3676,[2]少数民族加分!$C$1:$E$65536,3,FALSE)","v":2},{"v":143.5,"d":"143.50"}]
[3675,"4252270704912","罗道芸","322独山县中等职业学校","03中等职业学校教师",{"$f":"VLOOKUP(B3677,[1]Sheet1!$A:$I,8,0)","v":"70.50"},{"$f":"VLOOKUP(B3677,[1]Sheet1!$A:$I,9,0)","v":"63.00"},null,{"v":133.5,"d":"133.50"}]
[3676,"4252270704709","陆宇轩","322独山县中等职业学校","03中等职业学校教师",{"$f":"VLOOKUP(B3678,[1]Sheet1!$A:$I,8,0)","v":"66.00"},{"$f":"VLOOKUP(B3678,[1]Sheet1!$A:$I,9,0)","v":"63.00"},{"$f":"VLOOKUP(B3678,[2]少数民族加分!$C$1:$E$65536,3,FALSE)","v":2},{"v":131,"d":"131.00"}]
[3677,"4252270705230","罗安凤","322独山县中等职业学校","03中等职业学校教师",{"$f":"VLOOKUP(B3679,[1]Sheet1!$A:$I,8,0)","v":"59.50"},{"$f":"VLOOKUP(B3679,[1]Sheet1!$A:$I,9,0)","v":"61.00"},{"$f":"VLOOKUP(B3679,[2]少数民族加分!$C$1:$E$65536,3,FALSE)","v":2},{"v":122.5,"d":"122.50"}]
[3678,"4252270703007","陈明树","322独山县中等职业学校","03中等职业学校教师",{"$f":"VLOOKUP(B3680,[1]Sheet1!$A:$I,8,0)","v":"49.00"},{"$f":"VLOOKUP(B3680,[1]Sheet1!$A:$I,9,0)","v":"70.00"},{"$f":"VLOOKUP(B3680,[2]少数民族加分!$C$1:$E$65536,3,FALSE)","v":2},{"v":121,"d":"121.00"}]
[3679,"4252270703224","潘承同","322独山县中等职业学校","03中等职业学校教师",{"$f":"VLOOKUP(B3681,[1]Sheet1!$A:$I,8,0)","v":"58.50"},{"$f":"VLOOKUP(B3681,[1]Sheet1!$A:$I,9,0)","v":"51.00"},{"$f":"VLOOKUP(B3681,[2]少数民族加分!$C$1:$E$65536,3,FALSE)","v":2},{"v":111.5,"d":"111.50"}]
[3680,"4252270703716","马娇","322独山县中等职业学校","03中等职业学校教师",{"$f":"VLOOKUP(B3682,[1]Sheet1!$A:$I,8,0)","v":"0.00"},{"$f":"VLOOKUP(B3682,[1]Sheet1!$A:$I,9,0)","v":"0.00"},null,"缺考"]
[3681,"4252270704319","杨芸齐","322独山县中等职业学校","03中等职业学校教师",{"$f":"VLOOKUP(B3683,[1]Sheet1!$A:$I,8,0)","v":"0.00"},{"$f":"VLOOKUP(B3683,[1]Sheet1!$A:$I,9,0)","v":"0.00"},null,"缺考"]
[3682,"4252270705004","姚振威","322独山县中等职业学校","03中等职业学校教师",{"$f":"VLOOKUP(B3684,[1]Sheet1!$A:$I,8,0)","v":"0.00"},{"$f":"VLOOKUP(B3684,[1]Sheet1!$A:$I,9,0)","v":"0.00"},null,"缺考"]
[3683,"4252270706425","孟福芳","322独山县中等职业学校","03中等职业学校教师",{"$f":"VLOOKUP(B3685,[1]Sheet1!$A:$I,8,0)","v":"0.00"},{"$f":"VLOOKUP(B3685,[1]Sheet1!$A:$I,9,0)","v":"0.00"},{"$f":"VLOOKUP(B3685,[2]少数民族加分!$C$1:$E$65536,3,FALSE)","v":2},"缺考"]
[3684,"1152270501311","蒙星如","322独山县中等职业学校","04中等职业学校会计",{"$f":"VLOOKUP(B3686,[1]Sheet1!$A:$I,8,0)","v":"84.50"},{"$f":"VLOOKUP(B3686,[1]Sheet1!$A:$I,9,0)","v":"106.00"},{"$f":"VLOOKUP(B3686,[2]少数民族加分!$C$1:$E$65536,3,FALSE)","v":2},{"v":192.5,"d":"192.50"}]
[3685,"1152270500629","倪珂","322独山县中等职业学校","04中等职业学校会计",{"$f":"VLOOKUP(B3687,[1]Sheet1!$A:$I,8,0)","v":"85.00"},{"$f":"VLOOKUP(B3687,[1]Sheet1!$A:$I,9,0)","v":"99.00"},null,{"v":184,"d":"184.00"}]
[3686,"1152270601101","冯楠","322独山县中等职业学校","04中等职业学校会计",{"$f":"VLOOKUP(B3688,[1]Sheet1!$A:$I,8,0)","v":"81.50"},{"$f":"VLOOKUP(B3688,[1]Sheet1!$A:$I,9,0)","v":"88.50"},null,{"v":170,"d":"170.00"}]
[3688,"1152270601209","莫良芬","322独山县中等职业学校","04中等职业学校会计",{"$f":"VLOOKUP(B3689,[1]Sheet1!$A:$I,8,0)","v":"71.50"},{"$f":"VLOOKUP(B3689,[1]Sheet1!$A:$I,9,0)","v":"91.00"},{"$f":"VLOOKUP(B3689,[2]少数民族加分!$C$1:$E$65536,3,FALSE)","v":2},{"v":164.5,"d":"164.50"}]
[3687,"1152270601417","杨笛","322独山县中等职业学校","04中等职业学校会计",{"$f":"VLOOKUP(B3690,[1]Sheet1!$A:$I,8,0)","v":"88.00"},{"$f":"VLOOKUP(B3690,[1]Sheet1!$A:$I,9,0)","v":"76.00"},null,{"v":164,"d":"164.00"}]
[3689,"1152270601828","杨良鑫","322独山县中等职业学校","04中等职业学校会计",{"$f":"VLOOKUP(B3691,[1]Sheet1!$A:$I,8,0)","v":"72.50"},{"$f":"VLOOKUP(B3691,[1]Sheet1!$A:$I,9,0)","v":"85.00"},{"$f":"VLOOKUP(B3691,[2]少数民族加分!$C$1:$E$65536,3,FALSE)","v":2},{"v":159.5,"d":"159.50"}]
[3690,"1152270601013","罗姜霞","322独山县中等职业学校","04中等职业学校会计",{"$f":"VLOOKUP(B3692,[1]Sheet1!$A:$I,8,0)","v":"68.50"},{"$f":"VLOOKUP(B3692,[1]Sheet1!$A:$I,9,0)","v":"88.50"},{"$f":"VLOOKUP(B3692,[2]少数民族加分!$C$1:$E$65536,3,FALSE)","v":2},{"v":159,"d":"159.00"}]
[3691,"1152270501208","欧小娟","322独山县中等职业学校","04中等职业学校会计",{"$f":"VLOOKUP(B3693,[1]Sheet1!$A:$I,8,0)","v":"71.50"},{"$f":"VLOOKUP(B3693,[1]Sheet1!$A:$I,9,0)","v":"84.00"},null,{"v":155.5,"d":"155.50"}]
[3692,"1152270500706","雷叶","322独山县中等职业学校","04中等职业学校会计",{"$f":"VLOOKUP(B3694,[1]Sheet1!$A:$I,8,0)","v":"81.00"},{"$f":"VLOOKUP(B3694,[1]Sheet1!$A:$I,9,0)","v":"74.00"},null,{"v":155,"d":"155.00"}]
[3693,"1152270601427","范玲满","322独山县中等职业学校","04中等职业学校会计",{"$f":"VLOOKUP(B3695,[1]Sheet1!$A:$I,8,0)","v":"75.00"},{"$f":"VLOOKUP(B3695,[1]Sheet1!$A:$I,9,0)","v":"79.00"},null,{"v":154,"d":"154.00"}]
[3694,"1152270600705","潘丽霞","322独山县中等职业学校","04中等职业学校会计",{"$f":"VLOOKUP(B3696,[1]Sheet1!$A:$I,8,0)","v":"60.50"},{"$f":"VLOOKUP(B3696,[1]Sheet1!$A:$I,9,0)","v":"88.00"},{"$f":"VLOOKUP(B3696,[2]少数民族加分!$C$1:$E$65536,3,FALSE)","v":2},{"v":150.5,"d":"150.50"}]
[3695,"1152270500617","龙少娜","322独山县中等职业学校","04中等职业学校会计",{"$f":"VLOOKUP(B3697,[1]Sheet1!$A:$I,8,0)","v":"57.50"},{"$f":"VLOOKUP(B3697,[1]Sheet1!$A:$I,9,0)","v":"88.00"},null,{"v":145.5,"d":"145.50"}]
[3696,"1152270600130","马采琴","322独山县中等职业学校","04中等职业学校会计",{"$f":"VLOOKUP(B3698,[1]Sheet1!$A:$I,8,0)","v":"64.00"},{"$f":"VLOOKUP(B3698,[1]Sheet1!$A:$I,9,0)","v":"79.00"},{"$f":"VLOOKUP(B3698,[2]少数民族加分!$C$1:$E$65536,3,FALSE)","v":2},{"v":145,"d":"145.00"}]
[3697,"1152270601216","杨森","322独山县中等职业学校","04中等职业学校会计",{"$f":"VLOOKUP(B3699,[1]Sheet1!$A:$I,8,0)","v":"66.00"},{"$f":"VLOOKUP(B3699,[1]Sheet1!$A:$I,9,0)","v":"76.00"},{"$f":"VLOOKUP(B3699,[2]少数民族加分!$C$1:$E$65536,3,FALSE)","v":2},{"v":144,"d":"144.00"}]
[3698,"1152270500502","杨丹","322独山县中等职业学校","04中等职业学校会计",{"$f":"VLOOKUP(B3700,[1]Sheet1!$A:$I,8,0)","v":"64.00"},{"$f":"VLOOKUP(B3700,[1]Sheet1!$A:$I,9,0)","v":"73.00"},{"$f":"VLOOKUP(B3700,[2]少数民族加分!$C$1:$E$65536,3,FALSE)","v":2},{"v":139,"d":"139.00"}]
[3700,"1152270501312","刘佳龙","322独山县中等职业学校","04中等职业学校会计",{"$f":"VLOOKUP(B3701,[1]Sheet1!$A:$I,8,0)","v":"76.50"},{"$f":"VLOOKUP(B3701,[1]Sheet1!$A:$I,9,0)","v":"57.00"},{"$f":"VLOOKUP(B3701,[2]少数民族加分!$C$1:$E$65536,3,FALSE)","v":2},{"v":135.5,"d":"135.50"}]
[3701,"1152270501321","吴尉榕","322独山县中等职业学校","04中等职业学校会计",{"$f":"VLOOKUP(B3702,[1]Sheet1!$A:$I,8,0)","v":"62.00"},{"$f":"VLOOKUP(B3702,[1]Sheet1!$A:$I,9,0)","v":"71.00"},{"$f":"VLOOKUP(B3702,[2]少数民族加分!$C$1:$E$65536,3,FALSE)","v":2},{"v":135,"d":"135.00"}]
[3702,"1152270600923","周桂梅","322独山县中等职业学校","04中等职业学校会计",{"$f":"VLOOKUP(B3703,[1]Sheet1!$A:$I,8,0)","v":"68.50"},{"$f":"VLOOKUP(B3703,[1]Sheet1!$A:$I,9,0)","v":"64.50"},{"$f":"VLOOKUP(B3703,[2]少数民族加分!$C$1:$E$65536,3,FALSE)","v":2},{"v":135,"d":"135.00"}]
[3699,"1152270501103","黎期凤","322独山县中等职业学校","04中等职业学校会计",{"$f":"VLOOKUP(B3704,[1]Sheet1!$A:$I,8,0)","v":"65.50"},{"$f":"VLOOKUP(B3704,[1]Sheet1!$A:$I,9,0)","v":"69.00"},null,{"v":134.5,"d":"134.50"}]
[3703,"1152270601816","尹长智","322独山县中等职业学校","04中等职业学校会计",{"$f":"VLOOKUP(B3705,[1]Sheet1!$A:$I,8,0)","v":"63.50"},{"$f":"VLOOKUP(B3705,[1]Sheet1!$A:$I,9,0)","v":"69.00"},null,{"v":132.5,"d":"132.50"}]
[3704,"1152270600212","张怀虎","322独山县中等职业学校","04中等职业学校会计",{"$f":"VLOOKUP(B3706,[1]Sheet1!$A:$I,8,0)","v":"61.00"},{"$f":"VLOOKUP(B3706,[1]Sheet1!$A:$I,9,0)","v":"69.00"},null,{"v":130,"d":"130.00"}]
[3705,"1152270600827","韦俊","322独山县中等职业学校","04中等职业学校会计",{"$f":"VLOOKUP(B3707,[1]Sheet1!$A:$I,8,0)","v":"65.00"},{"$f":"VLOOKUP(B3707,[1]Sheet1!$A:$I,9,0)","v":"58.00"},{"$f":"VLOOKUP(B3707,[2]少数民族加分!$C$1:$E$65536,3,FALSE)","v":2},{"v":125,"d":"125.00"}]
[3707,"1152270602507","罗贞运","322独山县中等职业学校","04中等职业学校会计",{"$f":"VLOOKUP(B3708,[1]Sheet1!$A:$I,8,0)","v":"52.50"},{"$f":"VLOOKUP(B3708,[1]Sheet1!$A:$I,9,0)","v":"65.00"},{"$f":"VLOOKUP(B3708,[2]少数民族加分!$C$1:$E$65536,3,FALSE)","v":2},{"v":119.5,"d":"119.50"}]
[3706,"1152270500812","蒙小敏","322独山县中等职业学校","04中等职业学校会计",{"$f":"VLOOKUP(B3709,[1]Sheet1!$A:$I,8,0)","v":"48.00"},{"$f":"VLOOKUP(B3709,[1]Sheet1!$A:$I,9,0)","v":"71.00"},null,{"v":119,"d":"119.00"}]
[3708,"1152270602205","王入民","322独山县中等职业学校","04中等职业学校会计",{"$f":"VLOOKUP(B3710,[1]Sheet1!$A:$I,8,0)","v":"0.00"},{"$f":"VLOOKUP(B3710,[1]Sheet1!$A:$I,9,0)","v":"0.00"},null,"缺考"]
[3709,"1152270602509","胡海妹","322独山县中等职业学校","04中等职业学校会计",{"$f":"VLOOKUP(B3711,[1]Sheet1!$A:$I,8,0)","v":"0.00"},{"$f":"VLOOKUP(B3711,[1]Sheet1!$A:$I,9,0)","v":"0.00"},{"$f":"VLOOKUP(B3711,[2]少数民族加分!$C$1:$E$65536,3,FALSE)","v":2},"缺考"]
[3710,"1152270501307","吴丹丽","322独山县中等职业学校","04中等职业学校会计",{"$f":"VLOOKUP(B3712,[1]Sheet1!$A:$I,8,0)","v":"0.00"},{"$f":"VLOOKUP(B3712,[1]Sheet1!$A:$I,9,0)","v":"0.00"},{"$f":"VLOOKUP(B3712,[2]少数民族加分!$C$1:$E$65536,3,FALSE)","v":2},"缺考"]
[3711,"1152270501326","张汐琰","322独山县中等职业学校","04中等职业学校会计",{"$f":"VLOOKUP(B3713,[1]Sheet1!$A:$I,8,0)","v":"0.00"},{"$f":"VLOOKUP(B3713,[1]Sheet1!$A:$I,9,0)","v":"0.00"},{"$f":"VLOOKUP(B3713,[2]少数民族加分!$C$1:$E$65536,3,FALSE)","v":2},"缺考"]
[3712,"1152270601027","郑洋洋","322独山县中等职业学校","04中等职业学校会计",{"$f":"VLOOKUP(B3714,[1]Sheet1!$A:$I,8,0)","v":"0.00"},{"$f":"VLOOKUP(B3714,[1]Sheet1!$A:$I,9,0)","v":"0.00"},null,"缺考"]
[3713,"5252270501918","陆兴雪","323独山县人民医院","01医务人员",{"$f":"VLOOKUP(B3715,[1]Sheet1!$A:$I,8,0)","v":"73.00"},{"$f":"VLOOKUP(B3715,[1]Sheet1!$A:$I,9,0)","v":"101.90"},null,{"v":174.9,"d":"174.90"}]
[3714,"5252270502014","陆阳阳","323独山县人民医院","01医务人员",{"$f":"VLOOKUP(B3716,[1]Sheet1!$A:$I,8,0)","v":"76.50"},{"$f":"VLOOKUP(B3716,[1]Sheet1!$A:$I,9,0)","v":"91.30"},{"$f":"VLOOKUP(B3716,[2]少数民族加分!$C$1:$E$65536,3,FALSE)","v":2},{"v":169.8,"d":"169.80"}]
[3715,"5252270502013","黄毓炼","323独山县人民医院","01医务人员",{"$f":"VLOOKUP(B3717,[1]Sheet1!$A:$I,8,0)","v":"86.50"},{"$f":"VLOOKUP(B3717,[1]Sheet1!$A:$I,9,0)","v":"77.70"},null,{"v":164.2,"d":"164.20"}]
[3716,"5252270501927","付江","323独山县人民医院","01医务人员",{"$f":"VLOOKUP(B3718,[1]Sheet1!$A:$I,8,0)","v":"82.00"},{"$f":"VLOOKUP(B3718,[1]Sheet1!$A:$I,9,0)","v":"76.00"},null,{"v":158,"d":"158.00"}]
[3717,"5252270502020","杨琼","323独山县人民医院","01医务人员",{"$f":"VLOOKUP(B3719,[1]Sheet1!$A:$I,8,0)","v":"72.50"},{"$f":"VLOOKUP(B3719,[1]Sheet1!$A:$I,9,0)","v":"81.00"},null,{"v":153.5,"d":"153.50"}]
[3718,"5252270501929","岑延佳","323独山县人民医院","01医务人员",{"$f":"VLOOKUP(B3720,[1]Sheet1!$A:$I,8,0)","v":"73.50"},{"$f":"VLOOKUP(B3720,[1]Sheet1!$A:$I,9,0)","v":"78.00"},{"$f":"VLOOKUP(B3720,[2]少数民族加分!$C$1:$E$65536,3,FALSE)","v":2},{"v":153.5,"d":"153.50"}]
[3719,"5252270501909","石品丹","323独山县人民医院","01医务人员",{"$f":"VLOOKUP(B3721,[1]Sheet1!$A:$I,8,0)","v":"78.50"},{"$f":"VLOOKUP(B3721,[1]Sheet1!$A:$I,9,0)","v":"72.30"},{"$f":"VLOOKUP(B3721,[2]少数民族加分!$C$1:$E$65536,3,FALSE)","v":2},{"v":152.8,"d":"152.80"}]
[3720,"5252270502024","王乔妹","323独山县人民医院","01医务人员",{"$f":"VLOOKUP(B3722,[1]Sheet1!$A:$I,8,0)","v":"62.00"},{"$f":"VLOOKUP(B3722,[1]Sheet1!$A:$I,9,0)","v":"83.90"},{"$f":"VLOOKUP(B3722,[2]少数民族加分!$C$1:$E$65536,3,FALSE)","v":2},{"v":147.9,"d":"147.90"}]
[3721,"5252270502027","庭裕楷","323独山县人民医院","01医务人员",{"$f":"VLOOKUP(B3723,[1]Sheet1!$A:$I,8,0)","v":"70.50"},{"$f":"VLOOKUP(B3723,[1]Sheet1!$A:$I,9,0)","v":"70.90"},{"$f":"VLOOKUP(B3723,[2]少数民族加分!$C$1:$E$65536,3,FALSE)","v":2},{"v":143.4,"d":"143.40"}]
[3722,"5252270502005","杨雪琴","323独山县人民医院","01医务人员",{"$f":"VLOOKUP(B3724,[1]Sheet1!$A:$I,8,0)","v":"53.00"},{"$f":"VLOOKUP(B3724,[1]Sheet1!$A:$I,9,0)","v":"73.40"},{"$f":"VLOOKUP(B3724,[2]少数民族加分!$C$1:$E$65536,3,FALSE)","v":2},{"v":128.4,"d":"128.40"}]
[3723,"5252270501919","杨尧","323独山县人民医院","01医务人员",{"$f":"VLOOKUP(B3725,[1]Sheet1!$A:$I,8,0)","v":"0.00"},{"$f":"VLOOKUP(B3725,[1]Sheet1!$A:$I,9,0)","v":"0.00"},null,"缺考"]
[3724,"5252270502010","苟善","323独山县人民医院","01医务人员",{"$f":"VLOOKUP(B3726,[1]Sheet1!$A:$I,8,0)","v":"0.00"},{"$f":"VLOOKUP(B3726,[1]Sheet1!$A:$I,9,0)","v":"0.00"},null,"缺考"]
[3725,"5252270502028","周耐珊","323独山县人民医院","01医务人员",{"$f":"VLOOKUP(B3727,[1]Sheet1!$A:$I,8,0)","v":"0.00"},{"$f":"VLOOKUP(B3727,[1]Sheet1!$A:$I,9,0)","v":"0.00"},{"$f":"VLOOKUP(B3727,[2]少数民族加分!$C$1:$E$65536,3,FALSE)","v":2},"缺考"]
[3726,"5552270504323","程炳权","324独山县人民医院集团","01医务人员",{"$f":"VLOOKUP(B3728,[1]Sheet1!$A:$I,8,0)","v":"0.00"},{"$f":"VLOOKUP(B3728,[1]Sheet1!$A:$I,9,0)","v":"0.00"},null,"缺考"]
[3727,"5452270503917","覃荣茬","324独山县人民医院集团","02医务人员",{"$f":"VLOOKUP(B3729,[1]Sheet1!$A:$I,8,0)","v":"85.50"},{"$f":"VLOOKUP(B3729,[1]Sheet1!$A:$I,9,0)","v":"83.20"},{"$f":"VLOOKUP(B3729,[2]少数民族加分!$C$1:$E$65536,3,FALSE)","v":2},{"v":170.7,"d":"170.70"}]
[3728,"5452270503230","葛铃丽","324独山县人民医院集团","02医务人员",{"$f":"VLOOKUP(B3730,[1]Sheet1!$A:$I,8,0)","v":"92.00"},{"$f":"VLOOKUP(B3730,[1]Sheet1!$A:$I,9,0)","v":"74.40"},{"$f":"VLOOKUP(B3730,[2]少数民族加分!$C$1:$E$65536,3,FALSE)","v":2},{"v":168.4,"d":"168.40"}]
[3729,"5452270502826","杨俊","324独山县人民医院集团","02医务人员",{"$f":"VLOOKUP(B3731,[1]Sheet1!$A:$I,8,0)","v":"73.00"},{"$f":"VLOOKUP(B3731,[1]Sheet1!$A:$I,9,0)","v":"92.70"},{"$f":"VLOOKUP(B3731,[2]少数民族加分!$C$1:$E$65536,3,FALSE)","v":2},{"v":167.7,"d":"167.70"}]
[3730,"5452270503327","梅燕","324独山县人民医院集团","02医务人员",{"$f":"VLOOKUP(B3732,[1]Sheet1!$A:$I,8,0)","v":"80.50"},{"$f":"VLOOKUP(B3732,[1]Sheet1!$A:$I,9,0)","v":"81.30"},null,{"v":161.8,"d":"161.80"}]
[3732,"5452270502310","何蝶","324独山县人民医院集团","02医务人员",{"$f":"VLOOKUP(B3733,[1]Sheet1!$A:$I,8,0)","v":"83.50"},{"$f":"VLOOKUP(B3733,[1]Sheet1!$A:$I,9,0)","v":"73.70"},{"$f":"VLOOKUP(B3733,[2]少数民族加分!$C$1:$E$65536,3,FALSE)","v":2},{"v":159.2,"d":"159.20"}]
[3731,"5452270503122","高铖宬","324独山县人民医院集团","02医务人员",{"$f":"VLOOKUP(B3734,[1]Sheet1!$A:$I,8,0)","v":"82.50"},{"$f":"VLOOKUP(B3734,[1]Sheet1!$A:$I,9,0)","v":"76.60"},null,{"v":159.1,"d":"159.10"}]
[3733,"5452270502916","杨兴梅","324独山县人民医院集团","02医务人员",{"$f":"VLOOKUP(B3735,[1]Sheet1!$A:$I,8,0)","v":"84.50"},{"$f":"VLOOKUP(B3735,[1]Sheet1!$A:$I,9,0)","v":"72.60"},{"$f":"VLOOKUP(B3735,[2]少数民族加分!$C$1:$E$65536,3,FALSE)","v":2},{"v":159.1,"d":"159.10"}]
[3734,"5452270502606","何雪嫚","324独山县人民医院集团","02医务人员",{"$f":"VLOOKUP(B3736,[1]Sheet1!$A:$I,8,0)","v":"66.50"},{"$f":"VLOOKUP(B3736,[1]Sheet1!$A:$I,9,0)","v":"87.30"},{"$f":"VLOOKUP(B3736,[2]少数民族加分!$C$1:$E$65536,3,FALSE)","v":2},{"v":155.8,"d":"155.80"}]
[3735,"5452270503514","李思娴","324独山县人民医院集团","02医务人员",{"$f":"VLOOKUP(B3737,[1]Sheet1!$A:$I,8,0)","v":"69.50"},{"$f":"VLOOKUP(B3737,[1]Sheet1!$A:$I,9,0)","v":"84.00"},{"$f":"VLOOKUP(B3737,[2]少数民族加分!$C$1:$E$65536,3,FALSE)","v":2},{"v":155.5,"d":"155.50"}]
[3736,"5452270503703","莫玉菊","324独山县人民医院集团","02医务人员",{"$f":"VLOOKUP(B3738,[1]Sheet1!$A:$I,8,0)","v":"78.50"},{"$f":"VLOOKUP(B3738,[1]Sheet1!$A:$I,9,0)","v":"73.00"},{"$f":"VLOOKUP(B3738,[2]少数民族加分!$C$1:$E$65536,3,FALSE)","v":2},{"v":153.5,"d":"153.50"}]
[3737,"5452270504009","王静","324独山县人民医院集团","02医务人员",{"$f":"VLOOKUP(B3739,[1]Sheet1!$A:$I,8,0)","v":"79.50"},{"$f":"VLOOKUP(B3739,[1]Sheet1!$A:$I,9,0)","v":"68.30"},{"$f":"VLOOKUP(B3739,[2]少数民族加分!$C$1:$E$65536,3,FALSE)","v":2},{"v":149.8,"d":"149.80"}]
[3739,"5452270503815","刘雨枫","324独山县人民医院集团","02医务人员",{"$f":"VLOOKUP(B3740,[1]Sheet1!$A:$I,8,0)","v":"83.50"},{"$f":"VLOOKUP(B3740,[1]Sheet1!$A:$I,9,0)","v":"61.50"},{"$f":"VLOOKUP(B3740,[2]少数民族加分!$C$1:$E$65536,3,FALSE)","v":2},{"v":147,"d":"147.00"}]
[3738,"5452270502407","张建红","324独山县人民医院集团","02医务人员",{"$f":"VLOOKUP(B3741,[1]Sheet1!$A:$I,8,0)","v":"70.00"},{"$f":"VLOOKUP(B3741,[1]Sheet1!$A:$I,9,0)","v":"75.00"},null,{"v":145,"d":"145.00"}]
[3742,"5452270502411","包东倩","324独山县人民医院集团","02医务人员",{"$f":"VLOOKUP(B3742,[1]Sheet1!$A:$I,8,0)","v":"69.50"},{"$f":"VLOOKUP(B3742,[1]Sheet1!$A:$I,9,0)","v":"71.20"},{"$f":"VLOOKUP(B3742,[2]少数民族加分!$C$1:$E$65536,3,FALSE)","v":2},{"v":142.7,"d":"142.70"}]
[3740,"5452270503209","袁芳","324独山县人民医院集团","02医务人员",{"$f":"VLOOKUP(B3743,[1]Sheet1!$A:$I,8,0)","v":"73.00"},{"$f":"VLOOKUP(B3743,[1]Sheet1!$A:$I,9,0)","v":"68.60"},null,{"v":141.6,"d":"141.60"}]
[3741,"5452270502918","黄丽群","324独山县人民医院集团","02医务人员",{"$f":"VLOOKUP(B3744,[1]Sheet1!$A:$I,8,0)","v":"65.00"},{"$f":"VLOOKUP(B3744,[1]Sheet1!$A:$I,9,0)","v":"75.80"},null,{"v":140.8,"d":"140.80"}]
[3743,"5452270503225","罗璇","324独山县人民医院集团","02医务人员",{"$f":"VLOOKUP(B3745,[1]Sheet1!$A:$I,8,0)","v":"83.00"},{"$f":"VLOOKUP(B3745,[1]Sheet1!$A:$I,9,0)","v":"57.10"},null,{"v":140.1,"d":"140.10"}]
[3744,"5452270509314","余光佳","324独山县人民医院集团","02医务人员",{"$f":"VLOOKUP(B3746,[1]Sheet1!$A:$I,8,0)","v":"66.00"},{"$f":"VLOOKUP(B3746,[1]Sheet1!$A:$I,9,0)","v":"72.20"},null,{"v":138.2,"d":"138.20"}]
[3745,"5452270504018","尹燕","324独山县人民医院集团","02医务人员",{"$f":"VLOOKUP(B3747,[1]Sheet1!$A:$I,8,0)","v":"70.00"},{"$f":"VLOOKUP(B3747,[1]Sheet1!$A:$I,9,0)","v":"57.40"},{"$f":"VLOOKUP(B3747,[2]少数民族加分!$C$1:$E$65536,3,FALSE)","v":2},{"v":129.4,"d":"129.40"}]
[3746,"5452270502915","何顺鹏","324独山县人民医院集团","02医务人员",{"$f":"VLOOKUP(B3748,[1]Sheet1!$A:$I,8,0)","v":"71.50"},{"$f":"VLOOKUP(B3748,[1]Sheet1!$A:$I,9,0)","v":"55.00"},{"$f":"VLOOKUP(B3748,[2]少数民族加分!$C$1:$E$65536,3,FALSE)","v":2},{"v":128.5,"d":"128.50"}]
[3747,"5452270503419","刘光欠","324独山县人民医院集团","02医务人员",{"$f":"VLOOKUP(B3749,[1]Sheet1!$A:$I,8,0)","v":"66.00"},{"$f":"VLOOKUP(B3749,[1]Sheet1!$A:$I,9,0)","v":"58.90"},{"$f":"VLOOKUP(B3749,[2]少数民族加分!$C$1:$E$65536,3,FALSE)","v":2},{"v":126.9,"d":"126.90"}]
[3748,"5452270504218","李金","324独山县人民医院集团","02医务人员",{"$f":"VLOOKUP(B3750,[1]Sheet1!$A:$I,8,0)","v":"73.00"},{"$f":"VLOOKUP(B3750,[1]Sheet1!$A:$I,9,0)","v":"51.30"},{"$f":"VLOOKUP(B3750,[2]少数民族加分!$C$1:$E$65536,3,FALSE)","v":2},{"v":126.3,"d":"126.30"}]
[3749,"5452270504215","韦广镇","324独山县人民医院集团","02医务人员",{"$f":"VLOOKUP(B3751,[1]Sheet1!$A:$I,8,0)","v":"63.00"},{"$f":"VLOOKUP(B3751,[1]Sheet1!$A:$I,9,0)","v":"60.90"},{"$f":"VLOOKUP(B3751,[2]少数民族加分!$C$1:$E$65536,3,FALSE)","v":2},{"v":125.9,"d":"125.90"}]
[3750,"5452270503124","邹祖献","324独山县人民医院集团","02医务人员",{"$f":"VLOOKUP(B3752,[1]Sheet1!$A:$I,8,0)","v":"59.50"},{"$f":"VLOOKUP(B3752,[1]Sheet1!$A:$I,9,0)","v":"59.70"},{"$f":"VLOOKUP(B3752,[2]少数民族加分!$C$1:$E$65536,3,FALSE)","v":2},{"v":121.2,"d":"121.20"}]
[3751,"5452270503601","梁运娟","324独山县人民医院集团","02医务人员",{"$f":"VLOOKUP(B3753,[1]Sheet1!$A:$I,8,0)","v":"59.00"},{"$f":"VLOOKUP(B3753,[1]Sheet1!$A:$I,9,0)","v":"58.30"},{"$f":"VLOOKUP(B3753,[2]少数民族加分!$C$1:$E$65536,3,FALSE)","v":2},{"v":119.3,"d":"119.30"}]
[3752,"5452270503311","支光笛","324独山县人民医院集团","02医务人员",{"$f":"VLOOKUP(B3754,[1]Sheet1!$A:$I,8,0)","v":"49.00"},{"$f":"VLOOKUP(B3754,[1]Sheet1!$A:$I,9,0)","v":"67.10"},null,{"v":116.1,"d":"116.10"}]
[3753,"5452270502526","胡梅","324独山县人民医院集团","02医务人员",{"$f":"VLOOKUP(B3755,[1]Sheet1!$A:$I,8,0)","v":"55.00"},{"$f":"VLOOKUP(B3755,[1]Sheet1!$A:$I,9,0)","v":"60.00"},null,{"v":115,"d":"115.00"}]
[3754,"5452270502821","付婷","324独山县人民医院集团","02医务人员",{"$f":"VLOOKUP(B3756,[1]Sheet1!$A:$I,8,0)","v":"48.50"},{"$f":"VLOOKUP(B3756,[1]Sheet1!$A:$I,9,0)","v":"62.80"},{"$f":"VLOOKUP(B3756,[2]少数民族加分!$C$1:$E$65536,3,FALSE)","v":2},{"v":113.3,"d":"113.30"}]
[3755,"5452270503726","韦明秋","324独山县人民医院集团","02医务人员",{"$f":"VLOOKUP(B3757,[1]Sheet1!$A:$I,8,0)","v":"46.50"},{"$f":"VLOOKUP(B3757,[1]Sheet1!$A:$I,9,0)","v":"60.90"},{"$f":"VLOOKUP(B3757,[2]少数民族加分!$C$1:$E$65536,3,FALSE)","v":2},{"v":109.4,"d":"109.40"}]
[3756,"5452270502610","陈霞","324独山县人民医院集团","02医务人员",{"$f":"VLOOKUP(B3758,[1]Sheet1!$A:$I,8,0)","v":"42.50"},{"$f":"VLOOKUP(B3758,[1]Sheet1!$A:$I,9,0)","v":"45.10"},null,{"v":87.6,"d":"87.60"}]
[3757,"5452270504022","林玉燕","324独山县人民医院集团","02医务人员",{"$f":"VLOOKUP(B3759,[1]Sheet1!$A:$I,8,0)","v":"0.00"},{"$f":"VLOOKUP(B3759,[1]Sheet1!$A:$I,9,0)","v":"0.00"},{"$f":"VLOOKUP(B3759,[2]少数民族加分!$C$1:$E$65536,3,FALSE)","v":2},"缺考"]
[3758,"1152270501721","曹松","325独山县人民医院第二分院（上司）","01财务人员",{"$f":"VLOOKUP(B3760,[1]Sheet1!$A:$I,8,0)","v":"73.50"},{"$f":"VLOOKUP(B3760,[1]Sheet1!$A:$I,9,0)","v":"93.00"},null,{"v":166.5,"d":"166.50"}]
[3759,"1152270600421","韦明珠","325独山县人民医院第二分院（上司）","01财务人员",{"$f":"VLOOKUP(B3761,[1]Sheet1!$A:$I,8,0)","v":"79.50"},{"$f":"VLOOKUP(B3761,[1]Sheet1!$A:$I,9,0)","v":"85.00"},{"$f":"VLOOKUP(B3761,[2]少数民族加分!$C$1:$E$65536,3,FALSE)","v":2},{"v":166.5,"d":"166.50"}]
[3761,"1152270501607","石芳龄","325独山县人民医院第二分院（上司）","01财务人员",{"$f":"VLOOKUP(B3762,[1]Sheet1!$A:$I,8,0)","v":"65.50"},{"$f":"VLOOKUP(B3762,[1]Sheet1!$A:$I,9,0)","v":"96.00"},{"$f":"VLOOKUP(B3762,[2]少数民族加分!$C$1:$E$65536,3,FALSE)","v":2},{"v":163.5,"d":"163.50"}]
[3760,"1152270501801","周昕磊","325独山县人民医院第二分院（上司）","01财务人员",{"$f":"VLOOKUP(B3763,[1]Sheet1!$A:$I,8,0)","v":"75.50"},{"$f":"VLOOKUP(B3763,[1]Sheet1!$A:$I,9,0)","v":"87.50"},null,{"v":163,"d":"163.00"}]
[3762,"1152270500626","高成羽","325独山县人民医院第二分院（上司）","01财务人员",{"$f":"VLOOKUP(B3764,[1]Sheet1!$A:$I,8,0)","v":"87.00"},{"$f":"VLOOKUP(B3764,[1]Sheet1!$A:$I,9,0)","v":"73.50"},{"$f":"VLOOKUP(B3764,[2]少数民族加分!$C$1:$E$65536,3,FALSE)","v":2},{"v":162.5,"d":"162.50"}]
[3763,"1152270600114","龙柳香","325独山县人民医院第二分院（上司）","01财务人员",{"$f":"VLOOKUP(B3765,[1]Sheet1!$A:$I,8,0)","v":"66.00"},{"$f":"VLOOKUP(B3765,[1]Sheet1!$A:$I,9,0)","v":"94.00"},{"$f":"VLOOKUP(B3765,[2]少数民族加分!$C$1:$E$65536,3,FALSE)","v":2},{"v":162,"d":"162.00"}]
[3764,"1152270500314","王春","325独山县人民医院第二分院（上司）","01财务人员",{"$f":"VLOOKUP(B3766,[1]Sheet1!$A:$I,8,0)","v":"76.00"},{"$f":"VLOOKUP(B3766,[1]Sheet1!$A:$I,9,0)","v":"82.50"},{"$f":"VLOOKUP(B3766,[2]少数民族加分!$C$1:$E$65536,3,FALSE)","v":2},{"v":160.5,"d":"160.50"}]
[3765,"1152270602415","范福俊","325独山县人民医院第二分院（上司）","01财务人员",{"$f":"VLOOKUP(B3767,[1]Sheet1!$A:$I,8,0)","v":"77.00"},{"$f":"VLOOKUP(B3767,[1]Sheet1!$A:$I,9,0)","v":"79.00"},{"$f":"VLOOKUP(B3767,[2]少数民族加分!$C$1:$E$65536,3,FALSE)","v":2},{"v":158,"d":"158.00"}]
[3766,"1152270601516","曾石成","325独山县人民医院第二分院（上司）","01财务人员",{"$f":"VLOOKUP(B3768,[1]Sheet1!$A:$I,8,0)","v":"77.50"},{"$f":"VLOOKUP(B3768,[1]Sheet1!$A:$I,9,0)","v":"75.50"},null,{"v":153,"d":"153.00"}]
[3767,"1152270501716","叶佳","325独山县人民医院第二分院（上司）","01财务人员",{"$f":"VLOOKUP(B3769,[1]Sheet1!$A:$I,8,0)","v":"74.00"},{"$f":"VLOOKUP(B3769,[1]Sheet1!$A:$I,9,0)","v":"78.50"},null,{"v":152.5,"d":"152.50"}]
[3768,"1152270602230","胡吉涛","325独山县人民医院第二分院（上司）","01财务人员",{"$f":"VLOOKUP(B3770,[1]Sheet1!$A:$I,8,0)","v":"73.00"},{"$f":"VLOOKUP(B3770,[1]Sheet1!$A:$I,9,0)","v":"78.00"},null,{"v":151,"d":"151.00"}]
[3769,"1152270500709","杨芳伟","325独山县人民医院第二分院（上司）","01财务人员",{"$f":"VLOOKUP(B3771,[1]Sheet1!$A:$I,8,0)","v":"79.50"},{"$f":"VLOOKUP(B3771,[1]Sheet1!$A:$I,9,0)","v":"63.00"},{"$f":"VLOOKUP(B3771,[2]少数民族加分!$C$1:$E$65536,3,FALSE)","v":2},{"v":144.5,"d":"144.50"}]
[3770,"1152270600407","岑国勇","325独山县人民医院第二分院（上司）","01财务人员",{"$f":"VLOOKUP(B3772,[1]Sheet1!$A:$I,8,0)","v":"71.50"},{"$f":"VLOOKUP(B3772,[1]Sheet1!$A:$I,9,0)","v":"70.00"},{"$f":"VLOOKUP(B3772,[2]少数民族加分!$C$1:$E$65536,3,FALSE)","v":2},{"v":143.5,"d":"143.50"}]
[3771,"1152270500412","吴嘉林","325独山县人民医院第二分院（上司）","01财务人员",{"$f":"VLOOKUP(B3773,[1]Sheet1!$A:$I,8,0)","v":"58.50"},{"$f":"VLOOKUP(B3773,[1]Sheet1!$A:$I,9,0)","v":"82.00"},{"$f":"VLOOKUP(B3773,[2]少数民族加分!$C$1:$E$65536,3,FALSE)","v":2},{"v":142.5,"d":"142.50"}]
[3772,"1152270602210","刘丽娜","325独山县人民医院第二分院（上司）","01财务人员",{"$f":"VLOOKUP(B3774,[1]Sheet1!$A:$I,8,0)","v":"70.50"},{"$f":"VLOOKUP(B3774,[1]Sheet1!$A:$I,9,0)","v":"70.00"},{"$f":"VLOOKUP(B3774,[2]少数民族加分!$C$1:$E$65536,3,FALSE)","v":2},{"v":142.5,"d":"142.50"}]
[3773,"1152270601511","陈雪","325独山县人民医院第二分院（上司）","01财务人员",{"$f":"VLOOKUP(B3775,[1]Sheet1!$A:$I,8,0)","v":"62.50"},{"$f":"VLOOKUP(B3775,[1]Sheet1!$A:$I,9,0)","v":"76.00"},{"$f":"VLOOKUP(B3775,[2]少数民族加分!$C$1:$E$65536,3,FALSE)","v":2},{"v":140.5,"d":"140.50"}]
[3774,"1152270500406","龙玲燕","325独山县人民医院第二分院（上司）","01财务人员",{"$f":"VLOOKUP(B3776,[1]Sheet1!$A:$I,8,0)","v":"74.00"},{"$f":"VLOOKUP(B3776,[1]Sheet1!$A:$I,9,0)","v":"58.00"},{"$f":"VLOOKUP(B3776,[2]少数民族加分!$C$1:$E$65536,3,FALSE)","v":2},{"v":134,"d":"134.00"}]
[3775,"1152270501617","杨胜利","325独山县人民医院第二分院（上司）","01财务人员",{"$f":"VLOOKUP(B3777,[1]Sheet1!$A:$I,8,0)","v":"65.00"},{"$f":"VLOOKUP(B3777,[1]Sheet1!$A:$I,9,0)","v":"67.00"},{"$f":"VLOOKUP(B3777,[2]少数民族加分!$C$1:$E$65536,3,FALSE)","v":2},{"v":134,"d":"134.00"}]
[3776,"1152270500303","韦红端","325独山县人民医院第二分院（上司）","01财务人员",{"$f":"VLOOKUP(B3778,[1]Sheet1!$A:$I,8,0)","v":"65.00"},{"$f":"VLOOKUP(B3778,[1]Sheet1!$A:$I,9,0)","v":"65.00"},{"$f":"VLOOKUP(B3778,[2]少数民族加分!$C$1:$E$65536,3,FALSE)","v":2},{"v":132,"d":"132.00"}]
[3777,"1152270600814","潘金平","325独山县人民医院第二分院（上司）","01财务人员",{"$f":"VLOOKUP(B3779,[1]Sheet1!$A:$I,8,0)","v":"71.00"},{"$f":"VLOOKUP(B3779,[1]Sheet1!$A:$I,9,0)","v":"59.00"},{"$f":"VLOOKUP(B3779,[2]少数民族加分!$C$1:$E$65536,3,FALSE)","v":2},{"v":132,"d":"132.00"}]
[3778,"1152270600508","周礼敏","325独山县人民医院第二分院（上司）","01财务人员",{"$f":"VLOOKUP(B3780,[1]Sheet1!$A:$I,8,0)","v":"49.50"},{"$f":"VLOOKUP(B3780,[1]Sheet1!$A:$I,9,0)","v":"79.00"},null,{"v":128.5,"d":"128.50"}]
[3779,"1152270600103","石媛媛","325独山县人民医院第二分院（上司）","01财务人员",{"$f":"VLOOKUP(B3781,[1]Sheet1!$A:$I,8,0)","v":"58.00"},{"$f":"VLOOKUP(B3781,[1]Sheet1!$A:$I,9,0)","v":"67.00"},{"$f":"VLOOKUP(B3781,[2]少数民族加分!$C$1:$E$65536,3,FALSE)","v":2},{"v":127,"d":"127.00"}]
[3780,"1152270601814","黎金妹","325独山县人民医院第二分院（上司）","01财务人员",{"$f":"VLOOKUP(B3782,[1]Sheet1!$A:$I,8,0)","v":"57.00"},{"$f":"VLOOKUP(B3782,[1]Sheet1!$A:$I,9,0)","v":"64.00"},{"$f":"VLOOKUP(B3782,[2]少数民族加分!$C$1:$E$65536,3,FALSE)","v":2},{"v":123,"d":"123.00"}]
[3781,"1152270500905","杨洋","325独山县人民医院第二分院（上司）","01财务人员",{"$f":"VLOOKUP(B3783,[1]Sheet1!$A:$I,8,0)","v":"58.50"},{"$f":"VLOOKUP(B3783,[1]Sheet1!$A:$I,9,0)","v":"62.00"},{"$f":"VLOOKUP(B3783,[2]少数民族加分!$C$1:$E$65536,3,FALSE)","v":2},{"v":122.5,"d":"122.50"}]
[3782,"1152270501108","范晋宇","325独山县人民医院第二分院（上司）","01财务人员",{"$f":"VLOOKUP(B3784,[1]Sheet1!$A:$I,8,0)","v":"52.00"},{"$f":"VLOOKUP(B3784,[1]Sheet1!$A:$I,9,0)","v":"66.00"},{"$f":"VLOOKUP(B3784,[2]少数民族加分!$C$1:$E$65536,3,FALSE)","v":2},{"v":120,"d":"120.00"}]
[3783,"1152270601916","欧珍慧","325独山县人民医院第二分院（上司）","01财务人员",{"$f":"VLOOKUP(B3785,[1]Sheet1!$A:$I,8,0)","v":"49.00"},{"$f":"VLOOKUP(B3785,[1]Sheet1!$A:$I,9,0)","v":"65.00"},{"$f":"VLOOKUP(B3785,[2]少数民族加分!$C$1:$E$65536,3,FALSE)","v":2},{"v":116,"d":"116.00"}]
[3784,"1152270601305","陆云","325独山县人民医院第二分院（上司）","01财务人员",{"$f":"VLOOKUP(B3786,[1]Sheet1!$A:$I,8,0)","v":"0.00"},{"$f":"VLOOKUP(B3786,[1]Sheet1!$A:$I,9,0)","v":"0.00"},null,"缺考"]
[3785,"1152270601407","杨代贵","325独山县人民医院第二分院（上司）","01财务人员",{"$f":"VLOOKUP(B3787,[1]Sheet1!$A:$I,8,0)","v":"0.00"},{"$f":"VLOOKUP(B3787,[1]Sheet1!$A:$I,9,0)","v":"0.00"},{"$f":"VLOOKUP(B3787,[2]少数民族加分!$C$1:$E$65536,3,FALSE)","v":2},"缺考"]
[3786,"1152270601522","石庆美","325独山县人民医院第二分院（上司）","01财务人员",{"$f":"VLOOKUP(B3788,[1]Sheet1!$A:$I,8,0)","v":"0.00"},{"$f":"VLOOKUP(B3788,[1]Sheet1!$A:$I,9,0)","v":"0.00"},{"$f":"VLOOKUP(B3788,[2]少数民族加分!$C$1:$E$65536,3,FALSE)","v":2},"缺考"]
[3787,"1152270601924","莫娅茹","325独山县人民医院第二分院（上司）","01财务人员",{"$f":"VLOOKUP(B3789,[1]Sheet1!$A:$I,8,0)","v":"0.00"},{"$f":"VLOOKUP(B3789,[1]Sheet1!$A:$I,9,0)","v":"0.00"},{"$f":"VLOOKUP(B3789,[2]少数民族加分!$C$1:$E$65536,3,FALSE)","v":2},"缺考"]
[3788,"1152270602502","罗小敏","325独山县人民医院第二分院（上司）","01财务人员",{"$f":"VLOOKUP(B3790,[1]Sheet1!$A:$I,8,0)","v":"0.00"},{"$f":"VLOOKUP(B3790,[1]Sheet1!$A:$I,9,0)","v":"0.00"},{"$f":"VLOOKUP(B3790,[2]少数民族加分!$C$1:$E$65536,3,FALSE)","v":2},"缺考"]
[3789,"1152270500918","张冬梅","325独山县人民医院第二分院（上司）","01财务人员",{"$f":"VLOOKUP(B3791,[1]Sheet1!$A:$I,8,0)","v":"0.00"},{"$f":"VLOOKUP(B3791,[1]Sheet1!$A:$I,9,0)","v":"0.00"},{"$f":"VLOOKUP(B3791,[2]少数民族加分!$C$1:$E$65536,3,FALSE)","v":2},"缺考"]
[3790,"1152270500920","肖国富","325独山县人民医院第二分院（上司）","01财务人员",{"$f":"VLOOKUP(B3792,[1]Sheet1!$A:$I,8,0)","v":"0.00"},{"$f":"VLOOKUP(B3792,[1]Sheet1!$A:$I,9,0)","v":"0.00"},null,"缺考"]
[3791,"1152270501215","王冰玉","325独山县人民医院第二分院（上司）","01财务人员",{"$f":"VLOOKUP(B3793,[1]Sheet1!$A:$I,8,0)","v":"0.00"},{"$f":"VLOOKUP(B3793,[1]Sheet1!$A:$I,9,0)","v":"0.00"},{"$f":"VLOOKUP(B3793,[2]少数民族加分!$C$1:$E$65536,3,FALSE)","v":2},"缺考"]
[3792,"1152270600304","吴秋霞","325独山县人民医院第二分院（上司）","01财务人员",{"$f":"VLOOKUP(B3794,[1]Sheet1!$A:$I,8,0)","v":"0.00"},{"$f":"VLOOKUP(B3794,[1]Sheet1!$A:$I,9,0)","v":"0.00"},{"$f":"VLOOKUP(B3794,[2]少数民族加分!$C$1:$E$65536,3,FALSE)","v":2},"缺考"]
[3793,"1152270600903","杨加梅","325独山县人民医院第二分院（上司）","01财务人员",{"$f":"VLOOKUP(B3795,[1]Sheet1!$A:$I,8,0)","v":"0.00"},{"$f":"VLOOKUP(B3795,[1]Sheet1!$A:$I,9,0)","v":"0.00"},null,"缺考"]
[3794,"5152270509104","曾祥鑫","325独山县人民医院第二分院（上司）","02医务人员",{"$f":"VLOOKUP(B3796,[1]Sheet1!$A:$I,8,0)","v":"86.00"},{"$f":"VLOOKUP(B3796,[1]Sheet1!$A:$I,9,0)","v":"53.50"},{"$f":"VLOOKUP(B3796,[2]少数民族加分!$C$1:$E$65536,3,FALSE)","v":2},{"v":141.5,"d":"141.50"}]
[3795,"5152270509111","龙锦涛","325独山县人民医院第二分院（上司）","02医务人员",{"$f":"VLOOKUP(B3797,[1]Sheet1!$A:$I,8,0)","v":"56.50"},{"$f":"VLOOKUP(B3797,[1]Sheet1!$A:$I,9,0)","v":"62.40"},{"$f":"VLOOKUP(B3797,[2]少数民族加分!$C$1:$E$65536,3,FALSE)","v":2},{"v":120.9,"d":"120.90"}]
[3796,"5152270509108","陈琼兰","325独山县人民医院第二分院（上司）","02医务人员",{"$f":"VLOOKUP(B3798,[1]Sheet1!$A:$I,8,0)","v":"53.00"},{"$f":"VLOOKUP(B3798,[1]Sheet1!$A:$I,9,0)","v":"53.00"},null,{"v":106,"d":"106.00"}]
[3797,"5352270502215","柴林","326独山县人民医院第三分院（下司）","01医务人员",{"$f":"VLOOKUP(B3799,[1]Sheet1!$A:$I,8,0)","v":"77.50"},{"$f":"VLOOKUP(B3799,[1]Sheet1!$A:$I,9,0)","v":"63.10"},null,{"v":140.6,"d":"140.60"}]
[3798,"5352270502122","蒙颖婕","326独山县人民医院第三分院（下司）","01医务人员",{"$f":"VLOOKUP(B3800,[1]Sheet1!$A:$I,8,0)","v":"73.50"},{"$f":"VLOOKUP(B3800,[1]Sheet1!$A:$I,9,0)","v":"55.70"},{"$f":"VLOOKUP(B3800,[2]少数民族加分!$C$1:$E$65536,3,FALSE)","v":2},{"v":131.2,"d":"131.20"}]
[3799,"5352270502107","杨宏建","326独山县人民医院第三分院（下司）","01医务人员",{"$f":"VLOOKUP(B3801,[1]Sheet1!$A:$I,8,0)","v":"72.00"},{"$f":"VLOOKUP(B3801,[1]Sheet1!$A:$I,9,0)","v":"52.50"},{"$f":"VLOOKUP(B3801,[2]少数民族加分!$C$1:$E$65536,3,FALSE)","v":2},{"v":126.5,"d":"126.50"}]
[3800,"5352270502205","李丹丹","326独山县人民医院第三分院（下司）","01医务人员",{"$f":"VLOOKUP(B3802,[1]Sheet1!$A:$I,8,0)","v":"61.00"},{"$f":"VLOOKUP(B3802,[1]Sheet1!$A:$I,9,0)","v":"55.10"},null,{"v":116.1,"d":"116.10"}]
[3801,"5352270502129","李遥","326独山县人民医院第三分院（下司）","01医务人员",{"$f":"VLOOKUP(B3803,[1]Sheet1!$A:$I,8,0)","v":"58.50"},{"$f":"VLOOKUP(B3803,[1]Sheet1!$A:$I,9,0)","v":"54.10"},null,{"v":112.6,"d":"112.60"}]
[3802,"5352270502210","周峰","326独山县人民医院第三分院（下司）","01医务人员",{"$f":"VLOOKUP(B3804,[1]Sheet1!$A:$I,8,0)","v":"52.00"},{"$f":"VLOOKUP(B3804,[1]Sheet1!$A:$I,9,0)","v":"53.30"},null,{"v":105.3,"d":"105.30"}]
[3803,"5352270502113","李志遥","326独山县人民医院第三分院（下司）","01医务人员",{"$f":"VLOOKUP(B3805,[1]Sheet1!$A:$I,8,0)","v":"0.00"},{"$f":"VLOOKUP(B3805,[1]Sheet1!$A:$I,9,0)","v":"0.00"},null,"缺考"]
[3804,"5352270509218","蔡承广","326独山县人民医院第三分院（下司）","01医务人员",{"$f":"VLOOKUP(B3806,[1]Sheet1!$A:$I,8,0)","v":"0.00"},{"$f":"VLOOKUP(B3806,[1]Sheet1!$A:$I,9,0)","v":"0.00"},{"$f":"VLOOKUP(B3806,[2]少数民族加分!$C$1:$E$65536,3,FALSE)","v":2},"缺考"]
[3805,"5552270504418","龙霞","326独山县人民医院第三分院（下司）","02医务人员",{"$f":"VLOOKUP(B3807,[1]Sheet1!$A:$I,8,0)","v":"48.50"},{"$f":"VLOOKUP(B3807,[1]Sheet1!$A:$I,9,0)","v":"80.90"},{"$f":"VLOOKUP(B3807,[2]少数民族加分!$C$1:$E$65536,3,FALSE)","v":2},{"v":131.4,"d":"131.40"}]
[3806,"5552270504322","黄丹","326独山县人民医院第三分院（下司）","02医务人员",{"$f":"VLOOKUP(B3808,[1]Sheet1!$A:$I,8,0)","v":"52.50"},{"$f":"VLOOKUP(B3808,[1]Sheet1!$A:$I,9,0)","v":"56.90"},null,{"v":109.4,"d":"109.40"}]
[3807,"5552270504301","陈国露","326独山县人民医院第三分院（下司）","02医务人员",{"$f":"VLOOKUP(B3809,[1]Sheet1!$A:$I,8,0)","v":"0.00"},{"$f":"VLOOKUP(B3809,[1]Sheet1!$A:$I,9,0)","v":"0.00"},{"$f":"VLOOKUP(B3809,[2]少数民族加分!$C$1:$E$65536,3,FALSE)","v":2},"缺考"]
[3808,"5552270504410","刘忠珊","326独山县人民医院第三分院（下司）","02医务人员",{"$f":"VLOOKUP(B3810,[1]Sheet1!$A:$I,8,0)","v":"0.00"},{"$f":"VLOOKUP(B3810,[1]Sheet1!$A:$I,9,0)","v":"0.00"},{"$f":"VLOOKUP(B3810,[2]少数民族加分!$C$1:$E$65536,3,FALSE)","v":2},"缺考"]
[3809,"5252270502021","罗德芬","327独山县人民医院分院","01医务人员",{"$f":"VLOOKUP(B3811,[1]Sheet1!$A:$I,8,0)","v":"68.00"},{"$f":"VLOOKUP(B3811,[1]Sheet1!$A:$I,9,0)","v":"72.60"},{"$f":"VLOOKUP(B3811,[2]少数民族加分!$C$1:$E$65536,3,FALSE)","v":2},{"v":142.6,"d":"142.60"}]
[3810,"5152270509102","杨通仙","327独山县人民医院分院","02医务人员",{"$f":"VLOOKUP(B3812,[1]Sheet1!$A:$I,8,0)","v":"90.50"},{"$f":"VLOOKUP(B3812,[1]Sheet1!$A:$I,9,0)","v":"82.90"},{"$f":"VLOOKUP(B3812,[2]少数民族加分!$C$1:$E$65536,3,FALSE)","v":2},{"v":175.4,"d":"175.40"}]
[3811,"5152270509105","李正林","327独山县人民医院分院","02医务人员",{"$f":"VLOOKUP(B3813,[1]Sheet1!$A:$I,8,0)","v":"84.50"},{"$f":"VLOOKUP(B3813,[1]Sheet1!$A:$I,9,0)","v":"52.60"},{"$f":"VLOOKUP(B3813,[2]少数民族加分!$C$1:$E$65536,3,FALSE)","v":2},{"v":139.1,"d":"139.10"}]
[3812,"5152270509101","陆玉彬","327独山县人民医院分院","02医务人员",{"$f":"VLOOKUP(B3814,[1]Sheet1!$A:$I,8,0)","v":"63.50"},{"$f":"VLOOKUP(B3814,[1]Sheet1!$A:$I,9,0)","v":"56.90"},{"$f":"VLOOKUP(B3814,[2]少数民族加分!$C$1:$E$65536,3,FALSE)","v":2},{"v":122.4,"d":"122.40"}]
[3813,"5252270502004","喻万银","327独山县人民医院分院","03医务人员",{"$f":"VLOOKUP(B3815,[1]Sheet1!$A:$I,8,0)","v":"82.50"},{"$f":"VLOOKUP(B3815,[1]Sheet1!$A:$I,9,0)","v":"80.90"},null,{"v":163.4,"d":"163.40"}]
[3814,"5252270501903","梁后芳","327独山县人民医院分院","03医务人员",{"$f":"VLOOKUP(B3816,[1]Sheet1!$A:$I,8,0)","v":"74.50"},{"$f":"VLOOKUP(B3816,[1]Sheet1!$A:$I,9,0)","v":"85.30"},null,{"v":159.8,"d":"159.80"}]
[3815,"5252270501911","班永海","327独山县人民医院分院","03医务人员",{"$f":"VLOOKUP(B3817,[1]Sheet1!$A:$I,8,0)","v":"71.50"},{"$f":"VLOOKUP(B3817,[1]Sheet1!$A:$I,9,0)","v":"84.90"},{"$f":"VLOOKUP(B3817,[2]少数民族加分!$C$1:$E$65536,3,FALSE)","v":2},{"v":158.4,"d":"158.40"}]
[3816,"5252270501930","张华","327独山县人民医院分院","03医务人员",{"$f":"VLOOKUP(B3818,[1]Sheet1!$A:$I,8,0)","v":"81.00"},{"$f":"VLOOKUP(B3818,[1]Sheet1!$A:$I,9,0)","v":"72.10"},{"$f":"VLOOKUP(B3818,[2]少数民族加分!$C$1:$E$65536,3,FALSE)","v":2},{"v":155.1,"d":"155.10"}]
[3818,"5252270501924","莫永佩","327独山县人民医院分院","03医务人员",{"$f":"VLOOKUP(B3819,[1]Sheet1!$A:$I,8,0)","v":"74.00"},{"$f":"VLOOKUP(B3819,[1]Sheet1!$A:$I,9,0)","v":"77.00"},{"$f":"VLOOKUP(B3819,[2]少数民族加分!$C$1:$E$65536,3,FALSE)","v":2},{"v":153,"d":"153.00"}]
[3817,"5252270502022","熊兴桃","327独山县人民医院分院","03医务人员",{"$f":"VLOOKUP(B3820,[1]Sheet1!$A:$I,8,0)","v":"73.00"},{"$f":"VLOOKUP(B3820,[1]Sheet1!$A:$I,9,0)","v":"79.10"},null,{"v":152.1,"d":"152.10"}]
[3819,"5252270501916","田景芳","327独山县人民医院分院","03医务人员",{"$f":"VLOOKUP(B3821,[1]Sheet1!$A:$I,8,0)","v":"70.50"},{"$f":"VLOOKUP(B3821,[1]Sheet1!$A:$I,9,0)","v":"78.40"},{"$f":"VLOOKUP(B3821,[2]少数民族加分!$C$1:$E$65536,3,FALSE)","v":2},{"v":150.9,"d":"150.90"}]
[3820,"5252270501910","周子办","327独山县人民医院分院","03医务人员",{"$f":"VLOOKUP(B3822,[1]Sheet1!$A:$I,8,0)","v":"72.50"},{"$f":"VLOOKUP(B3822,[1]Sheet1!$A:$I,9,0)","v":"75.90"},{"$f":"VLOOKUP(B3822,[2]少数民族加分!$C$1:$E$65536,3,FALSE)","v":2},{"v":150.4,"d":"150.40"}]
[3822,"5252270502015","刘桂丽","327独山县人民医院分院","03医务人员",{"$f":"VLOOKUP(B3823,[1]Sheet1!$A:$I,8,0)","v":"63.00"},{"$f":"VLOOKUP(B3823,[1]Sheet1!$A:$I,9,0)","v":"80.80"},{"$f":"VLOOKUP(B3823,[2]少数民族加分!$C$1:$E$65536,3,FALSE)","v":2},{"v":145.8,"d":"145.80"}]
[3821,"5252270502018","张家发","327独山县人民医院分院","03医务人员",{"$f":"VLOOKUP(B3824,[1]Sheet1!$A:$I,8,0)","v":"73.50"},{"$f":"VLOOKUP(B3824,[1]Sheet1!$A:$I,9,0)","v":"70.60"},null,{"v":144.1,"d":"144.10"}]
[3823,"5252270502006","李靖","327独山县人民医院分院","03医务人员",{"$f":"VLOOKUP(B3825,[1]Sheet1!$A:$I,8,0)","v":"73.00"},{"$f":"VLOOKUP(B3825,[1]Sheet1!$A:$I,9,0)","v":"69.60"},null,{"v":142.6,"d":"142.60"}]
[3824,"5252270502025","韦方艳","327独山县人民医院分院","03医务人员",{"$f":"VLOOKUP(B3826,[1]Sheet1!$A:$I,8,0)","v":"61.50"},{"$f":"VLOOKUP(B3826,[1]Sheet1!$A:$I,9,0)","v":"75.20"},null,{"v":136.7,"d":"136.70"}]
[3825,"5252270501902","亢青松","327独山县人民医院分院","03医务人员",{"$f":"VLOOKUP(B3827,[1]Sheet1!$A:$I,8,0)","v":"66.00"},{"$f":"VLOOKUP(B3827,[1]Sheet1!$A:$I,9,0)","v":"67.50"},{"$f":"VLOOKUP(B3827,[2]少数民族加分!$C$1:$E$65536,3,FALSE)","v":2},{"v":135.5,"d":"135.50"}]
[3826,"5252270502023","吴芬芬","327独山县人民医院分院","03医务人员",{"$f":"VLOOKUP(B3828,[1]Sheet1!$A:$I,8,0)","v":"52.50"},{"$f":"VLOOKUP(B3828,[1]Sheet1!$A:$I,9,0)","v":"79.60"},{"$f":"VLOOKUP(B3828,[2]少数民族加分!$C$1:$E$65536,3,FALSE)","v":2},{"v":134.1,"d":"134.10"}]
[3828,"5252270502026","王兰","327独山县人民医院分院","03医务人员",{"$f":"VLOOKUP(B3829,[1]Sheet1!$A:$I,8,0)","v":"62.50"},{"$f":"VLOOKUP(B3829,[1]Sheet1!$A:$I,9,0)","v":"67.80"},{"$f":"VLOOKUP(B3829,[2]少数民族加分!$C$1:$E$65536,3,FALSE)","v":2},{"v":132.3,"d":"132.30"}]
[3827,"5252270502008","李晓菊","327独山县人民医院分院","03医务人员",{"$f":"VLOOKUP(B3830,[1]Sheet1!$A:$I,8,0)","v":"49.00"},{"$f":"VLOOKUP(B3830,[1]Sheet1!$A:$I,9,0)","v":"82.80"},null,{"v":131.8,"d":"131.80"}]
[3829,"5252270502011","韦廷想","327独山县人民医院分院","03医务人员",{"$f":"VLOOKUP(B3831,[1]Sheet1!$A:$I,8,0)","v":"60.50"},{"$f":"VLOOKUP(B3831,[1]Sheet1!$A:$I,9,0)","v":"67.60"},{"$f":"VLOOKUP(B3831,[2]少数民族加分!$C$1:$E$65536,3,FALSE)","v":2},{"v":130.1,"d":"130.10"}]
[3830,"5252270501914","杨娥","327独山县人民医院分院","03医务人员",{"$f":"VLOOKUP(B3832,[1]Sheet1!$A:$I,8,0)","v":"61.50"},{"$f":"VLOOKUP(B3832,[1]Sheet1!$A:$I,9,0)","v":"65.50"},{"$f":"VLOOKUP(B3832,[2]少数民族加分!$C$1:$E$65536,3,FALSE)","v":2},{"v":129,"d":"129.00"}]
[3832,"5252270501901","黎青","327独山县人民医院分院","03医务人员",{"$f":"VLOOKUP(B3833,[1]Sheet1!$A:$I,8,0)","v":"49.00"},{"$f":"VLOOKUP(B3833,[1]Sheet1!$A:$I,9,0)","v":"76.10"},{"$f":"VLOOKUP(B3833,[2]少数民族加分!$C$1:$E$65536,3,FALSE)","v":2},{"v":127.1,"d":"127.10"}]
[3831,"5252270502012","常汝莲","327独山县人民医院分院","03医务人员",{"$f":"VLOOKUP(B3834,[1]Sheet1!$A:$I,8,0)","v":"62.50"},{"$f":"VLOOKUP(B3834,[1]Sheet1!$A:$I,9,0)","v":"64.50"},null,{"v":127,"d":"127.00"}]
[3833,"5252270502003","周永敏","327独山县人民医院分院","03医务人员",{"$f":"VLOOKUP(B3835,[1]Sheet1!$A:$I,8,0)","v":"53.00"},{"$f":"VLOOKUP(B3835,[1]Sheet1!$A:$I,9,0)","v":"71.00"},null,{"v":124,"d":"124.00"}]
[3834,"5252270501921","龙方琴","327独山县人民医院分院","03医务人员",{"$f":"VLOOKUP(B3836,[1]Sheet1!$A:$I,8,0)","v":"50.50"},{"$f":"VLOOKUP(B3836,[1]Sheet1!$A:$I,9,0)","v":"71.20"},{"$f":"VLOOKUP(B3836,[2]少数民族加分!$C$1:$E$65536,3,FALSE)","v":2},{"v":123.7,"d":"123.70"}]
[3835,"5252270501905","刘颖","327独山县人民医院分院","03医务人员",{"$f":"VLOOKUP(B3837,[1]Sheet1!$A:$I,8,0)","v":"58.00"},{"$f":"VLOOKUP(B3837,[1]Sheet1!$A:$I,9,0)","v":"62.40"},{"$f":"VLOOKUP(B3837,[2]少数民族加分!$C$1:$E$65536,3,FALSE)","v":2},{"v":122.4,"d":"122.40"}]
[3836,"5252270502029","潘爱秀","327独山县人民医院分院","03医务人员",{"$f":"VLOOKUP(B3838,[1]Sheet1!$A:$I,8,0)","v":"53.50"},{"$f":"VLOOKUP(B3838,[1]Sheet1!$A:$I,9,0)","v":"66.30"},{"$f":"VLOOKUP(B3838,[2]少数民族加分!$C$1:$E$65536,3,FALSE)","v":2},{"v":121.8,"d":"121.80"}]
[3837,"5252270501913","姜永旗","327独山县人民医院分院","03医务人员",{"$f":"VLOOKUP(B3839,[1]Sheet1!$A:$I,8,0)","v":"0.00"},{"$f":"VLOOKUP(B3839,[1]Sheet1!$A:$I,9,0)","v":"0.00"},{"$f":"VLOOKUP(B3839,[2]少数民族加分!$C$1:$E$65536,3,FALSE)","v":2},"缺考"]
[3838,"5252270501922","张国英","327独山县人民医院分院","03医务人员",{"$f":"VLOOKUP(B3840,[1]Sheet1!$A:$I,8,0)","v":"0.00"},{"$f":"VLOOKUP(B3840,[1]Sheet1!$A:$I,9,0)","v":"0.00"},{"$f":"VLOOKUP(B3840,[2]少数民族加分!$C$1:$E$65536,3,FALSE)","v":2},"缺考"]
[3965,"5452270504110","佘贵珍","327独山县人民医院分院","04医务人员",{"$f":"VLOOKUP(B3841,[1]Sheet1!$A:$I,8,0)","v":"0.00"},{"$f":"VLOOKUP(B3841,[1]Sheet1!$A:$I,9,0)","v":"0.00"},null,"未复核，取消成绩"]
[3839,"5452270503525","莫婧雯","327独山县人民医院分院","04医务人员",{"$f":"VLOOKUP(B3842,[1]Sheet1!$A:$I,8,0)","v":"79.00"},{"$f":"VLOOKUP(B3842,[1]Sheet1!$A:$I,9,0)","v":"83.20"},{"$f":"VLOOKUP(B3842,[2]少数民族加分!$C$1:$E$65536,3,FALSE)","v":2},{"v":164.2,"d":"164.20"}]
[3840,"5452270503620","胡媛","327独山县人民医院分院","04医务人员",{"$f":"VLOOKUP(B3843,[1]Sheet1!$A:$I,8,0)","v":"91.00"},{"$f":"VLOOKUP(B3843,[1]Sheet1!$A:$I,9,0)","v":"68.30"},null,{"v":159.3,"d":"159.30"}]
[3844,"5452270502429","吴坤","327独山县人民医院分院","04医务人员",{"$f":"VLOOKUP(B3844,[1]Sheet1!$A:$I,8,0)","v":"84.00"},{"$f":"VLOOKUP(B3844,[1]Sheet1!$A:$I,9,0)","v":"72.00"},{"$f":"VLOOKUP(B3844,[2]少数民族加分!$C$1:$E$65536,3,FALSE)","v":2},{"v":158,"d":"158.00"}]
[3841,"5452270502319","李梅","327独山县人民医院分院","04医务人员",{"$f":"VLOOKUP(B3845,[1]Sheet1!$A:$I,8,0)","v":"82.00"},{"$f":"VLOOKUP(B3845,[1]Sheet1!$A:$I,9,0)","v":"75.40"},null,{"v":157.4,"d":"157.40"}]
[3846,"5452270503904","龙玉婷","327独山县人民医院分院","04医务人员",{"$f":"VLOOKUP(B3846,[1]Sheet1!$A:$I,8,0)","v":"79.00"},{"$f":"VLOOKUP(B3846,[1]Sheet1!$A:$I,9,0)","v":"76.30"},{"$f":"VLOOKUP(B3846,[2]少数民族加分!$C$1:$E$65536,3,FALSE)","v":2},{"v":157.3,"d":"157.30"}]
[3842,"5452270509316","况洪建","327独山县人民医院分院","04医务人员",{"$f":"VLOOKUP(B3847,[1]Sheet1!$A:$I,8,0)","v":"80.00"},{"$f":"VLOOKUP(B3847,[1]Sheet1!$A:$I,9,0)","v":"77.00"},null,{"v":157,"d":"157.00"}]
[3843,"5452270503818","徐明春","327独山县人民医院分院","04医务人员",{"$f":"VLOOKUP(B3848,[1]Sheet1!$A:$I,8,0)","v":"77.00"},{"$f":"VLOOKUP(B3848,[1]Sheet1!$A:$I,9,0)","v":"79.90"},null,{"v":156.9,"d":"156.90"}]
[3847,"5452270503606","王龙凤","327独山县人民医院分院","04医务人员",{"$f":"VLOOKUP(B3849,[1]Sheet1!$A:$I,8,0)","v":"85.00"},{"$f":"VLOOKUP(B3849,[1]Sheet1!$A:$I,9,0)","v":"68.60"},{"$f":"VLOOKUP(B3849,[2]少数民族加分!$C$1:$E$65536,3,FALSE)","v":2},{"v":155.6,"d":"155.60"}]
[3845,"5452270503518","陶霄","327独山县人民医院分院","04医务人员",{"$f":"VLOOKUP(B3850,[1]Sheet1!$A:$I,8,0)","v":"80.00"},{"$f":"VLOOKUP(B3850,[1]Sheet1!$A:$I,9,0)","v":"75.50"},null,{"v":155.5,"d":"155.50"}]
[3848,"5452270503621","梁长顺","327独山县人民医院分院","04医务人员",{"$f":"VLOOKUP(B3851,[1]Sheet1!$A:$I,8,0)","v":"71.00"},{"$f":"VLOOKUP(B3851,[1]Sheet1!$A:$I,9,0)","v":"79.60"},null,{"v":150.6,"d":"150.60"}]
[3851,"5452270503224","罗娅","327独山县人民医院分院","04医务人员",{"$f":"VLOOKUP(B3852,[1]Sheet1!$A:$I,8,0)","v":"75.50"},{"$f":"VLOOKUP(B3852,[1]Sheet1!$A:$I,9,0)","v":"73.00"},{"$f":"VLOOKUP(B3852,[2]少数民族加分!$C$1:$E$65536,3,FALSE)","v":2},{"v":150.5,"d":"150.50"}]
[3852,"5452270503925","韦海利","327独山县人民医院分院","04医务人员",{"$f":"VLOOKUP(B3853,[1]Sheet1!$A:$I,8,0)","v":"64.50"},{"$f":"VLOOKUP(B3853,[1]Sheet1!$A:$I,9,0)","v":"83.80"},{"$f":"VLOOKUP(B3853,[2]少数民族加分!$C$1:$E$65536,3,FALSE)","v":2},{"v":150.3,"d":"150.30"}]
[3853,"5452270503009","刘贤桃","327独山县人民医院分院","04医务人员",{"$f":"VLOOKUP(B3854,[1]Sheet1!$A:$I,8,0)","v":"74.00"},{"$f":"VLOOKUP(B3854,[1]Sheet1!$A:$I,9,0)","v":"74.00"},{"$f":"VLOOKUP(B3854,[2]少数民族加分!$C$1:$E$65536,3,FALSE)","v":2},{"v":150,"d":"150.00"}]
[3849,"5452270502615","张婷","327独山县人民医院分院","04医务人员",{"$f":"VLOOKUP(B3855,[1]Sheet1!$A:$I,8,0)","v":"67.50"},{"$f":"VLOOKUP(B3855,[1]Sheet1!$A:$I,9,0)","v":"82.40"},null,{"v":149.9,"d":"149.90"}]
[3850,"5452270502518","玉倩茹君","327独山县人民医院分院","04医务人员",{"$f":"VLOOKUP(B3856,[1]Sheet1!$A:$I,8,0)","v":"65.50"},{"$f":"VLOOKUP(B3856,[1]Sheet1!$A:$I,9,0)","v":"83.90"},null,{"v":149.4,"d":"149.40"}]
[3857,"5452270504126","白龙航","327独山县人民医院分院","04医务人员",{"$f":"VLOOKUP(B3857,[1]Sheet1!$A:$I,8,0)","v":"70.00"},{"$f":"VLOOKUP(B3857,[1]Sheet1!$A:$I,9,0)","v":"76.20"},{"$f":"VLOOKUP(B3857,[2]少数民族加分!$C$1:$E$65536,3,FALSE)","v":2},{"v":148.2,"d":"148.20"}]
[3854,"5452270502723","方顺引","327独山县人民医院分院","04医务人员",{"$f":"VLOOKUP(B3858,[1]Sheet1!$A:$I,8,0)","v":"78.50"},{"$f":"VLOOKUP(B3858,[1]Sheet1!$A:$I,9,0)","v":"69.20"},null,{"v":147.7,"d":"147.70"}]
[3855,"5452270503910","罗春霞","327独山县人民医院分院","04医务人员",{"$f":"VLOOKUP(B3859,[1]Sheet1!$A:$I,8,0)","v":"73.00"},{"$f":"VLOOKUP(B3859,[1]Sheet1!$A:$I,9,0)","v":"74.40"},null,{"v":147.4,"d":"147.40"}]
[3856,"5452270503023","陈永宇","327独山县人民医院分院","04医务人员",{"$f":"VLOOKUP(B3860,[1]Sheet1!$A:$I,8,0)","v":"74.00"},{"$f":"VLOOKUP(B3860,[1]Sheet1!$A:$I,9,0)","v":"73.00"},null,{"v":147,"d":"147.00"}]
[3860,"5452270503003","陶瑞","327独山县人民医院分院","04医务人员",{"$f":"VLOOKUP(B3861,[1]Sheet1!$A:$I,8,0)","v":"62.00"},{"$f":"VLOOKUP(B3861,[1]Sheet1!$A:$I,9,0)","v":"81.50"},{"$f":"VLOOKUP(B3861,[2]少数民族加分!$C$1:$E$65536,3,FALSE)","v":2},{"v":145.5,"d":"145.50"}]
[3861,"5452270503404","吴永莉","327独山县人民医院分院","04医务人员",{"$f":"VLOOKUP(B3862,[1]Sheet1!$A:$I,8,0)","v":"75.00"},{"$f":"VLOOKUP(B3862,[1]Sheet1!$A:$I,9,0)","v":"68.50"},{"$f":"VLOOKUP(B3862,[2]少数民族加分!$C$1:$E$65536,3,FALSE)","v":2},{"v":145.5,"d":"145.50"}]
[3863,"5452270503101","郭永佩","327独山县人民医院分院","04医务人员",{"$f":"VLOOKUP(B3863,[1]Sheet1!$A:$I,8,0)","v":"68.50"},{"$f":"VLOOKUP(B3863,[1]Sheet1!$A:$I,9,0)","v":"74.40"},{"$f":"VLOOKUP(B3863,[2]少数民族加分!$C$1:$E$65536,3,FALSE)","v":2},{"v":144.9,"d":"144.90"}]
[3858,"5452270503408","唐江燕","327独山县人民医院分院","04医务人员",{"$f":"VLOOKUP(B3864,[1]Sheet1!$A:$I,8,0)","v":"69.50"},{"$f":"VLOOKUP(B3864,[1]Sheet1!$A:$I,9,0)","v":"75.30"},null,{"v":144.8,"d":"144.80"}]
[3864,"5452270502801","张艳","327独山县人民医院分院","04医务人员",{"$f":"VLOOKUP(B3865,[1]Sheet1!$A:$I,8,0)","v":"67.00"},{"$f":"VLOOKUP(B3865,[1]Sheet1!$A:$I,9,0)","v":"75.80"},{"$f":"VLOOKUP(B3865,[2]少数民族加分!$C$1:$E$65536,3,FALSE)","v":2},{"v":144.8,"d":"144.80"}]
[3865,"5452270502725","吴华叶","327独山县人民医院分院","04医务人员",{"$f":"VLOOKUP(B3866,[1]Sheet1!$A:$I,8,0)","v":"76.50"},{"$f":"VLOOKUP(B3866,[1]Sheet1!$A:$I,9,0)","v":"65.90"},{"$f":"VLOOKUP(B3866,[2]少数民族加分!$C$1:$E$65536,3,FALSE)","v":2},{"v":144.4,"d":"144.40"}]
[3866,"5452270502813","王瑾","327独山县人民医院分院","04医务人员",{"$f":"VLOOKUP(B3867,[1]Sheet1!$A:$I,8,0)","v":"71.50"},{"$f":"VLOOKUP(B3867,[1]Sheet1!$A:$I,9,0)","v":"70.70"},{"$f":"VLOOKUP(B3867,[2]少数民族加分!$C$1:$E$65536,3,FALSE)","v":2},{"v":144.2,"d":"144.20"}]
[3859,"5452270504005","李思源","327独山县人民医院分院","04医务人员",{"$f":"VLOOKUP(B3868,[1]Sheet1!$A:$I,8,0)","v":"83.50"},{"$f":"VLOOKUP(B3868,[1]Sheet1!$A:$I,9,0)","v":"60.60"},null,{"v":144.1,"d":"144.10"}]
[3862,"5452270502711","石汝凤","327独山县人民医院分院","04医务人员",{"$f":"VLOOKUP(B3869,[1]Sheet1!$A:$I,8,0)","v":"74.00"},{"$f":"VLOOKUP(B3869,[1]Sheet1!$A:$I,9,0)","v":"69.00"},null,{"v":143,"d":"143.00"}]
[3868,"5452270502414","杨静","327独山县人民医院分院","04医务人员",{"$f":"VLOOKUP(B3870,[1]Sheet1!$A:$I,8,0)","v":"80.50"},{"$f":"VLOOKUP(B3870,[1]Sheet1!$A:$I,9,0)","v":"59.60"},{"$f":"VLOOKUP(B3870,[2]少数民族加分!$C$1:$E$65536,3,FALSE)","v":2},{"v":142.1,"d":"142.10"}]
[3869,"5452270503610","陆荣舒","327独山县人民医院分院","04医务人员",{"$f":"VLOOKUP(B3871,[1]Sheet1!$A:$I,8,0)","v":"70.00"},{"$f":"VLOOKUP(B3871,[1]Sheet1!$A:$I,9,0)","v":"69.90"},{"$f":"VLOOKUP(B3871,[2]少数民族加分!$C$1:$E$65536,3,FALSE)","v":2},{"v":141.9,"d":"141.90"}]
[3867,"5452270503724","邵万艳","327独山县人民医院分院","04医务人员",{"$f":"VLOOKUP(B3872,[1]Sheet1!$A:$I,8,0)","v":"57.50"},{"$f":"VLOOKUP(B3872,[1]Sheet1!$A:$I,9,0)","v":"84.30"},null,{"v":141.8,"d":"141.80"}]
[3870,"5452270502807","潘琳","327独山县人民医院分院","04医务人员",{"$f":"VLOOKUP(B3873,[1]Sheet1!$A:$I,8,0)","v":"64.50"},{"$f":"VLOOKUP(B3873,[1]Sheet1!$A:$I,9,0)","v":"75.10"},{"$f":"VLOOKUP(B3873,[2]少数民族加分!$C$1:$E$65536,3,FALSE)","v":2},{"v":141.6,"d":"141.60"}]
[3871,"5452270503422","覃容细","327独山县人民医院分院","04医务人员",{"$f":"VLOOKUP(B3874,[1]Sheet1!$A:$I,8,0)","v":"67.00"},{"$f":"VLOOKUP(B3874,[1]Sheet1!$A:$I,9,0)","v":"72.30"},{"$f":"VLOOKUP(B3874,[2]少数民族加分!$C$1:$E$65536,3,FALSE)","v":2},{"v":141.3,"d":"141.30"}]
[3872,"5452270503110","刘俊珍","327独山县人民医院分院","04医务人员",{"$f":"VLOOKUP(B3875,[1]Sheet1!$A:$I,8,0)","v":"69.00"},{"$f":"VLOOKUP(B3875,[1]Sheet1!$A:$I,9,0)","v":"69.80"},{"$f":"VLOOKUP(B3875,[2]少数民族加分!$C$1:$E$65536,3,FALSE)","v":2},{"v":140.8,"d":"140.80"}]
[3873,"5452270509305","潘晓怡","327独山县人民医院分院","04医务人员",{"$f":"VLOOKUP(B3876,[1]Sheet1!$A:$I,8,0)","v":"54.50"},{"$f":"VLOOKUP(B3876,[1]Sheet1!$A:$I,9,0)","v":"83.90"},{"$f":"VLOOKUP(B3876,[2]少数民族加分!$C$1:$E$65536,3,FALSE)","v":2},{"v":140.4,"d":"140.40"}]
[3874,"5452270503607","胡时丽","327独山县人民医院分院","04医务人员",{"$f":"VLOOKUP(B3877,[1]Sheet1!$A:$I,8,0)","v":"70.50"},{"$f":"VLOOKUP(B3877,[1]Sheet1!$A:$I,9,0)","v":"67.80"},{"$f":"VLOOKUP(B3877,[2]少数民族加分!$C$1:$E$65536,3,FALSE)","v":2},{"v":140.3,"d":"140.30"}]
[3876,"5452270504209","韦世婷","327独山县人民医院分院","04医务人员",{"$f":"VLOOKUP(B3878,[1]Sheet1!$A:$I,8,0)","v":"79.00"},{"$f":"VLOOKUP(B3878,[1]Sheet1!$A:$I,9,0)","v":"59.10"},{"$f":"VLOOKUP(B3878,[2]少数民族加分!$C$1:$E$65536,3,FALSE)","v":2},{"v":140.1,"d":"140.10"}]
[3877,"5452270504211","岑艳荣","327独山县人民医院分院","04医务人员",{"$f":"VLOOKUP(B3879,[1]Sheet1!$A:$I,8,0)","v":"64.50"},{"$f":"VLOOKUP(B3879,[1]Sheet1!$A:$I,9,0)","v":"73.50"},{"$f":"VLOOKUP(B3879,[2]少数民族加分!$C$1:$E$65536,3,FALSE)","v":2},{"v":140,"d":"140.00"}]
[3878,"5452270502521","梅明芬","327独山县人民医院分院","04医务人员",{"$f":"VLOOKUP(B3880,[1]Sheet1!$A:$I,8,0)","v":"65.00"},{"$f":"VLOOKUP(B3880,[1]Sheet1!$A:$I,9,0)","v":"72.70"},{"$f":"VLOOKUP(B3880,[2]少数民族加分!$C$1:$E$65536,3,FALSE)","v":2},{"v":139.7,"d":"139.70"}]
[3880,"5452270503215","刘娟","327独山县人民医院分院","04医务人员",{"$f":"VLOOKUP(B3881,[1]Sheet1!$A:$I,8,0)","v":"64.50"},{"$f":"VLOOKUP(B3881,[1]Sheet1!$A:$I,9,0)","v":"72.50"},{"$f":"VLOOKUP(B3881,[2]少数民族加分!$C$1:$E$65536,3,FALSE)","v":2},{"v":139,"d":"139.00"}]
[3882,"5452270503530","陆细鸾","327独山县人民医院分院","04医务人员",{"$f":"VLOOKUP(B3882,[1]Sheet1!$A:$I,8,0)","v":"73.50"},{"$f":"VLOOKUP(B3882,[1]Sheet1!$A:$I,9,0)","v":"63.20"},{"$f":"VLOOKUP(B3882,[2]少数民族加分!$C$1:$E$65536,3,FALSE)","v":2},{"v":138.7,"d":"138.70"}]
[3875,"5452270503715","颜开敏","327独山县人民医院分院","04医务人员",{"$f":"VLOOKUP(B3883,[1]Sheet1!$A:$I,8,0)","v":"75.00"},{"$f":"VLOOKUP(B3883,[1]Sheet1!$A:$I,9,0)","v":"63.30"},null,{"v":138.3,"d":"138.30"}]
[3883,"5452270502512","韦雪","327独山县人民医院分院","04医务人员",{"$f":"VLOOKUP(B3884,[1]Sheet1!$A:$I,8,0)","v":"74.50"},{"$f":"VLOOKUP(B3884,[1]Sheet1!$A:$I,9,0)","v":"61.80"},{"$f":"VLOOKUP(B3884,[2]少数民族加分!$C$1:$E$65536,3,FALSE)","v":2},{"v":138.3,"d":"138.30"}]
[3884,"5452270503608","蒙海珊","327独山县人民医院分院","04医务人员",{"$f":"VLOOKUP(B3885,[1]Sheet1!$A:$I,8,0)","v":"69.00"},{"$f":"VLOOKUP(B3885,[1]Sheet1!$A:$I,9,0)","v":"66.70"},{"$f":"VLOOKUP(B3885,[2]少数民族加分!$C$1:$E$65536,3,FALSE)","v":2},{"v":137.7,"d":"137.70"}]
[3885,"5452270502614","柳开梅","327独山县人民医院分院","04医务人员",{"$f":"VLOOKUP(B3886,[1]Sheet1!$A:$I,8,0)","v":"70.50"},{"$f":"VLOOKUP(B3886,[1]Sheet1!$A:$I,9,0)","v":"64.70"},{"$f":"VLOOKUP(B3886,[2]少数民族加分!$C$1:$E$65536,3,FALSE)","v":2},{"v":137.2,"d":"137.20"}]
[3879,"5452270502709","吴涵","327独山县人民医院分院","04医务人员",{"$f":"VLOOKUP(B3887,[1]Sheet1!$A:$I,8,0)","v":"71.50"},{"$f":"VLOOKUP(B3887,[1]Sheet1!$A:$I,9,0)","v":"65.60"},null,{"v":137.1,"d":"137.10"}]
[3881,"5452270503526","杨天凤","327独山县人民医院分院","04医务人员",{"$f":"VLOOKUP(B3888,[1]Sheet1!$A:$I,8,0)","v":"60.00"},{"$f":"VLOOKUP(B3888,[1]Sheet1!$A:$I,9,0)","v":"76.90"},null,{"v":136.9,"d":"136.90"}]
[3886,"5452270504124","郑仰兰","327独山县人民医院分院","04医务人员",{"$f":"VLOOKUP(B3889,[1]Sheet1!$A:$I,8,0)","v":"64.50"},{"$f":"VLOOKUP(B3889,[1]Sheet1!$A:$I,9,0)","v":"70.20"},{"$f":"VLOOKUP(B3889,[2]少数民族加分!$C$1:$E$65536,3,FALSE)","v":2},{"v":136.7,"d":"136.70"}]
[3887,"5452270502427","覃银霜","327独山县人民医院分院","04医务人员",{"$f":"VLOOKUP(B3890,[1]Sheet1!$A:$I,8,0)","v":"78.00"},{"$f":"VLOOKUP(B3890,[1]Sheet1!$A:$I,9,0)","v":"56.60"},{"$f":"VLOOKUP(B3890,[2]少数民族加分!$C$1:$E$65536,3,FALSE)","v":2},{"v":136.6,"d":"136.60"}]
[3889,"5452270502713","陈亚君","327独山县人民医院分院","04医务人员",{"$f":"VLOOKUP(B3891,[1]Sheet1!$A:$I,8,0)","v":"76.00"},{"$f":"VLOOKUP(B3891,[1]Sheet1!$A:$I,9,0)","v":"58.60"},{"$f":"VLOOKUP(B3891,[2]少数民族加分!$C$1:$E$65536,3,FALSE)","v":2},{"v":136.6,"d":"136.60"}]
[3890,"5452270503219","邹凤银","327独山县人民医院分院","04医务人员",{"$f":"VLOOKUP(B3892,[1]Sheet1!$A:$I,8,0)","v":"64.00"},{"$f":"VLOOKUP(B3892,[1]Sheet1!$A:$I,9,0)","v":"70.40"},{"$f":"VLOOKUP(B3892,[2]少数民族加分!$C$1:$E$65536,3,FALSE)","v":2},{"v":136.4,"d":"136.40"}]
[3891,"5452270504007","庭玉娟","327独山县人民医院分院","04医务人员",{"$f":"VLOOKUP(B3893,[1]Sheet1!$A:$I,8,0)","v":"65.50"},{"$f":"VLOOKUP(B3893,[1]Sheet1!$A:$I,9,0)","v":"68.80"},{"$f":"VLOOKUP(B3893,[2]少数民族加分!$C$1:$E$65536,3,FALSE)","v":2},{"v":136.3,"d":"136.30"}]
[3892,"5452270502415","吴应珊","327独山县人民医院分院","04医务人员",{"$f":"VLOOKUP(B3894,[1]Sheet1!$A:$I,8,0)","v":"74.50"},{"$f":"VLOOKUP(B3894,[1]Sheet1!$A:$I,9,0)","v":"59.70"},{"$f":"VLOOKUP(B3894,[2]少数民族加分!$C$1:$E$65536,3,FALSE)","v":2},{"v":136.2,"d":"136.20"}]
[3893,"5452270502511","骆致燕","327独山县人民医院分院","04医务人员",{"$f":"VLOOKUP(B3895,[1]Sheet1!$A:$I,8,0)","v":"64.50"},{"$f":"VLOOKUP(B3895,[1]Sheet1!$A:$I,9,0)","v":"69.20"},{"$f":"VLOOKUP(B3895,[2]少数民族加分!$C$1:$E$65536,3,FALSE)","v":2},{"v":135.7,"d":"135.70"}]
[3894,"5452270503416","唐莎莎","327独山县人民医院分院","04医务人员",{"$f":"VLOOKUP(B3896,[1]Sheet1!$A:$I,8,0)","v":"76.50"},{"$f":"VLOOKUP(B3896,[1]Sheet1!$A:$I,9,0)","v":"57.20"},{"$f":"VLOOKUP(B3896,[2]少数民族加分!$C$1:$E$65536,3,FALSE)","v":2},{"v":135.7,"d":"135.70"}]
[3895,"5452270502305","郭盛青","327独山县人民医院分院","04医务人员",{"$f":"VLOOKUP(B3897,[1]Sheet1!$A:$I,8,0)","v":"68.50"},{"$f":"VLOOKUP(B3897,[1]Sheet1!$A:$I,9,0)","v":"65.00"},{"$f":"VLOOKUP(B3897,[2]少数民族加分!$C$1:$E$65536,3,FALSE)","v":2},{"v":135.5,"d":"135.50"}]
[3896,"5452270503719","孟思源","327独山县人民医院分院","04医务人员",{"$f":"VLOOKUP(B3898,[1]Sheet1!$A:$I,8,0)","v":"74.50"},{"$f":"VLOOKUP(B3898,[1]Sheet1!$A:$I,9,0)","v":"59.00"},{"$f":"VLOOKUP(B3898,[2]少数民族加分!$C$1:$E$65536,3,FALSE)","v":2},{"v":135.5,"d":"135.50"}]
[3897,"5452270503406","郭兴秀","327独山县人民医院分院","04医务人员",{"$f":"VLOOKUP(B3899,[1]Sheet1!$A:$I,8,0)","v":"70.00"},{"$f":"VLOOKUP(B3899,[1]Sheet1!$A:$I,9,0)","v":"63.40"},{"$f":"VLOOKUP(B3899,[2]少数民族加分!$C$1:$E$65536,3,FALSE)","v":2},{"v":135.4,"d":"135.40"}]
[3898,"5452270502922","潘选","327独山县人民医院分院","04医务人员",{"$f":"VLOOKUP(B3900,[1]Sheet1!$A:$I,8,0)","v":"66.50"},{"$f":"VLOOKUP(B3900,[1]Sheet1!$A:$I,9,0)","v":"66.60"},{"$f":"VLOOKUP(B3900,[2]少数民族加分!$C$1:$E$65536,3,FALSE)","v":2},{"v":135.1,"d":"135.10"}]
[3899,"5452270502902","罗佳","327独山县人民医院分院","04医务人员",{"$f":"VLOOKUP(B3901,[1]Sheet1!$A:$I,8,0)","v":"65.50"},{"$f":"VLOOKUP(B3901,[1]Sheet1!$A:$I,9,0)","v":"67.40"},{"$f":"VLOOKUP(B3901,[2]少数民族加分!$C$1:$E$65536,3,FALSE)","v":2},{"v":134.9,"d":"134.90"}]
[3900,"5452270503025","胡丹","327独山县人民医院分院","04医务人员",{"$f":"VLOOKUP(B3902,[1]Sheet1!$A:$I,8,0)","v":"77.00"},{"$f":"VLOOKUP(B3902,[1]Sheet1!$A:$I,9,0)","v":"55.90"},{"$f":"VLOOKUP(B3902,[2]少数民族加分!$C$1:$E$65536,3,FALSE)","v":2},{"v":134.9,"d":"134.90"}]
[3901,"5452270502605","罗运丽","327独山县人民医院分院","04医务人员",{"$f":"VLOOKUP(B3903,[1]Sheet1!$A:$I,8,0)","v":"61.50"},{"$f":"VLOOKUP(B3903,[1]Sheet1!$A:$I,9,0)","v":"71.30"},{"$f":"VLOOKUP(B3903,[2]少数民族加分!$C$1:$E$65536,3,FALSE)","v":2},{"v":134.8,"d":"134.80"}]
[3902,"5452270503415","张尚丽","327独山县人民医院分院","04医务人员",{"$f":"VLOOKUP(B3904,[1]Sheet1!$A:$I,8,0)","v":"61.50"},{"$f":"VLOOKUP(B3904,[1]Sheet1!$A:$I,9,0)","v":"71.30"},{"$f":"VLOOKUP(B3904,[2]少数民族加分!$C$1:$E$65536,3,FALSE)","v":2},{"v":134.8,"d":"134.80"}]
[3888,"5452270502629","陈晓","327独山县人民医院分院","04医务人员",{"$f":"VLOOKUP(B3905,[1]Sheet1!$A:$I,8,0)","v":"69.50"},{"$f":"VLOOKUP(B3905,[1]Sheet1!$A:$I,9,0)","v":"65.10"},null,{"v":134.6,"d":"134.60"}]
[3903,"5452270502325","郭德男","327独山县人民医院分院","04医务人员",{"$f":"VLOOKUP(B3906,[1]Sheet1!$A:$I,8,0)","v":"67.50"},{"$f":"VLOOKUP(B3906,[1]Sheet1!$A:$I,9,0)","v":"64.80"},{"$f":"VLOOKUP(B3906,[2]少数民族加分!$C$1:$E$65536,3,FALSE)","v":2},{"v":134.3,"d":"134.30"}]
[3905,"5452270503627","潘慧云","327独山县人民医院分院","04医务人员",{"$f":"VLOOKUP(B3907,[1]Sheet1!$A:$I,8,0)","v":"67.50"},{"$f":"VLOOKUP(B3907,[1]Sheet1!$A:$I,9,0)","v":"64.40"},{"$f":"VLOOKUP(B3907,[2]少数民族加分!$C$1:$E$65536,3,FALSE)","v":2},{"v":133.9,"d":"133.90"}]
[3907,"5452270503809","莫春银","327独山县人民医院分院","04医务人员",{"$f":"VLOOKUP(B3908,[1]Sheet1!$A:$I,8,0)","v":"67.50"},{"$f":"VLOOKUP(B3908,[1]Sheet1!$A:$I,9,0)","v":"64.30"},{"$f":"VLOOKUP(B3908,[2]少数民族加分!$C$1:$E$65536,3,FALSE)","v":2},{"v":133.8,"d":"133.80"}]
[3908,"5452270503712","刘静","327独山县人民医院分院","04医务人员",{"$f":"VLOOKUP(B3909,[1]Sheet1!$A:$I,8,0)","v":"65.50"},{"$f":"VLOOKUP(B3909,[1]Sheet1!$A:$I,9,0)","v":"65.90"},{"$f":"VLOOKUP(B3909,[2]少数民族加分!$C$1:$E$65536,3,FALSE)","v":2},{"v":133.4,"d":"133.40"}]
[3909,"5452270503804","潘胜花","327独山县人民医院分院","04医务人员",{"$f":"VLOOKUP(B3910,[1]Sheet1!$A:$I,8,0)","v":"72.00"},{"$f":"VLOOKUP(B3910,[1]Sheet1!$A:$I,9,0)","v":"59.40"},{"$f":"VLOOKUP(B3910,[2]少数民族加分!$C$1:$E$65536,3,FALSE)","v":2},{"v":133.4,"d":"133.40"}]
[3910,"5452270504104","潘叶领","327独山县人民医院分院","04医务人员",{"$f":"VLOOKUP(B3911,[1]Sheet1!$A:$I,8,0)","v":"76.50"},{"$f":"VLOOKUP(B3911,[1]Sheet1!$A:$I,9,0)","v":"54.70"},{"$f":"VLOOKUP(B3911,[2]少数民族加分!$C$1:$E$65536,3,FALSE)","v":2},{"v":133.2,"d":"133.20"}]
[3911,"5452270502718","罗定秀","327独山县人民医院分院","04医务人员",{"$f":"VLOOKUP(B3912,[1]Sheet1!$A:$I,8,0)","v":"56.00"},{"$f":"VLOOKUP(B3912,[1]Sheet1!$A:$I,9,0)","v":"74.70"},{"$f":"VLOOKUP(B3912,[2]少数民族加分!$C$1:$E$65536,3,FALSE)","v":2},{"v":132.7,"d":"132.70"}]
[3912,"5452270502802","王娇娇","327独山县人民医院分院","04医务人员",{"$f":"VLOOKUP(B3913,[1]Sheet1!$A:$I,8,0)","v":"54.00"},{"$f":"VLOOKUP(B3913,[1]Sheet1!$A:$I,9,0)","v":"76.40"},{"$f":"VLOOKUP(B3913,[2]少数民族加分!$C$1:$E$65536,3,FALSE)","v":2},{"v":132.4,"d":"132.40"}]
[3913,"5452270503220","黄泽美","327独山县人民医院分院","04医务人员",{"$f":"VLOOKUP(B3914,[1]Sheet1!$A:$I,8,0)","v":"66.50"},{"$f":"VLOOKUP(B3914,[1]Sheet1!$A:$I,9,0)","v":"63.80"},{"$f":"VLOOKUP(B3914,[2]少数民族加分!$C$1:$E$65536,3,FALSE)","v":2},{"v":132.3,"d":"132.30"}]
[3904,"5452270503214","谭岩桥","327独山县人民医院分院","04医务人员",{"$f":"VLOOKUP(B3915,[1]Sheet1!$A:$I,8,0)","v":"76.00"},{"$f":"VLOOKUP(B3915,[1]Sheet1!$A:$I,9,0)","v":"56.20"},null,{"v":132.2,"d":"132.20"}]
[3914,"5452270503909","王杰","327独山县人民医院分院","04医务人员",{"$f":"VLOOKUP(B3916,[1]Sheet1!$A:$I,8,0)","v":"77.50"},{"$f":"VLOOKUP(B3916,[1]Sheet1!$A:$I,9,0)","v":"52.60"},{"$f":"VLOOKUP(B3916,[2]少数民族加分!$C$1:$E$65536,3,FALSE)","v":2},{"v":132.1,"d":"132.10"}]
[3906,"5452270503727","李小敏","327独山县人民医院分院","04医务人员",{"$f":"VLOOKUP(B3917,[1]Sheet1!$A:$I,8,0)","v":"53.00"},{"$f":"VLOOKUP(B3917,[1]Sheet1!$A:$I,9,0)","v":"78.90"},null,{"v":131.9,"d":"131.90"}]
[3915,"5452270503223","韦兴优","327独山县人民医院分院","04医务人员",{"$f":"VLOOKUP(B3918,[1]Sheet1!$A:$I,8,0)","v":"70.50"},{"$f":"VLOOKUP(B3918,[1]Sheet1!$A:$I,9,0)","v":"59.30"},{"$f":"VLOOKUP(B3918,[2]少数民族加分!$C$1:$E$65536,3,FALSE)","v":2},{"v":131.8,"d":"131.80"}]
[3917,"5452270502806","黄昌凤","327独山县人民医院分院","04医务人员",{"$f":"VLOOKUP(B3919,[1]Sheet1!$A:$I,8,0)","v":"79.50"},{"$f":"VLOOKUP(B3919,[1]Sheet1!$A:$I,9,0)","v":"50.10"},{"$f":"VLOOKUP(B3919,[2]少数民族加分!$C$1:$E$65536,3,FALSE)","v":2},{"v":131.6,"d":"131.60"}]
[3920,"5452270504115","韦春香","327独山县人民医院分院","04医务人员",{"$f":"VLOOKUP(B3920,[1]Sheet1!$A:$I,8,0)","v":"67.50"},{"$f":"VLOOKUP(B3920,[1]Sheet1!$A:$I,9,0)","v":"62.00"},{"$f":"VLOOKUP(B3920,[2]少数民族加分!$C$1:$E$65536,3,FALSE)","v":2},{"v":131.5,"d":"131.50"}]
[3921,"5452270502911","陆龙引","327独山县人民医院分院","04医务人员",{"$f":"VLOOKUP(B3921,[1]Sheet1!$A:$I,8,0)","v":"56.50"},{"$f":"VLOOKUP(B3921,[1]Sheet1!$A:$I,9,0)","v":"72.80"},{"$f":"VLOOKUP(B3921,[2]少数民族加分!$C$1:$E$65536,3,FALSE)","v":2},{"v":131.3,"d":"131.30"}]
[3922,"5452270503630","何朝星","327独山县人民医院分院","04医务人员",{"$f":"VLOOKUP(B3922,[1]Sheet1!$A:$I,8,0)","v":"70.00"},{"$f":"VLOOKUP(B3922,[1]Sheet1!$A:$I,9,0)","v":"58.30"},{"$f":"VLOOKUP(B3922,[2]少数民族加分!$C$1:$E$65536,3,FALSE)","v":2},{"v":130.3,"d":"130.30"}]
[3923,"5452270503902","唐元","327独山县人民医院分院","04医务人员",{"$f":"VLOOKUP(B3923,[1]Sheet1!$A:$I,8,0)","v":"65.00"},{"$f":"VLOOKUP(B3923,[1]Sheet1!$A:$I,9,0)","v":"63.30"},{"$f":"VLOOKUP(B3923,[2]少数民族加分!$C$1:$E$65536,3,FALSE)","v":2},{"v":130.3,"d":"130.30"}]
[3924,"5452270502402","罗仕红","327独山县人民医院分院","04医务人员",{"$f":"VLOOKUP(B3924,[1]Sheet1!$A:$I,8,0)","v":"69.00"},{"$f":"VLOOKUP(B3924,[1]Sheet1!$A:$I,9,0)","v":"59.20"},{"$f":"VLOOKUP(B3924,[2]少数民族加分!$C$1:$E$65536,3,FALSE)","v":2},{"v":130.2,"d":"130.20"}]
[3916,"5452270503613","鲁梅","327独山县人民医院分院","04医务人员",{"$f":"VLOOKUP(B3925,[1]Sheet1!$A:$I,8,0)","v":"81.50"},{"$f":"VLOOKUP(B3925,[1]Sheet1!$A:$I,9,0)","v":"48.30"},null,{"v":129.8,"d":"129.80"}]
[3926,"5452270503713","杨国清","327独山县人民医院分院","04医务人员",{"$f":"VLOOKUP(B3926,[1]Sheet1!$A:$I,8,0)","v":"68.00"},{"$f":"VLOOKUP(B3926,[1]Sheet1!$A:$I,9,0)","v":"59.80"},{"$f":"VLOOKUP(B3926,[2]少数民族加分!$C$1:$E$65536,3,FALSE)","v":2},{"v":129.8,"d":"129.80"}]
[3918,"5452270502924","任廷芬","327独山县人民医院分院","04医务人员",{"$f":"VLOOKUP(B3927,[1]Sheet1!$A:$I,8,0)","v":"65.50"},{"$f":"VLOOKUP(B3927,[1]Sheet1!$A:$I,9,0)","v":"64.00"},null,{"v":129.5,"d":"129.50"}]
[3919,"5452270504105","罗青林","327独山县人民医院分院","04医务人员",{"$f":"VLOOKUP(B3928,[1]Sheet1!$A:$I,8,0)","v":"65.00"},{"$f":"VLOOKUP(B3928,[1]Sheet1!$A:$I,9,0)","v":"64.50"},null,{"v":129.5,"d":"129.50"}]
[3929,"5452270502913","莫燕旭","327独山县人民医院分院","04医务人员",{"$f":"VLOOKUP(B3929,[1]Sheet1!$A:$I,8,0)","v":"55.00"},{"$f":"VLOOKUP(B3929,[1]Sheet1!$A:$I,9,0)","v":"72.10"},{"$f":"VLOOKUP(B3929,[2]少数民族加分!$C$1:$E$65536,3,FALSE)","v":2},{"v":129.1,"d":"129.10"}]
[3930,"5452270503001","黄娜","327独山县人民医院分院","04医务人员",{"$f":"VLOOKUP(B3930,[1]Sheet1!$A:$I,8,0)","v":"53.00"},{"$f":"VLOOKUP(B3930,[1]Sheet1!$A:$I,9,0)","v":"73.80"},{"$f":"VLOOKUP(B3930,[2]少数民族加分!$C$1:$E$65536,3,FALSE)","v":2},{"v":128.8,"d":"128.80"}]
[3931,"5452270503229","杨合英","327独山县人民医院分院","04医务人员",{"$f":"VLOOKUP(B3931,[1]Sheet1!$A:$I,8,0)","v":"65.50"},{"$f":"VLOOKUP(B3931,[1]Sheet1!$A:$I,9,0)","v":"60.90"},{"$f":"VLOOKUP(B3931,[2]少数民族加分!$C$1:$E$65536,3,FALSE)","v":2},{"v":128.4,"d":"128.40"}]
[3932,"5452270503628","肖夏晴","327独山县人民医院分院","04医务人员",{"$f":"VLOOKUP(B3932,[1]Sheet1!$A:$I,8,0)","v":"58.00"},{"$f":"VLOOKUP(B3932,[1]Sheet1!$A:$I,9,0)","v":"68.30"},{"$f":"VLOOKUP(B3932,[2]少数民族加分!$C$1:$E$65536,3,FALSE)","v":2},{"v":128.3,"d":"128.30"}]
[3925,"5452270503222","张敏","327独山县人民医院分院","04医务人员",{"$f":"VLOOKUP(B3933,[1]Sheet1!$A:$I,8,0)","v":"67.50"},{"$f":"VLOOKUP(B3933,[1]Sheet1!$A:$I,9,0)","v":"60.30"},null,{"v":127.8,"d":"127.80"}]
[3927,"5452270502925","陈良秀","327独山县人民医院分院","04医务人员",{"$f":"VLOOKUP(B3934,[1]Sheet1!$A:$I,8,0)","v":"61.00"},{"$f":"VLOOKUP(B3934,[1]Sheet1!$A:$I,9,0)","v":"66.70"},null,{"v":127.7,"d":"127.70"}]
[3928,"5452270503206","庭玉豪","327独山县人民医院分院","04医务人员",{"$f":"VLOOKUP(B3935,[1]Sheet1!$A:$I,8,0)","v":"62.00"},{"$f":"VLOOKUP(B3935,[1]Sheet1!$A:$I,9,0)","v":"65.50"},null,{"v":127.5,"d":"127.50"}]
[3933,"5452270502628","王小雪","327独山县人民医院分院","04医务人员",{"$f":"VLOOKUP(B3936,[1]Sheet1!$A:$I,8,0)","v":"56.50"},{"$f":"VLOOKUP(B3936,[1]Sheet1!$A:$I,9,0)","v":"68.70"},{"$f":"VLOOKUP(B3936,[2]少数民族加分!$C$1:$E$65536,3,FALSE)","v":2},{"v":127.2,"d":"127.20"}]
[3934,"5452270503115","潘育戏","327独山县人民医院分院","04医务人员",{"$f":"VLOOKUP(B3937,[1]Sheet1!$A:$I,8,0)","v":"61.00"},{"$f":"VLOOKUP(B3937,[1]Sheet1!$A:$I,9,0)","v":"64.20"},{"$f":"VLOOKUP(B3937,[2]少数民族加分!$C$1:$E$65536,3,FALSE)","v":2},{"v":127.2,"d":"127.20"}]
[3936,"5452270502903","龙丽","327独山县人民医院分院","04医务人员",{"$f":"VLOOKUP(B3938,[1]Sheet1!$A:$I,8,0)","v":"70.50"},{"$f":"VLOOKUP(B3938,[1]Sheet1!$A:$I,9,0)","v":"54.60"},{"$f":"VLOOKUP(B3938,[2]少数民族加分!$C$1:$E$65536,3,FALSE)","v":2},{"v":127.1,"d":"127.10"}]
[3937,"5452270502706","石玉爽","327独山县人民医院分院","04医务人员",{"$f":"VLOOKUP(B3939,[1]Sheet1!$A:$I,8,0)","v":"67.50"},{"$f":"VLOOKUP(B3939,[1]Sheet1!$A:$I,9,0)","v":"57.50"},{"$f":"VLOOKUP(B3939,[2]少数民族加分!$C$1:$E$65536,3,FALSE)","v":2},{"v":127,"d":"127.00"}]
[3938,"5452270503321","王小暖","327独山县人民医院分院","04医务人员",{"$f":"VLOOKUP(B3940,[1]Sheet1!$A:$I,8,0)","v":"61.50"},{"$f":"VLOOKUP(B3940,[1]Sheet1!$A:$I,9,0)","v":"63.20"},{"$f":"VLOOKUP(B3940,[2]少数民族加分!$C$1:$E$65536,3,FALSE)","v":2},{"v":126.7,"d":"126.70"}]
[3940,"5452270504227","陆龙倩","327独山县人民医院分院","04医务人员",{"$f":"VLOOKUP(B3941,[1]Sheet1!$A:$I,8,0)","v":"69.00"},{"$f":"VLOOKUP(B3941,[1]Sheet1!$A:$I,9,0)","v":"55.60"},{"$f":"VLOOKUP(B3941,[2]少数民族加分!$C$1:$E$65536,3,FALSE)","v":2},{"v":126.6,"d":"126.60"}]
[3941,"5452270503429","胡继菊","327独山县人民医院分院","04医务人员",{"$f":"VLOOKUP(B3942,[1]Sheet1!$A:$I,8,0)","v":"61.50"},{"$f":"VLOOKUP(B3942,[1]Sheet1!$A:$I,9,0)","v":"62.80"},{"$f":"VLOOKUP(B3942,[2]少数民族加分!$C$1:$E$65536,3,FALSE)","v":2},{"v":126.3,"d":"126.30"}]
[3943,"5452270503710","卢晓曼","327独山县人民医院分院","04医务人员",{"$f":"VLOOKUP(B3943,[1]Sheet1!$A:$I,8,0)","v":"63.50"},{"$f":"VLOOKUP(B3943,[1]Sheet1!$A:$I,9,0)","v":"60.30"},{"$f":"VLOOKUP(B3943,[2]少数民族加分!$C$1:$E$65536,3,FALSE)","v":2},{"v":125.8,"d":"125.80"}]
[3944,"5452270502603","徐佳佳","327独山县人民医院分院","04医务人员",{"$f":"VLOOKUP(B3944,[1]Sheet1!$A:$I,8,0)","v":"75.50"},{"$f":"VLOOKUP(B3944,[1]Sheet1!$A:$I,9,0)","v":"48.10"},{"$f":"VLOOKUP(B3944,[2]少数民族加分!$C$1:$E$65536,3,FALSE)","v":2},{"v":125.6,"d":"125.60"}]
[3945,"5452270504128","吴和丹","327独山县人民医院分院","04医务人员",{"$f":"VLOOKUP(B3945,[1]Sheet1!$A:$I,8,0)","v":"67.00"},{"$f":"VLOOKUP(B3945,[1]Sheet1!$A:$I,9,0)","v":"56.20"},{"$f":"VLOOKUP(B3945,[2]少数民族加分!$C$1:$E$65536,3,FALSE)","v":2},{"v":125.2,"d":"125.20"}]
[3935,"5452270502803","宋正群","327独山县人民医院分院","04医务人员",{"$f":"VLOOKUP(B3946,[1]Sheet1!$A:$I,8,0)","v":"68.00"},{"$f":"VLOOKUP(B3946,[1]Sheet1!$A:$I,9,0)","v":"57.10"},null,{"v":125.1,"d":"125.10"}]
[3947,"5452270503312","罗丹","327独山县人民医院分院","04医务人员",{"$f":"VLOOKUP(B3947,[1]Sheet1!$A:$I,8,0)","v":"64.00"},{"$f":"VLOOKUP(B3947,[1]Sheet1!$A:$I,9,0)","v":"58.70"},{"$f":"VLOOKUP(B3947,[2]少数民族加分!$C$1:$E$65536,3,FALSE)","v":2},{"v":124.7,"d":"124.70"}]
[3939,"5452270502714","杨洁","327独山县人民医院分院","04医务人员",{"$f":"VLOOKUP(B3948,[1]Sheet1!$A:$I,8,0)","v":"65.50"},{"$f":"VLOOKUP(B3948,[1]Sheet1!$A:$I,9,0)","v":"59.10"},null,{"v":124.6,"d":"124.60"}]
[3942,"5452270503119","彭丽","327独山县人民医院分院","04医务人员",{"$f":"VLOOKUP(B3949,[1]Sheet1!$A:$I,8,0)","v":"61.00"},{"$f":"VLOOKUP(B3949,[1]Sheet1!$A:$I,9,0)","v":"63.20"},null,{"v":124.2,"d":"124.20"}]
[3949,"5452270502324","韦振绵","327独山县人民医院分院","04医务人员",{"$f":"VLOOKUP(B3950,[1]Sheet1!$A:$I,8,0)","v":"61.00"},{"$f":"VLOOKUP(B3950,[1]Sheet1!$A:$I,9,0)","v":"61.10"},{"$f":"VLOOKUP(B3950,[2]少数民族加分!$C$1:$E$65536,3,FALSE)","v":2},{"v":124.1,"d":"124.10"}]
[3950,"5452270502317","覃启亮","327独山县人民医院分院","04医务人员",{"$f":"VLOOKUP(B3951,[1]Sheet1!$A:$I,8,0)","v":"64.00"},{"$f":"VLOOKUP(B3951,[1]Sheet1!$A:$I,9,0)","v":"57.90"},{"$f":"VLOOKUP(B3951,[2]少数民族加分!$C$1:$E$65536,3,FALSE)","v":2},{"v":123.9,"d":"123.90"}]
[3951,"5452270503922","杨琴","327独山县人民医院分院","04医务人员",{"$f":"VLOOKUP(B3952,[1]Sheet1!$A:$I,8,0)","v":"64.50"},{"$f":"VLOOKUP(B3952,[1]Sheet1!$A:$I,9,0)","v":"57.40"},{"$f":"VLOOKUP(B3952,[2]少数民族加分!$C$1:$E$65536,3,FALSE)","v":2},{"v":123.9,"d":"123.90"}]
[3952,"5452270502327","吴方娇","327独山县人民医院分院","04医务人员",{"$f":"VLOOKUP(B3953,[1]Sheet1!$A:$I,8,0)","v":"67.50"},{"$f":"VLOOKUP(B3953,[1]Sheet1!$A:$I,9,0)","v":"54.10"},{"$f":"VLOOKUP(B3953,[2]少数民族加分!$C$1:$E$65536,3,FALSE)","v":2},{"v":123.6,"d":"123.60"}]
[3953,"5452270502625","莫小静","327独山县人民医院分院","04医务人员",{"$f":"VLOOKUP(B3954,[1]Sheet1!$A:$I,8,0)","v":"63.50"},{"$f":"VLOOKUP(B3954,[1]Sheet1!$A:$I,9,0)","v":"57.70"},{"$f":"VLOOKUP(B3954,[2]少数民族加分!$C$1:$E$65536,3,FALSE)","v":2},{"v":123.2,"d":"123.20"}]
[3955,"5452270503521","杨晖晖","327独山县人民医院分院","04医务人员",{"$f":"VLOOKUP(B3955,[1]Sheet1!$A:$I,8,0)","v":"67.00"},{"$f":"VLOOKUP(B3955,[1]Sheet1!$A:$I,9,0)","v":"54.10"},{"$f":"VLOOKUP(B3955,[2]少数民族加分!$C$1:$E$65536,3,FALSE)","v":2},{"v":123.1,"d":"123.10"}]
[3956,"5452270503515","梁庭丽","327独山县人民医院分院","04医务人员",{"$f":"VLOOKUP(B3956,[1]Sheet1!$A:$I,8,0)","v":"71.50"},{"$f":"VLOOKUP(B3956,[1]Sheet1!$A:$I,9,0)","v":"49.40"},{"$f":"VLOOKUP(B3956,[2]少数民族加分!$C$1:$E$65536,3,FALSE)","v":2},{"v":122.9,"d":"122.90"}]
[3946,"5452270503016","付荣丹","327独山县人民医院分院","04医务人员",{"$f":"VLOOKUP(B3957,[1]Sheet1!$A:$I,8,0)","v":"66.00"},{"$f":"VLOOKUP(B3957,[1]Sheet1!$A:$I,9,0)","v":"56.80"},null,{"v":122.8,"d":"122.80"}]
[3957,"5452270504002","潘秋云","327独山县人民医院分院","04医务人员",{"$f":"VLOOKUP(B3958,[1]Sheet1!$A:$I,8,0)","v":"57.50"},{"$f":"VLOOKUP(B3958,[1]Sheet1!$A:$I,9,0)","v":"63.00"},{"$f":"VLOOKUP(B3958,[2]少数民族加分!$C$1:$E$65536,3,FALSE)","v":2},{"v":122.5,"d":"122.50"}]
[3948,"5452270503307","黄娟","327独山县人民医院分院","04医务人员",{"$f":"VLOOKUP(B3959,[1]Sheet1!$A:$I,8,0)","v":"70.50"},{"$f":"VLOOKUP(B3959,[1]Sheet1!$A:$I,9,0)","v":"51.80"},null,{"v":122.3,"d":"122.30"}]
[3958,"5452270503420","周发慧","327独山县人民医院分院","04医务人员",{"$f":"VLOOKUP(B3960,[1]Sheet1!$A:$I,8,0)","v":"61.50"},{"$f":"VLOOKUP(B3960,[1]Sheet1!$A:$I,9,0)","v":"58.80"},{"$f":"VLOOKUP(B3960,[2]少数民族加分!$C$1:$E$65536,3,FALSE)","v":2},{"v":122.3,"d":"122.30"}]
[3959,"5452270502426","莫有瑞","327独山县人民医院分院","04医务人员",{"$f":"VLOOKUP(B3961,[1]Sheet1!$A:$I,8,0)","v":"49.50"},{"$f":"VLOOKUP(B3961,[1]Sheet1!$A:$I,9,0)","v":"70.70"},{"$f":"VLOOKUP(B3961,[2]少数民族加分!$C$1:$E$65536,3,FALSE)","v":2},{"v":122.2,"d":"122.20"}]
[3961,"5452270509312","莫冕锐","327独山县人民医院分院","04医务人员",{"$f":"VLOOKUP(B3962,[1]Sheet1!$A:$I,8,0)","v":"52.00"},{"$f":"VLOOKUP(B3962,[1]Sheet1!$A:$I,9,0)","v":"68.10"},{"$f":"VLOOKUP(B3962,[2]少数民族加分!$C$1:$E$65536,3,FALSE)","v":2},{"v":122.1,"d":"122.10"}]
[3954,"5452270503512","蒙名珍","327独山县人民医院分院","04医务人员",{"$f":"VLOOKUP(B3963,[1]Sheet1!$A:$I,8,0)","v":"64.00"},{"$f":"VLOOKUP(B3963,[1]Sheet1!$A:$I,9,0)","v":"57.20"},null,{"v":121.2,"d":"121.20"}]
[3964,"5452270503305","黄淑芬","327独山县人民医院分院","04医务人员",{"$f":"VLOOKUP(B3964,[1]Sheet1!$A:$I,8,0)","v":"69.00"},{"$f":"VLOOKUP(B3964,[1]Sheet1!$A:$I,9,0)","v":"49.60"},{"$f":"VLOOKUP(B3964,[2]少数民族加分!$C$1:$E$65536,3,FALSE)","v":2},{"v":120.6,"d":"120.60"}]
[3966,"5452270504229","罗耀粉","327独山县人民医院分院","04医务人员",{"$f":"VLOOKUP(B3965,[1]Sheet1!$A:$I,8,0)","v":"51.00"},{"$f":"VLOOKUP(B3965,[1]Sheet1!$A:$I,9,0)","v":"67.60"},{"$f":"VLOOKUP(B3965,[2]少数民族加分!$C$1:$E$65536,3,FALSE)","v":2},{"v":120.6,"d":"120.60"}]
[3967,"5452270503505","莫敏慧","327独山县人民医院分院","04医务人员",{"$f":"VLOOKUP(B3966,[1]Sheet1!$A:$I,8,0)","v":"63.00"},{"$f":"VLOOKUP(B3966,[1]Sheet1!$A:$I,9,0)","v":"55.50"},{"$f":"VLOOKUP(B3966,[2]少数民族加分!$C$1:$E$65536,3,FALSE)","v":2},{"v":120.5,"d":"120.50"}]
[3968,"5452270503324","黎成艳","327独山县人民医院分院","04医务人员",{"$f":"VLOOKUP(B3967,[1]Sheet1!$A:$I,8,0)","v":"66.50"},{"$f":"VLOOKUP(B3967,[1]Sheet1!$A:$I,9,0)","v":"51.90"},{"$f":"VLOOKUP(B3967,[2]少数民族加分!$C$1:$E$65536,3,FALSE)","v":2},{"v":120.4,"d":"120.40"}]
[3969,"5452270503718","周琳","327独山县人民医院分院","04医务人员",{"$f":"VLOOKUP(B3968,[1]Sheet1!$A:$I,8,0)","v":"59.00"},{"$f":"VLOOKUP(B3968,[1]Sheet1!$A:$I,9,0)","v":"59.40"},{"$f":"VLOOKUP(B3968,[2]少数民族加分!$C$1:$E$65536,3,FALSE)","v":2},{"v":120.4,"d":"120.40"}]
[3970,"5452270503202","潘秋霞","327独山县人民医院分院","04医务人员",{"$f":"VLOOKUP(B3969,[1]Sheet1!$A:$I,8,0)","v":"69.00"},{"$f":"VLOOKUP(B3969,[1]Sheet1!$A:$I,9,0)","v":"49.30"},{"$f":"VLOOKUP(B3969,[2]少数民族加分!$C$1:$E$65536,3,FALSE)","v":2},{"v":120.3,"d":"120.30"}]
[3971,"5452270504015","杨昌美","327独山县人民医院分院","04医务人员",{"$f":"VLOOKUP(B3970,[1]Sheet1!$A:$I,8,0)","v":"68.00"},{"$f":"VLOOKUP(B3970,[1]Sheet1!$A:$I,9,0)","v":"50.20"},{"$f":"VLOOKUP(B3970,[2]少数民族加分!$C$1:$E$65536,3,FALSE)","v":2},{"v":120.2,"d":"120.20"}]
[3960,"5452270503123","詹奉芬","327独山县人民医院分院","04医务人员",{"$f":"VLOOKUP(B3971,[1]Sheet1!$A:$I,8,0)","v":"64.00"},{"$f":"VLOOKUP(B3971,[1]Sheet1!$A:$I,9,0)","v":"56.10"},null,{"v":120.1,"d":"120.10"}]
[3972,"5452270504024","罗秀珍","327独山县人民医院分院","04医务人员",{"$f":"VLOOKUP(B3972,[1]Sheet1!$A:$I,8,0)","v":"58.00"},{"$f":"VLOOKUP(B3972,[1]Sheet1!$A:$I,9,0)","v":"60.10"},{"$f":"VLOOKUP(B3972,[2]少数民族加分!$C$1:$E$65536,3,FALSE)","v":2},{"v":120.1,"d":"120.10"}]
[3974,"5452270502928","黄立双","327独山县人民医院分院","04医务人员",{"$f":"VLOOKUP(B3973,[1]Sheet1!$A:$I,8,0)","v":"63.50"},{"$f":"VLOOKUP(B3973,[1]Sheet1!$A:$I,9,0)","v":"54.50"},{"$f":"VLOOKUP(B3973,[2]少数民族加分!$C$1:$E$65536,3,FALSE)","v":2},{"v":120,"d":"120.00"}]
[3975,"5452270503410","袁仕鸿","327独山县人民医院分院","04医务人员",{"$f":"VLOOKUP(B3974,[1]Sheet1!$A:$I,8,0)","v":"66.50"},{"$f":"VLOOKUP(B3974,[1]Sheet1!$A:$I,9,0)","v":"51.20"},{"$f":"VLOOKUP(B3974,[2]少数民族加分!$C$1:$E$65536,3,FALSE)","v":2},{"v":119.7,"d":"119.70"}]
[3978,"5452270503010","陈元珊","327独山县人民医院分院","04医务人员",{"$f":"VLOOKUP(B3975,[1]Sheet1!$A:$I,8,0)","v":"57.00"},{"$f":"VLOOKUP(B3975,[1]Sheet1!$A:$I,9,0)","v":"60.40"},{"$f":"VLOOKUP(B3975,[2]少数民族加分!$C$1:$E$65536,3,FALSE)","v":2},{"v":119.4,"d":"119.40"}]
[3962,"5452270503915","胡敏","327独山县人民医院分院","04医务人员",{"$f":"VLOOKUP(B3976,[1]Sheet1!$A:$I,8,0)","v":"66.00"},{"$f":"VLOOKUP(B3976,[1]Sheet1!$A:$I,9,0)","v":"53.20"},null,{"v":119.2,"d":"119.20"}]
[3981,"5452270509319","莫明雪","327独山县人民医院分院","04医务人员",{"$f":"VLOOKUP(B3977,[1]Sheet1!$A:$I,8,0)","v":"58.50"},{"$f":"VLOOKUP(B3977,[1]Sheet1!$A:$I,9,0)","v":"58.70"},{"$f":"VLOOKUP(B3977,[2]少数民族加分!$C$1:$E$65536,3,FALSE)","v":2},{"v":119.2,"d":"119.20"}]
[3963,"5452270503329","郑继美","327独山县人民医院分院","04医务人员",{"$f":"VLOOKUP(B3978,[1]Sheet1!$A:$I,8,0)","v":"60.00"},{"$f":"VLOOKUP(B3978,[1]Sheet1!$A:$I,9,0)","v":"59.10"},null,{"v":119.1,"d":"119.10"}]
[3982,"5452270502309","韦宗燕","327独山县人民医院分院","04医务人员",{"$f":"VLOOKUP(B3979,[1]Sheet1!$A:$I,8,0)","v":"59.50"},{"$f":"VLOOKUP(B3979,[1]Sheet1!$A:$I,9,0)","v":"57.40"},{"$f":"VLOOKUP(B3979,[2]少数民族加分!$C$1:$E$65536,3,FALSE)","v":2},{"v":118.9,"d":"118.90"}]
[3984,"5452270504210","岑富敏","327独山县人民医院分院","04医务人员",{"$f":"VLOOKUP(B3980,[1]Sheet1!$A:$I,8,0)","v":"55.00"},{"$f":"VLOOKUP(B3980,[1]Sheet1!$A:$I,9,0)","v":"61.80"},{"$f":"VLOOKUP(B3980,[2]少数民族加分!$C$1:$E$65536,3,FALSE)","v":2},{"v":118.8,"d":"118.80"}]
[3973,"5452270502912","李加勤","327独山县人民医院分院","04医务人员",{"$f":"VLOOKUP(B3981,[1]Sheet1!$A:$I,8,0)","v":"68.00"},{"$f":"VLOOKUP(B3981,[1]Sheet1!$A:$I,9,0)","v":"50.00"},null,{"v":118,"d":"118.00"}]
[3987,"5452270509306","冯芹","327独山县人民医院分院","04医务人员",{"$f":"VLOOKUP(B3982,[1]Sheet1!$A:$I,8,0)","v":"49.50"},{"$f":"VLOOKUP(B3982,[1]Sheet1!$A:$I,9,0)","v":"66.50"},{"$f":"VLOOKUP(B3982,[2]少数民族加分!$C$1:$E$65536,3,FALSE)","v":2},{"v":118,"d":"118.00"}]
[3988,"5452270502705","石国柳","327独山县人民医院分院","04医务人员",{"$f":"VLOOKUP(B3983,[1]Sheet1!$A:$I,8,0)","v":"61.00"},{"$f":"VLOOKUP(B3983,[1]Sheet1!$A:$I,9,0)","v":"54.80"},{"$f":"VLOOKUP(B3983,[2]少数民族加分!$C$1:$E$65536,3,FALSE)","v":2},{"v":117.8,"d":"117.80"}]
[3976,"5452270504208","黄安丽","327独山县人民医院分院","04医务人员",{"$f":"VLOOKUP(B3984,[1]Sheet1!$A:$I,8,0)","v":"63.50"},{"$f":"VLOOKUP(B3984,[1]Sheet1!$A:$I,9,0)","v":"54.20"},null,{"v":117.7,"d":"117.70"}]
[3977,"5452270502519","袁黎","327独山县人民医院分院","04医务人员",{"$f":"VLOOKUP(B3985,[1]Sheet1!$A:$I,8,0)","v":"60.00"},{"$f":"VLOOKUP(B3985,[1]Sheet1!$A:$I,9,0)","v":"57.60"},null,{"v":117.6,"d":"117.60"}]
[3990,"5452270503814","杨梦佳","327独山县人民医院分院","04医务人员",{"$f":"VLOOKUP(B3986,[1]Sheet1!$A:$I,8,0)","v":"61.50"},{"$f":"VLOOKUP(B3986,[1]Sheet1!$A:$I,9,0)","v":"54.10"},{"$f":"VLOOKUP(B3986,[2]少数民族加分!$C$1:$E$65536,3,FALSE)","v":2},{"v":117.6,"d":"117.60"}]
[3991,"5452270509323","龙柳方","327独山县人民医院分院","04医务人员",{"$f":"VLOOKUP(B3987,[1]Sheet1!$A:$I,8,0)","v":"73.00"},{"$f":"VLOOKUP(B3987,[1]Sheet1!$A:$I,9,0)","v":"42.50"},{"$f":"VLOOKUP(B3987,[2]少数民族加分!$C$1:$E$65536,3,FALSE)","v":2},{"v":117.5,"d":"117.50"}]
[3992,"5452270503507","王星星","327独山县人民医院分院","04医务人员",{"$f":"VLOOKUP(B3988,[1]Sheet1!$A:$I,8,0)","v":"52.00"},{"$f":"VLOOKUP(B3988,[1]Sheet1!$A:$I,9,0)","v":"63.40"},{"$f":"VLOOKUP(B3988,[2]少数民族加分!$C$1:$E$65536,3,FALSE)","v":2},{"v":117.4,"d":"117.40"}]
[3979,"5452270503728","徐梅","327独山县人民医院分院","04医务人员",{"$f":"VLOOKUP(B3989,[1]Sheet1!$A:$I,8,0)","v":"57.50"},{"$f":"VLOOKUP(B3989,[1]Sheet1!$A:$I,9,0)","v":"59.80"},null,{"v":117.3,"d":"117.30"}]
[3980,"5452270504127","邱露","327独山县人民医院分院","04医务人员",{"$f":"VLOOKUP(B3990,[1]Sheet1!$A:$I,8,0)","v":"54.50"},{"$f":"VLOOKUP(B3990,[1]Sheet1!$A:$I,9,0)","v":"62.80"},null,{"v":117.3,"d":"117.30"}]
[3993,"5452270502403","覃定莎","327独山县人民医院分院","04医务人员",{"$f":"VLOOKUP(B3991,[1]Sheet1!$A:$I,8,0)","v":"52.50"},{"$f":"VLOOKUP(B3991,[1]Sheet1!$A:$I,9,0)","v":"62.60"},{"$f":"VLOOKUP(B3991,[2]少数民族加分!$C$1:$E$65536,3,FALSE)","v":2},{"v":117.1,"d":"117.10"}]
[3994,"5452270502829","石昌蝶","327独山县人民医院分院","04医务人员",{"$f":"VLOOKUP(B3992,[1]Sheet1!$A:$I,8,0)","v":"60.50"},{"$f":"VLOOKUP(B3992,[1]Sheet1!$A:$I,9,0)","v":"54.60"},{"$f":"VLOOKUP(B3992,[2]少数民族加分!$C$1:$E$65536,3,FALSE)","v":2},{"v":117.1,"d":"117.10"}]
[3995,"5452270503013","杨欢欢","327独山县人民医院分院","04医务人员",{"$f":"VLOOKUP(B3993,[1]Sheet1!$A:$I,8,0)","v":"56.50"},{"$f":"VLOOKUP(B3993,[1]Sheet1!$A:$I,9,0)","v":"58.60"},{"$f":"VLOOKUP(B3993,[2]少数民族加分!$C$1:$E$65536,3,FALSE)","v":2},{"v":117.1,"d":"117.10"}]
[3997,"5452270502820","罗兴豆","327独山县人民医院分院","04医务人员",{"$f":"VLOOKUP(B3994,[1]Sheet1!$A:$I,8,0)","v":"46.50"},{"$f":"VLOOKUP(B3994,[1]Sheet1!$A:$I,9,0)","v":"68.50"},{"$f":"VLOOKUP(B3994,[2]少数民族加分!$C$1:$E$65536,3,FALSE)","v":2},{"v":117,"d":"117.00"}]
[3998,"5452270503919","谢仁姣","327独山县人民医院分院","04医务人员",{"$f":"VLOOKUP(B3995,[1]Sheet1!$A:$I,8,0)","v":"55.50"},{"$f":"VLOOKUP(B3995,[1]Sheet1!$A:$I,9,0)","v":"59.40"},{"$f":"VLOOKUP(B3995,[2]少数民族加分!$C$1:$E$65536,3,FALSE)","v":2},{"v":116.9,"d":"116.90"}]
[3983,"5452270503817","舒倩","327独山县人民医院分院","04医务人员",{"$f":"VLOOKUP(B3996,[1]Sheet1!$A:$I,8,0)","v":"61.00"},{"$f":"VLOOKUP(B3996,[1]Sheet1!$A:$I,9,0)","v":"55.80"},null,{"v":116.8,"d":"116.80"}]
[3999,"5452270503301","罗妹云","327独山县人民医院分院","04医务人员",{"$f":"VLOOKUP(B3997,[1]Sheet1!$A:$I,8,0)","v":"57.00"},{"$f":"VLOOKUP(B3997,[1]Sheet1!$A:$I,9,0)","v":"57.80"},{"$f":"VLOOKUP(B3997,[2]少数民族加分!$C$1:$E$65536,3,FALSE)","v":2},{"v":116.8,"d":"116.80"}]
[3985,"5452270503002","冉权权","327独山县人民医院分院","04医务人员",{"$f":"VLOOKUP(B3998,[1]Sheet1!$A:$I,8,0)","v":"69.50"},{"$f":"VLOOKUP(B3998,[1]Sheet1!$A:$I,9,0)","v":"47.20"},null,{"v":116.7,"d":"116.70"}]
[3986,"5452270503506","邓红","327独山县人民医院分院","04医务人员",{"$f":"VLOOKUP(B3999,[1]Sheet1!$A:$I,8,0)","v":"64.50"},{"$f":"VLOOKUP(B3999,[1]Sheet1!$A:$I,9,0)","v":"51.80"},null,{"v":116.3,"d":"116.30"}]
[3989,"5452270503908","吴增月","327独山县人民医院分院","04医务人员",{"$f":"VLOOKUP(B4000,[1]Sheet1!$A:$I,8,0)","v":"57.50"},{"$f":"VLOOKUP(B4000,[1]Sheet1!$A:$I,9,0)","v":"58.20"},null,{"v":115.7,"d":"115.70"}]
[4003,"5452270502530","黄立珊","327独山县人民医院分院","04医务人员",{"$f":"VLOOKUP(B4001,[1]Sheet1!$A:$I,8,0)","v":"51.00"},{"$f":"VLOOKUP(B4001,[1]Sheet1!$A:$I,9,0)","v":"62.60"},{"$f":"VLOOKUP(B4001,[2]少数民族加分!$C$1:$E$65536,3,FALSE)","v":2},{"v":115.6,"d":"115.60"}]
[4004,"5452270503102","蒙泽写","327独山县人民医院分院","04医务人员",{"$f":"VLOOKUP(B4002,[1]Sheet1!$A:$I,8,0)","v":"53.50"},{"$f":"VLOOKUP(B4002,[1]Sheet1!$A:$I,9,0)","v":"60.10"},{"$f":"VLOOKUP(B4002,[2]少数民族加分!$C$1:$E$65536,3,FALSE)","v":2},{"v":115.6,"d":"115.60"}]
[4006,"5452270502311","韦加莲","327独山县人民医院分院","04医务人员",{"$f":"VLOOKUP(B4003,[1]Sheet1!$A:$I,8,0)","v":"42.00"},{"$f":"VLOOKUP(B4003,[1]Sheet1!$A:$I,9,0)","v":"71.30"},{"$f":"VLOOKUP(B4003,[2]少数民族加分!$C$1:$E$65536,3,FALSE)","v":2},{"v":115.3,"d":"115.30"}]
[4008,"5452270503427","蔡志莹","327独山县人民医院分院","04医务人员",{"$f":"VLOOKUP(B4004,[1]Sheet1!$A:$I,8,0)","v":"53.00"},{"$f":"VLOOKUP(B4004,[1]Sheet1!$A:$I,9,0)","v":"60.20"},{"$f":"VLOOKUP(B4004,[2]少数民族加分!$C$1:$E$65536,3,FALSE)","v":2},{"v":115.2,"d":"115.20"}]
[3996,"5452270503617","范秀颖","327独山县人民医院分院","04医务人员",{"$f":"VLOOKUP(B4005,[1]Sheet1!$A:$I,8,0)","v":"62.50"},{"$f":"VLOOKUP(B4005,[1]Sheet1!$A:$I,9,0)","v":"52.60"},null,{"v":115.1,"d":"115.10"}]
[4009,"5452270503104","黎昌运","327独山县人民医院分院","04医务人员",{"$f":"VLOOKUP(B4006,[1]Sheet1!$A:$I,8,0)","v":"68.50"},{"$f":"VLOOKUP(B4006,[1]Sheet1!$A:$I,9,0)","v":"44.60"},{"$f":"VLOOKUP(B4006,[2]少数民族加分!$C$1:$E$65536,3,FALSE)","v":2},{"v":115.1,"d":"115.10"}]
[4010,"5452270504214","潘欣琳","327独山县人民医院分院","04医务人员",{"$f":"VLOOKUP(B4007,[1]Sheet1!$A:$I,8,0)","v":"58.50"},{"$f":"VLOOKUP(B4007,[1]Sheet1!$A:$I,9,0)","v":"54.60"},{"$f":"VLOOKUP(B4007,[2]少数民族加分!$C$1:$E$65536,3,FALSE)","v":2},{"v":115.1,"d":"115.10"}]
[4011,"5452270503326","柏雪伴","327独山县人民医院分院","04医务人员",{"$f":"VLOOKUP(B4008,[1]Sheet1!$A:$I,8,0)","v":"65.50"},{"$f":"VLOOKUP(B4008,[1]Sheet1!$A:$I,9,0)","v":"47.50"},{"$f":"VLOOKUP(B4008,[2]少数民族加分!$C$1:$E$65536,3,FALSE)","v":2},{"v":115,"d":"115.00"}]
[4012,"5452270503821","潘政宏","327独山县人民医院分院","04医务人员",{"$f":"VLOOKUP(B4009,[1]Sheet1!$A:$I,8,0)","v":"52.00"},{"$f":"VLOOKUP(B4009,[1]Sheet1!$A:$I,9,0)","v":"60.70"},{"$f":"VLOOKUP(B4009,[2]少数民族加分!$C$1:$E$65536,3,FALSE)","v":2},{"v":114.7,"d":"114.70"}]
[4013,"5452270504109","李天莉","327独山县人民医院分院","04医务人员",{"$f":"VLOOKUP(B4010,[1]Sheet1!$A:$I,8,0)","v":"56.00"},{"$f":"VLOOKUP(B4010,[1]Sheet1!$A:$I,9,0)","v":"56.60"},{"$f":"VLOOKUP(B4010,[2]少数民族加分!$C$1:$E$65536,3,FALSE)","v":2},{"v":114.6,"d":"114.60"}]
[4000,"5452270504023","赵祖远","327独山县人民医院分院","04医务人员",{"$f":"VLOOKUP(B4011,[1]Sheet1!$A:$I,8,0)","v":"45.00"},{"$f":"VLOOKUP(B4011,[1]Sheet1!$A:$I,9,0)","v":"69.40"},null,{"v":114.4,"d":"114.40"}]
[4016,"5452270503825","肖厚春","327独山县人民医院分院","04医务人员",{"$f":"VLOOKUP(B4012,[1]Sheet1!$A:$I,8,0)","v":"65.50"},{"$f":"VLOOKUP(B4012,[1]Sheet1!$A:$I,9,0)","v":"46.60"},{"$f":"VLOOKUP(B4012,[2]少数民族加分!$C$1:$E$65536,3,FALSE)","v":2},{"v":114.1,"d":"114.10"}]
[4001,"5452270502413","周艳子","327独山县人民医院分院","04医务人员",{"$f":"VLOOKUP(B4013,[1]Sheet1!$A:$I,8,0)","v":"68.00"},{"$f":"VLOOKUP(B4013,[1]Sheet1!$A:$I,9,0)","v":"46.00"},null,{"v":114,"d":"114.00"}]
[4017,"5452270503024","杨永丽","327独山县人民医院分院","04医务人员",{"$f":"VLOOKUP(B4014,[1]Sheet1!$A:$I,8,0)","v":"51.50"},{"$f":"VLOOKUP(B4014,[1]Sheet1!$A:$I,9,0)","v":"60.50"},{"$f":"VLOOKUP(B4014,[2]少数民族加分!$C$1:$E$65536,3,FALSE)","v":2},{"v":114,"d":"114.00"}]
[4002,"5452270502914","鲁敏","327独山县人民医院分院","04医务人员",{"$f":"VLOOKUP(B4015,[1]Sheet1!$A:$I,8,0)","v":"55.00"},{"$f":"VLOOKUP(B4015,[1]Sheet1!$A:$I,9,0)","v":"58.70"},null,{"v":113.7,"d":"113.70"}]
[4019,"5452270504113","柏礼春","327独山县人民医院分院","04医务人员",{"$f":"VLOOKUP(B4016,[1]Sheet1!$A:$I,8,0)","v":"61.00"},{"$f":"VLOOKUP(B4016,[1]Sheet1!$A:$I,9,0)","v":"50.70"},{"$f":"VLOOKUP(B4016,[2]少数民族加分!$C$1:$E$65536,3,FALSE)","v":2},{"v":113.7,"d":"113.70"}]
[4020,"5452270503829","韦选","327独山县人民医院分院","04医务人员",{"$f":"VLOOKUP(B4017,[1]Sheet1!$A:$I,8,0)","v":"55.00"},{"$f":"VLOOKUP(B4017,[1]Sheet1!$A:$I,9,0)","v":"56.60"},{"$f":"VLOOKUP(B4017,[2]少数民族加分!$C$1:$E$65536,3,FALSE)","v":2},{"v":113.6,"d":"113.60"}]
[4005,"5452270503310","李文霞","327独山县人民医院分院","04医务人员",{"$f":"VLOOKUP(B4018,[1]Sheet1!$A:$I,8,0)","v":"43.50"},{"$f":"VLOOKUP(B4018,[1]Sheet1!$A:$I,9,0)","v":"69.90"},null,{"v":113.4,"d":"113.40"}]
[4007,"5452270502617","岑娅","327独山县人民医院分院","04医务人员",{"$f":"VLOOKUP(B4019,[1]Sheet1!$A:$I,8,0)","v":"61.50"},{"$f":"VLOOKUP(B4019,[1]Sheet1!$A:$I,9,0)","v":"51.70"},null,{"v":113.2,"d":"113.20"}]
[4021,"5452270503508","莫怀佩","327独山县人民医院分院","04医务人员",{"$f":"VLOOKUP(B4020,[1]Sheet1!$A:$I,8,0)","v":"63.50"},{"$f":"VLOOKUP(B4020,[1]Sheet1!$A:$I,9,0)","v":"47.60"},{"$f":"VLOOKUP(B4020,[2]少数民族加分!$C$1:$E$65536,3,FALSE)","v":2},{"v":113.1,"d":"113.10"}]
[4023,"5452270502910","覃俊婷","327独山县人民医院分院","04医务人员",{"$f":"VLOOKUP(B4021,[1]Sheet1!$A:$I,8,0)","v":"62.50"},{"$f":"VLOOKUP(B4021,[1]Sheet1!$A:$I,9,0)","v":"48.50"},{"$f":"VLOOKUP(B4021,[2]少数民族加分!$C$1:$E$65536,3,FALSE)","v":2},{"v":113,"d":"113.00"}]
[4025,"5452270502529","陆金萍","327独山县人民医院分院","04医务人员",{"$f":"VLOOKUP(B4022,[1]Sheet1!$A:$I,8,0)","v":"48.50"},{"$f":"VLOOKUP(B4022,[1]Sheet1!$A:$I,9,0)","v":"62.30"},{"$f":"VLOOKUP(B4022,[2]少数民族加分!$C$1:$E$65536,3,FALSE)","v":2},{"v":112.8,"d":"112.80"}]
[4014,"5452270504111","余贵莲","327独山县人民医院分院","04医务人员",{"$f":"VLOOKUP(B4023,[1]Sheet1!$A:$I,8,0)","v":"54.00"},{"$f":"VLOOKUP(B4023,[1]Sheet1!$A:$I,9,0)","v":"58.50"},null,{"v":112.5,"d":"112.50"}]
[4015,"5452270502930","罗建","327独山县人民医院分院","04医务人员",{"$f":"VLOOKUP(B4024,[1]Sheet1!$A:$I,8,0)","v":"66.00"},{"$f":"VLOOKUP(B4024,[1]Sheet1!$A:$I,9,0)","v":"46.40"},null,{"v":112.4,"d":"112.40"}]
[4026,"5452270502923","卢祖亚","327独山县人民医院分院","04医务人员",{"$f":"VLOOKUP(B4025,[1]Sheet1!$A:$I,8,0)","v":"69.50"},{"$f":"VLOOKUP(B4025,[1]Sheet1!$A:$I,9,0)","v":"40.70"},{"$f":"VLOOKUP(B4025,[2]少数民族加分!$C$1:$E$65536,3,FALSE)","v":2},{"v":112.2,"d":"112.20"}]
[4027,"5452270503827","袁敏","327独山县人民医院分院","04医务人员",{"$f":"VLOOKUP(B4026,[1]Sheet1!$A:$I,8,0)","v":"62.00"},{"$f":"VLOOKUP(B4026,[1]Sheet1!$A:$I,9,0)","v":"48.10"},{"$f":"VLOOKUP(B4026,[2]少数民族加分!$C$1:$E$65536,3,FALSE)","v":2},{"v":112.1,"d":"112.10"}]
[4018,"5452270503517","邱克媛","327独山县人民医院分院","04医务人员",{"$f":"VLOOKUP(B4027,[1]Sheet1!$A:$I,8,0)","v":"65.50"},{"$f":"VLOOKUP(B4027,[1]Sheet1!$A:$I,9,0)","v":"46.50"},null,{"v":112,"d":"112.00"}]
[4028,"5452270509307","胡妹","327独山县人民医院分院","04医务人员",{"$f":"VLOOKUP(B4028,[1]Sheet1!$A:$I,8,0)","v":"53.00"},{"$f":"VLOOKUP(B4028,[1]Sheet1!$A:$I,9,0)","v":"56.70"},{"$f":"VLOOKUP(B4028,[2]少数民族加分!$C$1:$E$65536,3,FALSE)","v":2},{"v":111.7,"d":"111.70"}]
[4029,"5452270502323","罗平声","327独山县人民医院分院","04医务人员",{"$f":"VLOOKUP(B4029,[1]Sheet1!$A:$I,8,0)","v":"72.00"},{"$f":"VLOOKUP(B4029,[1]Sheet1!$A:$I,9,0)","v":"37.60"},{"$f":"VLOOKUP(B4029,[2]少数民族加分!$C$1:$E$65536,3,FALSE)","v":2},{"v":111.6,"d":"111.60"}]
[4030,"5452270502907","陆义莲","327独山县人民医院分院","04医务人员",{"$f":"VLOOKUP(B4030,[1]Sheet1!$A:$I,8,0)","v":"49.00"},{"$f":"VLOOKUP(B4030,[1]Sheet1!$A:$I,9,0)","v":"60.20"},{"$f":"VLOOKUP(B4030,[2]少数民族加分!$C$1:$E$65536,3,FALSE)","v":2},{"v":111.2,"d":"111.20"}]
[4032,"5452270509304","何孝芝","327独山县人民医院分院","04医务人员",{"$f":"VLOOKUP(B4031,[1]Sheet1!$A:$I,8,0)","v":"67.00"},{"$f":"VLOOKUP(B4031,[1]Sheet1!$A:$I,9,0)","v":"42.10"},{"$f":"VLOOKUP(B4031,[2]少数民族加分!$C$1:$E$65536,3,FALSE)","v":2},{"v":111.1,"d":"111.10"}]
[4022,"5452270502523","韦永菊","327独山县人民医院分院","04医务人员",{"$f":"VLOOKUP(B4032,[1]Sheet1!$A:$I,8,0)","v":"54.00"},{"$f":"VLOOKUP(B4032,[1]Sheet1!$A:$I,9,0)","v":"57.00"},null,{"v":111,"d":"111.00"}]
[4024,"5452270504216","王文婕","327独山县人民医院分院","04医务人员",{"$f":"VLOOKUP(B4033,[1]Sheet1!$A:$I,8,0)","v":"50.00"},{"$f":"VLOOKUP(B4033,[1]Sheet1!$A:$I,9,0)","v":"60.90"},null,{"v":110.9,"d":"110.90"}]
[4034,"5452270503524","吴正凤","327独山县人民医院分院","04医务人员",{"$f":"VLOOKUP(B4034,[1]Sheet1!$A:$I,8,0)","v":"47.00"},{"$f":"VLOOKUP(B4034,[1]Sheet1!$A:$I,9,0)","v":"61.30"},{"$f":"VLOOKUP(B4034,[2]少数民族加分!$C$1:$E$65536,3,FALSE)","v":2},{"v":110.3,"d":"110.30"}]
[4035,"5452270502528","刘美","327独山县人民医院分院","04医务人员",{"$f":"VLOOKUP(B4035,[1]Sheet1!$A:$I,8,0)","v":"51.50"},{"$f":"VLOOKUP(B4035,[1]Sheet1!$A:$I,9,0)","v":"56.60"},{"$f":"VLOOKUP(B4035,[2]少数民族加分!$C$1:$E$65536,3,FALSE)","v":2},{"v":110.1,"d":"110.10"}]
[4036,"5452270504012","王丽英","327独山县人民医院分院","04医务人员",{"$f":"VLOOKUP(B4036,[1]Sheet1!$A:$I,8,0)","v":"46.00"},{"$f":"VLOOKUP(B4036,[1]Sheet1!$A:$I,9,0)","v":"62.10"},{"$f":"VLOOKUP(B4036,[2]少数民族加分!$C$1:$E$65536,3,FALSE)","v":2},{"v":110.1,"d":"110.10"}]
[4037,"5452270504102","陈忠叶","327独山县人民医院分院","04医务人员",{"$f":"VLOOKUP(B4037,[1]Sheet1!$A:$I,8,0)","v":"48.50"},{"$f":"VLOOKUP(B4037,[1]Sheet1!$A:$I,9,0)","v":"59.60"},{"$f":"VLOOKUP(B4037,[2]少数民族加分!$C$1:$E$65536,3,FALSE)","v":2},{"v":110.1,"d":"110.10"}]
[4040,"5452270503413","陆燕红","327独山县人民医院分院","04医务人员",{"$f":"VLOOKUP(B4038,[1]Sheet1!$A:$I,8,0)","v":"66.50"},{"$f":"VLOOKUP(B4038,[1]Sheet1!$A:$I,9,0)","v":"41.40"},{"$f":"VLOOKUP(B4038,[2]少数民族加分!$C$1:$E$65536,3,FALSE)","v":2},{"v":109.9,"d":"109.90"}]
[4041,"5452270503111","乐祺祺","327独山县人民医院分院","04医务人员",{"$f":"VLOOKUP(B4039,[1]Sheet1!$A:$I,8,0)","v":"51.00"},{"$f":"VLOOKUP(B4039,[1]Sheet1!$A:$I,9,0)","v":"56.80"},{"$f":"VLOOKUP(B4039,[2]少数民族加分!$C$1:$E$65536,3,FALSE)","v":2},{"v":109.8,"d":"109.80"}]
[4042,"5452270503108","王世蒙","327独山县人民医院分院","04医务人员",{"$f":"VLOOKUP(B4040,[1]Sheet1!$A:$I,8,0)","v":"53.50"},{"$f":"VLOOKUP(B4040,[1]Sheet1!$A:$I,9,0)","v":"54.10"},{"$f":"VLOOKUP(B4040,[2]少数民族加分!$C$1:$E$65536,3,FALSE)","v":2},{"v":109.6,"d":"109.60"}]
[4043,"5452270503423","潘燕霞","327独山县人民医院分院","04医务人员",{"$f":"VLOOKUP(B4041,[1]Sheet1!$A:$I,8,0)","v":"60.50"},{"$f":"VLOOKUP(B4041,[1]Sheet1!$A:$I,9,0)","v":"46.80"},{"$f":"VLOOKUP(B4041,[2]少数民族加分!$C$1:$E$65536,3,FALSE)","v":2},{"v":109.3,"d":"109.30"}]
[4044,"5452270502701","高家燕","327独山县人民医院分院","04医务人员",{"$f":"VLOOKUP(B4042,[1]Sheet1!$A:$I,8,0)","v":"57.50"},{"$f":"VLOOKUP(B4042,[1]Sheet1!$A:$I,9,0)","v":"49.70"},{"$f":"VLOOKUP(B4042,[2]少数民族加分!$C$1:$E$65536,3,FALSE)","v":2},{"v":109.2,"d":"109.20"}]
[4031,"5452270503030","彭秋霞","327独山县人民医院分院","04医务人员",{"$f":"VLOOKUP(B4043,[1]Sheet1!$A:$I,8,0)","v":"51.00"},{"$f":"VLOOKUP(B4043,[1]Sheet1!$A:$I,9,0)","v":"58.10"},null,{"v":109.1,"d":"109.10"}]
[4033,"5452270502307","潘琼","327独山县人民医院分院","04医务人员",{"$f":"VLOOKUP(B4044,[1]Sheet1!$A:$I,8,0)","v":"41.00"},{"$f":"VLOOKUP(B4044,[1]Sheet1!$A:$I,9,0)","v":"67.90"},null,{"v":108.9,"d":"108.90"}]
[4046,"5452270502827","江方露","327独山县人民医院分院","04医务人员",{"$f":"VLOOKUP(B4045,[1]Sheet1!$A:$I,8,0)","v":"55.50"},{"$f":"VLOOKUP(B4045,[1]Sheet1!$A:$I,9,0)","v":"51.40"},{"$f":"VLOOKUP(B4045,[2]少数民族加分!$C$1:$E$65536,3,FALSE)","v":2},{"v":108.9,"d":"108.90"}]
[4038,"5452270502313","吴秀瑞","327独山县人民医院分院","04医务人员",{"$f":"VLOOKUP(B4046,[1]Sheet1!$A:$I,8,0)","v":"51.00"},{"$f":"VLOOKUP(B4046,[1]Sheet1!$A:$I,9,0)","v":"57.00"},null,{"v":108,"d":"108.00"}]
[4039,"5452270503028","张露","327独山县人民医院分院","04医务人员",{"$f":"VLOOKUP(B4047,[1]Sheet1!$A:$I,8,0)","v":"71.50"},{"$f":"VLOOKUP(B4047,[1]Sheet1!$A:$I,9,0)","v":"36.50"},null,{"v":108,"d":"108.00"}]
[4049,"5452270509313","吴宇咪","327独山县人民医院分院","04医务人员",{"$f":"VLOOKUP(B4048,[1]Sheet1!$A:$I,8,0)","v":"55.50"},{"$f":"VLOOKUP(B4048,[1]Sheet1!$A:$I,9,0)","v":"50.00"},{"$f":"VLOOKUP(B4048,[2]少数民族加分!$C$1:$E$65536,3,FALSE)","v":2},{"v":107.5,"d":"107.50"}]
[4050,"5452270503216","胡昌美","327独山县人民医院分院","04医务人员",{"$f":"VLOOKUP(B4049,[1]Sheet1!$A:$I,8,0)","v":"56.00"},{"$f":"VLOOKUP(B4049,[1]Sheet1!$A:$I,9,0)","v":"49.30"},{"$f":"VLOOKUP(B4049,[2]少数民族加分!$C$1:$E$65536,3,FALSE)","v":2},{"v":107.3,"d":"107.30"}]
[4045,"5452270504121","李福月","327独山县人民医院分院","04医务人员",{"$f":"VLOOKUP(B4050,[1]Sheet1!$A:$I,8,0)","v":"57.00"},{"$f":"VLOOKUP(B4050,[1]Sheet1!$A:$I,9,0)","v":"50.10"},null,{"v":107.1,"d":"107.10"}]
[4051,"5452270502619","龙丽","327独山县人民医院分院","04医务人员",{"$f":"VLOOKUP(B4051,[1]Sheet1!$A:$I,8,0)","v":"59.00"},{"$f":"VLOOKUP(B4051,[1]Sheet1!$A:$I,9,0)","v":"46.00"},{"$f":"VLOOKUP(B4051,[2]少数民族加分!$C$1:$E$65536,3,FALSE)","v":2},{"v":107,"d":"107.00"}]
[4052,"5452270502301","刘跃菜","327独山县人民医院分院","04医务人员",{"$f":"VLOOKUP(B4052,[1]Sheet1!$A:$I,8,0)","v":"54.00"},{"$f":"VLOOKUP(B4052,[1]Sheet1!$A:$I,9,0)","v":"50.90"},{"$f":"VLOOKUP(B4052,[2]少数民族加分!$C$1:$E$65536,3,FALSE)","v":2},{"v":106.9,"d":"106.90"}]
[4053,"5452270509321","莫泰宵","327独山县人民医院分院","04医务人员",{"$f":"VLOOKUP(B4053,[1]Sheet1!$A:$I,8,0)","v":"57.00"},{"$f":"VLOOKUP(B4053,[1]Sheet1!$A:$I,9,0)","v":"47.70"},{"$f":"VLOOKUP(B4053,[2]少数民族加分!$C$1:$E$65536,3,FALSE)","v":2},{"v":106.7,"d":"106.70"}]
[4047,"5452270503204","邓小漫","327独山县人民医院分院","04医务人员",{"$f":"VLOOKUP(B4054,[1]Sheet1!$A:$I,8,0)","v":"61.50"},{"$f":"VLOOKUP(B4054,[1]Sheet1!$A:$I,9,0)","v":"45.00"},null,{"v":106.5,"d":"106.50"}]
[4054,"5452270503428","吴远琴","327独山县人民医院分院","04医务人员",{"$f":"VLOOKUP(B4055,[1]Sheet1!$A:$I,8,0)","v":"52.00"},{"$f":"VLOOKUP(B4055,[1]Sheet1!$A:$I,9,0)","v":"52.40"},{"$f":"VLOOKUP(B4055,[2]少数民族加分!$C$1:$E$65536,3,FALSE)","v":2},{"v":106.4,"d":"106.40"}]
[4055,"5452270504006","蒙正先","327独山县人民医院分院","04医务人员",{"$f":"VLOOKUP(B4056,[1]Sheet1!$A:$I,8,0)","v":"50.50"},{"$f":"VLOOKUP(B4056,[1]Sheet1!$A:$I,9,0)","v":"53.90"},{"$f":"VLOOKUP(B4056,[2]少数民族加分!$C$1:$E$65536,3,FALSE)","v":2},{"v":106.4,"d":"106.40"}]
[4048,"5452270504221","熊田田","327独山县人民医院分院","04医务人员",{"$f":"VLOOKUP(B4057,[1]Sheet1!$A:$I,8,0)","v":"52.50"},{"$f":"VLOOKUP(B4057,[1]Sheet1!$A:$I,9,0)","v":"53.50"},null,{"v":106,"d":"106.00"}]
[4056,"5452270502503","杨晓彩","327独山县人民医院分院","04医务人员",{"$f":"VLOOKUP(B4058,[1]Sheet1!$A:$I,8,0)","v":"50.50"},{"$f":"VLOOKUP(B4058,[1]Sheet1!$A:$I,9,0)","v":"53.50"},{"$f":"VLOOKUP(B4058,[2]少数民族加分!$C$1:$E$65536,3,FALSE)","v":2},{"v":106,"d":"106.00"}]
[4057,"5452270502616","韦兴艳","327独山县人民医院分院","04医务人员",{"$f":"VLOOKUP(B4059,[1]Sheet1!$A:$I,8,0)","v":"50.50"},{"$f":"VLOOKUP(B4059,[1]Sheet1!$A:$I,9,0)","v":"53.50"},{"$f":"VLOOKUP(B4059,[2]少数民族加分!$C$1:$E$65536,3,FALSE)","v":2},{"v":106,"d":"106.00"}]
[4060,"5452270504013","杨秀梅","327独山县人民医院分院","04医务人员",{"$f":"VLOOKUP(B4060,[1]Sheet1!$A:$I,8,0)","v":"53.50"},{"$f":"VLOOKUP(B4060,[1]Sheet1!$A:$I,9,0)","v":"49.80"},{"$f":"VLOOKUP(B4060,[2]少数民族加分!$C$1:$E$65536,3,FALSE)","v":2},{"v":105.3,"d":"105.30"}]
[4061,"5452270503120","罗馨","327独山县人民医院分院","04医务人员",{"$f":"VLOOKUP(B4061,[1]Sheet1!$A:$I,8,0)","v":"50.00"},{"$f":"VLOOKUP(B4061,[1]Sheet1!$A:$I,9,0)","v":"52.80"},{"$f":"VLOOKUP(B4061,[2]少数民族加分!$C$1:$E$65536,3,FALSE)","v":2},{"v":104.8,"d":"104.80"}]
[4062,"5452270504025","罗正莲","327独山县人民医院分院","04医务人员",{"$f":"VLOOKUP(B4062,[1]Sheet1!$A:$I,8,0)","v":"48.00"},{"$f":"VLOOKUP(B4062,[1]Sheet1!$A:$I,9,0)","v":"54.20"},{"$f":"VLOOKUP(B4062,[2]少数民族加分!$C$1:$E$65536,3,FALSE)","v":2},{"v":104.2,"d":"104.20"}]
[4058,"5452270502524","黄继双","327独山县人民医院分院","04医务人员",{"$f":"VLOOKUP(B4063,[1]Sheet1!$A:$I,8,0)","v":"49.00"},{"$f":"VLOOKUP(B4063,[1]Sheet1!$A:$I,9,0)","v":"54.80"},null,{"v":103.8,"d":"103.80"}]
[4059,"5452270502810","莫泽琴","327独山县人民医院分院","04医务人员",{"$f":"VLOOKUP(B4064,[1]Sheet1!$A:$I,8,0)","v":"59.00"},{"$f":"VLOOKUP(B4064,[1]Sheet1!$A:$I,9,0)","v":"44.80"},null,{"v":103.8,"d":"103.80"}]
[4064,"5452270502428","杨龙勤","327独山县人民医院分院","04医务人员",{"$f":"VLOOKUP(B4065,[1]Sheet1!$A:$I,8,0)","v":"56.00"},{"$f":"VLOOKUP(B4065,[1]Sheet1!$A:$I,9,0)","v":"45.70"},{"$f":"VLOOKUP(B4065,[2]少数民族加分!$C$1:$E$65536,3,FALSE)","v":2},{"v":103.7,"d":"103.70"}]
[4065,"5452270504219","吴炀铧","327独山县人民医院分院","04医务人员",{"$f":"VLOOKUP(B4066,[1]Sheet1!$A:$I,8,0)","v":"41.50"},{"$f":"VLOOKUP(B4066,[1]Sheet1!$A:$I,9,0)","v":"60.10"},{"$f":"VLOOKUP(B4066,[2]少数民族加分!$C$1:$E$65536,3,FALSE)","v":2},{"v":103.6,"d":"103.60"}]
[4066,"5452270504011","吴秀欢","327独山县人民医院分院","04医务人员",{"$f":"VLOOKUP(B4067,[1]Sheet1!$A:$I,8,0)","v":"57.50"},{"$f":"VLOOKUP(B4067,[1]Sheet1!$A:$I,9,0)","v":"43.80"},{"$f":"VLOOKUP(B4067,[2]少数民族加分!$C$1:$E$65536,3,FALSE)","v":2},{"v":103.3,"d":"103.30"}]
[4067,"5452270502921","邰小花","327独山县人民医院分院","04医务人员",{"$f":"VLOOKUP(B4068,[1]Sheet1!$A:$I,8,0)","v":"54.50"},{"$f":"VLOOKUP(B4068,[1]Sheet1!$A:$I,9,0)","v":"46.60"},{"$f":"VLOOKUP(B4068,[2]少数民族加分!$C$1:$E$65536,3,FALSE)","v":2},{"v":103.1,"d":"103.10"}]
[4068,"5452270503511","周荣彩","327独山县人民医院分院","04医务人员",{"$f":"VLOOKUP(B4069,[1]Sheet1!$A:$I,8,0)","v":"36.00"},{"$f":"VLOOKUP(B4069,[1]Sheet1!$A:$I,9,0)","v":"65.10"},{"$f":"VLOOKUP(B4069,[2]少数民族加分!$C$1:$E$65536,3,FALSE)","v":2},{"v":103.1,"d":"103.10"}]
[4069,"5452270504020","汪文姣","327独山县人民医院分院","04医务人员",{"$f":"VLOOKUP(B4070,[1]Sheet1!$A:$I,8,0)","v":"52.00"},{"$f":"VLOOKUP(B4070,[1]Sheet1!$A:$I,9,0)","v":"49.10"},{"$f":"VLOOKUP(B4070,[2]少数民族加分!$C$1:$E$65536,3,FALSE)","v":2},{"v":103.1,"d":"103.10"}]
[4070,"5452270502719","柏春娇","327独山县人民医院分院","04医务人员",{"$f":"VLOOKUP(B4071,[1]Sheet1!$A:$I,8,0)","v":"42.00"},{"$f":"VLOOKUP(B4071,[1]Sheet1!$A:$I,9,0)","v":"58.20"},{"$f":"VLOOKUP(B4071,[2]少数民族加分!$C$1:$E$65536,3,FALSE)","v":2},{"v":102.2,"d":"102.20"}]
[4071,"5452270502507","龙七","327独山县人民医院分院","04医务人员",{"$f":"VLOOKUP(B4072,[1]Sheet1!$A:$I,8,0)","v":"43.50"},{"$f":"VLOOKUP(B4072,[1]Sheet1!$A:$I,9,0)","v":"56.60"},2,{"v":102.1,"d":"102.10"}]
[4072,"5452270503319","刘中欢","327独山县人民医院分院","04医务人员",{"$f":"VLOOKUP(B4073,[1]Sheet1!$A:$I,8,0)","v":"50.50"},{"$f":"VLOOKUP(B4073,[1]Sheet1!$A:$I,9,0)","v":"49.60"},{"$f":"VLOOKUP(B4073,[2]少数民族加分!$C$1:$E$65536,3,FALSE)","v":2},{"v":102.1,"d":"102.10"}]
[4063,"5452270503926","杨丽琰","327独山县人民医院分院","04医务人员",{"$f":"VLOOKUP(B4074,[1]Sheet1!$A:$I,8,0)","v":"60.00"},{"$f":"VLOOKUP(B4074,[1]Sheet1!$A:$I,9,0)","v":"41.80"},null,{"v":101.8,"d":"101.80"}]
[4073,"5452270502515","罗洪青","327独山县人民医院分院","04医务人员",{"$f":"VLOOKUP(B4075,[1]Sheet1!$A:$I,8,0)","v":"53.50"},{"$f":"VLOOKUP(B4075,[1]Sheet1!$A:$I,9,0)","v":"46.20"},{"$f":"VLOOKUP(B4075,[2]少数民族加分!$C$1:$E$65536,3,FALSE)","v":2},{"v":101.7,"d":"101.70"}]
[4075,"5452270503720","何小菲","327独山县人民医院分院","04医务人员",{"$f":"VLOOKUP(B4076,[1]Sheet1!$A:$I,8,0)","v":"44.50"},{"$f":"VLOOKUP(B4076,[1]Sheet1!$A:$I,9,0)","v":"55.00"},{"$f":"VLOOKUP(B4076,[2]少数民族加分!$C$1:$E$65536,3,FALSE)","v":2},{"v":101.5,"d":"101.50"}]
[4076,"5452270503328","罗利声","327独山县人民医院分院","04医务人员",{"$f":"VLOOKUP(B4077,[1]Sheet1!$A:$I,8,0)","v":"53.50"},{"$f":"VLOOKUP(B4077,[1]Sheet1!$A:$I,9,0)","v":"45.80"},{"$f":"VLOOKUP(B4077,[2]少数民族加分!$C$1:$E$65536,3,FALSE)","v":2},{"v":101.3,"d":"101.30"}]
[4077,"5452270502417","鄂君娜","327独山县人民医院分院","04医务人员",{"$f":"VLOOKUP(B4078,[1]Sheet1!$A:$I,8,0)","v":"63.50"},{"$f":"VLOOKUP(B4078,[1]Sheet1!$A:$I,9,0)","v":"35.40"},{"$f":"VLOOKUP(B4078,[2]少数民族加分!$C$1:$E$65536,3,FALSE)","v":2},{"v":100.9,"d":"100.90"}]
[4078,"5452270502822","莫靓","327独山县人民医院分院","04医务人员",{"$f":"VLOOKUP(B4079,[1]Sheet1!$A:$I,8,0)","v":"53.00"},{"$f":"VLOOKUP(B4079,[1]Sheet1!$A:$I,9,0)","v":"45.70"},{"$f":"VLOOKUP(B4079,[2]少数民族加分!$C$1:$E$65536,3,FALSE)","v":2},{"v":100.7,"d":"100.70"}]
[4080,"5452270502320","邓雅文","327独山县人民医院分院","04医务人员",{"$f":"VLOOKUP(B4080,[1]Sheet1!$A:$I,8,0)","v":"56.50"},{"$f":"VLOOKUP(B4080,[1]Sheet1!$A:$I,9,0)","v":"41.30"},{"$f":"VLOOKUP(B4080,[2]少数民族加分!$C$1:$E$65536,3,FALSE)","v":2},{"v":99.8,"d":"99.80"}]
[4074,"5452270503012","夏欢","327独山县人民医院分院","04医务人员",{"$f":"VLOOKUP(B4081,[1]Sheet1!$A:$I,8,0)","v":"41.00"},{"$f":"VLOOKUP(B4081,[1]Sheet1!$A:$I,9,0)","v":"58.50"},null,{"v":99.5,"d":"99.50"}]
[4079,"5452270502408","吴佩","327独山县人民医院分院","04医务人员",{"$f":"VLOOKUP(B4082,[1]Sheet1!$A:$I,8,0)","v":"50.50"},{"$f":"VLOOKUP(B4082,[1]Sheet1!$A:$I,9,0)","v":"47.80"},null,{"v":98.3,"d":"98.30"}]
[4081,"5452270503103","李艳","327独山县人民医院分院","04医务人员",{"$f":"VLOOKUP(B4083,[1]Sheet1!$A:$I,8,0)","v":"53.50"},{"$f":"VLOOKUP(B4083,[1]Sheet1!$A:$I,9,0)","v":"42.50"},{"$f":"VLOOKUP(B4083,[2]少数民族加分!$C$1:$E$65536,3,FALSE)","v":2},{"v":98,"d":"98.00"}]
[4082,"5452270502501","王章艳","327独山县人民医院分院","04医务人员",{"$f":"VLOOKUP(B4084,[1]Sheet1!$A:$I,8,0)","v":"55.50"},{"$f":"VLOOKUP(B4084,[1]Sheet1!$A:$I,9,0)","v":"40.40"},{"$f":"VLOOKUP(B4084,[2]少数民族加分!$C$1:$E$65536,3,FALSE)","v":2},{"v":97.9,"d":"97.90"}]
[4084,"5452270503226","韦绍娜","327独山县人民医院分院","04医务人员",{"$f":"VLOOKUP(B4085,[1]Sheet1!$A:$I,8,0)","v":"47.50"},{"$f":"VLOOKUP(B4085,[1]Sheet1!$A:$I,9,0)","v":"47.90"},{"$f":"VLOOKUP(B4085,[2]少数民族加分!$C$1:$E$65536,3,FALSE)","v":2},{"v":97.4,"d":"97.40"}]
[4085,"5452270502303","潘小娟","327独山县人民医院分院","04医务人员",{"$f":"VLOOKUP(B4086,[1]Sheet1!$A:$I,8,0)","v":"57.00"},{"$f":"VLOOKUP(B4086,[1]Sheet1!$A:$I,9,0)","v":"38.10"},{"$f":"VLOOKUP(B4086,[2]少数民族加分!$C$1:$E$65536,3,FALSE)","v":2},{"v":97.1,"d":"97.10"}]
[4083,"5452270503020","徐素银","327独山县人民医院分院","04医务人员",{"$f":"VLOOKUP(B4087,[1]Sheet1!$A:$I,8,0)","v":"44.50"},{"$f":"VLOOKUP(B4087,[1]Sheet1!$A:$I,9,0)","v":"51.40"},null,{"v":95.9,"d":"95.90"}]
[4086,"5452270504001","陈开秀","327独山县人民医院分院","04医务人员",{"$f":"VLOOKUP(B4088,[1]Sheet1!$A:$I,8,0)","v":"46.00"},{"$f":"VLOOKUP(B4088,[1]Sheet1!$A:$I,9,0)","v":"44.50"},{"$f":"VLOOKUP(B4088,[2]少数民族加分!$C$1:$E$65536,3,FALSE)","v":2},{"v":92.5,"d":"92.50"}]
[4088,"5452270503824","陆臣蓉","327独山县人民医院分院","04医务人员",{"$f":"VLOOKUP(B4089,[1]Sheet1!$A:$I,8,0)","v":"42.00"},{"$f":"VLOOKUP(B4089,[1]Sheet1!$A:$I,9,0)","v":"46.70"},{"$f":"VLOOKUP(B4089,[2]少数民族加分!$C$1:$E$65536,3,FALSE)","v":2},{"v":90.7,"d":"90.70"}]
[4087,"5452270504207","石彩云","327独山县人民医院分院","04医务人员",{"$f":"VLOOKUP(B4090,[1]Sheet1!$A:$I,8,0)","v":"55.50"},{"$f":"VLOOKUP(B4090,[1]Sheet1!$A:$I,9,0)","v":"34.30"},null,{"v":89.8,"d":"89.80"}]
[4090,"5452270502321","莫艳美","327独山县人民医院分院","04医务人员",{"$f":"VLOOKUP(B4091,[1]Sheet1!$A:$I,8,0)","v":"41.00"},{"$f":"VLOOKUP(B4091,[1]Sheet1!$A:$I,9,0)","v":"45.50"},{"$f":"VLOOKUP(B4091,[2]少数民族加分!$C$1:$E$65536,3,FALSE)","v":2},{"v":88.5,"d":"88.50"}]
[4089,"5452270503911","马雨","327独山县人民医院分院","04医务人员",{"$f":"VLOOKUP(B4092,[1]Sheet1!$A:$I,8,0)","v":"42.00"},{"$f":"VLOOKUP(B4092,[1]Sheet1!$A:$I,9,0)","v":"45.50"},null,{"v":87.5,"d":"87.50"}]
[4091,"5452270502717","石成先","327独山县人民医院分院","04医务人员",{"$f":"VLOOKUP(B4093,[1]Sheet1!$A:$I,8,0)","v":"44.00"},{"$f":"VLOOKUP(B4093,[1]Sheet1!$A:$I,9,0)","v":"40.80"},{"$f":"VLOOKUP(B4093,[2]少数民族加分!$C$1:$E$65536,3,FALSE)","v":2},{"v":86.8,"d":"86.80"}]
[4092,"5452270503426","陈雨静","327独山县人民医院分院","04医务人员",{"$f":"VLOOKUP(B4094,[1]Sheet1!$A:$I,8,0)","v":"42.50"},{"$f":"VLOOKUP(B4094,[1]Sheet1!$A:$I,9,0)","v":"41.90"},{"$f":"VLOOKUP(B4094,[2]少数民族加分!$C$1:$E$65536,3,FALSE)","v":2},{"v":86.4,"d":"86.40"}]
[4093,"5452270503616","邓龙","327独山县人民医院分院","04医务人员",{"$f":"VLOOKUP(B4095,[1]Sheet1!$A:$I,8,0)","v":"45.50"},{"$f":"VLOOKUP(B4095,[1]Sheet1!$A:$I,9,0)","v":"38.70"},{"$f":"VLOOKUP(B4095,[2]少数民族加分!$C$1:$E$65536,3,FALSE)","v":2},{"v":86.2,"d":"86.20"}]
[4094,"5452270503218","莫亮劝","327独山县人民医院分院","04医务人员",{"$f":"VLOOKUP(B4096,[1]Sheet1!$A:$I,8,0)","v":"51.00"},{"$f":"VLOOKUP(B4096,[1]Sheet1!$A:$I,9,0)","v":"32.70"},{"$f":"VLOOKUP(B4096,[2]少数民族加分!$C$1:$E$65536,3,FALSE)","v":2},{"v":85.7,"d":"85.70"}]
[4096,"5452270503905","陈文敏","327独山县人民医院分院","04医务人员",{"$f":"VLOOKUP(B4097,[1]Sheet1!$A:$I,8,0)","v":"51.50"},{"$f":"VLOOKUP(B4097,[1]Sheet1!$A:$I,9,0)","v":"30.00"},{"$f":"VLOOKUP(B4097,[2]少数民族加分!$C$1:$E$65536,3,FALSE)","v":2},{"v":83.5,"d":"83.50"}]
[4095,"5452270503127","罗正熙","327独山县人民医院分院","04医务人员",{"$f":"VLOOKUP(B4098,[1]Sheet1!$A:$I,8,0)","v":"37.00"},{"$f":"VLOOKUP(B4098,[1]Sheet1!$A:$I,9,0)","v":"45.50"},null,{"v":82.5,"d":"82.50"}]
[4097,"5452270503320","郭小雪","327独山县人民医院分院","04医务人员",{"$f":"VLOOKUP(B4099,[1]Sheet1!$A:$I,8,0)","v":"26.50"},{"$f":"VLOOKUP(B4099,[1]Sheet1!$A:$I,9,0)","v":"44.90"},{"$f":"VLOOKUP(B4099,[2]少数民族加分!$C$1:$E$65536,3,FALSE)","v":2},{"v":73.4,"d":"73.40"}]
[4098,"5452270503409","艾奇姗","327独山县人民医院分院","04医务人员",{"$f":"VLOOKUP(B4100,[1]Sheet1!$A:$I,8,0)","v":"16.00"},{"$f":"VLOOKUP(B4100,[1]Sheet1!$A:$I,9,0)","v":"51.90"},null,{"v":67.9,"d":"67.90"}]
[4099,"5452270502314","孔令慧","327独山县人民医院分院","04医务人员",{"$f":"VLOOKUP(B4101,[1]Sheet1!$A:$I,8,0)","v":"0.00"},{"$f":"VLOOKUP(B4101,[1]Sheet1!$A:$I,9,0)","v":"0.00"},null,"缺考"]
[4100,"5452270502318","陆廷唯","327独山县人民医院分院","04医务人员",{"$f":"VLOOKUP(B4102,[1]Sheet1!$A:$I,8,0)","v":"0.00"},{"$f":"VLOOKUP(B4102,[1]Sheet1!$A:$I,9,0)","v":"0.00"},{"$f":"VLOOKUP(B4102,[2]少数民族加分!$C$1:$E$65536,3,FALSE)","v":2},"缺考"]
[4101,"5452270502419","莫昆芳","327独山县人民医院分院","04医务人员",{"$f":"VLOOKUP(B4103,[1]Sheet1!$A:$I,8,0)","v":"0.00"},{"$f":"VLOOKUP(B4103,[1]Sheet1!$A:$I,9,0)","v":"0.00"},{"$f":"VLOOKUP(B4103,[2]少数民族加分!$C$1:$E$65536,3,FALSE)","v":2},"缺考"]
[4102,"5452270502423","刘孝敏","327独山县人民医院分院","04医务人员",{"$f":"VLOOKUP(B4104,[1]Sheet1!$A:$I,8,0)","v":"0.00"},{"$f":"VLOOKUP(B4104,[1]Sheet1!$A:$I,9,0)","v":"0.00"},null,"缺考"]
[4103,"5452270502430","张丽","327独山县人民医院分院","04医务人员",{"$f":"VLOOKUP(B4105,[1]Sheet1!$A:$I,8,0)","v":"0.00"},{"$f":"VLOOKUP(B4105,[1]Sheet1!$A:$I,9,0)","v":"0.00"},null,"缺考"]
[4104,"5452270502513","陆钦波","327独山县人民医院分院","04医务人员",{"$f":"VLOOKUP(B4106,[1]Sheet1!$A:$I,8,0)","v":"0.00"},{"$f":"VLOOKUP(B4106,[1]Sheet1!$A:$I,9,0)","v":"0.00"},{"$f":"VLOOKUP(B4106,[2]少数民族加分!$C$1:$E$65536,3,FALSE)","v":2},"缺考"]
[4105,"5452270502516","王雨露","327独山县人民医院分院","04医务人员",{"$f":"VLOOKUP(B4107,[1]Sheet1!$A:$I,8,0)","v":"0.00"},{"$f":"VLOOKUP(B4107,[1]Sheet1!$A:$I,9,0)","v":"0.00"},{"$f":"VLOOKUP(B4107,[2]少数民族加分!$C$1:$E$65536,3,FALSE)","v":2},"缺考"]
[4106,"5452270502525","李朝芳","327独山县人民医院分院","04医务人员",{"$f":"VLOOKUP(B4108,[1]Sheet1!$A:$I,8,0)","v":"0.00"},{"$f":"VLOOKUP(B4108,[1]Sheet1!$A:$I,9,0)","v":"0.00"},null,"缺考"]
[4107,"5452270502611","罗文雨","327独山县人民医院分院","04医务人员",{"$f":"VLOOKUP(B4109,[1]Sheet1!$A:$I,8,0)","v":"0.00"},{"$f":"VLOOKUP(B4109,[1]Sheet1!$A:$I,9,0)","v":"0.00"},{"$f":"VLOOKUP(B4109,[2]少数民族加分!$C$1:$E$65536,3,FALSE)","v":2},"缺考"]
[4108,"5452270502612","潘大粮","327独山县人民医院分院","04医务人员",{"$f":"VLOOKUP(B4110,[1]Sheet1!$A:$I,8,0)","v":"0.00"},{"$f":"VLOOKUP(B4110,[1]Sheet1!$A:$I,9,0)","v":"0.00"},{"$f":"VLOOKUP(B4110,[2]少数民族加分!$C$1:$E$65536,3,FALSE)","v":2},"缺考"]
[4109,"5452270502621","蒲永琴","327独山县人民医院分院","04医务人员",{"$f":"VLOOKUP(B4111,[1]Sheet1!$A:$I,8,0)","v":"0.00"},{"$f":"VLOOKUP(B4111,[1]Sheet1!$A:$I,9,0)","v":"0.00"},null,"缺考"]
[4110,"5452270502627","陆德燕","327独山县人民医院分院","04医务人员",{"$f":"VLOOKUP(B4112,[1]Sheet1!$A:$I,8,0)","v":"0.00"},{"$f":"VLOOKUP(B4112,[1]Sheet1!$A:$I,9,0)","v":"0.00"},{"$f":"VLOOKUP(B4112,[2]少数民族加分!$C$1:$E$65536,3,FALSE)","v":2},"缺考"]
[4111,"5452270502703","陈锋","327独山县人民医院分院","04医务人员",{"$f":"VLOOKUP(B4113,[1]Sheet1!$A:$I,8,0)","v":"0.00"},{"$f":"VLOOKUP(B4113,[1]Sheet1!$A:$I,9,0)","v":"0.00"},{"$f":"VLOOKUP(B4113,[2]少数民族加分!$C$1:$E$65536,3,FALSE)","v":2},"缺考"]
[4112,"5452270502707","龙星","327独山县人民医院分院","04医务人员",{"$f":"VLOOKUP(B4114,[1]Sheet1!$A:$I,8,0)","v":"0.00"},{"$f":"VLOOKUP(B4114,[1]Sheet1!$A:$I,9,0)","v":"0.00"},{"$f":"VLOOKUP(B4114,[2]少数民族加分!$C$1:$E$65536,3,FALSE)","v":2},"缺考"]
[4113,"5452270502817","罗秀群","327独山县人民医院分院","04医务人员",{"$f":"VLOOKUP(B4115,[1]Sheet1!$A:$I,8,0)","v":"0.00"},{"$f":"VLOOKUP(B4115,[1]Sheet1!$A:$I,9,0)","v":"0.00"},{"$f":"VLOOKUP(B4115,[2]少数民族加分!$C$1:$E$65536,3,FALSE)","v":2},"缺考"]
[4114,"5452270502818","蒙绘","327独山县人民医院分院","04医务人员",{"$f":"VLOOKUP(B4116,[1]Sheet1!$A:$I,8,0)","v":"0.00"},{"$f":"VLOOKUP(B4116,[1]Sheet1!$A:$I,9,0)","v":"0.00"},{"$f":"VLOOKUP(B4116,[2]少数民族加分!$C$1:$E$65536,3,FALSE)","v":2},"缺考"]
[4115,"5452270502824","杨样娥","327独山县人民医院分院","04医务人员",{"$f":"VLOOKUP(B4117,[1]Sheet1!$A:$I,8,0)","v":"0.00"},{"$f":"VLOOKUP(B4117,[1]Sheet1!$A:$I,9,0)","v":"0.00"},{"$f":"VLOOKUP(B4117,[2]少数民族加分!$C$1:$E$65536,3,FALSE)","v":2},"缺考"]
[4116,"5452270503022","莫蓉","327独山县人民医院分院","04医务人员",{"$f":"VLOOKUP(B4118,[1]Sheet1!$A:$I,8,0)","v":"0.00"},{"$f":"VLOOKUP(B4118,[1]Sheet1!$A:$I,9,0)","v":"0.00"},{"$f":"VLOOKUP(B4118,[2]少数民族加分!$C$1:$E$65536,3,FALSE)","v":2},"缺考"]
[4117,"5452270503121","苏琳","327独山县人民医院分院","04医务人员",{"$f":"VLOOKUP(B4119,[1]Sheet1!$A:$I,8,0)","v":"0.00"},{"$f":"VLOOKUP(B4119,[1]Sheet1!$A:$I,9,0)","v":"0.00"},null,"缺考"]
[4118,"5452270503126","余正权","327独山县人民医院分院","04医务人员",{"$f":"VLOOKUP(B4120,[1]Sheet1!$A:$I,8,0)","v":"0.00"},{"$f":"VLOOKUP(B4120,[1]Sheet1!$A:$I,9,0)","v":"0.00"},null,"缺考"]
[4119,"5452270503128","唐鸿","327独山县人民医院分院","04医务人员",{"$f":"VLOOKUP(B4121,[1]Sheet1!$A:$I,8,0)","v":"0.00"},{"$f":"VLOOKUP(B4121,[1]Sheet1!$A:$I,9,0)","v":"0.00"},null,"缺考"]
[4120,"5452270503207","袁明花","327独山县人民医院分院","04医务人员",{"$f":"VLOOKUP(B4122,[1]Sheet1!$A:$I,8,0)","v":"0.00"},{"$f":"VLOOKUP(B4122,[1]Sheet1!$A:$I,9,0)","v":"0.00"},null,"缺考"]
[4121,"5452270503211","胡常叶","327独山县人民医院分院","04医务人员",{"$f":"VLOOKUP(B4123,[1]Sheet1!$A:$I,8,0)","v":"0.00"},{"$f":"VLOOKUP(B4123,[1]Sheet1!$A:$I,9,0)","v":"0.00"},null,"缺考"]
[4122,"5452270503315","张玲丽","327独山县人民医院分院","04医务人员",{"$f":"VLOOKUP(B4124,[1]Sheet1!$A:$I,8,0)","v":"0.00"},{"$f":"VLOOKUP(B4124,[1]Sheet1!$A:$I,9,0)","v":"0.00"},null,"缺考"]
[4123,"5452270503316","陶佳丽","327独山县人民医院分院","04医务人员",{"$f":"VLOOKUP(B4125,[1]Sheet1!$A:$I,8,0)","v":"0.00"},{"$f":"VLOOKUP(B4125,[1]Sheet1!$A:$I,9,0)","v":"0.00"},null,"缺考"]
[4124,"5452270503403","冯娅","327独山县人民医院分院","04医务人员",{"$f":"VLOOKUP(B4126,[1]Sheet1!$A:$I,8,0)","v":"0.00"},{"$f":"VLOOKUP(B4126,[1]Sheet1!$A:$I,9,0)","v":"0.00"},null,"缺考"]
[4125,"5452270503417","潘小倩","327独山县人民医院分院","04医务人员",{"$f":"VLOOKUP(B4127,[1]Sheet1!$A:$I,8,0)","v":"0.00"},{"$f":"VLOOKUP(B4127,[1]Sheet1!$A:$I,9,0)","v":"0.00"},{"$f":"VLOOKUP(B4127,[2]少数民族加分!$C$1:$E$65536,3,FALSE)","v":2},"缺考"]
[4126,"5452270503425","冯沙","327独山县人民医院分院","04医务人员",{"$f":"VLOOKUP(B4128,[1]Sheet1!$A:$I,8,0)","v":"0.00"},{"$f":"VLOOKUP(B4128,[1]Sheet1!$A:$I,9,0)","v":"0.00"},null,"缺考"]
[4127,"5452270503529","吴寒冰","327独山县人民医院分院","04医务人员",{"$f":"VLOOKUP(B4129,[1]Sheet1!$A:$I,8,0)","v":"0.00"},{"$f":"VLOOKUP(B4129,[1]Sheet1!$A:$I,9,0)","v":"0.00"},{"$f":"VLOOKUP(B4129,[2]少数民族加分!$C$1:$E$65536,3,FALSE)","v":2},"缺考"]
[4128,"5452270503615","刘云露","327独山县人民医院分院","04医务人员",{"$f":"VLOOKUP(B4130,[1]Sheet1!$A:$I,8,0)","v":"0.00"},{"$f":"VLOOKUP(B4130,[1]Sheet1!$A:$I,9,0)","v":"0.00"},{"$f":"VLOOKUP(B4130,[2]少数民族加分!$C$1:$E$65536,3,FALSE)","v":2},"缺考"]
[4129,"5452270503622","陆若红","327独山县人民医院分院","04医务人员",{"$f":"VLOOKUP(B4131,[1]Sheet1!$A:$I,8,0)","v":"0.00"},{"$f":"VLOOKUP(B4131,[1]Sheet1!$A:$I,9,0)","v":"0.00"},{"$f":"VLOOKUP(B4131,[2]少数民族加分!$C$1:$E$65536,3,FALSE)","v":2},"缺考"]
[4130,"5452270503623","林慧","327独山县人民医院分院","04医务人员",{"$f":"VLOOKUP(B4132,[1]Sheet1!$A:$I,8,0)","v":"0.00"},{"$f":"VLOOKUP(B4132,[1]Sheet1!$A:$I,9,0)","v":"0.00"},{"$f":"VLOOKUP(B4132,[2]少数民族加分!$C$1:$E$65536,3,FALSE)","v":2},"缺考"]
[4131,"5452270503709","杨妮","327独山县人民医院分院","04医务人员",{"$f":"VLOOKUP(B4133,[1]Sheet1!$A:$I,8,0)","v":"0.00"},{"$f":"VLOOKUP(B4133,[1]Sheet1!$A:$I,9,0)","v":"0.00"},{"$f":"VLOOKUP(B4133,[2]少数民族加分!$C$1:$E$65536,3,FALSE)","v":2},"缺考"]
[4132,"5452270503808","周孟勤","327独山县人民医院分院","04医务人员",{"$f":"VLOOKUP(B4134,[1]Sheet1!$A:$I,8,0)","v":"0.00"},{"$f":"VLOOKUP(B4134,[1]Sheet1!$A:$I,9,0)","v":"0.00"},null,"缺考"]
[4133,"5452270503811","陆盛薇","327独山县人民医院分院","04医务人员",{"$f":"VLOOKUP(B4135,[1]Sheet1!$A:$I,8,0)","v":"0.00"},{"$f":"VLOOKUP(B4135,[1]Sheet1!$A:$I,9,0)","v":"0.00"},null,"缺考"]
[4134,"5452270503901","蒋青","327独山县人民医院分院","04医务人员",{"$f":"VLOOKUP(B4136,[1]Sheet1!$A:$I,8,0)","v":"0.00"},{"$f":"VLOOKUP(B4136,[1]Sheet1!$A:$I,9,0)","v":"0.00"},null,"缺考"]
[4135,"5452270503907","甘国玲","327独山县人民医院分院","04医务人员",{"$f":"VLOOKUP(B4137,[1]Sheet1!$A:$I,8,0)","v":"0.00"},{"$f":"VLOOKUP(B4137,[1]Sheet1!$A:$I,9,0)","v":"0.00"},null,"缺考"]
[4136,"5452270503916","李星秀","327独山县人民医院分院","04医务人员",{"$f":"VLOOKUP(B4138,[1]Sheet1!$A:$I,8,0)","v":"0.00"},{"$f":"VLOOKUP(B4138,[1]Sheet1!$A:$I,9,0)","v":"0.00"},{"$f":"VLOOKUP(B4138,[2]少数民族加分!$C$1:$E$65536,3,FALSE)","v":2},"缺考"]
[4137,"5452270504003","石本会","327独山县人民医院分院","04医务人员",{"$f":"VLOOKUP(B4139,[1]Sheet1!$A:$I,8,0)","v":"0.00"},{"$f":"VLOOKUP(B4139,[1]Sheet1!$A:$I,9,0)","v":"0.00"},{"$f":"VLOOKUP(B4139,[2]少数民族加分!$C$1:$E$65536,3,FALSE)","v":2},"缺考"]
[4138,"5452270504004","瞿红林","327独山县人民医院分院","04医务人员",{"$f":"VLOOKUP(B4140,[1]Sheet1!$A:$I,8,0)","v":"0.00"},{"$f":"VLOOKUP(B4140,[1]Sheet1!$A:$I,9,0)","v":"0.00"},{"$f":"VLOOKUP(B4140,[2]少数民族加分!$C$1:$E$65536,3,FALSE)","v":2},"缺考"]
[4139,"5452270504008","熊婷","327独山县人民医院分院","04医务人员",{"$f":"VLOOKUP(B4141,[1]Sheet1!$A:$I,8,0)","v":"0.00"},{"$f":"VLOOKUP(B4141,[1]Sheet1!$A:$I,9,0)","v":"0.00"},null,"缺考"]
[4140,"5452270504114","胡元群","327独山县人民医院分院","04医务人员",{"$f":"VLOOKUP(B4142,[1]Sheet1!$A:$I,8,0)","v":"0.00"},{"$f":"VLOOKUP(B4142,[1]Sheet1!$A:$I,9,0)","v":"0.00"},null,"缺考"]
[4141,"5452270504122","兰金凤","327独山县人民医院分院","04医务人员",{"$f":"VLOOKUP(B4143,[1]Sheet1!$A:$I,8,0)","v":"0.00"},{"$f":"VLOOKUP(B4143,[1]Sheet1!$A:$I,9,0)","v":"0.00"},{"$f":"VLOOKUP(B4143,[2]少数民族加分!$C$1:$E$65536,3,FALSE)","v":2},"缺考"]
[4142,"5452270504130","周文淑","327独山县人民医院分院","04医务人员",{"$f":"VLOOKUP(B4144,[1]Sheet1!$A:$I,8,0)","v":"0.00"},{"$f":"VLOOKUP(B4144,[1]Sheet1!$A:$I,9,0)","v":"0.00"},null,"缺考"]
[4143,"1152270600202","冯欣鑫","327独山县人民医院分院","05工作人员",{"$f":"VLOOKUP(B4145,[1]Sheet1!$A:$I,8,0)","v":"94.00"},{"$f":"VLOOKUP(B4145,[1]Sheet1!$A:$I,9,0)","v":"112.00"},null,{"v":206,"d":"206.00"}]
[4144,"1152270501420","贾开进","327独山县人民医院分院","05工作人员",{"$f":"VLOOKUP(B4146,[1]Sheet1!$A:$I,8,0)","v":"88.00"},{"$f":"VLOOKUP(B4146,[1]Sheet1!$A:$I,9,0)","v":"105.00"},null,{"v":193,"d":"193.00"}]
[4145,"1152270600917","郑蓉","327独山县人民医院分院","05工作人员",{"$f":"VLOOKUP(B4147,[1]Sheet1!$A:$I,8,0)","v":"85.50"},{"$f":"VLOOKUP(B4147,[1]Sheet1!$A:$I,9,0)","v":"103.50"},{"$f":"VLOOKUP(B4147,[2]少数民族加分!$C$1:$E$65536,3,FALSE)","v":2},{"v":191,"d":"191.00"}]
[4146,"1152270600102","罗芳霖","327独山县人民医院分院","05工作人员",{"$f":"VLOOKUP(B4148,[1]Sheet1!$A:$I,8,0)","v":"84.00"},{"$f":"VLOOKUP(B4148,[1]Sheet1!$A:$I,9,0)","v":"103.50"},{"$f":"VLOOKUP(B4148,[2]少数民族加分!$C$1:$E$65536,3,FALSE)","v":2},{"v":189.5,"d":"189.50"}]
[4147,"1152270501702","龙勇攀","327独山县人民医院分院","05工作人员",{"$f":"VLOOKUP(B4149,[1]Sheet1!$A:$I,8,0)","v":"92.50"},{"$f":"VLOOKUP(B4149,[1]Sheet1!$A:$I,9,0)","v":"94.00"},{"$f":"VLOOKUP(B4149,[2]少数民族加分!$C$1:$E$65536,3,FALSE)","v":2},{"v":188.5,"d":"188.50"}]
[4148,"1152270500302","黎莉","327独山县人民医院分院","05工作人员",{"$f":"VLOOKUP(B4150,[1]Sheet1!$A:$I,8,0)","v":"86.50"},{"$f":"VLOOKUP(B4150,[1]Sheet1!$A:$I,9,0)","v":"99.00"},{"$f":"VLOOKUP(B4150,[2]少数民族加分!$C$1:$E$65536,3,FALSE)","v":2},{"v":187.5,"d":"187.50"}]
[4149,"1152270501815","陈余财","327独山县人民医院分院","05工作人员",{"$f":"VLOOKUP(B4151,[1]Sheet1!$A:$I,8,0)","v":"81.00"},{"$f":"VLOOKUP(B4151,[1]Sheet1!$A:$I,9,0)","v":"102.50"},null,{"v":183.5,"d":"183.50"}]
[4150,"1152270602002","吴迪","327独山县人民医院分院","05工作人员",{"$f":"VLOOKUP(B4152,[1]Sheet1!$A:$I,8,0)","v":"87.50"},{"$f":"VLOOKUP(B4152,[1]Sheet1!$A:$I,9,0)","v":"89.00"},null,{"v":176.5,"d":"176.50"}]
[4151,"1152270600719","曾运然","327独山县人民医院分院","05工作人员",{"$f":"VLOOKUP(B4153,[1]Sheet1!$A:$I,8,0)","v":"85.50"},{"$f":"VLOOKUP(B4153,[1]Sheet1!$A:$I,9,0)","v":"86.00"},{"$f":"VLOOKUP(B4153,[2]少数民族加分!$C$1:$E$65536,3,FALSE)","v":2},{"v":173.5,"d":"173.50"}]
[4152,"1152270601318","朱梅","327独山县人民医院分院","05工作人员",{"$f":"VLOOKUP(B4154,[1]Sheet1!$A:$I,8,0)","v":"85.00"},{"$f":"VLOOKUP(B4154,[1]Sheet1!$A:$I,9,0)","v":"86.00"},{"$f":"VLOOKUP(B4154,[2]少数民族加分!$C$1:$E$65536,3,FALSE)","v":2},{"v":173,"d":"173.00"}]
[4153,"1152270602107","李世婷","327独山县人民医院分院","05工作人员",{"$f":"VLOOKUP(B4155,[1]Sheet1!$A:$I,8,0)","v":"77.00"},{"$f":"VLOOKUP(B4155,[1]Sheet1!$A:$I,9,0)","v":"92.00"},{"$f":"VLOOKUP(B4155,[2]少数民族加分!$C$1:$E$65536,3,FALSE)","v":2},{"v":171,"d":"171.00"}]
[4155,"1152270602022","潘玉举","327独山县人民医院分院","05工作人员",{"$f":"VLOOKUP(B4156,[1]Sheet1!$A:$I,8,0)","v":"88.50"},{"$f":"VLOOKUP(B4156,[1]Sheet1!$A:$I,9,0)","v":"79.00"},{"$f":"VLOOKUP(B4156,[2]少数民族加分!$C$1:$E$65536,3,FALSE)","v":2},{"v":169.5,"d":"169.50"}]
[4154,"1152270602128","李光政","327独山县人民医院分院","05工作人员",{"$f":"VLOOKUP(B4157,[1]Sheet1!$A:$I,8,0)","v":"96.50"},{"$f":"VLOOKUP(B4157,[1]Sheet1!$A:$I,9,0)","v":"72.00"},null,{"v":168.5,"d":"168.50"}]
[4157,"1152270500826","杨巍","327独山县人民医院分院","05工作人员",{"$f":"VLOOKUP(B4158,[1]Sheet1!$A:$I,8,0)","v":"82.00"},{"$f":"VLOOKUP(B4158,[1]Sheet1!$A:$I,9,0)","v":"84.50"},{"$f":"VLOOKUP(B4158,[2]少数民族加分!$C$1:$E$65536,3,FALSE)","v":2},{"v":168.5,"d":"168.50"}]
[4158,"1152270601622","吴启尚","327独山县人民医院分院","05工作人员",{"$f":"VLOOKUP(B4159,[1]Sheet1!$A:$I,8,0)","v":"81.50"},{"$f":"VLOOKUP(B4159,[1]Sheet1!$A:$I,9,0)","v":"84.50"},{"$f":"VLOOKUP(B4159,[2]少数民族加分!$C$1:$E$65536,3,FALSE)","v":2},{"v":168,"d":"168.00"}]
[4156,"1152270600915","张俊","327独山县人民医院分院","05工作人员",{"$f":"VLOOKUP(B4160,[1]Sheet1!$A:$I,8,0)","v":"83.00"},{"$f":"VLOOKUP(B4160,[1]Sheet1!$A:$I,9,0)","v":"84.50"},null,{"v":167.5,"d":"167.50"}]
[4161,"1152270501619","李方俊","327独山县人民医院分院","05工作人员",{"$f":"VLOOKUP(B4161,[1]Sheet1!$A:$I,8,0)","v":"77.50"},{"$f":"VLOOKUP(B4161,[1]Sheet1!$A:$I,9,0)","v":"87.50"},{"$f":"VLOOKUP(B4161,[2]少数民族加分!$C$1:$E$65536,3,FALSE)","v":2},{"v":167,"d":"167.00"}]
[4159,"1152270602026","程昌文","327独山县人民医院分院","05工作人员",{"$f":"VLOOKUP(B4162,[1]Sheet1!$A:$I,8,0)","v":"85.00"},{"$f":"VLOOKUP(B4162,[1]Sheet1!$A:$I,9,0)","v":"81.00"},null,{"v":166,"d":"166.00"}]
[4162,"1152270600418","范金丽","327独山县人民医院分院","05工作人员",{"$f":"VLOOKUP(B4163,[1]Sheet1!$A:$I,8,0)","v":"92.00"},{"$f":"VLOOKUP(B4163,[1]Sheet1!$A:$I,9,0)","v":"72.00"},{"$f":"VLOOKUP(B4163,[2]少数民族加分!$C$1:$E$65536,3,FALSE)","v":2},{"v":166,"d":"166.00"}]
[4160,"1152270600118","龚永梅","327独山县人民医院分院","05工作人员",{"$f":"VLOOKUP(B4164,[1]Sheet1!$A:$I,8,0)","v":"80.50"},{"$f":"VLOOKUP(B4164,[1]Sheet1!$A:$I,9,0)","v":"85.00"},null,{"v":165.5,"d":"165.50"}]
[4163,"1152270601526","安逸枫","327独山县人民医院分院","05工作人员",{"$f":"VLOOKUP(B4165,[1]Sheet1!$A:$I,8,0)","v":"83.50"},{"$f":"VLOOKUP(B4165,[1]Sheet1!$A:$I,9,0)","v":"79.50"},{"$f":"VLOOKUP(B4165,[2]少数民族加分!$C$1:$E$65536,3,FALSE)","v":2},{"v":165,"d":"165.00"}]
[4164,"1152270600615","白娅","327独山县人民医院分院","05工作人员",{"$f":"VLOOKUP(B4166,[1]Sheet1!$A:$I,8,0)","v":"96.50"},{"$f":"VLOOKUP(B4166,[1]Sheet1!$A:$I,9,0)","v":"65.50"},{"$f":"VLOOKUP(B4166,[2]少数民族加分!$C$1:$E$65536,3,FALSE)","v":2},{"v":164,"d":"164.00"}]
[4165,"1152270600717","文佳欢","327独山县人民医院分院","05工作人员",{"$f":"VLOOKUP(B4167,[1]Sheet1!$A:$I,8,0)","v":"73.00"},{"$f":"VLOOKUP(B4167,[1]Sheet1!$A:$I,9,0)","v":"88.50"},{"$f":"VLOOKUP(B4167,[2]少数民族加分!$C$1:$E$65536,3,FALSE)","v":2},{"v":163.5,"d":"163.50"}]
[4166,"1152270600127","罗思惠","327独山县人民医院分院","05工作人员",{"$f":"VLOOKUP(B4168,[1]Sheet1!$A:$I,8,0)","v":"75.50"},{"$f":"VLOOKUP(B4168,[1]Sheet1!$A:$I,9,0)","v":"85.50"},{"$f":"VLOOKUP(B4168,[2]少数民族加分!$C$1:$E$65536,3,FALSE)","v":2},{"v":163,"d":"163.00"}]
[4167,"1152270600429","杨飞飞","327独山县人民医院分院","05工作人员",{"$f":"VLOOKUP(B4169,[1]Sheet1!$A:$I,8,0)","v":"77.00"},{"$f":"VLOOKUP(B4169,[1]Sheet1!$A:$I,9,0)","v":"84.00"},null,{"v":161,"d":"161.00"}]
[4168,"1152270500325","郭富强","327独山县人民医院分院","05工作人员",{"$f":"VLOOKUP(B4170,[1]Sheet1!$A:$I,8,0)","v":"80.00"},{"$f":"VLOOKUP(B4170,[1]Sheet1!$A:$I,9,0)","v":"80.50"},null,{"v":160.5,"d":"160.50"}]
[4171,"1152270600623","姜守政","327独山县人民医院分院","05工作人员",{"$f":"VLOOKUP(B4171,[1]Sheet1!$A:$I,8,0)","v":"67.00"},{"$f":"VLOOKUP(B4171,[1]Sheet1!$A:$I,9,0)","v":"91.00"},{"$f":"VLOOKUP(B4171,[2]少数民族加分!$C$1:$E$65536,3,FALSE)","v":2},{"v":160,"d":"160.00"}]
[4169,"1152270500913","李太生","327独山县人民医院分院","05工作人员",{"$f":"VLOOKUP(B4172,[1]Sheet1!$A:$I,8,0)","v":"85.50"},{"$f":"VLOOKUP(B4172,[1]Sheet1!$A:$I,9,0)","v":"74.00"},null,{"v":159.5,"d":"159.50"}]
[4170,"1152270501620","陈实","327独山县人民医院分院","05工作人员",{"$f":"VLOOKUP(B4173,[1]Sheet1!$A:$I,8,0)","v":"83.50"},{"$f":"VLOOKUP(B4173,[1]Sheet1!$A:$I,9,0)","v":"76.00"},null,{"v":159.5,"d":"159.50"}]
[4173,"1152270600210","莫燕绒","327独山县人民医院分院","05工作人员",{"$f":"VLOOKUP(B4174,[1]Sheet1!$A:$I,8,0)","v":"74.50"},{"$f":"VLOOKUP(B4174,[1]Sheet1!$A:$I,9,0)","v":"81.50"},{"$f":"VLOOKUP(B4174,[2]少数民族加分!$C$1:$E$65536,3,FALSE)","v":2},{"v":158,"d":"158.00"}]
[4174,"1152270601311","粟明珊","327独山县人民医院分院","05工作人员",{"$f":"VLOOKUP(B4175,[1]Sheet1!$A:$I,8,0)","v":"66.00"},{"$f":"VLOOKUP(B4175,[1]Sheet1!$A:$I,9,0)","v":"90.00"},{"$f":"VLOOKUP(B4175,[2]少数民族加分!$C$1:$E$65536,3,FALSE)","v":2},{"v":158,"d":"158.00"}]
[4172,"1152270600209","何值刚","327独山县人民医院分院","05工作人员",{"$f":"VLOOKUP(B4176,[1]Sheet1!$A:$I,8,0)","v":"77.00"},{"$f":"VLOOKUP(B4176,[1]Sheet1!$A:$I,9,0)","v":"80.00"},null,{"v":157,"d":"157.00"}]
[4176,"1152270600201","谭慧东","327独山县人民医院分院","05工作人员",{"$f":"VLOOKUP(B4177,[1]Sheet1!$A:$I,8,0)","v":"79.50"},{"$f":"VLOOKUP(B4177,[1]Sheet1!$A:$I,9,0)","v":"75.00"},{"$f":"VLOOKUP(B4177,[2]少数民族加分!$C$1:$E$65536,3,FALSE)","v":2},{"v":156.5,"d":"156.50"}]
[4178,"1152270500817","蒙婷","327独山县人民医院分院","05工作人员",{"$f":"VLOOKUP(B4178,[1]Sheet1!$A:$I,8,0)","v":"71.00"},{"$f":"VLOOKUP(B4178,[1]Sheet1!$A:$I,9,0)","v":"83.00"},{"$f":"VLOOKUP(B4178,[2]少数民族加分!$C$1:$E$65536,3,FALSE)","v":2},{"v":156,"d":"156.00"}]
[4179,"1152270602121","邓明茗","327独山县人民医院分院","05工作人员",{"$f":"VLOOKUP(B4179,[1]Sheet1!$A:$I,8,0)","v":"78.00"},{"$f":"VLOOKUP(B4179,[1]Sheet1!$A:$I,9,0)","v":"76.00"},{"$f":"VLOOKUP(B4179,[2]少数民族加分!$C$1:$E$65536,3,FALSE)","v":2},{"v":156,"d":"156.00"}]
[4180,"1152270601602","周燕堤","327独山县人民医院分院","05工作人员",{"$f":"VLOOKUP(B4180,[1]Sheet1!$A:$I,8,0)","v":"75.00"},{"$f":"VLOOKUP(B4180,[1]Sheet1!$A:$I,9,0)","v":"78.50"},{"$f":"VLOOKUP(B4180,[2]少数民族加分!$C$1:$E$65536,3,FALSE)","v":2},{"v":155.5,"d":"155.50"}]
[4182,"1152270600808","罗孔宏","327独山县人民医院分院","05工作人员",{"$f":"VLOOKUP(B4181,[1]Sheet1!$A:$I,8,0)","v":"81.00"},{"$f":"VLOOKUP(B4181,[1]Sheet1!$A:$I,9,0)","v":"72.50"},{"$f":"VLOOKUP(B4181,[2]少数民族加分!$C$1:$E$65536,3,FALSE)","v":2},{"v":155.5,"d":"155.50"}]
[4175,"1152270600123","李双凤","327独山县人民医院分院","05工作人员",{"$f":"VLOOKUP(B4182,[1]Sheet1!$A:$I,8,0)","v":"76.50"},{"$f":"VLOOKUP(B4182,[1]Sheet1!$A:$I,9,0)","v":"78.50"},null,{"v":155,"d":"155.00"}]
[4177,"1152270500104","李荣燕","327独山县人民医院分院","05工作人员",{"$f":"VLOOKUP(B4183,[1]Sheet1!$A:$I,8,0)","v":"76.00"},{"$f":"VLOOKUP(B4183,[1]Sheet1!$A:$I,9,0)","v":"78.50"},null,{"v":154.5,"d":"154.50"}]
[4183,"1152270601423","张如芬","327独山县人民医院分院","05工作人员",{"$f":"VLOOKUP(B4184,[1]Sheet1!$A:$I,8,0)","v":"75.00"},{"$f":"VLOOKUP(B4184,[1]Sheet1!$A:$I,9,0)","v":"77.00"},{"$f":"VLOOKUP(B4184,[2]少数民族加分!$C$1:$E$65536,3,FALSE)","v":2},{"v":154,"d":"154.00"}]
[4181,"1152270501030","石凯","327独山县人民医院分院","05工作人员",{"$f":"VLOOKUP(B4185,[1]Sheet1!$A:$I,8,0)","v":"84.50"},{"$f":"VLOOKUP(B4185,[1]Sheet1!$A:$I,9,0)","v":"69.00"},null,{"v":153.5,"d":"153.50"}]
[4184,"1152270601718","石忠琴","327独山县人民医院分院","05工作人员",{"$f":"VLOOKUP(B4186,[1]Sheet1!$A:$I,8,0)","v":"80.50"},{"$f":"VLOOKUP(B4186,[1]Sheet1!$A:$I,9,0)","v":"70.50"},{"$f":"VLOOKUP(B4186,[2]少数民族加分!$C$1:$E$65536,3,FALSE)","v":2},{"v":153,"d":"153.00"}]
[4186,"1152270501504","陈琦","327独山县人民医院分院","05工作人员",{"$f":"VLOOKUP(B4187,[1]Sheet1!$A:$I,8,0)","v":"72.50"},{"$f":"VLOOKUP(B4187,[1]Sheet1!$A:$I,9,0)","v":"77.50"},{"$f":"VLOOKUP(B4187,[2]少数民族加分!$C$1:$E$65536,3,FALSE)","v":2},{"v":152,"d":"152.00"}]
[4187,"1152270601904","张灵秀","327独山县人民医院分院","05工作人员",{"$f":"VLOOKUP(B4188,[1]Sheet1!$A:$I,8,0)","v":"71.00"},{"$f":"VLOOKUP(B4188,[1]Sheet1!$A:$I,9,0)","v":"78.50"},{"$f":"VLOOKUP(B4188,[2]少数民族加分!$C$1:$E$65536,3,FALSE)","v":2},{"v":151.5,"d":"151.50"}]
[4188,"1152270500426","饶权","327独山县人民医院分院","05工作人员",{"$f":"VLOOKUP(B4189,[1]Sheet1!$A:$I,8,0)","v":"64.00"},{"$f":"VLOOKUP(B4189,[1]Sheet1!$A:$I,9,0)","v":"85.00"},{"$f":"VLOOKUP(B4189,[2]少数民族加分!$C$1:$E$65536,3,FALSE)","v":2},{"v":151,"d":"151.00"}]
[4185,"1152270601113","詹建","327独山县人民医院分院","05工作人员",{"$f":"VLOOKUP(B4190,[1]Sheet1!$A:$I,8,0)","v":"67.50"},{"$f":"VLOOKUP(B4190,[1]Sheet1!$A:$I,9,0)","v":"83.00"},null,{"v":150.5,"d":"150.50"}]
[4190,"1152270600406","莫振业","327独山县人民医院分院","05工作人员",{"$f":"VLOOKUP(B4191,[1]Sheet1!$A:$I,8,0)","v":"75.00"},{"$f":"VLOOKUP(B4191,[1]Sheet1!$A:$I,9,0)","v":"73.00"},{"$f":"VLOOKUP(B4191,[2]少数民族加分!$C$1:$E$65536,3,FALSE)","v":2},{"v":150,"d":"150.00"}]
[4191,"1152270600722","袁萍","327独山县人民医院分院","05工作人员",{"$f":"VLOOKUP(B4192,[1]Sheet1!$A:$I,8,0)","v":"61.50"},{"$f":"VLOOKUP(B4192,[1]Sheet1!$A:$I,9,0)","v":"86.00"},{"$f":"VLOOKUP(B4192,[2]少数民族加分!$C$1:$E$65536,3,FALSE)","v":2},{"v":149.5,"d":"149.50"}]
[4189,"1152270600704","杨俊","327独山县人民医院分院","05工作人员",{"$f":"VLOOKUP(B4193,[1]Sheet1!$A:$I,8,0)","v":"71.50"},{"$f":"VLOOKUP(B4193,[1]Sheet1!$A:$I,9,0)","v":"77.50"},null,{"v":149,"d":"149.00"}]
[4192,"1152270600524","王天响","327独山县人民医院分院","05工作人员",{"$f":"VLOOKUP(B4194,[1]Sheet1!$A:$I,8,0)","v":"69.00"},{"$f":"VLOOKUP(B4194,[1]Sheet1!$A:$I,9,0)","v":"78.00"},{"$f":"VLOOKUP(B4194,[2]少数民族加分!$C$1:$E$65536,3,FALSE)","v":2},{"v":149,"d":"149.00"}]
[4193,"1152270600116","吴德滨","327独山县人民医院分院","05工作人员",{"$f":"VLOOKUP(B4195,[1]Sheet1!$A:$I,8,0)","v":"73.00"},{"$f":"VLOOKUP(B4195,[1]Sheet1!$A:$I,9,0)","v":"73.50"},{"$f":"VLOOKUP(B4195,[2]少数民族加分!$C$1:$E$65536,3,FALSE)","v":2},{"v":148.5,"d":"148.50"}]
[4198,"1152270500527","陈鑫","327独山县人民医院分院","05工作人员",{"$f":"VLOOKUP(B4196,[1]Sheet1!$A:$I,8,0)","v":"67.00"},{"$f":"VLOOKUP(B4196,[1]Sheet1!$A:$I,9,0)","v":"78.00"},{"$f":"VLOOKUP(B4196,[2]少数民族加分!$C$1:$E$65536,3,FALSE)","v":2},{"v":147,"d":"147.00"}]
[4194,"1152270602325","陈洪洪","327独山县人民医院分院","05工作人员",{"$f":"VLOOKUP(B4197,[1]Sheet1!$A:$I,8,0)","v":"78.50"},{"$f":"VLOOKUP(B4197,[1]Sheet1!$A:$I,9,0)","v":"68.00"},null,{"v":146.5,"d":"146.50"}]
[4195,"1152270601206","王力","327独山县人民医院分院","05工作人员",{"$f":"VLOOKUP(B4198,[1]Sheet1!$A:$I,8,0)","v":"78.50"},{"$f":"VLOOKUP(B4198,[1]Sheet1!$A:$I,9,0)","v":"67.50"},null,{"v":146,"d":"146.00"}]
[4196,"1152270602215","王力","327独山县人民医院分院","05工作人员",{"$f":"VLOOKUP(B4199,[1]Sheet1!$A:$I,8,0)","v":"70.00"},{"$f":"VLOOKUP(B4199,[1]Sheet1!$A:$I,9,0)","v":"76.00"},null,{"v":146,"d":"146.00"}]
[4197,"1152270501324","刘康健","327独山县人民医院分院","05工作人员",{"$f":"VLOOKUP(B4200,[1]Sheet1!$A:$I,8,0)","v":"66.00"},{"$f":"VLOOKUP(B4200,[1]Sheet1!$A:$I,9,0)","v":"80.00"},null,{"v":146,"d":"146.00"}]
[4200,"1152270500401","马梦引","327独山县人民医院分院","05工作人员",{"$f":"VLOOKUP(B4201,[1]Sheet1!$A:$I,8,0)","v":"69.00"},{"$f":"VLOOKUP(B4201,[1]Sheet1!$A:$I,9,0)","v":"75.00"},{"$f":"VLOOKUP(B4201,[2]少数民族加分!$C$1:$E$65536,3,FALSE)","v":2},{"v":146,"d":"146.00"}]
[4199,"1152270600712","杨圣海","327独山县人民医院分院","05工作人员",{"$f":"VLOOKUP(B4202,[1]Sheet1!$A:$I,8,0)","v":"66.00"},{"$f":"VLOOKUP(B4202,[1]Sheet1!$A:$I,9,0)","v":"79.00"},null,{"v":145,"d":"145.00"}]
[4202,"1152270600729","肖古松","327独山县人民医院分院","05工作人员",{"$f":"VLOOKUP(B4203,[1]Sheet1!$A:$I,8,0)","v":"68.00"},{"$f":"VLOOKUP(B4203,[1]Sheet1!$A:$I,9,0)","v":"75.00"},{"$f":"VLOOKUP(B4203,[2]少数民族加分!$C$1:$E$65536,3,FALSE)","v":2},{"v":145,"d":"145.00"}]
[4201,"1152270602303","潘丽","327独山县人民医院分院","05工作人员",{"$f":"VLOOKUP(B4204,[1]Sheet1!$A:$I,8,0)","v":"79.00"},{"$f":"VLOOKUP(B4204,[1]Sheet1!$A:$I,9,0)","v":"65.00"},null,{"v":144,"d":"144.00"}]
[4203,"1152270601702","潘启文","327独山县人民医院分院","05工作人员",{"$f":"VLOOKUP(B4205,[1]Sheet1!$A:$I,8,0)","v":"63.00"},{"$f":"VLOOKUP(B4205,[1]Sheet1!$A:$I,9,0)","v":"78.00"},{"$f":"VLOOKUP(B4205,[2]少数民族加分!$C$1:$E$65536,3,FALSE)","v":2},{"v":143,"d":"143.00"}]
[4204,"1152270601316","韦秀瑛","327独山县人民医院分院","05工作人员",{"$f":"VLOOKUP(B4206,[1]Sheet1!$A:$I,8,0)","v":"68.50"},{"$f":"VLOOKUP(B4206,[1]Sheet1!$A:$I,9,0)","v":"71.00"},{"$f":"VLOOKUP(B4206,[2]少数民族加分!$C$1:$E$65536,3,FALSE)","v":2},{"v":141.5,"d":"141.50"}]
[4206,"1152270500612","潘承欢","327独山县人民医院分院","05工作人员",{"$f":"VLOOKUP(B4207,[1]Sheet1!$A:$I,8,0)","v":"77.00"},{"$f":"VLOOKUP(B4207,[1]Sheet1!$A:$I,9,0)","v":"60.00"},{"$f":"VLOOKUP(B4207,[2]少数民族加分!$C$1:$E$65536,3,FALSE)","v":2},{"v":139,"d":"139.00"}]
[4207,"1152270501320","黎昌敏","327独山县人民医院分院","05工作人员",{"$f":"VLOOKUP(B4208,[1]Sheet1!$A:$I,8,0)","v":"54.00"},{"$f":"VLOOKUP(B4208,[1]Sheet1!$A:$I,9,0)","v":"83.00"},{"$f":"VLOOKUP(B4208,[2]少数民族加分!$C$1:$E$65536,3,FALSE)","v":2},{"v":139,"d":"139.00"}]
[4208,"1152270501524","杨兰兰","327独山县人民医院分院","05工作人员",{"$f":"VLOOKUP(B4209,[1]Sheet1!$A:$I,8,0)","v":"67.00"},{"$f":"VLOOKUP(B4209,[1]Sheet1!$A:$I,9,0)","v":"70.00"},{"$f":"VLOOKUP(B4209,[2]少数民族加分!$C$1:$E$65536,3,FALSE)","v":2},{"v":139,"d":"139.00"}]
[4205,"1152270500827","龙中琴","327独山县人民医院分院","05工作人员",{"$f":"VLOOKUP(B4210,[1]Sheet1!$A:$I,8,0)","v":"75.00"},{"$f":"VLOOKUP(B4210,[1]Sheet1!$A:$I,9,0)","v":"63.00"},null,{"v":138,"d":"138.00"}]
[4211,"1152270602008","潘洪翠","327独山县人民医院分院","05工作人员",{"$f":"VLOOKUP(B4211,[1]Sheet1!$A:$I,8,0)","v":"58.50"},{"$f":"VLOOKUP(B4211,[1]Sheet1!$A:$I,9,0)","v":"77.00"},{"$f":"VLOOKUP(B4211,[2]少数民族加分!$C$1:$E$65536,3,FALSE)","v":2},{"v":137.5,"d":"137.50"}]
[4209,"1152270601802","徐兆友","327独山县人民医院分院","05工作人员",{"$f":"VLOOKUP(B4212,[1]Sheet1!$A:$I,8,0)","v":"69.00"},{"$f":"VLOOKUP(B4212,[1]Sheet1!$A:$I,9,0)","v":"68.00"},null,{"v":137,"d":"137.00"}]
[4212,"1152270601614","张天瑞","327独山县人民医院分院","05工作人员",{"$f":"VLOOKUP(B4213,[1]Sheet1!$A:$I,8,0)","v":"77.00"},{"$f":"VLOOKUP(B4213,[1]Sheet1!$A:$I,9,0)","v":"57.50"},{"$f":"VLOOKUP(B4213,[2]少数民族加分!$C$1:$E$65536,3,FALSE)","v":2},{"v":136.5,"d":"136.50"}]
[4214,"1152270600117","张荣江","327独山县人民医院分院","05工作人员",{"$f":"VLOOKUP(B4214,[1]Sheet1!$A:$I,8,0)","v":"62.50"},{"$f":"VLOOKUP(B4214,[1]Sheet1!$A:$I,9,0)","v":"72.00"},{"$f":"VLOOKUP(B4214,[2]少数民族加分!$C$1:$E$65536,3,FALSE)","v":2},{"v":136.5,"d":"136.50"}]
[4210,"1152270600315","李晓韵","327独山县人民医院分院","05工作人员",{"$f":"VLOOKUP(B4215,[1]Sheet1!$A:$I,8,0)","v":"60.00"},{"$f":"VLOOKUP(B4215,[1]Sheet1!$A:$I,9,0)","v":"76.00"},null,{"v":136,"d":"136.00"}]
[4215,"1152270600604","吴才琴","327独山县人民医院分院","05工作人员",{"$f":"VLOOKUP(B4216,[1]Sheet1!$A:$I,8,0)","v":"51.00"},{"$f":"VLOOKUP(B4216,[1]Sheet1!$A:$I,9,0)","v":"83.00"},{"$f":"VLOOKUP(B4216,[2]少数民族加分!$C$1:$E$65536,3,FALSE)","v":2},{"v":136,"d":"136.00"}]
[4216,"1152270600816","杨昌萍","327独山县人民医院分院","05工作人员",{"$f":"VLOOKUP(B4217,[1]Sheet1!$A:$I,8,0)","v":"62.50"},{"$f":"VLOOKUP(B4217,[1]Sheet1!$A:$I,9,0)","v":"71.00"},{"$f":"VLOOKUP(B4217,[2]少数民族加分!$C$1:$E$65536,3,FALSE)","v":2},{"v":135.5,"d":"135.50"}]
[4217,"1152270500623","毛正丽","327独山县人民医院分院","05工作人员",{"$f":"VLOOKUP(B4218,[1]Sheet1!$A:$I,8,0)","v":"68.00"},{"$f":"VLOOKUP(B4218,[1]Sheet1!$A:$I,9,0)","v":"65.00"},{"$f":"VLOOKUP(B4218,[2]少数民族加分!$C$1:$E$65536,3,FALSE)","v":2},{"v":135,"d":"135.00"}]
[4218,"1152270600820","王仕丹","327独山县人民医院分院","05工作人员",{"$f":"VLOOKUP(B4219,[1]Sheet1!$A:$I,8,0)","v":"64.00"},{"$f":"VLOOKUP(B4219,[1]Sheet1!$A:$I,9,0)","v":"69.00"},{"$f":"VLOOKUP(B4219,[2]少数民族加分!$C$1:$E$65536,3,FALSE)","v":2},{"v":135,"d":"135.00"}]
[4213,"1152270601923","陈回","327独山县人民医院分院","05工作人员",{"$f":"VLOOKUP(B4220,[1]Sheet1!$A:$I,8,0)","v":"71.00"},{"$f":"VLOOKUP(B4220,[1]Sheet1!$A:$I,9,0)","v":"63.50"},null,{"v":134.5,"d":"134.50"}]
[4219,"1152270500225","陈文燕","327独山县人民医院分院","05工作人员",{"$f":"VLOOKUP(B4221,[1]Sheet1!$A:$I,8,0)","v":"56.50"},{"$f":"VLOOKUP(B4221,[1]Sheet1!$A:$I,9,0)","v":"76.00"},{"$f":"VLOOKUP(B4221,[2]少数民族加分!$C$1:$E$65536,3,FALSE)","v":2},{"v":134.5,"d":"134.50"}]
[4220,"1152270601901","吴学灵","327独山县人民医院分院","05工作人员",{"$f":"VLOOKUP(B4222,[1]Sheet1!$A:$I,8,0)","v":"71.50"},{"$f":"VLOOKUP(B4222,[1]Sheet1!$A:$I,9,0)","v":"60.50"},{"$f":"VLOOKUP(B4222,[2]少数民族加分!$C$1:$E$65536,3,FALSE)","v":2},{"v":134,"d":"134.00"}]
[4221,"1152270501403","陈传娜","327独山县人民医院分院","05工作人员",{"$f":"VLOOKUP(B4223,[1]Sheet1!$A:$I,8,0)","v":"66.50"},{"$f":"VLOOKUP(B4223,[1]Sheet1!$A:$I,9,0)","v":"65.00"},{"$f":"VLOOKUP(B4223,[2]少数民族加分!$C$1:$E$65536,3,FALSE)","v":2},{"v":133.5,"d":"133.50"}]
[4222,"1152270600603","玉曼育","327独山县人民医院分院","05工作人员",{"$f":"VLOOKUP(B4224,[1]Sheet1!$A:$I,8,0)","v":"69.50"},{"$f":"VLOOKUP(B4224,[1]Sheet1!$A:$I,9,0)","v":"62.00"},{"$f":"VLOOKUP(B4224,[2]少数民族加分!$C$1:$E$65536,3,FALSE)","v":2},{"v":133.5,"d":"133.50"}]
[4223,"1152270601710","吴世祯","327独山县人民医院分院","05工作人员",{"$f":"VLOOKUP(B4225,[1]Sheet1!$A:$I,8,0)","v":"64.00"},{"$f":"VLOOKUP(B4225,[1]Sheet1!$A:$I,9,0)","v":"67.00"},{"$f":"VLOOKUP(B4225,[2]少数民族加分!$C$1:$E$65536,3,FALSE)","v":2},{"v":133,"d":"133.00"}]
[4225,"1152270601829","王廷建","327独山县人民医院分院","05工作人员",{"$f":"VLOOKUP(B4226,[1]Sheet1!$A:$I,8,0)","v":"69.50"},{"$f":"VLOOKUP(B4226,[1]Sheet1!$A:$I,9,0)","v":"59.00"},{"$f":"VLOOKUP(B4226,[2]少数民族加分!$C$1:$E$65536,3,FALSE)","v":2},{"v":130.5,"d":"130.50"}]
[4224,"1152270500815","翟丽璇","327独山县人民医院分院","05工作人员",{"$f":"VLOOKUP(B4227,[1]Sheet1!$A:$I,8,0)","v":"55.00"},{"$f":"VLOOKUP(B4227,[1]Sheet1!$A:$I,9,0)","v":"75.00"},null,{"v":130,"d":"130.00"}]
[4226,"1152270501020","蒙圣璇","327独山县人民医院分院","05工作人员",{"$f":"VLOOKUP(B4228,[1]Sheet1!$A:$I,8,0)","v":"59.50"},{"$f":"VLOOKUP(B4228,[1]Sheet1!$A:$I,9,0)","v":"67.00"},{"$f":"VLOOKUP(B4228,[2]少数民族加分!$C$1:$E$65536,3,FALSE)","v":2},{"v":128.5,"d":"128.50"}]
[4227,"1152270602330","李海江","327独山县人民医院分院","05工作人员",{"$f":"VLOOKUP(B4229,[1]Sheet1!$A:$I,8,0)","v":"69.00"},{"$f":"VLOOKUP(B4229,[1]Sheet1!$A:$I,9,0)","v":"57.00"},{"$f":"VLOOKUP(B4229,[2]少数民族加分!$C$1:$E$65536,3,FALSE)","v":2},{"v":128,"d":"128.00"}]
[4228,"1152270500513","吴章成","327独山县人民医院分院","05工作人员",{"$f":"VLOOKUP(B4230,[1]Sheet1!$A:$I,8,0)","v":"75.50"},{"$f":"VLOOKUP(B4230,[1]Sheet1!$A:$I,9,0)","v":"49.50"},{"$f":"VLOOKUP(B4230,[2]少数民族加分!$C$1:$E$65536,3,FALSE)","v":2},{"v":127,"d":"127.00"}]
[4229,"1152270501207","吴兴艳","327独山县人民医院分院","05工作人员",{"$f":"VLOOKUP(B4231,[1]Sheet1!$A:$I,8,0)","v":"61.50"},{"$f":"VLOOKUP(B4231,[1]Sheet1!$A:$I,9,0)","v":"63.00"},{"$f":"VLOOKUP(B4231,[2]少数民族加分!$C$1:$E$65536,3,FALSE)","v":2},{"v":126.5,"d":"126.50"}]
[4231,"1152270600521","田永群","327独山县人民医院分院","05工作人员",{"$f":"VLOOKUP(B4232,[1]Sheet1!$A:$I,8,0)","v":"57.00"},{"$f":"VLOOKUP(B4232,[1]Sheet1!$A:$I,9,0)","v":"67.00"},{"$f":"VLOOKUP(B4232,[2]少数民族加分!$C$1:$E$65536,3,FALSE)","v":2},{"v":126,"d":"126.00"}]
[4232,"1152270501713","莫瑾试","327独山县人民医院分院","05工作人员",{"$f":"VLOOKUP(B4233,[1]Sheet1!$A:$I,8,0)","v":"58.00"},{"$f":"VLOOKUP(B4233,[1]Sheet1!$A:$I,9,0)","v":"65.00"},{"$f":"VLOOKUP(B4233,[2]少数民族加分!$C$1:$E$65536,3,FALSE)","v":2},{"v":125,"d":"125.00"}]
[4230,"1152270501206","杨红玉","327独山县人民医院分院","05工作人员",{"$f":"VLOOKUP(B4234,[1]Sheet1!$A:$I,8,0)","v":"53.00"},{"$f":"VLOOKUP(B4234,[1]Sheet1!$A:$I,9,0)","v":"71.00"},null,{"v":124,"d":"124.00"}]
[4233,"1152270601120","黄永燕","327独山县人民医院分院","05工作人员",{"$f":"VLOOKUP(B4235,[1]Sheet1!$A:$I,8,0)","v":"53.50"},{"$f":"VLOOKUP(B4235,[1]Sheet1!$A:$I,9,0)","v":"68.00"},{"$f":"VLOOKUP(B4235,[2]少数民族加分!$C$1:$E$65536,3,FALSE)","v":2},{"v":123.5,"d":"123.50"}]
[4234,"1152270600614","莫臣力","327独山县人民医院分院","05工作人员",{"$f":"VLOOKUP(B4236,[1]Sheet1!$A:$I,8,0)","v":"65.00"},{"$f":"VLOOKUP(B4236,[1]Sheet1!$A:$I,9,0)","v":"56.00"},{"$f":"VLOOKUP(B4236,[2]少数民族加分!$C$1:$E$65536,3,FALSE)","v":2},{"v":123,"d":"123.00"}]
[4236,"1152270501806","杨小春","327独山县人民医院分院","05工作人员",{"$f":"VLOOKUP(B4237,[1]Sheet1!$A:$I,8,0)","v":"58.00"},{"$f":"VLOOKUP(B4237,[1]Sheet1!$A:$I,9,0)","v":"62.00"},{"$f":"VLOOKUP(B4237,[2]少数民族加分!$C$1:$E$65536,3,FALSE)","v":2},{"v":122,"d":"122.00"}]
[4237,"1152270500428","钦嗣焯","327独山县人民医院分院","05工作人员",{"$f":"VLOOKUP(B4238,[1]Sheet1!$A:$I,8,0)","v":"58.50"},{"$f":"VLOOKUP(B4238,[1]Sheet1!$A:$I,9,0)","v":"61.00"},{"$f":"VLOOKUP(B4238,[2]少数民族加分!$C$1:$E$65536,3,FALSE)","v":2},{"v":121.5,"d":"121.50"}]
[4239,"1152270601429","张焕烛","327独山县人民医院分院","05工作人员",{"$f":"VLOOKUP(B4239,[1]Sheet1!$A:$I,8,0)","v":"53.50"},{"$f":"VLOOKUP(B4239,[1]Sheet1!$A:$I,9,0)","v":"66.00"},{"$f":"VLOOKUP(B4239,[2]少数民族加分!$C$1:$E$65536,3,FALSE)","v":2},{"v":121.5,"d":"121.50"}]
[4240,"1152270601724","罗镜","327独山县人民医院分院","05工作人员",{"$f":"VLOOKUP(B4240,[1]Sheet1!$A:$I,8,0)","v":"51.50"},{"$f":"VLOOKUP(B4240,[1]Sheet1!$A:$I,9,0)","v":"68.00"},{"$f":"VLOOKUP(B4240,[2]少数民族加分!$C$1:$E$65536,3,FALSE)","v":2},{"v":121.5,"d":"121.50"}]
[4235,"1152270500206","邓琴","327独山县人民医院分院","05工作人员",{"$f":"VLOOKUP(B4241,[1]Sheet1!$A:$I,8,0)","v":"60.00"},{"$f":"VLOOKUP(B4241,[1]Sheet1!$A:$I,9,0)","v":"61.00"},null,{"v":121,"d":"121.00"}]
[4241,"1152270501119","潘林梅","327独山县人民医院分院","05工作人员",{"$f":"VLOOKUP(B4242,[1]Sheet1!$A:$I,8,0)","v":"50.00"},{"$f":"VLOOKUP(B4242,[1]Sheet1!$A:$I,9,0)","v":"68.00"},{"$f":"VLOOKUP(B4242,[2]少数民族加分!$C$1:$E$65536,3,FALSE)","v":2},{"v":120,"d":"120.00"}]
[4238,"1152270600318","赵礼玉","327独山县人民医院分院","05工作人员",{"$f":"VLOOKUP(B4243,[1]Sheet1!$A:$I,8,0)","v":"64.50"},{"$f":"VLOOKUP(B4243,[1]Sheet1!$A:$I,9,0)","v":"55.00"},null,{"v":119.5,"d":"119.50"}]
[4243,"1152270500609","万天林","327独山县人民医院分院","05工作人员",{"$f":"VLOOKUP(B4244,[1]Sheet1!$A:$I,8,0)","v":"61.50"},{"$f":"VLOOKUP(B4244,[1]Sheet1!$A:$I,9,0)","v":"55.00"},{"$f":"VLOOKUP(B4244,[2]少数民族加分!$C$1:$E$65536,3,FALSE)","v":2},{"v":118.5,"d":"118.50"}]
[4242,"1152270501722","董永慧","327独山县人民医院分院","05工作人员",{"$f":"VLOOKUP(B4245,[1]Sheet1!$A:$I,8,0)","v":"64.00"},{"$f":"VLOOKUP(B4245,[1]Sheet1!$A:$I,9,0)","v":"53.00"},null,{"v":117,"d":"117.00"}]
[4244,"1152270602025","罗朝冰","327独山县人民医院分院","05工作人员",{"$f":"VLOOKUP(B4246,[1]Sheet1!$A:$I,8,0)","v":"61.50"},{"$f":"VLOOKUP(B4246,[1]Sheet1!$A:$I,9,0)","v":"49.00"},{"$f":"VLOOKUP(B4246,[2]少数民族加分!$C$1:$E$65536,3,FALSE)","v":2},{"v":112.5,"d":"112.50"}]
[4245,"1152270600803","唐大昌","327独山县人民医院分院","05工作人员",{"$f":"VLOOKUP(B4247,[1]Sheet1!$A:$I,8,0)","v":"55.50"},{"$f":"VLOOKUP(B4247,[1]Sheet1!$A:$I,9,0)","v":"53.00"},null,{"v":108.5,"d":"108.50"}]
[4246,"1152270501214","韦永兵","327独山县人民医院分院","05工作人员",{"$f":"VLOOKUP(B4248,[1]Sheet1!$A:$I,8,0)","v":"51.50"},{"$f":"VLOOKUP(B4248,[1]Sheet1!$A:$I,9,0)","v":"52.00"},{"$f":"VLOOKUP(B4248,[2]少数民族加分!$C$1:$E$65536,3,FALSE)","v":2},{"v":105.5,"d":"105.50"}]
[4247,"1152270501725","马系飞","327独山县人民医院分院","05工作人员",{"$f":"VLOOKUP(B4249,[1]Sheet1!$A:$I,8,0)","v":"63.50"},{"$f":"VLOOKUP(B4249,[1]Sheet1!$A:$I,9,0)","v":"38.00"},{"$f":"VLOOKUP(B4249,[2]少数民族加分!$C$1:$E$65536,3,FALSE)","v":2},{"v":103.5,"d":"103.50"}]
[4248,"1152270601103","陆昌勇","327独山县人民医院分院","05工作人员",{"$f":"VLOOKUP(B4250,[1]Sheet1!$A:$I,8,0)","v":"51.00"},{"$f":"VLOOKUP(B4250,[1]Sheet1!$A:$I,9,0)","v":"45.00"},{"$f":"VLOOKUP(B4250,[2]少数民族加分!$C$1:$E$65536,3,FALSE)","v":2},{"v":98,"d":"98.00"}]
[4249,"1152270602204","黎荣欢","327独山县人民医院分院","05工作人员",{"$f":"VLOOKUP(B4251,[1]Sheet1!$A:$I,8,0)","v":"55.00"},{"$f":"VLOOKUP(B4251,[1]Sheet1!$A:$I,9,0)","v":"35.00"},{"$f":"VLOOKUP(B4251,[2]少数民族加分!$C$1:$E$65536,3,FALSE)","v":2},{"v":92,"d":"92.00"}]
[4250,"1152270500126","石井丽","327独山县人民医院分院","05工作人员",{"$f":"VLOOKUP(B4252,[1]Sheet1!$A:$I,8,0)","v":"46.50"},{"$f":"VLOOKUP(B4252,[1]Sheet1!$A:$I,9,0)","v":"41.00"},null,{"v":87.5,"d":"87.50"}]
[4251,"1152270601519","黄楠","327独山县人民医院分院","05工作人员",{"$f":"VLOOKUP(B4253,[1]Sheet1!$A:$I,8,0)","v":"0.00"},{"$f":"VLOOKUP(B4253,[1]Sheet1!$A:$I,9,0)","v":"0.00"},null,"缺考"]
[4252,"1152270601527","朱林配","327独山县人民医院分院","05工作人员",{"$f":"VLOOKUP(B4254,[1]Sheet1!$A:$I,8,0)","v":"0.00"},{"$f":"VLOOKUP(B4254,[1]Sheet1!$A:$I,9,0)","v":"0.00"},{"$f":"VLOOKUP(B4254,[2]少数民族加分!$C$1:$E$65536,3,FALSE)","v":2},"缺考"]
[4253,"1152270601805","龙庆录","327独山县人民医院分院","05工作人员",{"$f":"VLOOKUP(B4255,[1]Sheet1!$A:$I,8,0)","v":"0.00"},{"$f":"VLOOKUP(B4255,[1]Sheet1!$A:$I,9,0)","v":"0.00"},{"$f":"VLOOKUP(B4255,[2]少数民族加分!$C$1:$E$65536,3,FALSE)","v":2},"缺考"]
[4254,"1152270602023","龙安翥","327独山县人民医院分院","05工作人员",{"$f":"VLOOKUP(B4256,[1]Sheet1!$A:$I,8,0)","v":"0.00"},{"$f":"VLOOKUP(B4256,[1]Sheet1!$A:$I,9,0)","v":"0.00"},{"$f":"VLOOKUP(B4256,[2]少数民族加分!$C$1:$E$65536,3,FALSE)","v":2},"缺考"]
[4255,"1152270602308","欧阳明昕","327独山县人民医院分院","05工作人员",{"$f":"VLOOKUP(B4257,[1]Sheet1!$A:$I,8,0)","v":"0.00"},{"$f":"VLOOKUP(B4257,[1]Sheet1!$A:$I,9,0)","v":"0.00"},{"$f":"VLOOKUP(B4257,[2]少数民族加分!$C$1:$E$65536,3,FALSE)","v":2},"缺考"]
[4256,"1152270500420","李泰文","327独山县人民医院分院","05工作人员",{"$f":"VLOOKUP(B4258,[1]Sheet1!$A:$I,8,0)","v":"0.00"},{"$f":"VLOOKUP(B4258,[1]Sheet1!$A:$I,9,0)","v":"0.00"},null,"缺考"]
[4257,"1152270500625","杨霞","327独山县人民医院分院","05工作人员",{"$f":"VLOOKUP(B4259,[1]Sheet1!$A:$I,8,0)","v":"0.00"},{"$f":"VLOOKUP(B4259,[1]Sheet1!$A:$I,9,0)","v":"0.00"},{"$f":"VLOOKUP(B4259,[2]少数民族加分!$C$1:$E$65536,3,FALSE)","v":2},"缺考"]
[4258,"1152270500701","冉秀兰","327独山县人民医院分院","05工作人员",{"$f":"VLOOKUP(B4260,[1]Sheet1!$A:$I,8,0)","v":"0.00"},{"$f":"VLOOKUP(B4260,[1]Sheet1!$A:$I,9,0)","v":"0.00"},{"$f":"VLOOKUP(B4260,[2]少数民族加分!$C$1:$E$65536,3,FALSE)","v":2},"缺考"]
[4259,"1152270500715","任煜程","327独山县人民医院分院","05工作人员",{"$f":"VLOOKUP(B4261,[1]Sheet1!$A:$I,8,0)","v":"0.00"},{"$f":"VLOOKUP(B4261,[1]Sheet1!$A:$I,9,0)","v":"0.00"},null,"缺考"]
[4260,"1152270501113","王肖","327独山县人民医院分院","05工作人员",{"$f":"VLOOKUP(B4262,[1]Sheet1!$A:$I,8,0)","v":"0.00"},{"$f":"VLOOKUP(B4262,[1]Sheet1!$A:$I,9,0)","v":"0.00"},null,"缺考"]
[4261,"1152270501126","吴秀爽","327独山县人民医院分院","05工作人员",{"$f":"VLOOKUP(B4263,[1]Sheet1!$A:$I,8,0)","v":"0.00"},{"$f":"VLOOKUP(B4263,[1]Sheet1!$A:$I,9,0)","v":"0.00"},{"$f":"VLOOKUP(B4263,[2]少数民族加分!$C$1:$E$65536,3,FALSE)","v":2},"缺考"]
[4262,"1152270600217","雷永兰","327独山县人民医院分院","05工作人员",{"$f":"VLOOKUP(B4264,[1]Sheet1!$A:$I,8,0)","v":"0.00"},{"$f":"VLOOKUP(B4264,[1]Sheet1!$A:$I,9,0)","v":"0.00"},{"$f":"VLOOKUP(B4264,[2]少数民族加分!$C$1:$E$65536,3,FALSE)","v":2},"缺考"]
[4263,"1152270600501","蒙伍朵","327独山县人民医院分院","05工作人员",{"$f":"VLOOKUP(B4265,[1]Sheet1!$A:$I,8,0)","v":"0.00"},{"$f":"VLOOKUP(B4265,[1]Sheet1!$A:$I,9,0)","v":"0.00"},{"$f":"VLOOKUP(B4265,[2]少数民族加分!$C$1:$E$65536,3,FALSE)","v":2},"缺考"]
[4264,"1152270600510","陈蕾","327独山县人民医院分院","05工作人员",{"$f":"VLOOKUP(B4266,[1]Sheet1!$A:$I,8,0)","v":"0.00"},{"$f":"VLOOKUP(B4266,[1]Sheet1!$A:$I,9,0)","v":"0.00"},{"$f":"VLOOKUP(B4266,[2]少数民族加分!$C$1:$E$65536,3,FALSE)","v":2},"缺考"]
[4265,"1152270600708","徐冬琼","327独山县人民医院分院","05工作人员",{"$f":"VLOOKUP(B4267,[1]Sheet1!$A:$I,8,0)","v":"0.00"},{"$f":"VLOOKUP(B4267,[1]Sheet1!$A:$I,9,0)","v":"0.00"},null,"缺考"]
[4266,"1152270601002","袁兴艳","327独山县人民医院分院","05工作人员",{"$f":"VLOOKUP(B4268,[1]Sheet1!$A:$I,8,0)","v":"0.00"},{"$f":"VLOOKUP(B4268,[1]Sheet1!$A:$I,9,0)","v":"0.00"},null,"缺考"]
[4267,"1152270601008","贺仕仙","327独山县人民医院分院","05工作人员",{"$f":"VLOOKUP(B4269,[1]Sheet1!$A:$I,8,0)","v":"0.00"},{"$f":"VLOOKUP(B4269,[1]Sheet1!$A:$I,9,0)","v":"0.00"},{"$f":"VLOOKUP(B4269,[2]少数民族加分!$C$1:$E$65536,3,FALSE)","v":2},"缺考"]
[4268,"1152270601107","陈起辉","327独山县人民医院分院","05工作人员",{"$f":"VLOOKUP(B4270,[1]Sheet1!$A:$I,8,0)","v":"0.00"},{"$f":"VLOOKUP(B4270,[1]Sheet1!$A:$I,9,0)","v":"0.00"},{"$f":"VLOOKUP(B4270,[2]少数民族加分!$C$1:$E$65536,3,FALSE)","v":2},"缺考"]
[4269,"1152270601126","石佳","327独山县人民医院分院","05工作人员",{"$f":"VLOOKUP(B4271,[1]Sheet1!$A:$I,8,0)","v":"0.00"},{"$f":"VLOOKUP(B4271,[1]Sheet1!$A:$I,9,0)","v":"0.00"},{"$f":"VLOOKUP(B4271,[2]少数民族加分!$C$1:$E$65536,3,FALSE)","v":2},"缺考"]
[4271,"5352270502212","刘艳伟","328独山县中医院","01医务人员",{"$f":"VLOOKUP(B4272,[1]Sheet1!$A:$I,8,0)","v":"98.00"},{"$f":"VLOOKUP(B4272,[1]Sheet1!$A:$I,9,0)","v":"65.90"},{"$f":"VLOOKUP(B4272,[2]少数民族加分!$C$1:$E$65536,3,FALSE)","v":2},{"v":165.9,"d":"165.90"}]
[4270,"5352270502112","何娜","328独山县中医院","01医务人员",{"$f":"VLOOKUP(B4273,[1]Sheet1!$A:$I,8,0)","v":"90.00"},{"$f":"VLOOKUP(B4273,[1]Sheet1!$A:$I,9,0)","v":"75.10"},null,{"v":165.1,"d":"165.10"}]
[4274,"5352270502221","蒙新月","328独山县中医院","01医务人员",{"$f":"VLOOKUP(B4274,[1]Sheet1!$A:$I,8,0)","v":"82.50"},{"$f":"VLOOKUP(B4274,[1]Sheet1!$A:$I,9,0)","v":"69.80"},{"$f":"VLOOKUP(B4274,[2]少数民族加分!$C$1:$E$65536,3,FALSE)","v":2},{"v":154.3,"d":"154.30"}]
[4272,"5352270502207","吴永丽","328独山县中医院","01医务人员",{"$f":"VLOOKUP(B4275,[1]Sheet1!$A:$I,8,0)","v":"94.50"},{"$f":"VLOOKUP(B4275,[1]Sheet1!$A:$I,9,0)","v":"59.40"},null,{"v":153.9,"d":"153.90"}]
[4273,"5352270509213","王焱","328独山县中医院","01医务人员",{"$f":"VLOOKUP(B4276,[1]Sheet1!$A:$I,8,0)","v":"89.00"},{"$f":"VLOOKUP(B4276,[1]Sheet1!$A:$I,9,0)","v":"64.50"},null,{"v":153.5,"d":"153.50"}]
[4277,"5352270502228","黄海松","328独山县中医院","01医务人员",{"$f":"VLOOKUP(B4277,[1]Sheet1!$A:$I,8,0)","v":"88.00"},{"$f":"VLOOKUP(B4277,[1]Sheet1!$A:$I,9,0)","v":"61.10"},{"$f":"VLOOKUP(B4277,[2]少数民族加分!$C$1:$E$65536,3,FALSE)","v":2},{"v":151.1,"d":"151.10"}]
[4275,"5352270502117","田学典","328独山县中医院","01医务人员",{"$f":"VLOOKUP(B4278,[1]Sheet1!$A:$I,8,0)","v":"79.50"},{"$f":"VLOOKUP(B4278,[1]Sheet1!$A:$I,9,0)","v":"70.70"},null,{"v":150.2,"d":"150.20"}]
[4276,"5352270502226","何华娅","328独山县中医院","01医务人员",{"$f":"VLOOKUP(B4279,[1]Sheet1!$A:$I,8,0)","v":"84.50"},{"$f":"VLOOKUP(B4279,[1]Sheet1!$A:$I,9,0)","v":"65.70"},null,{"v":150.2,"d":"150.20"}]
[4278,"5352270502120","王双","328独山县中医院","01医务人员",{"$f":"VLOOKUP(B4280,[1]Sheet1!$A:$I,8,0)","v":"88.50"},{"$f":"VLOOKUP(B4280,[1]Sheet1!$A:$I,9,0)","v":"58.00"},{"$f":"VLOOKUP(B4280,[2]少数民族加分!$C$1:$E$65536,3,FALSE)","v":2},{"v":148.5,"d":"148.50"}]
[4279,"5352270502211","夏和慧","328独山县中医院","01医务人员",{"$f":"VLOOKUP(B4281,[1]Sheet1!$A:$I,8,0)","v":"81.00"},{"$f":"VLOOKUP(B4281,[1]Sheet1!$A:$I,9,0)","v":"58.90"},{"$f":"VLOOKUP(B4281,[2]少数民族加分!$C$1:$E$65536,3,FALSE)","v":2},{"v":141.9,"d":"141.90"}]
[4280,"5352270502119","蒙丽美","328独山县中医院","01医务人员",{"$f":"VLOOKUP(B4282,[1]Sheet1!$A:$I,8,0)","v":"79.50"},{"$f":"VLOOKUP(B4282,[1]Sheet1!$A:$I,9,0)","v":"59.50"},{"$f":"VLOOKUP(B4282,[2]少数民族加分!$C$1:$E$65536,3,FALSE)","v":2},{"v":141,"d":"141.00"}]
[4284,"5352270502216","韦眼","328独山县中医院","01医务人员",{"$f":"VLOOKUP(B4283,[1]Sheet1!$A:$I,8,0)","v":"65.00"},{"$f":"VLOOKUP(B4283,[1]Sheet1!$A:$I,9,0)","v":"70.80"},{"$f":"VLOOKUP(B4283,[2]少数民族加分!$C$1:$E$65536,3,FALSE)","v":2},{"v":137.8,"d":"137.80"}]
[4286,"5352270509209","何金芝","328独山县中医院","01医务人员",{"$f":"VLOOKUP(B4284,[1]Sheet1!$A:$I,8,0)","v":"78.50"},{"$f":"VLOOKUP(B4284,[1]Sheet1!$A:$I,9,0)","v":"56.60"},{"$f":"VLOOKUP(B4284,[2]少数民族加分!$C$1:$E$65536,3,FALSE)","v":2},{"v":137.1,"d":"137.10"}]
[4281,"5352270502218","宫元珊","328独山县中医院","01医务人员",{"$f":"VLOOKUP(B4285,[1]Sheet1!$A:$I,8,0)","v":"75.50"},{"$f":"VLOOKUP(B4285,[1]Sheet1!$A:$I,9,0)","v":"61.30"},null,{"v":136.8,"d":"136.80"}]
[4282,"5352270509220","何梦颖","328独山县中医院","01医务人员",{"$f":"VLOOKUP(B4286,[1]Sheet1!$A:$I,8,0)","v":"77.00"},{"$f":"VLOOKUP(B4286,[1]Sheet1!$A:$I,9,0)","v":"59.00"},null,{"v":136,"d":"136.00"}]
[4283,"5352270509205","石汝曼","328独山县中医院","01医务人员",{"$f":"VLOOKUP(B4287,[1]Sheet1!$A:$I,8,0)","v":"84.50"},{"$f":"VLOOKUP(B4287,[1]Sheet1!$A:$I,9,0)","v":"51.40"},null,{"v":135.9,"d":"135.90"}]
[4285,"5352270502115","谌青青","328独山县中医院","01医务人员",{"$f":"VLOOKUP(B4288,[1]Sheet1!$A:$I,8,0)","v":"86.50"},{"$f":"VLOOKUP(B4288,[1]Sheet1!$A:$I,9,0)","v":"49.10"},null,{"v":135.6,"d":"135.60"}]
[4287,"5352270502225","蒋胜","328独山县中医院","01医务人员",{"$f":"VLOOKUP(B4289,[1]Sheet1!$A:$I,8,0)","v":"77.00"},{"$f":"VLOOKUP(B4289,[1]Sheet1!$A:$I,9,0)","v":"55.90"},{"$f":"VLOOKUP(B4289,[2]少数民族加分!$C$1:$E$65536,3,FALSE)","v":2},{"v":134.9,"d":"134.90"}]
[4288,"5352270502127","韦招娣","328独山县中医院","01医务人员",{"$f":"VLOOKUP(B4290,[1]Sheet1!$A:$I,8,0)","v":"68.50"},{"$f":"VLOOKUP(B4290,[1]Sheet1!$A:$I,9,0)","v":"63.30"},{"$f":"VLOOKUP(B4290,[2]少数民族加分!$C$1:$E$65536,3,FALSE)","v":2},{"v":133.8,"d":"133.80"}]
[4289,"5352270502219","范钦麟","328独山县中医院","01医务人员",{"$f":"VLOOKUP(B4291,[1]Sheet1!$A:$I,8,0)","v":"74.50"},{"$f":"VLOOKUP(B4291,[1]Sheet1!$A:$I,9,0)","v":"56.70"},{"$f":"VLOOKUP(B4291,[2]少数民族加分!$C$1:$E$65536,3,FALSE)","v":2},{"v":133.2,"d":"133.20"}]
[4290,"5352270502102","白玲","328独山县中医院","01医务人员",{"$f":"VLOOKUP(B4292,[1]Sheet1!$A:$I,8,0)","v":"81.50"},{"$f":"VLOOKUP(B4292,[1]Sheet1!$A:$I,9,0)","v":"46.50"},{"$f":"VLOOKUP(B4292,[2]少数民族加分!$C$1:$E$65536,3,FALSE)","v":2},{"v":130,"d":"130.00"}]
[4291,"5352270509201","柏淑煦","328独山县中医院","01医务人员",{"$f":"VLOOKUP(B4293,[1]Sheet1!$A:$I,8,0)","v":"77.00"},{"$f":"VLOOKUP(B4293,[1]Sheet1!$A:$I,9,0)","v":"50.40"},{"$f":"VLOOKUP(B4293,[2]少数民族加分!$C$1:$E$65536,3,FALSE)","v":2},{"v":129.4,"d":"129.40"}]
[4293,"5352270502223","杨微","328独山县中医院","01医务人员",{"$f":"VLOOKUP(B4294,[1]Sheet1!$A:$I,8,0)","v":"71.50"},{"$f":"VLOOKUP(B4294,[1]Sheet1!$A:$I,9,0)","v":"52.30"},{"$f":"VLOOKUP(B4294,[2]少数民族加分!$C$1:$E$65536,3,FALSE)","v":2},{"v":125.8,"d":"125.80"}]
[4294,"5352270502121","胡青","328独山县中医院","01医务人员",{"$f":"VLOOKUP(B4295,[1]Sheet1!$A:$I,8,0)","v":"67.00"},{"$f":"VLOOKUP(B4295,[1]Sheet1!$A:$I,9,0)","v":"56.10"},{"$f":"VLOOKUP(B4295,[2]少数民族加分!$C$1:$E$65536,3,FALSE)","v":2},{"v":125.1,"d":"125.10"}]
[4295,"5352270502126","罗文书","328独山县中医院","01医务人员",{"$f":"VLOOKUP(B4296,[1]Sheet1!$A:$I,8,0)","v":"70.50"},{"$f":"VLOOKUP(B4296,[1]Sheet1!$A:$I,9,0)","v":"52.10"},{"$f":"VLOOKUP(B4296,[2]少数民族加分!$C$1:$E$65536,3,FALSE)","v":2},{"v":124.6,"d":"124.60"}]
[4292,"5352270502128","邹万","328独山县中医院","01医务人员",{"$f":"VLOOKUP(B4297,[1]Sheet1!$A:$I,8,0)","v":"80.00"},{"$f":"VLOOKUP(B4297,[1]Sheet1!$A:$I,9,0)","v":"44.50"},null,{"v":124.5,"d":"124.50"}]
[4296,"5352270509208","莫念丹","328独山县中医院","01医务人员",{"$f":"VLOOKUP(B4298,[1]Sheet1!$A:$I,8,0)","v":"73.00"},{"$f":"VLOOKUP(B4298,[1]Sheet1!$A:$I,9,0)","v":"48.50"},{"$f":"VLOOKUP(B4298,[2]少数民族加分!$C$1:$E$65536,3,FALSE)","v":2},{"v":123.5,"d":"123.50"}]
[4297,"5352270509211","覃育往","328独山县中医院","01医务人员",{"$f":"VLOOKUP(B4299,[1]Sheet1!$A:$I,8,0)","v":"65.50"},{"$f":"VLOOKUP(B4299,[1]Sheet1!$A:$I,9,0)","v":"55.40"},{"$f":"VLOOKUP(B4299,[2]少数民族加分!$C$1:$E$65536,3,FALSE)","v":2},{"v":122.9,"d":"122.90"}]
[4298,"5352270502229","覃家晓","328独山县中医院","01医务人员",{"$f":"VLOOKUP(B4300,[1]Sheet1!$A:$I,8,0)","v":"77.00"},{"$f":"VLOOKUP(B4300,[1]Sheet1!$A:$I,9,0)","v":"43.80"},{"$f":"VLOOKUP(B4300,[2]少数民族加分!$C$1:$E$65536,3,FALSE)","v":2},{"v":122.8,"d":"122.80"}]
[4299,"5352270502201","韦黎明","328独山县中医院","01医务人员",{"$f":"VLOOKUP(B4301,[1]Sheet1!$A:$I,8,0)","v":"67.00"},{"$f":"VLOOKUP(B4301,[1]Sheet1!$A:$I,9,0)","v":"53.40"},{"$f":"VLOOKUP(B4301,[2]少数民族加分!$C$1:$E$65536,3,FALSE)","v":2},{"v":122.4,"d":"122.40"}]
[4300,"5352270509207","罗燕芬","328独山县中医院","01医务人员",{"$f":"VLOOKUP(B4302,[1]Sheet1!$A:$I,8,0)","v":"64.00"},{"$f":"VLOOKUP(B4302,[1]Sheet1!$A:$I,9,0)","v":"56.20"},{"$f":"VLOOKUP(B4302,[2]少数民族加分!$C$1:$E$65536,3,FALSE)","v":2},{"v":122.2,"d":"122.20"}]
[4301,"5352270509202","李维","328独山县中医院","01医务人员",{"$f":"VLOOKUP(B4303,[1]Sheet1!$A:$I,8,0)","v":"66.00"},{"$f":"VLOOKUP(B4303,[1]Sheet1!$A:$I,9,0)","v":"53.40"},{"$f":"VLOOKUP(B4303,[2]少数民族加分!$C$1:$E$65536,3,FALSE)","v":2},{"v":121.4,"d":"121.40"}]
[4302,"5352270509203","龙江燕","328独山县中医院","01医务人员",{"$f":"VLOOKUP(B4304,[1]Sheet1!$A:$I,8,0)","v":"75.00"},{"$f":"VLOOKUP(B4304,[1]Sheet1!$A:$I,9,0)","v":"41.30"},{"$f":"VLOOKUP(B4304,[2]少数民族加分!$C$1:$E$65536,3,FALSE)","v":2},{"v":118.3,"d":"118.30"}]
[4304,"5352270502227","韩景辉","328独山县中医院","01医务人员",{"$f":"VLOOKUP(B4305,[1]Sheet1!$A:$I,8,0)","v":"57.00"},{"$f":"VLOOKUP(B4305,[1]Sheet1!$A:$I,9,0)","v":"57.40"},{"$f":"VLOOKUP(B4305,[2]少数民族加分!$C$1:$E$65536,3,FALSE)","v":2},{"v":116.4,"d":"116.40"}]
[4303,"5352270502103","陈雪梅","328独山县中医院","01医务人员",{"$f":"VLOOKUP(B4306,[1]Sheet1!$A:$I,8,0)","v":"64.00"},{"$f":"VLOOKUP(B4306,[1]Sheet1!$A:$I,9,0)","v":"51.90"},null,{"v":115.9,"d":"115.90"}]
[4305,"5352270502224","韦红双","328独山县中医院","01医务人员",{"$f":"VLOOKUP(B4307,[1]Sheet1!$A:$I,8,0)","v":"60.00"},{"$f":"VLOOKUP(B4307,[1]Sheet1!$A:$I,9,0)","v":"48.10"},{"$f":"VLOOKUP(B4307,[2]少数民族加分!$C$1:$E$65536,3,FALSE)","v":2},{"v":110.1,"d":"110.10"}]
[4306,"5352270502108","蒋廷红","328独山县中医院","01医务人员",{"$f":"VLOOKUP(B4308,[1]Sheet1!$A:$I,8,0)","v":"47.50"},{"$f":"VLOOKUP(B4308,[1]Sheet1!$A:$I,9,0)","v":"57.40"},{"$f":"VLOOKUP(B4308,[2]少数民族加分!$C$1:$E$65536,3,FALSE)","v":2},{"v":106.9,"d":"106.90"}]
[4307,"5352270502222","罗家星","328独山县中医院","01医务人员",{"$f":"VLOOKUP(B4309,[1]Sheet1!$A:$I,8,0)","v":"51.00"},{"$f":"VLOOKUP(B4309,[1]Sheet1!$A:$I,9,0)","v":"50.50"},{"$f":"VLOOKUP(B4309,[2]少数民族加分!$C$1:$E$65536,3,FALSE)","v":2},{"v":103.5,"d":"103.50"}]
[4308,"5352270509204","韦唯","328独山县中医院","01医务人员",{"$f":"VLOOKUP(B4310,[1]Sheet1!$A:$I,8,0)","v":"51.50"},{"$f":"VLOOKUP(B4310,[1]Sheet1!$A:$I,9,0)","v":"49.30"},null,{"v":100.8,"d":"100.80"}]
[4309,"5352270502106","王维刚","328独山县中医院","01医务人员",{"$f":"VLOOKUP(B4311,[1]Sheet1!$A:$I,8,0)","v":"0.00"},{"$f":"VLOOKUP(B4311,[1]Sheet1!$A:$I,9,0)","v":"0.00"},null,"缺考"]
[4310,"5352270502130","莫美全","328独山县中医院","01医务人员",{"$f":"VLOOKUP(B4312,[1]Sheet1!$A:$I,8,0)","v":"0.00"},{"$f":"VLOOKUP(B4312,[1]Sheet1!$A:$I,9,0)","v":"0.00"},{"$f":"VLOOKUP(B4312,[2]少数民族加分!$C$1:$E$65536,3,FALSE)","v":2},"缺考"]
[4311,"5352270502209","王牡丹","328独山县中医院","01医务人员",{"$f":"VLOOKUP(B4313,[1]Sheet1!$A:$I,8,0)","v":"0.00"},{"$f":"VLOOKUP(B4313,[1]Sheet1!$A:$I,9,0)","v":"0.00"},{"$f":"VLOOKUP(B4313,[2]少数民族加分!$C$1:$E$65536,3,FALSE)","v":2},"缺考"]
[4312,"5352270502213","陆丽蓉","328独山县中医院","01医务人员",{"$f":"VLOOKUP(B4314,[1]Sheet1!$A:$I,8,0)","v":"0.00"},{"$f":"VLOOKUP(B4314,[1]Sheet1!$A:$I,9,0)","v":"0.00"},{"$f":"VLOOKUP(B4314,[2]少数民族加分!$C$1:$E$65536,3,FALSE)","v":2},"缺考"]
[4313,"5352270502217","陈迪迪","328独山县中医院","01医务人员",{"$f":"VLOOKUP(B4315,[1]Sheet1!$A:$I,8,0)","v":"0.00"},{"$f":"VLOOKUP(B4315,[1]Sheet1!$A:$I,9,0)","v":"0.00"},null,"缺考"]
[4314,"5352270509210","岑谋颖","328独山县中医院","01医务人员",{"$f":"VLOOKUP(B4316,[1]Sheet1!$A:$I,8,0)","v":"0.00"},{"$f":"VLOOKUP(B4316,[1]Sheet1!$A:$I,9,0)","v":"0.00"},null,"缺考"]
[4315,"5352270509214","朱泽胶","328独山县中医院","01医务人员",{"$f":"VLOOKUP(B4317,[1]Sheet1!$A:$I,8,0)","v":"0.00"},{"$f":"VLOOKUP(B4317,[1]Sheet1!$A:$I,9,0)","v":"0.00"},null,"缺考"]
[4316,"5352270509216","张艳","328独山县中医院","01医务人员",{"$f":"VLOOKUP(B4318,[1]Sheet1!$A:$I,8,0)","v":"0.00"},{"$f":"VLOOKUP(B4318,[1]Sheet1!$A:$I,9,0)","v":"0.00"},null,"缺考"]
[4317,"1152270600214","易守权","328独山县中医院","02工作人员",{"$f":"VLOOKUP(B4319,[1]Sheet1!$A:$I,8,0)","v":"85.00"},{"$f":"VLOOKUP(B4319,[1]Sheet1!$A:$I,9,0)","v":"111.50"},{"$f":"VLOOKUP(B4319,[2]少数民族加分!$C$1:$E$65536,3,FALSE)","v":2},{"v":198.5,"d":"198.50"}]
[4318,"1152270602320","黄麒麟","328独山县中医院","02工作人员",{"$f":"VLOOKUP(B4320,[1]Sheet1!$A:$I,8,0)","v":"89.00"},{"$f":"VLOOKUP(B4320,[1]Sheet1!$A:$I,9,0)","v":"102.00"},{"$f":"VLOOKUP(B4320,[2]少数民族加分!$C$1:$E$65536,3,FALSE)","v":2},{"v":193,"d":"193.00"}]
[4319,"1152270600115","杨凤婷","328独山县中医院","02工作人员",{"$f":"VLOOKUP(B4321,[1]Sheet1!$A:$I,8,0)","v":"91.50"},{"$f":"VLOOKUP(B4321,[1]Sheet1!$A:$I,9,0)","v":"98.00"},null,{"v":189.5,"d":"189.50"}]
[4320,"1152270501313","张艺兰","328独山县中医院","02工作人员",{"$f":"VLOOKUP(B4322,[1]Sheet1!$A:$I,8,0)","v":"83.50"},{"$f":"VLOOKUP(B4322,[1]Sheet1!$A:$I,9,0)","v":"100.00"},{"$f":"VLOOKUP(B4322,[2]少数民族加分!$C$1:$E$65536,3,FALSE)","v":2},{"v":185.5,"d":"185.50"}]
[4321,"1152270500213","杨德琴","328独山县中医院","02工作人员",{"$f":"VLOOKUP(B4323,[1]Sheet1!$A:$I,8,0)","v":"88.50"},{"$f":"VLOOKUP(B4323,[1]Sheet1!$A:$I,9,0)","v":"95.00"},{"$f":"VLOOKUP(B4323,[2]少数民族加分!$C$1:$E$65536,3,FALSE)","v":2},{"v":185.5,"d":"185.50"}]
[4322,"1152270601607","吴娇娇","328独山县中医院","02工作人员",{"$f":"VLOOKUP(B4324,[1]Sheet1!$A:$I,8,0)","v":"89.50"},{"$f":"VLOOKUP(B4324,[1]Sheet1!$A:$I,9,0)","v":"91.00"},{"$f":"VLOOKUP(B4324,[2]少数民族加分!$C$1:$E$65536,3,FALSE)","v":2},{"v":182.5,"d":"182.50"}]
[4324,"1152270501724","杨显会","328独山县中医院","02工作人员",{"$f":"VLOOKUP(B4325,[1]Sheet1!$A:$I,8,0)","v":"101.00"},{"$f":"VLOOKUP(B4325,[1]Sheet1!$A:$I,9,0)","v":"75.50"},{"$f":"VLOOKUP(B4325,[2]少数民族加分!$C$1:$E$65536,3,FALSE)","v":2},{"v":178.5,"d":"178.50"}]
[4323,"1152270602229","周灵玲","328独山县中医院","02工作人员",{"$f":"VLOOKUP(B4326,[1]Sheet1!$A:$I,8,0)","v":"98.50"},{"$f":"VLOOKUP(B4326,[1]Sheet1!$A:$I,9,0)","v":"79.50"},null,{"v":178,"d":"178.00"}]
[4325,"1152270500410","黎黔川","328独山县中医院","02工作人员",{"$f":"VLOOKUP(B4327,[1]Sheet1!$A:$I,8,0)","v":"94.50"},{"$f":"VLOOKUP(B4327,[1]Sheet1!$A:$I,9,0)","v":"80.50"},{"$f":"VLOOKUP(B4327,[2]少数民族加分!$C$1:$E$65536,3,FALSE)","v":2},{"v":177,"d":"177.00"}]
[4326,"1152270500619","赵艳","328独山县中医院","02工作人员",{"$f":"VLOOKUP(B4328,[1]Sheet1!$A:$I,8,0)","v":"81.00"},{"$f":"VLOOKUP(B4328,[1]Sheet1!$A:$I,9,0)","v":"93.00"},null,{"v":174,"d":"174.00"}]
[4327,"1152270601125","龙锦枝","328独山县中医院","02工作人员",{"$f":"VLOOKUP(B4329,[1]Sheet1!$A:$I,8,0)","v":"79.50"},{"$f":"VLOOKUP(B4329,[1]Sheet1!$A:$I,9,0)","v":"91.50"},{"$f":"VLOOKUP(B4329,[2]少数民族加分!$C$1:$E$65536,3,FALSE)","v":2},{"v":173,"d":"173.00"}]
[4328,"1152270601708","罗少几","328独山县中医院","02工作人员",{"$f":"VLOOKUP(B4330,[1]Sheet1!$A:$I,8,0)","v":"79.00"},{"$f":"VLOOKUP(B4330,[1]Sheet1!$A:$I,9,0)","v":"92.00"},{"$f":"VLOOKUP(B4330,[2]少数民族加分!$C$1:$E$65536,3,FALSE)","v":2},{"v":173,"d":"173.00"}]
[4329,"1152270501129","陆江鸿","328独山县中医院","02工作人员",{"$f":"VLOOKUP(B4331,[1]Sheet1!$A:$I,8,0)","v":"74.50"},{"$f":"VLOOKUP(B4331,[1]Sheet1!$A:$I,9,0)","v":"93.50"},{"$f":"VLOOKUP(B4331,[2]少数民族加分!$C$1:$E$65536,3,FALSE)","v":2},{"v":170,"d":"170.00"}]
[4330,"1152270501611","华志兴","328独山县中医院","02工作人员",{"$f":"VLOOKUP(B4332,[1]Sheet1!$A:$I,8,0)","v":"80.00"},{"$f":"VLOOKUP(B4332,[1]Sheet1!$A:$I,9,0)","v":"88.00"},{"$f":"VLOOKUP(B4332,[2]少数民族加分!$C$1:$E$65536,3,FALSE)","v":2},{"v":170,"d":"170.00"}]
[4331,"1152270500526","刘鹏","328独山县中医院","02工作人员",{"$f":"VLOOKUP(B4333,[1]Sheet1!$A:$I,8,0)","v":"78.50"},{"$f":"VLOOKUP(B4333,[1]Sheet1!$A:$I,9,0)","v":"89.00"},{"$f":"VLOOKUP(B4333,[2]少数民族加分!$C$1:$E$65536,3,FALSE)","v":2},{"v":169.5,"d":"169.50"}]
[4332,"1152270500204","胡俊杰","328独山县中医院","02工作人员",{"$f":"VLOOKUP(B4334,[1]Sheet1!$A:$I,8,0)","v":"80.50"},{"$f":"VLOOKUP(B4334,[1]Sheet1!$A:$I,9,0)","v":"87.00"},{"$f":"VLOOKUP(B4334,[2]少数民族加分!$C$1:$E$65536,3,FALSE)","v":2},{"v":169.5,"d":"169.50"}]
[4334,"1152270500105","罗仁燕","328独山县中医院","02工作人员",{"$f":"VLOOKUP(B4335,[1]Sheet1!$A:$I,8,0)","v":"84.50"},{"$f":"VLOOKUP(B4335,[1]Sheet1!$A:$I,9,0)","v":"81.50"},{"$f":"VLOOKUP(B4335,[2]少数民族加分!$C$1:$E$65536,3,FALSE)","v":2},{"v":168,"d":"168.00"}]
[4333,"1152270602316","邓亚","328独山县中医院","02工作人员",{"$f":"VLOOKUP(B4336,[1]Sheet1!$A:$I,8,0)","v":"89.50"},{"$f":"VLOOKUP(B4336,[1]Sheet1!$A:$I,9,0)","v":"77.50"},null,{"v":167,"d":"167.00"}]
[4336,"1152270601112","莫菊芬","328独山县中医院","02工作人员",{"$f":"VLOOKUP(B4337,[1]Sheet1!$A:$I,8,0)","v":"83.00"},{"$f":"VLOOKUP(B4337,[1]Sheet1!$A:$I,9,0)","v":"79.00"},{"$f":"VLOOKUP(B4337,[2]少数民族加分!$C$1:$E$65536,3,FALSE)","v":2},{"v":164,"d":"164.00"}]
[4335,"1152270500322","方官余","328独山县中医院","02工作人员",{"$f":"VLOOKUP(B4338,[1]Sheet1!$A:$I,8,0)","v":"81.00"},{"$f":"VLOOKUP(B4338,[1]Sheet1!$A:$I,9,0)","v":"82.00"},null,{"v":163,"d":"163.00"}]
[4337,"1152270501223","石景平","328独山县中医院","02工作人员",{"$f":"VLOOKUP(B4339,[1]Sheet1!$A:$I,8,0)","v":"73.50"},{"$f":"VLOOKUP(B4339,[1]Sheet1!$A:$I,9,0)","v":"87.00"},{"$f":"VLOOKUP(B4339,[2]少数民族加分!$C$1:$E$65536,3,FALSE)","v":2},{"v":162.5,"d":"162.50"}]
[4339,"1152270501601","明文蒲","328独山县中医院","02工作人员",{"$f":"VLOOKUP(B4340,[1]Sheet1!$A:$I,8,0)","v":"62.00"},{"$f":"VLOOKUP(B4340,[1]Sheet1!$A:$I,9,0)","v":"98.00"},{"$f":"VLOOKUP(B4340,[2]少数民族加分!$C$1:$E$65536,3,FALSE)","v":2},{"v":162,"d":"162.00"}]
[4342,"1152270602017","伍名桂","328独山县中医院","02工作人员",{"$f":"VLOOKUP(B4341,[1]Sheet1!$A:$I,8,0)","v":"66.00"},{"$f":"VLOOKUP(B4341,[1]Sheet1!$A:$I,9,0)","v":"93.00"},{"$f":"VLOOKUP(B4341,[2]少数民族加分!$C$1:$E$65536,3,FALSE)","v":2},{"v":161,"d":"161.00"}]
[4338,"1152270600125","罗小金","328独山县中医院","02工作人员",{"$f":"VLOOKUP(B4342,[1]Sheet1!$A:$I,8,0)","v":"76.50"},{"$f":"VLOOKUP(B4342,[1]Sheet1!$A:$I,9,0)","v":"84.00"},null,{"v":160.5,"d":"160.50"}]
[4340,"1152270501212","张梦蝶","328独山县中医院","02工作人员",{"$f":"VLOOKUP(B4343,[1]Sheet1!$A:$I,8,0)","v":"84.50"},{"$f":"VLOOKUP(B4343,[1]Sheet1!$A:$I,9,0)","v":"74.50"},null,{"v":159,"d":"159.00"}]
[4341,"1152270600105","艾其丹","328独山县中医院","02工作人员",{"$f":"VLOOKUP(B4344,[1]Sheet1!$A:$I,8,0)","v":"71.00"},{"$f":"VLOOKUP(B4344,[1]Sheet1!$A:$I,9,0)","v":"88.00"},null,{"v":159,"d":"159.00"}]
[4343,"1152270500615","何雪","328独山县中医院","02工作人员",{"$f":"VLOOKUP(B4345,[1]Sheet1!$A:$I,8,0)","v":"79.00"},{"$f":"VLOOKUP(B4345,[1]Sheet1!$A:$I,9,0)","v":"79.50"},null,{"v":158.5,"d":"158.50"}]
[4344,"1152270602305","韦万福","328独山县中医院","02工作人员",{"$f":"VLOOKUP(B4346,[1]Sheet1!$A:$I,8,0)","v":"75.00"},{"$f":"VLOOKUP(B4346,[1]Sheet1!$A:$I,9,0)","v":"81.00"},{"$f":"VLOOKUP(B4346,[2]少数民族加分!$C$1:$E$65536,3,FALSE)","v":2},{"v":158,"d":"158.00"}]
[4345,"1152270501229","刘亚红","328独山县中医院","02工作人员",{"$f":"VLOOKUP(B4347,[1]Sheet1!$A:$I,8,0)","v":"76.00"},{"$f":"VLOOKUP(B4347,[1]Sheet1!$A:$I,9,0)","v":"79.50"},{"$f":"VLOOKUP(B4347,[2]少数民族加分!$C$1:$E$65536,3,FALSE)","v":2},{"v":157.5,"d":"157.50"}]
[4346,"1152270500214","王家欢","328独山县中医院","02工作人员",{"$f":"VLOOKUP(B4348,[1]Sheet1!$A:$I,8,0)","v":"75.00"},{"$f":"VLOOKUP(B4348,[1]Sheet1!$A:$I,9,0)","v":"80.50"},{"$f":"VLOOKUP(B4348,[2]少数民族加分!$C$1:$E$65536,3,FALSE)","v":2},{"v":157.5,"d":"157.50"}]
[4347,"1152270500524","黄吉欠","328独山县中医院","02工作人员",{"$f":"VLOOKUP(B4349,[1]Sheet1!$A:$I,8,0)","v":"79.00"},{"$f":"VLOOKUP(B4349,[1]Sheet1!$A:$I,9,0)","v":"76.00"},{"$f":"VLOOKUP(B4349,[2]少数民族加分!$C$1:$E$65536,3,FALSE)","v":2},{"v":157,"d":"157.00"}]
[4348,"1152270501105","姚菲菲","328独山县中医院","02工作人员",{"$f":"VLOOKUP(B4350,[1]Sheet1!$A:$I,8,0)","v":"76.00"},{"$f":"VLOOKUP(B4350,[1]Sheet1!$A:$I,9,0)","v":"79.00"},{"$f":"VLOOKUP(B4350,[2]少数民族加分!$C$1:$E$65536,3,FALSE)","v":2},{"v":157,"d":"157.00"}]
[4349,"1152270601218","黄敏","328独山县中医院","02工作人员",{"$f":"VLOOKUP(B4351,[1]Sheet1!$A:$I,8,0)","v":"59.00"},{"$f":"VLOOKUP(B4351,[1]Sheet1!$A:$I,9,0)","v":"95.00"},{"$f":"VLOOKUP(B4351,[2]少数民族加分!$C$1:$E$65536,3,FALSE)","v":2},{"v":156,"d":"156.00"}]
[4350,"1152270600713","宋承桥","328独山县中医院","02工作人员",{"$f":"VLOOKUP(B4352,[1]Sheet1!$A:$I,8,0)","v":"73.00"},{"$f":"VLOOKUP(B4352,[1]Sheet1!$A:$I,9,0)","v":"80.00"},null,{"v":153,"d":"153.00"}]
[4351,"1152270600426","杨诗娴","328独山县中医院","02工作人员",{"$f":"VLOOKUP(B4353,[1]Sheet1!$A:$I,8,0)","v":"75.00"},{"$f":"VLOOKUP(B4353,[1]Sheet1!$A:$I,9,0)","v":"75.50"},{"$f":"VLOOKUP(B4353,[2]少数民族加分!$C$1:$E$65536,3,FALSE)","v":2},{"v":152.5,"d":"152.50"}]
[4352,"1152270600109","班婷婷","328独山县中医院","02工作人员",{"$f":"VLOOKUP(B4354,[1]Sheet1!$A:$I,8,0)","v":"79.50"},{"$f":"VLOOKUP(B4354,[1]Sheet1!$A:$I,9,0)","v":"70.00"},{"$f":"VLOOKUP(B4354,[2]少数民族加分!$C$1:$E$65536,3,FALSE)","v":2},{"v":151.5,"d":"151.50"}]
[4353,"1152270600911","张井念","328独山县中医院","02工作人员",{"$f":"VLOOKUP(B4355,[1]Sheet1!$A:$I,8,0)","v":"67.00"},{"$f":"VLOOKUP(B4355,[1]Sheet1!$A:$I,9,0)","v":"82.00"},{"$f":"VLOOKUP(B4355,[2]少数民族加分!$C$1:$E$65536,3,FALSE)","v":2},{"v":151,"d":"151.00"}]
[4354,"1152270500616","梁荣倩","328独山县中医院","02工作人员",{"$f":"VLOOKUP(B4356,[1]Sheet1!$A:$I,8,0)","v":"69.00"},{"$f":"VLOOKUP(B4356,[1]Sheet1!$A:$I,9,0)","v":"79.00"},{"$f":"VLOOKUP(B4356,[2]少数民族加分!$C$1:$E$65536,3,FALSE)","v":2},{"v":150,"d":"150.00"}]
[4355,"1152270601419","周稳进","328独山县中医院","02工作人员",{"$f":"VLOOKUP(B4357,[1]Sheet1!$A:$I,8,0)","v":"80.00"},{"$f":"VLOOKUP(B4357,[1]Sheet1!$A:$I,9,0)","v":"66.50"},{"$f":"VLOOKUP(B4357,[2]少数民族加分!$C$1:$E$65536,3,FALSE)","v":2},{"v":148.5,"d":"148.50"}]
[4356,"1152270500112","莫双妮","328独山县中医院","02工作人员",{"$f":"VLOOKUP(B4358,[1]Sheet1!$A:$I,8,0)","v":"75.00"},{"$f":"VLOOKUP(B4358,[1]Sheet1!$A:$I,9,0)","v":"71.50"},{"$f":"VLOOKUP(B4358,[2]少数民族加分!$C$1:$E$65536,3,FALSE)","v":2},{"v":148.5,"d":"148.50"}]
[4358,"1152270601409","杨丹","328独山县中医院","02工作人员",{"$f":"VLOOKUP(B4359,[1]Sheet1!$A:$I,8,0)","v":"76.00"},{"$f":"VLOOKUP(B4359,[1]Sheet1!$A:$I,9,0)","v":"70.00"},{"$f":"VLOOKUP(B4359,[2]少数民族加分!$C$1:$E$65536,3,FALSE)","v":2},{"v":148,"d":"148.00"}]
[4359,"1152270600203","韦远","328独山县中医院","02工作人员",{"$f":"VLOOKUP(B4360,[1]Sheet1!$A:$I,8,0)","v":"62.50"},{"$f":"VLOOKUP(B4360,[1]Sheet1!$A:$I,9,0)","v":"83.00"},{"$f":"VLOOKUP(B4360,[2]少数民族加分!$C$1:$E$65536,3,FALSE)","v":2},{"v":147.5,"d":"147.50"}]
[4357,"1152270601215","徐英","328独山县中医院","02工作人员",{"$f":"VLOOKUP(B4361,[1]Sheet1!$A:$I,8,0)","v":"73.00"},{"$f":"VLOOKUP(B4361,[1]Sheet1!$A:$I,9,0)","v":"73.00"},null,{"v":146,"d":"146.00"}]
[4360,"1152270600128","朱小妹","328独山县中医院","02工作人员",{"$f":"VLOOKUP(B4362,[1]Sheet1!$A:$I,8,0)","v":"80.00"},{"$f":"VLOOKUP(B4362,[1]Sheet1!$A:$I,9,0)","v":"65.00"},null,{"v":145,"d":"145.00"}]
[4362,"1152270500423","杨金荣","328独山县中医院","02工作人员",{"$f":"VLOOKUP(B4363,[1]Sheet1!$A:$I,8,0)","v":"70.00"},{"$f":"VLOOKUP(B4363,[1]Sheet1!$A:$I,9,0)","v":"73.00"},{"$f":"VLOOKUP(B4363,[2]少数民族加分!$C$1:$E$65536,3,FALSE)","v":2},{"v":145,"d":"145.00"}]
[4361,"1152270500604","刘伟","328独山县中医院","02工作人员",{"$f":"VLOOKUP(B4364,[1]Sheet1!$A:$I,8,0)","v":"65.00"},{"$f":"VLOOKUP(B4364,[1]Sheet1!$A:$I,9,0)","v":"79.00"},null,{"v":144,"d":"144.00"}]
[4363,"1152270600710","莫泽毅","328独山县中医院","02工作人员",{"$f":"VLOOKUP(B4365,[1]Sheet1!$A:$I,8,0)","v":"73.50"},{"$f":"VLOOKUP(B4365,[1]Sheet1!$A:$I,9,0)","v":"67.00"},{"$f":"VLOOKUP(B4365,[2]少数民族加分!$C$1:$E$65536,3,FALSE)","v":2},{"v":142.5,"d":"142.50"}]
[4364,"1152270600324","谭雅伦","328独山县中医院","02工作人员",{"$f":"VLOOKUP(B4366,[1]Sheet1!$A:$I,8,0)","v":"74.50"},{"$f":"VLOOKUP(B4366,[1]Sheet1!$A:$I,9,0)","v":"65.50"},{"$f":"VLOOKUP(B4366,[2]少数民族加分!$C$1:$E$65536,3,FALSE)","v":2},{"v":142,"d":"142.00"}]
[4365,"1152270601728","张家霜","328独山县中医院","02工作人员",{"$f":"VLOOKUP(B4367,[1]Sheet1!$A:$I,8,0)","v":"68.50"},{"$f":"VLOOKUP(B4367,[1]Sheet1!$A:$I,9,0)","v":"71.00"},{"$f":"VLOOKUP(B4367,[2]少数民族加分!$C$1:$E$65536,3,FALSE)","v":2},{"v":141.5,"d":"141.50"}]
[4366,"1152270500729","韦开链","328独山县中医院","02工作人员",{"$f":"VLOOKUP(B4368,[1]Sheet1!$A:$I,8,0)","v":"67.50"},{"$f":"VLOOKUP(B4368,[1]Sheet1!$A:$I,9,0)","v":"71.00"},{"$f":"VLOOKUP(B4368,[2]少数民族加分!$C$1:$E$65536,3,FALSE)","v":2},{"v":140.5,"d":"140.50"}]
[4367,"1152270600602","覃鲁买","328独山县中医院","02工作人员",{"$f":"VLOOKUP(B4369,[1]Sheet1!$A:$I,8,0)","v":"68.50"},{"$f":"VLOOKUP(B4369,[1]Sheet1!$A:$I,9,0)","v":"69.00"},{"$f":"VLOOKUP(B4369,[2]少数民族加分!$C$1:$E$65536,3,FALSE)","v":2},{"v":139.5,"d":"139.50"}]
[4368,"1152270600610","金高","328独山县中医院","02工作人员",{"$f":"VLOOKUP(B4370,[1]Sheet1!$A:$I,8,0)","v":"53.50"},{"$f":"VLOOKUP(B4370,[1]Sheet1!$A:$I,9,0)","v":"84.00"},{"$f":"VLOOKUP(B4370,[2]少数民族加分!$C$1:$E$65536,3,FALSE)","v":2},{"v":139.5,"d":"139.50"}]
[4369,"1152270501813","杨通周","328独山县中医院","02工作人员",{"$f":"VLOOKUP(B4371,[1]Sheet1!$A:$I,8,0)","v":"72.50"},{"$f":"VLOOKUP(B4371,[1]Sheet1!$A:$I,9,0)","v":"64.00"},{"$f":"VLOOKUP(B4371,[2]少数民族加分!$C$1:$E$65536,3,FALSE)","v":2},{"v":138.5,"d":"138.50"}]
[4370,"1152270600506","龙大春","328独山县中医院","02工作人员",{"$f":"VLOOKUP(B4372,[1]Sheet1!$A:$I,8,0)","v":"68.50"},{"$f":"VLOOKUP(B4372,[1]Sheet1!$A:$I,9,0)","v":"67.00"},{"$f":"VLOOKUP(B4372,[2]少数民族加分!$C$1:$E$65536,3,FALSE)","v":2},{"v":137.5,"d":"137.50"}]
[4372,"1152270501224","罗应美","328独山县中医院","02工作人员",{"$f":"VLOOKUP(B4373,[1]Sheet1!$A:$I,8,0)","v":"60.50"},{"$f":"VLOOKUP(B4373,[1]Sheet1!$A:$I,9,0)","v":"74.00"},{"$f":"VLOOKUP(B4373,[2]少数民族加分!$C$1:$E$65536,3,FALSE)","v":2},{"v":136.5,"d":"136.50"}]
[4373,"1152270602124","陆倩","328独山县中医院","02工作人员",{"$f":"VLOOKUP(B4374,[1]Sheet1!$A:$I,8,0)","v":"66.50"},{"$f":"VLOOKUP(B4374,[1]Sheet1!$A:$I,9,0)","v":"68.00"},{"$f":"VLOOKUP(B4374,[2]少数民族加分!$C$1:$E$65536,3,FALSE)","v":2},{"v":136.5,"d":"136.50"}]
[4374,"1152270500326","韦围","328独山县中医院","02工作人员",{"$f":"VLOOKUP(B4375,[1]Sheet1!$A:$I,8,0)","v":"56.00"},{"$f":"VLOOKUP(B4375,[1]Sheet1!$A:$I,9,0)","v":"78.00"},{"$f":"VLOOKUP(B4375,[2]少数民族加分!$C$1:$E$65536,3,FALSE)","v":2},{"v":136,"d":"136.00"}]
[4371,"1152270501213","朱锡彪","328独山县中医院","02工作人员",{"$f":"VLOOKUP(B4376,[1]Sheet1!$A:$I,8,0)","v":"62.00"},{"$f":"VLOOKUP(B4376,[1]Sheet1!$A:$I,9,0)","v":"73.00"},null,{"v":135,"d":"135.00"}]
[4375,"1152270501701","莫明云","328独山县中医院","02工作人员",{"$f":"VLOOKUP(B4377,[1]Sheet1!$A:$I,8,0)","v":"72.50"},{"$f":"VLOOKUP(B4377,[1]Sheet1!$A:$I,9,0)","v":"60.00"},{"$f":"VLOOKUP(B4377,[2]少数民族加分!$C$1:$E$65536,3,FALSE)","v":2},{"v":134.5,"d":"134.50"}]
[4376,"1152270500602","吴国维","328独山县中医院","02工作人员",{"$f":"VLOOKUP(B4378,[1]Sheet1!$A:$I,8,0)","v":"69.00"},{"$f":"VLOOKUP(B4378,[1]Sheet1!$A:$I,9,0)","v":"63.00"},{"$f":"VLOOKUP(B4378,[2]少数民族加分!$C$1:$E$65536,3,FALSE)","v":2},{"v":134,"d":"134.00"}]
[4379,"1152270600804","舒爽","328独山县中医院","02工作人员",{"$f":"VLOOKUP(B4379,[1]Sheet1!$A:$I,8,0)","v":"59.50"},{"$f":"VLOOKUP(B4379,[1]Sheet1!$A:$I,9,0)","v":"71.00"},{"$f":"VLOOKUP(B4379,[2]少数民族加分!$C$1:$E$65536,3,FALSE)","v":2},{"v":132.5,"d":"132.50"}]
[4377,"1152270600714","韦世婷","328独山县中医院","02工作人员",{"$f":"VLOOKUP(B4380,[1]Sheet1!$A:$I,8,0)","v":"74.50"},{"$f":"VLOOKUP(B4380,[1]Sheet1!$A:$I,9,0)","v":"57.50"},null,{"v":132,"d":"132.00"}]
[4378,"1152270500804","岑义林","328独山县中医院","02工作人员",{"$f":"VLOOKUP(B4381,[1]Sheet1!$A:$I,8,0)","v":"70.00"},{"$f":"VLOOKUP(B4381,[1]Sheet1!$A:$I,9,0)","v":"61.00"},null,{"v":131,"d":"131.00"}]
[4380,"1152270500328","吴国江","328独山县中医院","02工作人员",{"$f":"VLOOKUP(B4382,[1]Sheet1!$A:$I,8,0)","v":"78.00"},{"$f":"VLOOKUP(B4382,[1]Sheet1!$A:$I,9,0)","v":"50.50"},{"$f":"VLOOKUP(B4382,[2]少数民族加分!$C$1:$E$65536,3,FALSE)","v":2},{"v":130.5,"d":"130.50"}]
[4381,"1152270601111","吴东梅","328独山县中医院","02工作人员",{"$f":"VLOOKUP(B4383,[1]Sheet1!$A:$I,8,0)","v":"63.50"},{"$f":"VLOOKUP(B4383,[1]Sheet1!$A:$I,9,0)","v":"64.00"},{"$f":"VLOOKUP(B4383,[2]少数民族加分!$C$1:$E$65536,3,FALSE)","v":2},{"v":129.5,"d":"129.50"}]
[4382,"1152270600609","陈许","328独山县中医院","02工作人员",{"$f":"VLOOKUP(B4384,[1]Sheet1!$A:$I,8,0)","v":"47.00"},{"$f":"VLOOKUP(B4384,[1]Sheet1!$A:$I,9,0)","v":"80.00"},{"$f":"VLOOKUP(B4384,[2]少数民族加分!$C$1:$E$65536,3,FALSE)","v":2},{"v":129,"d":"129.00"}]
[4383,"1152270600428","王钦菊","328独山县中医院","02工作人员",{"$f":"VLOOKUP(B4385,[1]Sheet1!$A:$I,8,0)","v":"44.00"},{"$f":"VLOOKUP(B4385,[1]Sheet1!$A:$I,9,0)","v":"82.00"},{"$f":"VLOOKUP(B4385,[2]少数民族加分!$C$1:$E$65536,3,FALSE)","v":2},{"v":128,"d":"128.00"}]
[4384,"1152270600702","皮帅","328独山县中医院","02工作人员",{"$f":"VLOOKUP(B4386,[1]Sheet1!$A:$I,8,0)","v":"70.00"},{"$f":"VLOOKUP(B4386,[1]Sheet1!$A:$I,9,0)","v":"54.00"},{"$f":"VLOOKUP(B4386,[2]少数民族加分!$C$1:$E$65536,3,FALSE)","v":2},{"v":126,"d":"126.00"}]
[4385,"1152270501310","郭俊","328独山县中医院","02工作人员",{"$f":"VLOOKUP(B4387,[1]Sheet1!$A:$I,8,0)","v":"57.00"},{"$f":"VLOOKUP(B4387,[1]Sheet1!$A:$I,9,0)","v":"66.00"},null,{"v":123,"d":"123.00"}]
[4386,"1152270501718","陆涛","328独山县中医院","02工作人员",{"$f":"VLOOKUP(B4388,[1]Sheet1!$A:$I,8,0)","v":"60.50"},{"$f":"VLOOKUP(B4388,[1]Sheet1!$A:$I,9,0)","v":"58.00"},{"$f":"VLOOKUP(B4388,[2]少数民族加分!$C$1:$E$65536,3,FALSE)","v":2},{"v":120.5,"d":"120.50"}]
[4387,"1152270600317","杨旭","328独山县中医院","02工作人员",{"$f":"VLOOKUP(B4389,[1]Sheet1!$A:$I,8,0)","v":"50.50"},{"$f":"VLOOKUP(B4389,[1]Sheet1!$A:$I,9,0)","v":"68.00"},{"$f":"VLOOKUP(B4389,[2]少数民族加分!$C$1:$E$65536,3,FALSE)","v":2},{"v":120.5,"d":"120.50"}]
[4388,"1152270500923","岑方龙","328独山县中医院","02工作人员",{"$f":"VLOOKUP(B4390,[1]Sheet1!$A:$I,8,0)","v":"63.00"},{"$f":"VLOOKUP(B4390,[1]Sheet1!$A:$I,9,0)","v":"49.00"},{"$f":"VLOOKUP(B4390,[2]少数民族加分!$C$1:$E$65536,3,FALSE)","v":2},{"v":114,"d":"114.00"}]
[4389,"1152270600107","莫绒","328独山县中医院","02工作人员",{"$f":"VLOOKUP(B4391,[1]Sheet1!$A:$I,8,0)","v":"63.50"},{"$f":"VLOOKUP(B4391,[1]Sheet1!$A:$I,9,0)","v":"45.00"},{"$f":"VLOOKUP(B4391,[2]少数民族加分!$C$1:$E$65536,3,FALSE)","v":2},{"v":110.5,"d":"110.50"}]
[4390,"1152270600620","谭友朋","328独山县中医院","02工作人员",{"$f":"VLOOKUP(B4392,[1]Sheet1!$A:$I,8,0)","v":"41.00"},{"$f":"VLOOKUP(B4392,[1]Sheet1!$A:$I,9,0)","v":"56.00"},null,{"v":97,"d":"97.00"}]
[4391,"1152270500509","唐叶","328独山县中医院","02工作人员",{"$f":"VLOOKUP(B4393,[1]Sheet1!$A:$I,8,0)","v":"0.00"},{"$f":"VLOOKUP(B4393,[1]Sheet1!$A:$I,9,0)","v":"0.00"},{"$f":"VLOOKUP(B4393,[2]少数民族加分!$C$1:$E$65536,3,FALSE)","v":2},"缺考"]
[4392,"1152270500603","王有燕","328独山县中医院","02工作人员",{"$f":"VLOOKUP(B4394,[1]Sheet1!$A:$I,8,0)","v":"0.00"},{"$f":"VLOOKUP(B4394,[1]Sheet1!$A:$I,9,0)","v":"0.00"},{"$f":"VLOOKUP(B4394,[2]少数民族加分!$C$1:$E$65536,3,FALSE)","v":2},"缺考"]
[4393,"1152270501004","胡越光","328独山县中医院","02工作人员",{"$f":"VLOOKUP(B4395,[1]Sheet1!$A:$I,8,0)","v":"0.00"},{"$f":"VLOOKUP(B4395,[1]Sheet1!$A:$I,9,0)","v":"0.00"},{"$f":"VLOOKUP(B4395,[2]少数民族加分!$C$1:$E$65536,3,FALSE)","v":2},"缺考"]
[4394,"1152270501128","代顺青","328独山县中医院","02工作人员",{"$f":"VLOOKUP(B4396,[1]Sheet1!$A:$I,8,0)","v":"0.00"},{"$f":"VLOOKUP(B4396,[1]Sheet1!$A:$I,9,0)","v":"0.00"},{"$f":"VLOOKUP(B4396,[2]少数民族加分!$C$1:$E$65536,3,FALSE)","v":2},"缺考"]
[4395,"1152270501529","顾业志","328独山县中医院","02工作人员",{"$f":"VLOOKUP(B4397,[1]Sheet1!$A:$I,8,0)","v":"0.00"},{"$f":"VLOOKUP(B4397,[1]Sheet1!$A:$I,9,0)","v":"0.00"},{"$f":"VLOOKUP(B4397,[2]少数民族加分!$C$1:$E$65536,3,FALSE)","v":2},"缺考"]
[4396,"1152270501609","韦虎平","328独山县中医院","02工作人员",{"$f":"VLOOKUP(B4398,[1]Sheet1!$A:$I,8,0)","v":"0.00"},{"$f":"VLOOKUP(B4398,[1]Sheet1!$A:$I,9,0)","v":"0.00"},{"$f":"VLOOKUP(B4398,[2]少数民族加分!$C$1:$E$65536,3,FALSE)","v":2},"缺考"]
[4397,"1152270501704","朱世琪","328独山县中医院","02工作人员",{"$f":"VLOOKUP(B4399,[1]Sheet1!$A:$I,8,0)","v":"0.00"},{"$f":"VLOOKUP(B4399,[1]Sheet1!$A:$I,9,0)","v":"0.00"},{"$f":"VLOOKUP(B4399,[2]少数民族加分!$C$1:$E$65536,3,FALSE)","v":2},"缺考"]
[4398,"1152270600301","潘光美","328独山县中医院","02工作人员",{"$f":"VLOOKUP(B4400,[1]Sheet1!$A:$I,8,0)","v":"0.00"},{"$f":"VLOOKUP(B4400,[1]Sheet1!$A:$I,9,0)","v":"0.00"},{"$f":"VLOOKUP(B4400,[2]少数民族加分!$C$1:$E$65536,3,FALSE)","v":2},"缺考"]
[4399,"1152270600414","罗开宏","328独山县中医院","02工作人员",{"$f":"VLOOKUP(B4401,[1]Sheet1!$A:$I,8,0)","v":"0.00"},{"$f":"VLOOKUP(B4401,[1]Sheet1!$A:$I,9,0)","v":"0.00"},{"$f":"VLOOKUP(B4401,[2]少数民族加分!$C$1:$E$65536,3,FALSE)","v":2},"缺考"]
[4400,"1152270600617","罗启欢","328独山县中医院","02工作人员",{"$f":"VLOOKUP(B4402,[1]Sheet1!$A:$I,8,0)","v":"0.00"},{"$f":"VLOOKUP(B4402,[1]Sheet1!$A:$I,9,0)","v":"0.00"},{"$f":"VLOOKUP(B4402,[2]少数民族加分!$C$1:$E$65536,3,FALSE)","v":2},"缺考"]
[4401,"1152270601317","何成林","328独山县中医院","02工作人员",{"$f":"VLOOKUP(B4403,[1]Sheet1!$A:$I,8,0)","v":"0.00"},{"$f":"VLOOKUP(B4403,[1]Sheet1!$A:$I,9,0)","v":"0.00"},null,"缺考"]
[4402,"1152270601714","文守军","328独山县中医院","02工作人员",{"$f":"VLOOKUP(B4404,[1]Sheet1!$A:$I,8,0)","v":"0.00"},{"$f":"VLOOKUP(B4404,[1]Sheet1!$A:$I,9,0)","v":"0.00"},{"$f":"VLOOKUP(B4404,[2]少数民族加分!$C$1:$E$65536,3,FALSE)","v":2},"缺考"]
[4403,"1152270601815","李强","328独山县中医院","02工作人员",{"$f":"VLOOKUP(B4405,[1]Sheet1!$A:$I,8,0)","v":"0.00"},{"$f":"VLOOKUP(B4405,[1]Sheet1!$A:$I,9,0)","v":"0.00"},null,"缺考"]
[4404,"1152270601826","孙文昭","328独山县中医院","02工作人员",{"$f":"VLOOKUP(B4406,[1]Sheet1!$A:$I,8,0)","v":"0.00"},{"$f":"VLOOKUP(B4406,[1]Sheet1!$A:$I,9,0)","v":"0.00"},null,"缺考"]
[4405,"1152270601914","何大刚","328独山县中医院","02工作人员",{"$f":"VLOOKUP(B4407,[1]Sheet1!$A:$I,8,0)","v":"0.00"},{"$f":"VLOOKUP(B4407,[1]Sheet1!$A:$I,9,0)","v":"0.00"},null,"缺考"]
[4406,"1152270601925","王璐","328独山县中医院","02工作人员",{"$f":"VLOOKUP(B4408,[1]Sheet1!$A:$I,8,0)","v":"0.00"},{"$f":"VLOOKUP(B4408,[1]Sheet1!$A:$I,9,0)","v":"0.00"},{"$f":"VLOOKUP(B4408,[2]少数民族加分!$C$1:$E$65536,3,FALSE)","v":2},"缺考"]
[4407,"1152270602414","王海","328独山县中医院","02工作人员",{"$f":"VLOOKUP(B4409,[1]Sheet1!$A:$I,8,0)","v":"0.00"},{"$f":"VLOOKUP(B4409,[1]Sheet1!$A:$I,9,0)","v":"0.00"},{"$f":"VLOOKUP(B4409,[2]少数民族加分!$C$1:$E$65536,3,FALSE)","v":2},"缺考"]
[4408,"5452270503928","梁恒盼","328独山县中医院","03护理人员",{"$f":"VLOOKUP(B4410,[1]Sheet1!$A:$I,8,0)","v":"89.50"},{"$f":"VLOOKUP(B4410,[1]Sheet1!$A:$I,9,0)","v":"76.70"},{"$f":"VLOOKUP(B4410,[2]少数民族加分!$C$1:$E$65536,3,FALSE)","v":2},{"v":168.2,"d":"168.20"}]
[4409,"5452270502504","杨启娅","328独山县中医院","03护理人员",{"$f":"VLOOKUP(B4411,[1]Sheet1!$A:$I,8,0)","v":"81.00"},{"$f":"VLOOKUP(B4411,[1]Sheet1!$A:$I,9,0)","v":"84.30"},{"$f":"VLOOKUP(B4411,[2]少数民族加分!$C$1:$E$65536,3,FALSE)","v":2},{"v":167.3,"d":"167.30"}]
[4410,"5452270503017","罗遵妮","328独山县中医院","03护理人员",{"$f":"VLOOKUP(B4412,[1]Sheet1!$A:$I,8,0)","v":"85.00"},{"$f":"VLOOKUP(B4412,[1]Sheet1!$A:$I,9,0)","v":"78.80"},{"$f":"VLOOKUP(B4412,[2]少数民族加分!$C$1:$E$65536,3,FALSE)","v":2},{"v":165.8,"d":"165.80"}]
[4411,"5452270503816","张淑敏","328独山县中医院","03护理人员",{"$f":"VLOOKUP(B4413,[1]Sheet1!$A:$I,8,0)","v":"88.50"},{"$f":"VLOOKUP(B4413,[1]Sheet1!$A:$I,9,0)","v":"74.30"},null,{"v":162.8,"d":"162.80"}]
[4412,"5452270502905","卢小风","328独山县中医院","03护理人员",{"$f":"VLOOKUP(B4414,[1]Sheet1!$A:$I,8,0)","v":"79.00"},{"$f":"VLOOKUP(B4414,[1]Sheet1!$A:$I,9,0)","v":"82.70"},null,{"v":161.7,"d":"161.70"}]
[4414,"5452270502326","蒙俏琦","328独山县中医院","03护理人员",{"$f":"VLOOKUP(B4415,[1]Sheet1!$A:$I,8,0)","v":"82.50"},{"$f":"VLOOKUP(B4415,[1]Sheet1!$A:$I,9,0)","v":"67.00"},{"$f":"VLOOKUP(B4415,[2]少数民族加分!$C$1:$E$65536,3,FALSE)","v":2},{"v":151.5,"d":"151.50"}]
[4413,"5452270504112","杨文艺","328独山县中医院","03护理人员",{"$f":"VLOOKUP(B4416,[1]Sheet1!$A:$I,8,0)","v":"73.00"},{"$f":"VLOOKUP(B4416,[1]Sheet1!$A:$I,9,0)","v":"78.20"},null,{"v":151.2,"d":"151.20"}]
[4415,"5452270504108","吴文倩","328独山县中医院","03护理人员",{"$f":"VLOOKUP(B4417,[1]Sheet1!$A:$I,8,0)","v":"77.50"},{"$f":"VLOOKUP(B4417,[1]Sheet1!$A:$I,9,0)","v":"71.50"},{"$f":"VLOOKUP(B4417,[2]少数民族加分!$C$1:$E$65536,3,FALSE)","v":2},{"v":151,"d":"151.00"}]
[4416,"5452270502514","莫珂琪","328独山县中医院","03护理人员",{"$f":"VLOOKUP(B4418,[1]Sheet1!$A:$I,8,0)","v":"90.50"},{"$f":"VLOOKUP(B4418,[1]Sheet1!$A:$I,9,0)","v":"57.20"},{"$f":"VLOOKUP(B4418,[2]少数民族加分!$C$1:$E$65536,3,FALSE)","v":2},{"v":149.7,"d":"149.70"}]
[4417,"5452270502712","李时青","328独山县中医院","03护理人员",{"$f":"VLOOKUP(B4419,[1]Sheet1!$A:$I,8,0)","v":"71.50"},{"$f":"VLOOKUP(B4419,[1]Sheet1!$A:$I,9,0)","v":"75.20"},{"$f":"VLOOKUP(B4419,[2]少数民族加分!$C$1:$E$65536,3,FALSE)","v":2},{"v":148.7,"d":"148.70"}]
[4418,"5452270503927","杨佳燕","328独山县中医院","03护理人员",{"$f":"VLOOKUP(B4420,[1]Sheet1!$A:$I,8,0)","v":"70.00"},{"$f":"VLOOKUP(B4420,[1]Sheet1!$A:$I,9,0)","v":"73.70"},{"$f":"VLOOKUP(B4420,[2]少数民族加分!$C$1:$E$65536,3,FALSE)","v":2},{"v":145.7,"d":"145.70"}]
[4419,"5452270502828","吴忠欢","328独山县中医院","03护理人员",{"$f":"VLOOKUP(B4421,[1]Sheet1!$A:$I,8,0)","v":"83.50"},{"$f":"VLOOKUP(B4421,[1]Sheet1!$A:$I,9,0)","v":"60.00"},{"$f":"VLOOKUP(B4421,[2]少数民族加分!$C$1:$E$65536,3,FALSE)","v":2},{"v":145.5,"d":"145.50"}]
[4420,"5452270503819","陆光群","328独山县中医院","03护理人员",{"$f":"VLOOKUP(B4422,[1]Sheet1!$A:$I,8,0)","v":"76.50"},{"$f":"VLOOKUP(B4422,[1]Sheet1!$A:$I,9,0)","v":"65.10"},{"$f":"VLOOKUP(B4422,[2]少数民族加分!$C$1:$E$65536,3,FALSE)","v":2},{"v":143.6,"d":"143.60"}]
[4421,"5452270502811","罗巧敏","328独山县中医院","03护理人员",{"$f":"VLOOKUP(B4423,[1]Sheet1!$A:$I,8,0)","v":"68.50"},{"$f":"VLOOKUP(B4423,[1]Sheet1!$A:$I,9,0)","v":"72.50"},{"$f":"VLOOKUP(B4423,[2]少数民族加分!$C$1:$E$65536,3,FALSE)","v":2},{"v":143,"d":"143.00"}]
[4422,"5452270503008","韦票","328独山县中医院","03护理人员",{"$f":"VLOOKUP(B4424,[1]Sheet1!$A:$I,8,0)","v":"70.50"},{"$f":"VLOOKUP(B4424,[1]Sheet1!$A:$I,9,0)","v":"68.60"},{"$f":"VLOOKUP(B4424,[2]少数民族加分!$C$1:$E$65536,3,FALSE)","v":2},{"v":141.1,"d":"141.10"}]
[4423,"5452270502722","陆龙慧","328独山县中医院","03护理人员",{"$f":"VLOOKUP(B4425,[1]Sheet1!$A:$I,8,0)","v":"77.00"},{"$f":"VLOOKUP(B4425,[1]Sheet1!$A:$I,9,0)","v":"58.20"},null,{"v":135.2,"d":"135.20"}]
[4425,"5452270502604","何竹君","328独山县中医院","03护理人员",{"$f":"VLOOKUP(B4426,[1]Sheet1!$A:$I,8,0)","v":"82.50"},{"$f":"VLOOKUP(B4426,[1]Sheet1!$A:$I,9,0)","v":"50.50"},{"$f":"VLOOKUP(B4426,[2]少数民族加分!$C$1:$E$65536,3,FALSE)","v":2},{"v":135,"d":"135.00"}]
[4424,"5452270504120","莫品颖","328独山县中医院","03护理人员",{"$f":"VLOOKUP(B4427,[1]Sheet1!$A:$I,8,0)","v":"69.50"},{"$f":"VLOOKUP(B4427,[1]Sheet1!$A:$I,9,0)","v":"64.50"},null,{"v":134,"d":"134.00"}]
[4426,"5452270503107","孟超","328独山县中医院","03护理人员",{"$f":"VLOOKUP(B4428,[1]Sheet1!$A:$I,8,0)","v":"65.00"},{"$f":"VLOOKUP(B4428,[1]Sheet1!$A:$I,9,0)","v":"66.10"},{"$f":"VLOOKUP(B4428,[2]少数民族加分!$C$1:$E$65536,3,FALSE)","v":2},{"v":133.1,"d":"133.10"}]
[4427,"5452270502926","韦春俭","328独山县中医院","03护理人员",{"$f":"VLOOKUP(B4429,[1]Sheet1!$A:$I,8,0)","v":"60.00"},{"$f":"VLOOKUP(B4429,[1]Sheet1!$A:$I,9,0)","v":"68.70"},{"$f":"VLOOKUP(B4429,[2]少数民族加分!$C$1:$E$65536,3,FALSE)","v":2},{"v":130.7,"d":"130.70"}]
[4428,"5452270503203","韦顺美","328独山县中医院","03护理人员",{"$f":"VLOOKUP(B4430,[1]Sheet1!$A:$I,8,0)","v":"64.50"},{"$f":"VLOOKUP(B4430,[1]Sheet1!$A:$I,9,0)","v":"60.80"},{"$f":"VLOOKUP(B4430,[2]少数民族加分!$C$1:$E$65536,3,FALSE)","v":2},{"v":127.3,"d":"127.30"}]
[4429,"5452270503421","刘引","328独山县中医院","03护理人员",{"$f":"VLOOKUP(B4431,[1]Sheet1!$A:$I,8,0)","v":"57.50"},{"$f":"VLOOKUP(B4431,[1]Sheet1!$A:$I,9,0)","v":"62.00"},null,{"v":119.5,"d":"119.50"}]
[4430,"5452270502322","韦海燕","328独山县中医院","03护理人员",{"$f":"VLOOKUP(B4432,[1]Sheet1!$A:$I,8,0)","v":"61.00"},{"$f":"VLOOKUP(B4432,[1]Sheet1!$A:$I,9,0)","v":"55.90"},{"$f":"VLOOKUP(B4432,[2]少数民族加分!$C$1:$E$65536,3,FALSE)","v":2},{"v":118.9,"d":"118.90"}]
[4431,"5452270502401","岑华欢","328独山县中医院","03护理人员",{"$f":"VLOOKUP(B4433,[1]Sheet1!$A:$I,8,0)","v":"0.00"},{"$f":"VLOOKUP(B4433,[1]Sheet1!$A:$I,9,0)","v":"0.00"},{"$f":"VLOOKUP(B4433,[2]少数民族加分!$C$1:$E$65536,3,FALSE)","v":2},"缺考"]
[4432,"5452270502502","黎媛媛","328独山县中医院","03护理人员",{"$f":"VLOOKUP(B4434,[1]Sheet1!$A:$I,8,0)","v":"0.00"},{"$f":"VLOOKUP(B4434,[1]Sheet1!$A:$I,9,0)","v":"0.00"},{"$f":"VLOOKUP(B4434,[2]少数民族加分!$C$1:$E$65536,3,FALSE)","v":2},"缺考"]
[4433,"5452270502505","孟开红","328独山县中医院","03护理人员",{"$f":"VLOOKUP(B4435,[1]Sheet1!$A:$I,8,0)","v":"0.00"},{"$f":"VLOOKUP(B4435,[1]Sheet1!$A:$I,9,0)","v":"0.00"},{"$f":"VLOOKUP(B4435,[2]少数民族加分!$C$1:$E$65536,3,FALSE)","v":2},"缺考"]
[4434,"5452270502620","黄倩倩","328独山县中医院","03护理人员",{"$f":"VLOOKUP(B4436,[1]Sheet1!$A:$I,8,0)","v":"0.00"},{"$f":"VLOOKUP(B4436,[1]Sheet1!$A:$I,9,0)","v":"0.00"},{"$f":"VLOOKUP(B4436,[2]少数民族加分!$C$1:$E$65536,3,FALSE)","v":2},"缺考"]
[4435,"5452270502726","张贵花","328独山县中医院","03护理人员",{"$f":"VLOOKUP(B4437,[1]Sheet1!$A:$I,8,0)","v":"0.00"},{"$f":"VLOOKUP(B4437,[1]Sheet1!$A:$I,9,0)","v":"0.00"},{"$f":"VLOOKUP(B4437,[2]少数民族加分!$C$1:$E$65536,3,FALSE)","v":2},"缺考"]
[4436,"5452270503005","李稻","328独山县中医院","03护理人员",{"$f":"VLOOKUP(B4438,[1]Sheet1!$A:$I,8,0)","v":"0.00"},{"$f":"VLOOKUP(B4438,[1]Sheet1!$A:$I,9,0)","v":"0.00"},{"$f":"VLOOKUP(B4438,[2]少数民族加分!$C$1:$E$65536,3,FALSE)","v":2},"缺考"]
[4437,"5452270504017","梁建娜","328独山县中医院","03护理人员",{"$f":"VLOOKUP(B4439,[1]Sheet1!$A:$I,8,0)","v":"0.00"},{"$f":"VLOOKUP(B4439,[1]Sheet1!$A:$I,9,0)","v":"0.00"},{"$f":"VLOOKUP(B4439,[2]少数民族加分!$C$1:$E$65536,3,FALSE)","v":2},"缺考"]
[4438,"5552270504304","龚彦舟","329独山县中医院集团","01医技人员",{"$f":"VLOOKUP(B4440,[1]Sheet1!$A:$I,8,0)","v":"95.50"},{"$f":"VLOOKUP(B4440,[1]Sheet1!$A:$I,9,0)","v":"66.20"},{"$f":"VLOOKUP(B4440,[2]少数民族加分!$C$1:$E$65536,3,FALSE)","v":2},{"v":163.7,"d":"163.70"}]
[4439,"5552270509326","杨睿琳","329独山县中医院集团","01医技人员",{"$f":"VLOOKUP(B4441,[1]Sheet1!$A:$I,8,0)","v":"97.00"},{"$f":"VLOOKUP(B4441,[1]Sheet1!$A:$I,9,0)","v":"62.40"},{"$f":"VLOOKUP(B4441,[2]少数民族加分!$C$1:$E$65536,3,FALSE)","v":2},{"v":161.4,"d":"161.40"}]
[4440,"5552270504309","徐子明","329独山县中医院集团","01医技人员",{"$f":"VLOOKUP(B4442,[1]Sheet1!$A:$I,8,0)","v":"82.50"},{"$f":"VLOOKUP(B4442,[1]Sheet1!$A:$I,9,0)","v":"64.50"},{"$f":"VLOOKUP(B4442,[2]少数民族加分!$C$1:$E$65536,3,FALSE)","v":2},{"v":149,"d":"149.00"}]
[4441,"5552270509324","吴霞","329独山县中医院集团","01医技人员",{"$f":"VLOOKUP(B4443,[1]Sheet1!$A:$I,8,0)","v":"74.00"},{"$f":"VLOOKUP(B4443,[1]Sheet1!$A:$I,9,0)","v":"66.20"},{"$f":"VLOOKUP(B4443,[2]少数民族加分!$C$1:$E$65536,3,FALSE)","v":2},{"v":142.2,"d":"142.20"}]
[4442,"5552270509329","司东伟","329独山县中医院集团","01医技人员",{"$f":"VLOOKUP(B4444,[1]Sheet1!$A:$I,8,0)","v":"88.00"},{"$f":"VLOOKUP(B4444,[1]Sheet1!$A:$I,9,0)","v":"49.00"},{"$f":"VLOOKUP(B4444,[2]少数民族加分!$C$1:$E$65536,3,FALSE)","v":2},{"v":139,"d":"139.00"}]
[4443,"5552270504316","陈之情","329独山县中医院集团","01医技人员",{"$f":"VLOOKUP(B4445,[1]Sheet1!$A:$I,8,0)","v":"63.50"},{"$f":"VLOOKUP(B4445,[1]Sheet1!$A:$I,9,0)","v":"68.60"},null,{"v":132.1,"d":"132.10"}]
[4444,"5552270509224","蒙焕弟","329独山县中医院集团","01医技人员",{"$f":"VLOOKUP(B4446,[1]Sheet1!$A:$I,8,0)","v":"62.00"},{"$f":"VLOOKUP(B4446,[1]Sheet1!$A:$I,9,0)","v":"66.30"},{"$f":"VLOOKUP(B4446,[2]少数民族加分!$C$1:$E$65536,3,FALSE)","v":2},{"v":130.3,"d":"130.30"}]
[4445,"5552270504302","葛琴","329独山县中医院集团","01医技人员",{"$f":"VLOOKUP(B4447,[1]Sheet1!$A:$I,8,0)","v":"52.50"},{"$f":"VLOOKUP(B4447,[1]Sheet1!$A:$I,9,0)","v":"54.20"},null,{"v":106.7,"d":"106.70"}]
[4446,"5552270504401","罗永杰","329独山县中医院集团","01医技人员",{"$f":"VLOOKUP(B4448,[1]Sheet1!$A:$I,8,0)","v":"49.50"},{"$f":"VLOOKUP(B4448,[1]Sheet1!$A:$I,9,0)","v":"49.00"},null,{"v":98.5,"d":"98.50"}]
[4447,"5552270504303","张雯倩","329独山县中医院集团","01医技人员",{"$f":"VLOOKUP(B4449,[1]Sheet1!$A:$I,8,0)","v":"0.00"},{"$f":"VLOOKUP(B4449,[1]Sheet1!$A:$I,9,0)","v":"0.00"},null,"缺考"]
[4448,"1152270600213","杨彤","329独山县中医院集团","02财务人员",{"$f":"VLOOKUP(B4450,[1]Sheet1!$A:$I,8,0)","v":"82.50"},{"$f":"VLOOKUP(B4450,[1]Sheet1!$A:$I,9,0)","v":"98.50"},{"$f":"VLOOKUP(B4450,[2]少数民族加分!$C$1:$E$65536,3,FALSE)","v":2},{"v":183,"d":"183.00"}]
[4449,"1152270501518","严莉","329独山县中医院集团","02财务人员",{"$f":"VLOOKUP(B4451,[1]Sheet1!$A:$I,8,0)","v":"90.50"},{"$f":"VLOOKUP(B4451,[1]Sheet1!$A:$I,9,0)","v":"86.50"},{"$f":"VLOOKUP(B4451,[2]少数民族加分!$C$1:$E$65536,3,FALSE)","v":2},{"v":179,"d":"179.00"}]
[4450,"1152270501120","孟庆娜","329独山县中医院集团","02财务人员",{"$f":"VLOOKUP(B4452,[1]Sheet1!$A:$I,8,0)","v":"86.00"},{"$f":"VLOOKUP(B4452,[1]Sheet1!$A:$I,9,0)","v":"87.00"},{"$f":"VLOOKUP(B4452,[2]少数民族加分!$C$1:$E$65536,3,FALSE)","v":2},{"v":175,"d":"175.00"}]
[4451,"1152270602324","华小雯","329独山县中医院集团","02财务人员",{"$f":"VLOOKUP(B4453,[1]Sheet1!$A:$I,8,0)","v":"82.50"},{"$f":"VLOOKUP(B4453,[1]Sheet1!$A:$I,9,0)","v":"89.50"},{"$f":"VLOOKUP(B4453,[2]少数民族加分!$C$1:$E$65536,3,FALSE)","v":2},{"v":174,"d":"174.00"}]
[4453,"1152270500106","龙果果","329独山县中医院集团","02财务人员",{"$f":"VLOOKUP(B4454,[1]Sheet1!$A:$I,8,0)","v":"89.00"},{"$f":"VLOOKUP(B4454,[1]Sheet1!$A:$I,9,0)","v":"76.00"},{"$f":"VLOOKUP(B4454,[2]少数民族加分!$C$1:$E$65536,3,FALSE)","v":2},{"v":167,"d":"167.00"}]
[4452,"1152270602012","蒋琼","329独山县中医院集团","02财务人员",{"$f":"VLOOKUP(B4455,[1]Sheet1!$A:$I,8,0)","v":"88.00"},{"$f":"VLOOKUP(B4455,[1]Sheet1!$A:$I,9,0)","v":"77.00"},null,{"v":165,"d":"165.00"}]
[4454,"1152270602221","夏雪","329独山县中医院集团","02财务人员",{"$f":"VLOOKUP(B4456,[1]Sheet1!$A:$I,8,0)","v":"84.00"},{"$f":"VLOOKUP(B4456,[1]Sheet1!$A:$I,9,0)","v":"80.50"},null,{"v":164.5,"d":"164.50"}]
[4455,"1152270601517","杨松琼","329独山县中医院集团","02财务人员",{"$f":"VLOOKUP(B4457,[1]Sheet1!$A:$I,8,0)","v":"84.50"},{"$f":"VLOOKUP(B4457,[1]Sheet1!$A:$I,9,0)","v":"78.00"},{"$f":"VLOOKUP(B4457,[2]少数民族加分!$C$1:$E$65536,3,FALSE)","v":2},{"v":164.5,"d":"164.50"}]
[4456,"1152270500221","陈雨蕾","329独山县中医院集团","02财务人员",{"$f":"VLOOKUP(B4458,[1]Sheet1!$A:$I,8,0)","v":"72.00"},{"$f":"VLOOKUP(B4458,[1]Sheet1!$A:$I,9,0)","v":"89.00"},{"$f":"VLOOKUP(B4458,[2]少数民族加分!$C$1:$E$65536,3,FALSE)","v":2},{"v":163,"d":"163.00"}]
[4458,"1152270500321","杨琪","329独山县中医院集团","02财务人员",{"$f":"VLOOKUP(B4459,[1]Sheet1!$A:$I,8,0)","v":"98.00"},{"$f":"VLOOKUP(B4459,[1]Sheet1!$A:$I,9,0)","v":"62.00"},{"$f":"VLOOKUP(B4459,[2]少数民族加分!$C$1:$E$65536,3,FALSE)","v":2},{"v":162,"d":"162.00"}]
[4459,"1152270500421","田洪康","329独山县中医院集团","02财务人员",{"$f":"VLOOKUP(B4460,[1]Sheet1!$A:$I,8,0)","v":"78.00"},{"$f":"VLOOKUP(B4460,[1]Sheet1!$A:$I,9,0)","v":"82.00"},{"$f":"VLOOKUP(B4460,[2]少数民族加分!$C$1:$E$65536,3,FALSE)","v":2},{"v":162,"d":"162.00"}]
[4457,"1152270602322","张红叶","329独山县中医院集团","02财务人员",{"$f":"VLOOKUP(B4461,[1]Sheet1!$A:$I,8,0)","v":"73.00"},{"$f":"VLOOKUP(B4461,[1]Sheet1!$A:$I,9,0)","v":"87.50"},null,{"v":160.5,"d":"160.50"}]
[4460,"1152270602403","温守强","329独山县中医院集团","02财务人员",{"$f":"VLOOKUP(B4462,[1]Sheet1!$A:$I,8,0)","v":"79.00"},{"$f":"VLOOKUP(B4462,[1]Sheet1!$A:$I,9,0)","v":"80.00"},null,{"v":159,"d":"159.00"}]
[4461,"1152270600913","何小艳","329独山县中医院集团","02财务人员",{"$f":"VLOOKUP(B4463,[1]Sheet1!$A:$I,8,0)","v":"74.00"},{"$f":"VLOOKUP(B4463,[1]Sheet1!$A:$I,9,0)","v":"84.50"},null,{"v":158.5,"d":"158.50"}]
[4463,"1152270601510","姜秀元","329独山县中医院集团","02财务人员",{"$f":"VLOOKUP(B4464,[1]Sheet1!$A:$I,8,0)","v":"73.00"},{"$f":"VLOOKUP(B4464,[1]Sheet1!$A:$I,9,0)","v":"83.50"},{"$f":"VLOOKUP(B4464,[2]少数民族加分!$C$1:$E$65536,3,FALSE)","v":2},{"v":158.5,"d":"158.50"}]
[4464,"1152270501023","贾科露","329独山县中医院集团","02财务人员",{"$f":"VLOOKUP(B4465,[1]Sheet1!$A:$I,8,0)","v":"79.50"},{"$f":"VLOOKUP(B4465,[1]Sheet1!$A:$I,9,0)","v":"77.00"},{"$f":"VLOOKUP(B4465,[2]少数民族加分!$C$1:$E$65536,3,FALSE)","v":2},{"v":158.5,"d":"158.50"}]
[4465,"1152270600320","吴泽荣","329独山县中医院集团","02财务人员",{"$f":"VLOOKUP(B4466,[1]Sheet1!$A:$I,8,0)","v":"82.00"},{"$f":"VLOOKUP(B4466,[1]Sheet1!$A:$I,9,0)","v":"74.50"},{"$f":"VLOOKUP(B4466,[2]少数民族加分!$C$1:$E$65536,3,FALSE)","v":2},{"v":158.5,"d":"158.50"}]
[4462,"1152270602405","罗秀丽","329独山县中医院集团","02财务人员",{"$f":"VLOOKUP(B4467,[1]Sheet1!$A:$I,8,0)","v":"76.00"},{"$f":"VLOOKUP(B4467,[1]Sheet1!$A:$I,9,0)","v":"82.00"},null,{"v":158,"d":"158.00"}]
[4466,"1152270500119","吴有鹏","329独山县中医院集团","02财务人员",{"$f":"VLOOKUP(B4468,[1]Sheet1!$A:$I,8,0)","v":"78.00"},{"$f":"VLOOKUP(B4468,[1]Sheet1!$A:$I,9,0)","v":"78.00"},{"$f":"VLOOKUP(B4468,[2]少数民族加分!$C$1:$E$65536,3,FALSE)","v":2},{"v":158,"d":"158.00"}]
[4467,"1152270601301","张子信","329独山县中医院集团","02财务人员",{"$f":"VLOOKUP(B4469,[1]Sheet1!$A:$I,8,0)","v":"75.00"},{"$f":"VLOOKUP(B4469,[1]Sheet1!$A:$I,9,0)","v":"78.00"},{"$f":"VLOOKUP(B4469,[2]少数民族加分!$C$1:$E$65536,3,FALSE)","v":2},{"v":155,"d":"155.00"}]
[4468,"1152270601529","孟开焕","329独山县中医院集团","02财务人员",{"$f":"VLOOKUP(B4470,[1]Sheet1!$A:$I,8,0)","v":"81.00"},{"$f":"VLOOKUP(B4470,[1]Sheet1!$A:$I,9,0)","v":"71.00"},{"$f":"VLOOKUP(B4470,[2]少数民族加分!$C$1:$E$65536,3,FALSE)","v":2},{"v":154,"d":"154.00"}]
[4469,"1152270601530","吴元柳","329独山县中医院集团","02财务人员",{"$f":"VLOOKUP(B4471,[1]Sheet1!$A:$I,8,0)","v":"65.50"},{"$f":"VLOOKUP(B4471,[1]Sheet1!$A:$I,9,0)","v":"86.00"},{"$f":"VLOOKUP(B4471,[2]少数民族加分!$C$1:$E$65536,3,FALSE)","v":2},{"v":153.5,"d":"153.50"}]
[4470,"1152270601912","吴利","329独山县中医院集团","02财务人员",{"$f":"VLOOKUP(B4472,[1]Sheet1!$A:$I,8,0)","v":"71.00"},{"$f":"VLOOKUP(B4472,[1]Sheet1!$A:$I,9,0)","v":"80.50"},{"$f":"VLOOKUP(B4472,[2]少数民族加分!$C$1:$E$65536,3,FALSE)","v":2},{"v":153.5,"d":"153.50"}]
[4471,"1152270601919","杨光英","329独山县中医院集团","02财务人员",{"$f":"VLOOKUP(B4473,[1]Sheet1!$A:$I,8,0)","v":"69.50"},{"$f":"VLOOKUP(B4473,[1]Sheet1!$A:$I,9,0)","v":"81.00"},{"$f":"VLOOKUP(B4473,[2]少数民族加分!$C$1:$E$65536,3,FALSE)","v":2},{"v":152.5,"d":"152.50"}]
[4472,"1152270602423","杨歆","329独山县中医院集团","02财务人员",{"$f":"VLOOKUP(B4474,[1]Sheet1!$A:$I,8,0)","v":"85.00"},{"$f":"VLOOKUP(B4474,[1]Sheet1!$A:$I,9,0)","v":"64.00"},{"$f":"VLOOKUP(B4474,[2]少数民族加分!$C$1:$E$65536,3,FALSE)","v":2},{"v":151,"d":"151.00"}]
[4473,"1152270501516","胡朝煊","329独山县中医院集团","02财务人员",{"$f":"VLOOKUP(B4475,[1]Sheet1!$A:$I,8,0)","v":"59.50"},{"$f":"VLOOKUP(B4475,[1]Sheet1!$A:$I,9,0)","v":"88.00"},{"$f":"VLOOKUP(B4475,[2]少数民族加分!$C$1:$E$65536,3,FALSE)","v":2},{"v":149.5,"d":"149.50"}]
[4474,"1152270600219","黎诗媛","329独山县中医院集团","02财务人员",{"$f":"VLOOKUP(B4476,[1]Sheet1!$A:$I,8,0)","v":"63.50"},{"$f":"VLOOKUP(B4476,[1]Sheet1!$A:$I,9,0)","v":"84.00"},{"$f":"VLOOKUP(B4476,[2]少数民族加分!$C$1:$E$65536,3,FALSE)","v":2},{"v":149.5,"d":"149.50"}]
[4475,"1152270501327","吴光举","329独山县中医院集团","02财务人员",{"$f":"VLOOKUP(B4477,[1]Sheet1!$A:$I,8,0)","v":"74.00"},{"$f":"VLOOKUP(B4477,[1]Sheet1!$A:$I,9,0)","v":"73.00"},null,{"v":147,"d":"147.00"}]
[4476,"1152270600527","卜燕平","329独山县中医院集团","02财务人员",{"$f":"VLOOKUP(B4478,[1]Sheet1!$A:$I,8,0)","v":"68.00"},{"$f":"VLOOKUP(B4478,[1]Sheet1!$A:$I,9,0)","v":"79.00"},null,{"v":147,"d":"147.00"}]
[4477,"1152270600608","杨丹","329独山县中医院集团","02财务人员",{"$f":"VLOOKUP(B4479,[1]Sheet1!$A:$I,8,0)","v":"85.00"},{"$f":"VLOOKUP(B4479,[1]Sheet1!$A:$I,9,0)","v":"62.00"},null,{"v":147,"d":"147.00"}]
[4478,"1152270500725","白琪琪","329独山县中医院集团","02财务人员",{"$f":"VLOOKUP(B4480,[1]Sheet1!$A:$I,8,0)","v":"78.50"},{"$f":"VLOOKUP(B4480,[1]Sheet1!$A:$I,9,0)","v":"65.50"},{"$f":"VLOOKUP(B4480,[2]少数民族加分!$C$1:$E$65536,3,FALSE)","v":2},{"v":146,"d":"146.00"}]
[4480,"1152270500630","潘皇舟","329独山县中医院集团","02财务人员",{"$f":"VLOOKUP(B4481,[1]Sheet1!$A:$I,8,0)","v":"67.50"},{"$f":"VLOOKUP(B4481,[1]Sheet1!$A:$I,9,0)","v":"73.00"},{"$f":"VLOOKUP(B4481,[2]少数民族加分!$C$1:$E$65536,3,FALSE)","v":2},{"v":142.5,"d":"142.50"}]
[4479,"1152270602213","代黎","329独山县中医院集团","02财务人员",{"$f":"VLOOKUP(B4482,[1]Sheet1!$A:$I,8,0)","v":"58.50"},{"$f":"VLOOKUP(B4482,[1]Sheet1!$A:$I,9,0)","v":"83.00"},null,{"v":141.5,"d":"141.50"}]
[4481,"1152270601504","石玉银","329独山县中医院集团","02财务人员",{"$f":"VLOOKUP(B4483,[1]Sheet1!$A:$I,8,0)","v":"64.50"},{"$f":"VLOOKUP(B4483,[1]Sheet1!$A:$I,9,0)","v":"75.00"},{"$f":"VLOOKUP(B4483,[2]少数民族加分!$C$1:$E$65536,3,FALSE)","v":2},{"v":141.5,"d":"141.50"}]
[4482,"1152270501116","石庆冉","329独山县中医院集团","02财务人员",{"$f":"VLOOKUP(B4484,[1]Sheet1!$A:$I,8,0)","v":"63.00"},{"$f":"VLOOKUP(B4484,[1]Sheet1!$A:$I,9,0)","v":"76.00"},{"$f":"VLOOKUP(B4484,[2]少数民族加分!$C$1:$E$65536,3,FALSE)","v":2},{"v":141,"d":"141.00"}]
[4484,"1152270600411","吴思琪","329独山县中医院集团","02财务人员",{"$f":"VLOOKUP(B4485,[1]Sheet1!$A:$I,8,0)","v":"62.00"},{"$f":"VLOOKUP(B4485,[1]Sheet1!$A:$I,9,0)","v":"75.00"},{"$f":"VLOOKUP(B4485,[2]少数民族加分!$C$1:$E$65536,3,FALSE)","v":2},{"v":139,"d":"139.00"}]
[4485,"1152270602020","岑坤霖","329独山县中医院集团","02财务人员",{"$f":"VLOOKUP(B4486,[1]Sheet1!$A:$I,8,0)","v":"74.50"},{"$f":"VLOOKUP(B4486,[1]Sheet1!$A:$I,9,0)","v":"62.50"},{"$f":"VLOOKUP(B4486,[2]少数民族加分!$C$1:$E$65536,3,FALSE)","v":2},{"v":139,"d":"139.00"}]
[4483,"1152270500220","张足影","329独山县中医院集团","02财务人员",{"$f":"VLOOKUP(B4487,[1]Sheet1!$A:$I,8,0)","v":"63.00"},{"$f":"VLOOKUP(B4487,[1]Sheet1!$A:$I,9,0)","v":"75.00"},null,{"v":138,"d":"138.00"}]
[4486,"1152270501501","田鹏","329独山县中医院集团","02财务人员",{"$f":"VLOOKUP(B4488,[1]Sheet1!$A:$I,8,0)","v":"72.00"},{"$f":"VLOOKUP(B4488,[1]Sheet1!$A:$I,9,0)","v":"64.00"},{"$f":"VLOOKUP(B4488,[2]少数民族加分!$C$1:$E$65536,3,FALSE)","v":2},{"v":138,"d":"138.00"}]
[4487,"1152270501621","李雪","329独山县中医院集团","02财务人员",{"$f":"VLOOKUP(B4489,[1]Sheet1!$A:$I,8,0)","v":"64.00"},{"$f":"VLOOKUP(B4489,[1]Sheet1!$A:$I,9,0)","v":"71.00"},null,{"v":135,"d":"135.00"}]
[4489,"1152270501323","张春梅","329独山县中医院集团","02财务人员",{"$f":"VLOOKUP(B4490,[1]Sheet1!$A:$I,8,0)","v":"57.00"},{"$f":"VLOOKUP(B4490,[1]Sheet1!$A:$I,9,0)","v":"75.00"},{"$f":"VLOOKUP(B4490,[2]少数民族加分!$C$1:$E$65536,3,FALSE)","v":2},{"v":134,"d":"134.00"}]
[4490,"1152270600525","郭以栋","329独山县中医院集团","02财务人员",{"$f":"VLOOKUP(B4491,[1]Sheet1!$A:$I,8,0)","v":"71.00"},{"$f":"VLOOKUP(B4491,[1]Sheet1!$A:$I,9,0)","v":"60.50"},{"$f":"VLOOKUP(B4491,[2]少数民族加分!$C$1:$E$65536,3,FALSE)","v":2},{"v":133.5,"d":"133.50"}]
[4488,"1152270600230","于时莉","329独山县中医院集团","02财务人员",{"$f":"VLOOKUP(B4492,[1]Sheet1!$A:$I,8,0)","v":"53.00"},{"$f":"VLOOKUP(B4492,[1]Sheet1!$A:$I,9,0)","v":"80.00"},null,{"v":133,"d":"133.00"}]
[4491,"1152270600113","杨国","329独山县中医院集团","02财务人员",{"$f":"VLOOKUP(B4493,[1]Sheet1!$A:$I,8,0)","v":"63.50"},{"$f":"VLOOKUP(B4493,[1]Sheet1!$A:$I,9,0)","v":"67.00"},{"$f":"VLOOKUP(B4493,[2]少数民族加分!$C$1:$E$65536,3,FALSE)","v":2},{"v":132.5,"d":"132.50"}]
[4492,"1152270602312","文洪英","329独山县中医院集团","02财务人员",{"$f":"VLOOKUP(B4494,[1]Sheet1!$A:$I,8,0)","v":"53.50"},{"$f":"VLOOKUP(B4494,[1]Sheet1!$A:$I,9,0)","v":"77.00"},{"$f":"VLOOKUP(B4494,[2]少数民族加分!$C$1:$E$65536,3,FALSE)","v":2},{"v":132.5,"d":"132.50"}]
[4493,"1152270601402","岑康美","329独山县中医院集团","02财务人员",{"$f":"VLOOKUP(B4495,[1]Sheet1!$A:$I,8,0)","v":"58.50"},{"$f":"VLOOKUP(B4495,[1]Sheet1!$A:$I,9,0)","v":"70.00"},{"$f":"VLOOKUP(B4495,[2]少数民族加分!$C$1:$E$65536,3,FALSE)","v":2},{"v":130.5,"d":"130.50"}]
[4494,"1152270500425","龙秋菊","329独山县中医院集团","02财务人员",{"$f":"VLOOKUP(B4496,[1]Sheet1!$A:$I,8,0)","v":"58.00"},{"$f":"VLOOKUP(B4496,[1]Sheet1!$A:$I,9,0)","v":"69.00"},{"$f":"VLOOKUP(B4496,[2]少数民族加分!$C$1:$E$65536,3,FALSE)","v":2},{"v":129,"d":"129.00"}]
[4495,"1152270601817","吴治宝","329独山县中医院集团","02财务人员",{"$f":"VLOOKUP(B4497,[1]Sheet1!$A:$I,8,0)","v":"67.00"},{"$f":"VLOOKUP(B4497,[1]Sheet1!$A:$I,9,0)","v":"58.00"},{"$f":"VLOOKUP(B4497,[2]少数民族加分!$C$1:$E$65536,3,FALSE)","v":2},{"v":127,"d":"127.00"}]
[4496,"1152270500122","陆隆璇","329独山县中医院集团","02财务人员",{"$f":"VLOOKUP(B4498,[1]Sheet1!$A:$I,8,0)","v":"67.50"},{"$f":"VLOOKUP(B4498,[1]Sheet1!$A:$I,9,0)","v":"57.00"},{"$f":"VLOOKUP(B4498,[2]少数民族加分!$C$1:$E$65536,3,FALSE)","v":2},{"v":126.5,"d":"126.50"}]
[4497,"1152270500801","孟琴","329独山县中医院集团","02财务人员",{"$f":"VLOOKUP(B4499,[1]Sheet1!$A:$I,8,0)","v":"52.50"},{"$f":"VLOOKUP(B4499,[1]Sheet1!$A:$I,9,0)","v":"72.00"},{"$f":"VLOOKUP(B4499,[2]少数民族加分!$C$1:$E$65536,3,FALSE)","v":2},{"v":126.5,"d":"126.50"}]
[4498,"1152270500123","杨烨","329独山县中医院集团","02财务人员",{"$f":"VLOOKUP(B4500,[1]Sheet1!$A:$I,8,0)","v":"62.50"},{"$f":"VLOOKUP(B4500,[1]Sheet1!$A:$I,9,0)","v":"61.00"},null,{"v":123.5,"d":"123.50"}]
[4499,"1152270600403","申健","329独山县中医院集团","02财务人员",{"$f":"VLOOKUP(B4501,[1]Sheet1!$A:$I,8,0)","v":"70.00"},{"$f":"VLOOKUP(B4501,[1]Sheet1!$A:$I,9,0)","v":"50.50"},null,{"v":120.5,"d":"120.50"}]
[4501,"1152270500210","韦天标","329独山县中医院集团","02财务人员",{"$f":"VLOOKUP(B4502,[1]Sheet1!$A:$I,8,0)","v":"52.50"},{"$f":"VLOOKUP(B4502,[1]Sheet1!$A:$I,9,0)","v":"66.00"},{"$f":"VLOOKUP(B4502,[2]少数民族加分!$C$1:$E$65536,3,FALSE)","v":2},{"v":120.5,"d":"120.50"}]
[4500,"1152270601406","王文锦","329独山县中医院集团","02财务人员",{"$f":"VLOOKUP(B4503,[1]Sheet1!$A:$I,8,0)","v":"61.50"},{"$f":"VLOOKUP(B4503,[1]Sheet1!$A:$I,9,0)","v":"57.00"},null,{"v":118.5,"d":"118.50"}]
[4502,"1152270500712","陈光怀","329独山县中医院集团","02财务人员",{"$f":"VLOOKUP(B4504,[1]Sheet1!$A:$I,8,0)","v":"54.00"},{"$f":"VLOOKUP(B4504,[1]Sheet1!$A:$I,9,0)","v":"61.00"},{"$f":"VLOOKUP(B4504,[2]少数民族加分!$C$1:$E$65536,3,FALSE)","v":2},{"v":117,"d":"117.00"}]
[4503,"1152270602016","陆秉娜","329独山县中医院集团","02财务人员",{"$f":"VLOOKUP(B4505,[1]Sheet1!$A:$I,8,0)","v":"56.50"},{"$f":"VLOOKUP(B4505,[1]Sheet1!$A:$I,9,0)","v":"58.00"},null,{"v":114.5,"d":"114.50"}]
[4504,"1152270602506","侯琼","329独山县中医院集团","02财务人员",{"$f":"VLOOKUP(B4506,[1]Sheet1!$A:$I,8,0)","v":"68.50"},{"$f":"VLOOKUP(B4506,[1]Sheet1!$A:$I,9,0)","v":"44.00"},{"$f":"VLOOKUP(B4506,[2]少数民族加分!$C$1:$E$65536,3,FALSE)","v":2},{"v":114.5,"d":"114.50"}]
[4505,"1152270501428","潘贵远","329独山县中医院集团","02财务人员",{"$f":"VLOOKUP(B4507,[1]Sheet1!$A:$I,8,0)","v":"52.00"},{"$f":"VLOOKUP(B4507,[1]Sheet1!$A:$I,9,0)","v":"53.00"},{"$f":"VLOOKUP(B4507,[2]少数民族加分!$C$1:$E$65536,3,FALSE)","v":2},{"v":107,"d":"107.00"}]
[4506,"1152270500229","岑昌慧","329独山县中医院集团","02财务人员",{"$f":"VLOOKUP(B4508,[1]Sheet1!$A:$I,8,0)","v":"44.00"},{"$f":"VLOOKUP(B4508,[1]Sheet1!$A:$I,9,0)","v":"59.00"},{"$f":"VLOOKUP(B4508,[2]少数民族加分!$C$1:$E$65536,3,FALSE)","v":2},{"v":105,"d":"105.00"}]
[4507,"1152270602402","刘英","329独山县中医院集团","02财务人员",{"$f":"VLOOKUP(B4509,[1]Sheet1!$A:$I,8,0)","v":"42.00"},{"$f":"VLOOKUP(B4509,[1]Sheet1!$A:$I,9,0)","v":"48.00"},{"$f":"VLOOKUP(B4509,[2]少数民族加分!$C$1:$E$65536,3,FALSE)","v":2},{"v":92,"d":"92.00"}]
[4508,"1152270602406","蒙银湘","329独山县中医院集团","02财务人员",{"$f":"VLOOKUP(B4510,[1]Sheet1!$A:$I,8,0)","v":"0.00"},{"$f":"VLOOKUP(B4510,[1]Sheet1!$A:$I,9,0)","v":"0.00"},{"$f":"VLOOKUP(B4510,[2]少数民族加分!$C$1:$E$65536,3,FALSE)","v":2},"缺考"]
[4509,"1152270500201","严帮海","329独山县中医院集团","02财务人员",{"$f":"VLOOKUP(B4511,[1]Sheet1!$A:$I,8,0)","v":"0.00"},{"$f":"VLOOKUP(B4511,[1]Sheet1!$A:$I,9,0)","v":"0.00"},null,"缺考"]
[4510,"1152270500216","李天丽","329独山县中医院集团","02财务人员",{"$f":"VLOOKUP(B4512,[1]Sheet1!$A:$I,8,0)","v":"0.00"},{"$f":"VLOOKUP(B4512,[1]Sheet1!$A:$I,9,0)","v":"0.00"},{"$f":"VLOOKUP(B4512,[2]少数民族加分!$C$1:$E$65536,3,FALSE)","v":2},"缺考"]
[4511,"1152270500422","黄春艳","329独山县中医院集团","02财务人员",{"$f":"VLOOKUP(B4513,[1]Sheet1!$A:$I,8,0)","v":"0.00"},{"$f":"VLOOKUP(B4513,[1]Sheet1!$A:$I,9,0)","v":"0.00"},{"$f":"VLOOKUP(B4513,[2]少数民族加分!$C$1:$E$65536,3,FALSE)","v":2},"缺考"]
[4512,"1152270500919","张颖","329独山县中医院集团","02财务人员",{"$f":"VLOOKUP(B4514,[1]Sheet1!$A:$I,8,0)","v":"0.00"},{"$f":"VLOOKUP(B4514,[1]Sheet1!$A:$I,9,0)","v":"0.00"},{"$f":"VLOOKUP(B4514,[2]少数民族加分!$C$1:$E$65536,3,FALSE)","v":2},"缺考"]
[4513,"1152270600216","雷丽菊","329独山县中医院集团","02财务人员",{"$f":"VLOOKUP(B4515,[1]Sheet1!$A:$I,8,0)","v":"0.00"},{"$f":"VLOOKUP(B4515,[1]Sheet1!$A:$I,9,0)","v":"0.00"},{"$f":"VLOOKUP(B4515,[2]少数民族加分!$C$1:$E$65536,3,FALSE)","v":2},"缺考"]
[4514,"1152270600323","梁书智","329独山县中医院集团","02财务人员",{"$f":"VLOOKUP(B4516,[1]Sheet1!$A:$I,8,0)","v":"0.00"},{"$f":"VLOOKUP(B4516,[1]Sheet1!$A:$I,9,0)","v":"0.00"},{"$f":"VLOOKUP(B4516,[2]少数民族加分!$C$1:$E$65536,3,FALSE)","v":2},"缺考"]
[4515,"1152270600624","朱艺林","329独山县中医院集团","02财务人员",{"$f":"VLOOKUP(B4517,[1]Sheet1!$A:$I,8,0)","v":"0.00"},{"$f":"VLOOKUP(B4517,[1]Sheet1!$A:$I,9,0)","v":"0.00"},null,"缺考"]
[4516,"1152270601024","雷杰","329独山县中医院集团","02财务人员",{"$f":"VLOOKUP(B4518,[1]Sheet1!$A:$I,8,0)","v":"0.00"},{"$f":"VLOOKUP(B4518,[1]Sheet1!$A:$I,9,0)","v":"0.00"},{"$f":"VLOOKUP(B4518,[2]少数民族加分!$C$1:$E$65536,3,FALSE)","v":2},"缺考"]
[4517,"5652270509121","罗光富","330独山县中医院基长分院","01医务人员",{"$f":"VLOOKUP(B4519,[1]Sheet1!$A:$I,8,0)","v":"94.00"},{"$f":"VLOOKUP(B4519,[1]Sheet1!$A:$I,9,0)","v":"55.60"},{"$f":"VLOOKUP(B4519,[2]少数民族加分!$C$1:$E$65536,3,FALSE)","v":2},{"v":151.6,"d":"151.60"}]
[4518,"5652270509113","覃荣盼","330独山县中医院基长分院","01医务人员",{"$f":"VLOOKUP(B4520,[1]Sheet1!$A:$I,8,0)","v":"58.00"},{"$f":"VLOOKUP(B4520,[1]Sheet1!$A:$I,9,0)","v":"73.90"},{"$f":"VLOOKUP(B4520,[2]少数民族加分!$C$1:$E$65536,3,FALSE)","v":2},{"v":133.9,"d":"133.90"}]
[4519,"5652270509117","杨森","330独山县中医院基长分院","01医务人员",{"$f":"VLOOKUP(B4521,[1]Sheet1!$A:$I,8,0)","v":"48.00"},{"$f":"VLOOKUP(B4521,[1]Sheet1!$A:$I,9,0)","v":"52.70"},{"$f":"VLOOKUP(B4521,[2]少数民族加分!$C$1:$E$65536,3,FALSE)","v":2},{"v":102.7,"d":"102.70"}]
[4520,"5652270509119","莫敬朗","330独山县中医院基长分院","01医务人员",{"$f":"VLOOKUP(B4522,[1]Sheet1!$A:$I,8,0)","v":"0.00"},{"$f":"VLOOKUP(B4522,[1]Sheet1!$A:$I,9,0)","v":"0.00"},{"$f":"VLOOKUP(B4522,[2]少数民族加分!$C$1:$E$65536,3,FALSE)","v":2},"缺考"]
[4521,"5652270509122","覃立环","330独山县中医院基长分院","01医务人员",{"$f":"VLOOKUP(B4523,[1]Sheet1!$A:$I,8,0)","v":"0.00"},{"$f":"VLOOKUP(B4523,[1]Sheet1!$A:$I,9,0)","v":"0.00"},{"$f":"VLOOKUP(B4523,[2]少数民族加分!$C$1:$E$65536,3,FALSE)","v":2},"缺考"]
[4522,"5452270503717","韩贞彩","330独山县中医院基长分院","04医务人员",{"$f":"VLOOKUP(B4524,[1]Sheet1!$A:$I,8,0)","v":"75.00"},{"$f":"VLOOKUP(B4524,[1]Sheet1!$A:$I,9,0)","v":"67.30"},{"$f":"VLOOKUP(B4524,[2]少数民族加分!$C$1:$E$65536,3,FALSE)","v":2},{"v":144.3,"d":"144.30"}]
[4525,"5452270503227","王育仙","330独山县中医院基长分院","04医务人员",{"$f":"VLOOKUP(B4525,[1]Sheet1!$A:$I,8,0)","v":"67.00"},{"$f":"VLOOKUP(B4525,[1]Sheet1!$A:$I,9,0)","v":"72.60"},{"$f":"VLOOKUP(B4525,[2]少数民族加分!$C$1:$E$65536,3,FALSE)","v":2},{"v":141.6,"d":"141.60"}]
[4523,"5452270503029","刘佳佳","330独山县中医院基长分院","04医务人员",{"$f":"VLOOKUP(B4526,[1]Sheet1!$A:$I,8,0)","v":"86.50"},{"$f":"VLOOKUP(B4526,[1]Sheet1!$A:$I,9,0)","v":"54.10"},null,{"v":140.6,"d":"140.60"}]
[4524,"5452270502410","陈丽","330独山县中医院基长分院","04医务人员",{"$f":"VLOOKUP(B4527,[1]Sheet1!$A:$I,8,0)","v":"72.50"},{"$f":"VLOOKUP(B4527,[1]Sheet1!$A:$I,9,0)","v":"67.90"},null,{"v":140.4,"d":"140.40"}]
[4526,"5452270503801","蒙泽玉","330独山县中医院基长分院","04医务人员",{"$f":"VLOOKUP(B4528,[1]Sheet1!$A:$I,8,0)","v":"81.00"},{"$f":"VLOOKUP(B4528,[1]Sheet1!$A:$I,9,0)","v":"58.20"},null,{"v":139.2,"d":"139.20"}]
[4527,"5452270502316","吴佳玲","330独山县中医院基长分院","04医务人员",{"$f":"VLOOKUP(B4529,[1]Sheet1!$A:$I,8,0)","v":"67.50"},{"$f":"VLOOKUP(B4529,[1]Sheet1!$A:$I,9,0)","v":"68.40"},{"$f":"VLOOKUP(B4529,[2]少数民族加分!$C$1:$E$65536,3,FALSE)","v":2},{"v":137.9,"d":"137.90"}]
[4528,"5452270503018","陈纯慧","330独山县中医院基长分院","04医务人员",{"$f":"VLOOKUP(B4530,[1]Sheet1!$A:$I,8,0)","v":"71.50"},{"$f":"VLOOKUP(B4530,[1]Sheet1!$A:$I,9,0)","v":"64.40"},{"$f":"VLOOKUP(B4530,[2]少数民族加分!$C$1:$E$65536,3,FALSE)","v":2},{"v":137.9,"d":"137.90"}]
[4529,"5452270504224","莫念秋","330独山县中医院基长分院","04医务人员",{"$f":"VLOOKUP(B4531,[1]Sheet1!$A:$I,8,0)","v":"69.00"},{"$f":"VLOOKUP(B4531,[1]Sheet1!$A:$I,9,0)","v":"61.70"},{"$f":"VLOOKUP(B4531,[2]少数民族加分!$C$1:$E$65536,3,FALSE)","v":2},{"v":132.7,"d":"132.70"}]
[4530,"5452270502527","吴明仙","330独山县中医院基长分院","04医务人员",{"$f":"VLOOKUP(B4532,[1]Sheet1!$A:$I,8,0)","v":"74.50"},{"$f":"VLOOKUP(B4532,[1]Sheet1!$A:$I,9,0)","v":"52.60"},{"$f":"VLOOKUP(B4532,[2]少数民族加分!$C$1:$E$65536,3,FALSE)","v":2},{"v":129.1,"d":"129.10"}]
[4531,"5452270503914","杨胜琴","330独山县中医院基长分院","04医务人员",{"$f":"VLOOKUP(B4533,[1]Sheet1!$A:$I,8,0)","v":"61.00"},{"$f":"VLOOKUP(B4533,[1]Sheet1!$A:$I,9,0)","v":"65.30"},{"$f":"VLOOKUP(B4533,[2]少数民族加分!$C$1:$E$65536,3,FALSE)","v":2},{"v":128.3,"d":"128.30"}]
[4532,"5452270503609","吴英","330独山县中医院基长分院","04医务人员",{"$f":"VLOOKUP(B4534,[1]Sheet1!$A:$I,8,0)","v":"0.00"},{"$f":"VLOOKUP(B4534,[1]Sheet1!$A:$I,9,0)","v":"0.00"},{"$f":"VLOOKUP(B4534,[2]少数民族加分!$C$1:$E$65536,3,FALSE)","v":2},"缺考"]
[4533,"5452270503723","何亭","330独山县中医院基长分院","04医务人员",{"$f":"VLOOKUP(B4535,[1]Sheet1!$A:$I,8,0)","v":"0.00"},{"$f":"VLOOKUP(B4535,[1]Sheet1!$A:$I,9,0)","v":"0.00"},{"$f":"VLOOKUP(B4535,[2]少数民族加分!$C$1:$E$65536,3,FALSE)","v":2},"缺考"]
[4534,"5152270509103","蒙娜","330独山县中医院基长分院","05医务人员",{"$f":"VLOOKUP(B4536,[1]Sheet1!$A:$I,8,0)","v":"76.50"},{"$f":"VLOOKUP(B4536,[1]Sheet1!$A:$I,9,0)","v":"68.20"},{"$f":"VLOOKUP(B4536,[2]少数民族加分!$C$1:$E$65536,3,FALSE)","v":2},{"v":146.7,"d":"146.70"}]
[4535,"5152270509106","罗智勇","330独山县中医院基长分院","05医务人员",{"$f":"VLOOKUP(B4537,[1]Sheet1!$A:$I,8,0)","v":"54.50"},{"$f":"VLOOKUP(B4537,[1]Sheet1!$A:$I,9,0)","v":"78.60"},null,{"v":133.1,"d":"133.10"}]
[4536,"5152270509112","周元媛","330独山县中医院基长分院","05医务人员",{"$f":"VLOOKUP(B4538,[1]Sheet1!$A:$I,8,0)","v":"66.00"},{"$f":"VLOOKUP(B4538,[1]Sheet1!$A:$I,9,0)","v":"62.20"},null,{"v":128.2,"d":"128.20"}]
[4537,"5152270509107","韦小丽","330独山县中医院基长分院","05医务人员",{"$f":"VLOOKUP(B4539,[1]Sheet1!$A:$I,8,0)","v":"62.00"},{"$f":"VLOOKUP(B4539,[1]Sheet1!$A:$I,9,0)","v":"61.60"},{"$f":"VLOOKUP(B4539,[2]少数民族加分!$C$1:$E$65536,3,FALSE)","v":2},{"v":125.6,"d":"125.60"}]
[4539,"5352270502105","潘光敏","330独山县中医院基长分院","06医务人员",{"$f":"VLOOKUP(B4540,[1]Sheet1!$A:$I,8,0)","v":"94.50"},{"$f":"VLOOKUP(B4540,[1]Sheet1!$A:$I,9,0)","v":"69.10"},{"$f":"VLOOKUP(B4540,[2]少数民族加分!$C$1:$E$65536,3,FALSE)","v":2},{"v":165.6,"d":"165.60"}]
[4538,"5352270502204","陈先栋","330独山县中医院基长分院","06医务人员",{"$f":"VLOOKUP(B4541,[1]Sheet1!$A:$I,8,0)","v":"97.50"},{"$f":"VLOOKUP(B4541,[1]Sheet1!$A:$I,9,0)","v":"66.30"},null,{"v":163.8,"d":"163.80"}]
[4540,"5352270502206","邹泰爽","330独山县中医院基长分院","06医务人员",{"$f":"VLOOKUP(B4542,[1]Sheet1!$A:$I,8,0)","v":"86.00"},{"$f":"VLOOKUP(B4542,[1]Sheet1!$A:$I,9,0)","v":"65.60"},{"$f":"VLOOKUP(B4542,[2]少数民族加分!$C$1:$E$65536,3,FALSE)","v":2},{"v":153.6,"d":"153.60"}]
[4541,"5352270509217","何婷","330独山县中医院基长分院","06医务人员",{"$f":"VLOOKUP(B4543,[1]Sheet1!$A:$I,8,0)","v":"86.50"},{"$f":"VLOOKUP(B4543,[1]Sheet1!$A:$I,9,0)","v":"64.30"},{"$f":"VLOOKUP(B4543,[2]少数民族加分!$C$1:$E$65536,3,FALSE)","v":2},{"v":152.8,"d":"152.80"}]
[4542,"5352270509206","周倩","330独山县中医院基长分院","06医务人员",{"$f":"VLOOKUP(B4544,[1]Sheet1!$A:$I,8,0)","v":"81.00"},{"$f":"VLOOKUP(B4544,[1]Sheet1!$A:$I,9,0)","v":"67.40"},null,{"v":148.4,"d":"148.40"}]
[4544,"5352270509215","龙正新","330独山县中医院基长分院","06医务人员",{"$f":"VLOOKUP(B4545,[1]Sheet1!$A:$I,8,0)","v":"90.00"},{"$f":"VLOOKUP(B4545,[1]Sheet1!$A:$I,9,0)","v":"50.50"},{"$f":"VLOOKUP(B4545,[2]少数民族加分!$C$1:$E$65536,3,FALSE)","v":2},{"v":142.5,"d":"142.50"}]
[4543,"5352270502203","犹登梅","330独山县中医院基长分院","06医务人员",{"$f":"VLOOKUP(B4546,[1]Sheet1!$A:$I,8,0)","v":"79.00"},{"$f":"VLOOKUP(B4546,[1]Sheet1!$A:$I,9,0)","v":"62.70"},null,{"v":141.7,"d":"141.70"}]
[4546,"5352270502202","罗生勤","330独山县中医院基长分院","06医务人员",{"$f":"VLOOKUP(B4547,[1]Sheet1!$A:$I,8,0)","v":"68.50"},{"$f":"VLOOKUP(B4547,[1]Sheet1!$A:$I,9,0)","v":"69.10"},{"$f":"VLOOKUP(B4547,[2]少数民族加分!$C$1:$E$65536,3,FALSE)","v":2},{"v":139.6,"d":"139.60"}]
[4545,"5352270502109","刘佳瑶","330独山县中医院基长分院","06医务人员",{"$f":"VLOOKUP(B4548,[1]Sheet1!$A:$I,8,0)","v":"72.00"},{"$f":"VLOOKUP(B4548,[1]Sheet1!$A:$I,9,0)","v":"66.50"},null,{"v":138.5,"d":"138.50"}]
[4547,"5352270502125","何锐莎","330独山县中医院基长分院","06医务人员",{"$f":"VLOOKUP(B4549,[1]Sheet1!$A:$I,8,0)","v":"78.00"},{"$f":"VLOOKUP(B4549,[1]Sheet1!$A:$I,9,0)","v":"57.00"},{"$f":"VLOOKUP(B4549,[2]少数民族加分!$C$1:$E$65536,3,FALSE)","v":2},{"v":137,"d":"137.00"}]
[4548,"5352270509212","邰薇","330独山县中医院基长分院","06医务人员",{"$f":"VLOOKUP(B4550,[1]Sheet1!$A:$I,8,0)","v":"79.00"},{"$f":"VLOOKUP(B4550,[1]Sheet1!$A:$I,9,0)","v":"54.40"},{"$f":"VLOOKUP(B4550,[2]少数民族加分!$C$1:$E$65536,3,FALSE)","v":2},{"v":135.4,"d":"135.40"}]
[4549,"5352270502104","覃欧靖","330独山县中医院基长分院","06医务人员",{"$f":"VLOOKUP(B4551,[1]Sheet1!$A:$I,8,0)","v":"70.00"},{"$f":"VLOOKUP(B4551,[1]Sheet1!$A:$I,9,0)","v":"61.80"},{"$f":"VLOOKUP(B4551,[2]少数民族加分!$C$1:$E$65536,3,FALSE)","v":2},{"v":133.8,"d":"133.80"}]
[4550,"5352270502111","徐开丽","330独山县中医院基长分院","06医务人员",{"$f":"VLOOKUP(B4552,[1]Sheet1!$A:$I,8,0)","v":"76.50"},{"$f":"VLOOKUP(B4552,[1]Sheet1!$A:$I,9,0)","v":"54.20"},null,{"v":130.7,"d":"130.70"}]
[4551,"5352270502123","杨维","330独山县中医院基长分院","06医务人员",{"$f":"VLOOKUP(B4553,[1]Sheet1!$A:$I,8,0)","v":"70.50"},{"$f":"VLOOKUP(B4553,[1]Sheet1!$A:$I,9,0)","v":"56.90"},{"$f":"VLOOKUP(B4553,[2]少数民族加分!$C$1:$E$65536,3,FALSE)","v":2},{"v":129.4,"d":"129.40"}]
[4552,"5352270502116","吴育翠","330独山县中医院基长分院","06医务人员",{"$f":"VLOOKUP(B4554,[1]Sheet1!$A:$I,8,0)","v":"62.50"},{"$f":"VLOOKUP(B4554,[1]Sheet1!$A:$I,9,0)","v":"64.50"},{"$f":"VLOOKUP(B4554,[2]少数民族加分!$C$1:$E$65536,3,FALSE)","v":2},{"v":129,"d":"129.00"}]
[4553,"5352270502214","简文勇","330独山县中医院基长分院","06医务人员",{"$f":"VLOOKUP(B4555,[1]Sheet1!$A:$I,8,0)","v":"81.00"},{"$f":"VLOOKUP(B4555,[1]Sheet1!$A:$I,9,0)","v":"45.50"},null,{"v":126.5,"d":"126.50"}]
[4554,"5352270502114","覃定姗","330独山县中医院基长分院","06医务人员",{"$f":"VLOOKUP(B4556,[1]Sheet1!$A:$I,8,0)","v":"76.00"},{"$f":"VLOOKUP(B4556,[1]Sheet1!$A:$I,9,0)","v":"47.70"},{"$f":"VLOOKUP(B4556,[2]少数民族加分!$C$1:$E$65536,3,FALSE)","v":2},{"v":125.7,"d":"125.70"}]
[4555,"5352270502118","李运孟","330独山县中医院基长分院","06医务人员",{"$f":"VLOOKUP(B4557,[1]Sheet1!$A:$I,8,0)","v":"49.50"},{"$f":"VLOOKUP(B4557,[1]Sheet1!$A:$I,9,0)","v":"69.30"},{"$f":"VLOOKUP(B4557,[2]少数民族加分!$C$1:$E$65536,3,FALSE)","v":2},{"v":120.8,"d":"120.80"}]
[4557,"5352270502208","韦亚倩","330独山县中医院基长分院","06医务人员",{"$f":"VLOOKUP(B4558,[1]Sheet1!$A:$I,8,0)","v":"77.00"},{"$f":"VLOOKUP(B4558,[1]Sheet1!$A:$I,9,0)","v":"30.50"},{"$f":"VLOOKUP(B4558,[2]少数民族加分!$C$1:$E$65536,3,FALSE)","v":2},{"v":109.5,"d":"109.50"}]
[4556,"5352270502230","阳顺福","330独山县中医院基长分院","06医务人员",{"$f":"VLOOKUP(B4559,[1]Sheet1!$A:$I,8,0)","v":"58.00"},{"$f":"VLOOKUP(B4559,[1]Sheet1!$A:$I,9,0)","v":"50.60"},null,{"v":108.6,"d":"108.60"}]
[4558,"5352270509219","韦丽想","330独山县中医院基长分院","06医务人员",{"$f":"VLOOKUP(B4560,[1]Sheet1!$A:$I,8,0)","v":"50.00"},{"$f":"VLOOKUP(B4560,[1]Sheet1!$A:$I,9,0)","v":"54.10"},{"$f":"VLOOKUP(B4560,[2]少数民族加分!$C$1:$E$65536,3,FALSE)","v":2},{"v":106.1,"d":"106.10"}]
[4559,"5352270502110","罗果","330独山县中医院基长分院","06医务人员",{"$f":"VLOOKUP(B4561,[1]Sheet1!$A:$I,8,0)","v":"68.00"},{"$f":"VLOOKUP(B4561,[1]Sheet1!$A:$I,9,0)","v":"33.50"},{"$f":"VLOOKUP(B4561,[2]少数民族加分!$C$1:$E$65536,3,FALSE)","v":2},{"v":103.5,"d":"103.50"}]
[4560,"5352270502101","余昌莉","330独山县中医院基长分院","06医务人员",{"$f":"VLOOKUP(B4562,[1]Sheet1!$A:$I,8,0)","v":"0.00"},{"$f":"VLOOKUP(B4562,[1]Sheet1!$A:$I,9,0)","v":"0.00"},null,"缺考"]
[4561,"5352270502124","刘欢","330独山县中医院基长分院","06医务人员",{"$f":"VLOOKUP(B4563,[1]Sheet1!$A:$I,8,0)","v":"0.00"},{"$f":"VLOOKUP(B4563,[1]Sheet1!$A:$I,9,0)","v":"0.00"},null,"缺考"]
[4562,"5352270502220","邰春花","330独山县中医院基长分院","06医务人员",{"$f":"VLOOKUP(B4564,[1]Sheet1!$A:$I,8,0)","v":"0.00"},{"$f":"VLOOKUP(B4564,[1]Sheet1!$A:$I,9,0)","v":"0.00"},{"$f":"VLOOKUP(B4564,[2]少数民族加分!$C$1:$E$65536,3,FALSE)","v":2},"缺考"]
[4563,"5552270504421","罗丽","331独山县中医院影山分院","01医技人员",{"$f":"VLOOKUP(B4565,[1]Sheet1!$A:$I,8,0)","v":"87.00"},{"$f":"VLOOKUP(B4565,[1]Sheet1!$A:$I,9,0)","v":"70.40"},{"$f":"VLOOKUP(B4565,[2]少数民族加分!$C$1:$E$65536,3,FALSE)","v":2},{"v":159.4,"d":"159.40"}]
[4564,"5552270504403","朱兰美","331独山县中医院影山分院","01医技人员",{"$f":"VLOOKUP(B4566,[1]Sheet1!$A:$I,8,0)","v":"73.00"},{"$f":"VLOOKUP(B4566,[1]Sheet1!$A:$I,9,0)","v":"79.00"},{"$f":"VLOOKUP(B4566,[2]少数民族加分!$C$1:$E$65536,3,FALSE)","v":2},{"v":154,"d":"154.00"}]
[4565,"5552270504422","谢小芝","331独山县中医院影山分院","01医技人员",{"$f":"VLOOKUP(B4567,[1]Sheet1!$A:$I,8,0)","v":"79.00"},{"$f":"VLOOKUP(B4567,[1]Sheet1!$A:$I,9,0)","v":"72.50"},{"$f":"VLOOKUP(B4567,[2]少数民族加分!$C$1:$E$65536,3,FALSE)","v":2},{"v":153.5,"d":"153.50"}]
[4566,"5552270509328","陈雪","331独山县中医院影山分院","01医技人员",{"$f":"VLOOKUP(B4568,[1]Sheet1!$A:$I,8,0)","v":"68.50"},{"$f":"VLOOKUP(B4568,[1]Sheet1!$A:$I,9,0)","v":"79.50"},{"$f":"VLOOKUP(B4568,[2]少数民族加分!$C$1:$E$65536,3,FALSE)","v":2},{"v":150,"d":"150.00"}]
[4567,"5552270504307","龙小英","331独山县中医院影山分院","01医技人员",{"$f":"VLOOKUP(B4569,[1]Sheet1!$A:$I,8,0)","v":"73.00"},{"$f":"VLOOKUP(B4569,[1]Sheet1!$A:$I,9,0)","v":"74.70"},{"$f":"VLOOKUP(B4569,[2]少数民族加分!$C$1:$E$65536,3,FALSE)","v":2},{"v":149.7,"d":"149.70"}]
[4568,"5552270504314","吴春花","331独山县中医院影山分院","01医技人员",{"$f":"VLOOKUP(B4570,[1]Sheet1!$A:$I,8,0)","v":"69.00"},{"$f":"VLOOKUP(B4570,[1]Sheet1!$A:$I,9,0)","v":"75.70"},{"$f":"VLOOKUP(B4570,[2]少数民族加分!$C$1:$E$65536,3,FALSE)","v":2},{"v":146.7,"d":"146.70"}]
[4569,"5552270504409","罗卿","331独山县中医院影山分院","01医技人员",{"$f":"VLOOKUP(B4571,[1]Sheet1!$A:$I,8,0)","v":"74.00"},{"$f":"VLOOKUP(B4571,[1]Sheet1!$A:$I,9,0)","v":"66.40"},{"$f":"VLOOKUP(B4571,[2]少数民族加分!$C$1:$E$65536,3,FALSE)","v":2},{"v":142.4,"d":"142.40"}]
[4570,"5552270504313","杨光发","331独山县中医院影山分院","01医技人员",{"$f":"VLOOKUP(B4572,[1]Sheet1!$A:$I,8,0)","v":"79.50"},{"$f":"VLOOKUP(B4572,[1]Sheet1!$A:$I,9,0)","v":"59.50"},{"$f":"VLOOKUP(B4572,[2]少数民族加分!$C$1:$E$65536,3,FALSE)","v":2},{"v":141,"d":"141.00"}]
[4571,"5552270509226","王丽","331独山县中医院影山分院","01医技人员",{"$f":"VLOOKUP(B4573,[1]Sheet1!$A:$I,8,0)","v":"78.00"},{"$f":"VLOOKUP(B4573,[1]Sheet1!$A:$I,9,0)","v":"60.60"},{"$f":"VLOOKUP(B4573,[2]少数民族加分!$C$1:$E$65536,3,FALSE)","v":2},{"v":140.6,"d":"140.60"}]
[4572,"5552270504412","莫居雪","331独山县中医院影山分院","01医技人员",{"$f":"VLOOKUP(B4574,[1]Sheet1!$A:$I,8,0)","v":"65.00"},{"$f":"VLOOKUP(B4574,[1]Sheet1!$A:$I,9,0)","v":"73.20"},{"$f":"VLOOKUP(B4574,[2]少数民族加分!$C$1:$E$65536,3,FALSE)","v":2},{"v":140.2,"d":"140.20"}]
[4573,"5552270504416","周锐","331独山县中医院影山分院","01医技人员",{"$f":"VLOOKUP(B4575,[1]Sheet1!$A:$I,8,0)","v":"70.50"},{"$f":"VLOOKUP(B4575,[1]Sheet1!$A:$I,9,0)","v":"67.00"},{"$f":"VLOOKUP(B4575,[2]少数民族加分!$C$1:$E$65536,3,FALSE)","v":2},{"v":139.5,"d":"139.50"}]
[4574,"5552270504317","黄露","331独山县中医院影山分院","01医技人员",{"$f":"VLOOKUP(B4576,[1]Sheet1!$A:$I,8,0)","v":"72.00"},{"$f":"VLOOKUP(B4576,[1]Sheet1!$A:$I,9,0)","v":"64.80"},{"$f":"VLOOKUP(B4576,[2]少数民族加分!$C$1:$E$65536,3,FALSE)","v":2},{"v":138.8,"d":"138.80"}]
[4575,"5552270504415","李芳","331独山县中医院影山分院","01医技人员",{"$f":"VLOOKUP(B4577,[1]Sheet1!$A:$I,8,0)","v":"62.50"},{"$f":"VLOOKUP(B4577,[1]Sheet1!$A:$I,9,0)","v":"72.60"},{"$f":"VLOOKUP(B4577,[2]少数民族加分!$C$1:$E$65536,3,FALSE)","v":2},{"v":137.1,"d":"137.10"}]
[4576,"5552270509223","王仙圭","331独山县中医院影山分院","01医技人员",{"$f":"VLOOKUP(B4578,[1]Sheet1!$A:$I,8,0)","v":"67.00"},{"$f":"VLOOKUP(B4578,[1]Sheet1!$A:$I,9,0)","v":"67.50"},{"$f":"VLOOKUP(B4578,[2]少数民族加分!$C$1:$E$65536,3,FALSE)","v":2},{"v":136.5,"d":"136.50"}]
[4577,"5552270504408","陆玉仿","331独山县中医院影山分院","01医技人员",{"$f":"VLOOKUP(B4579,[1]Sheet1!$A:$I,8,0)","v":"66.50"},{"$f":"VLOOKUP(B4579,[1]Sheet1!$A:$I,9,0)","v":"66.70"},{"$f":"VLOOKUP(B4579,[2]少数民族加分!$C$1:$E$65536,3,FALSE)","v":2},{"v":135.2,"d":"135.20"}]
[4578,"5552270504406","唐明慧","331独山县中医院影山分院","01医技人员",{"$f":"VLOOKUP(B4580,[1]Sheet1!$A:$I,8,0)","v":"72.50"},{"$f":"VLOOKUP(B4580,[1]Sheet1!$A:$I,9,0)","v":"60.00"},{"$f":"VLOOKUP(B4580,[2]少数民族加分!$C$1:$E$65536,3,FALSE)","v":2},{"v":134.5,"d":"134.50"}]
[4579,"5552270504430","白荣珍","331独山县中医院影山分院","01医技人员",{"$f":"VLOOKUP(B4581,[1]Sheet1!$A:$I,8,0)","v":"55.00"},{"$f":"VLOOKUP(B4581,[1]Sheet1!$A:$I,9,0)","v":"74.20"},{"$f":"VLOOKUP(B4581,[2]少数民族加分!$C$1:$E$65536,3,FALSE)","v":2},{"v":131.2,"d":"131.20"}]
[4580,"5552270504325","罗丹","331独山县中医院影山分院","01医技人员",{"$f":"VLOOKUP(B4582,[1]Sheet1!$A:$I,8,0)","v":"72.50"},{"$f":"VLOOKUP(B4582,[1]Sheet1!$A:$I,9,0)","v":"55.90"},{"$f":"VLOOKUP(B4582,[2]少数民族加分!$C$1:$E$65536,3,FALSE)","v":2},{"v":130.4,"d":"130.40"}]
[4581,"5552270504419","黎志美","331独山县中医院影山分院","01医技人员",{"$f":"VLOOKUP(B4583,[1]Sheet1!$A:$I,8,0)","v":"73.50"},{"$f":"VLOOKUP(B4583,[1]Sheet1!$A:$I,9,0)","v":"54.80"},null,{"v":128.3,"d":"128.30"}]
[4582,"5552270504315","熊灿琴","331独山县中医院影山分院","01医技人员",{"$f":"VLOOKUP(B4584,[1]Sheet1!$A:$I,8,0)","v":"67.00"},{"$f":"VLOOKUP(B4584,[1]Sheet1!$A:$I,9,0)","v":"60.90"},null,{"v":127.9,"d":"127.90"}]
[4584,"5552270504320","陈荣学","331独山县中医院影山分院","01医技人员",{"$f":"VLOOKUP(B4585,[1]Sheet1!$A:$I,8,0)","v":"53.00"},{"$f":"VLOOKUP(B4585,[1]Sheet1!$A:$I,9,0)","v":"72.20"},{"$f":"VLOOKUP(B4585,[2]少数民族加分!$C$1:$E$65536,3,FALSE)","v":2},{"v":127.2,"d":"127.20"}]
[4583,"5552270509221","覃彦","331独山县中医院影山分院","01医技人员",{"$f":"VLOOKUP(B4586,[1]Sheet1!$A:$I,8,0)","v":"68.00"},{"$f":"VLOOKUP(B4586,[1]Sheet1!$A:$I,9,0)","v":"58.00"},null,{"v":126,"d":"126.00"}]
[4585,"5552270504324","刘盛琼","331独山县中医院影山分院","01医技人员",{"$f":"VLOOKUP(B4587,[1]Sheet1!$A:$I,8,0)","v":"70.50"},{"$f":"VLOOKUP(B4587,[1]Sheet1!$A:$I,9,0)","v":"54.70"},null,{"v":125.2,"d":"125.20"}]
[4586,"5552270504327","吴国花","331独山县中医院影山分院","01医技人员",{"$f":"VLOOKUP(B4588,[1]Sheet1!$A:$I,8,0)","v":"65.00"},{"$f":"VLOOKUP(B4588,[1]Sheet1!$A:$I,9,0)","v":"55.10"},{"$f":"VLOOKUP(B4588,[2]少数民族加分!$C$1:$E$65536,3,FALSE)","v":2},{"v":122.1,"d":"122.10"}]
[4587,"5552270504310","孟宪先","331独山县中医院影山分院","01医技人员",{"$f":"VLOOKUP(B4589,[1]Sheet1!$A:$I,8,0)","v":"58.00"},{"$f":"VLOOKUP(B4589,[1]Sheet1!$A:$I,9,0)","v":"61.20"},{"$f":"VLOOKUP(B4589,[2]少数民族加分!$C$1:$E$65536,3,FALSE)","v":2},{"v":121.2,"d":"121.20"}]
[4589,"5552270504312","龚姣姣","331独山县中医院影山分院","01医技人员",{"$f":"VLOOKUP(B4590,[1]Sheet1!$A:$I,8,0)","v":"58.50"},{"$f":"VLOOKUP(B4590,[1]Sheet1!$A:$I,9,0)","v":"58.30"},{"$f":"VLOOKUP(B4590,[2]少数民族加分!$C$1:$E$65536,3,FALSE)","v":2},{"v":118.8,"d":"118.80"}]
[4590,"5552270504405","鲍鹏","331独山县中医院影山分院","01医技人员",{"$f":"VLOOKUP(B4591,[1]Sheet1!$A:$I,8,0)","v":"44.50"},{"$f":"VLOOKUP(B4591,[1]Sheet1!$A:$I,9,0)","v":"72.20"},{"$f":"VLOOKUP(B4591,[2]少数民族加分!$C$1:$E$65536,3,FALSE)","v":2},{"v":118.7,"d":"118.70"}]
[4588,"5552270504308","陶俊美","331独山县中医院影山分院","01医技人员",{"$f":"VLOOKUP(B4592,[1]Sheet1!$A:$I,8,0)","v":"71.50"},{"$f":"VLOOKUP(B4592,[1]Sheet1!$A:$I,9,0)","v":"46.10"},null,{"v":117.6,"d":"117.60"}]
[4592,"5552270504429","柏礼念","331独山县中医院影山分院","01医技人员",{"$f":"VLOOKUP(B4593,[1]Sheet1!$A:$I,8,0)","v":"67.50"},{"$f":"VLOOKUP(B4593,[1]Sheet1!$A:$I,9,0)","v":"47.60"},{"$f":"VLOOKUP(B4593,[2]少数民族加分!$C$1:$E$65536,3,FALSE)","v":2},{"v":117.1,"d":"117.10"}]
[4591,"5552270504319","王克敏","331独山县中医院影山分院","01医技人员",{"$f":"VLOOKUP(B4594,[1]Sheet1!$A:$I,8,0)","v":"59.50"},{"$f":"VLOOKUP(B4594,[1]Sheet1!$A:$I,9,0)","v":"56.20"},null,{"v":115.7,"d":"115.70"}]
[4593,"5552270504417","莫凤姣","331独山县中医院影山分院","01医技人员",{"$f":"VLOOKUP(B4595,[1]Sheet1!$A:$I,8,0)","v":"47.00"},{"$f":"VLOOKUP(B4595,[1]Sheet1!$A:$I,9,0)","v":"65.30"},null,{"v":112.3,"d":"112.30"}]
[4594,"5552270504407","孟娟","331独山县中医院影山分院","01医技人员",{"$f":"VLOOKUP(B4596,[1]Sheet1!$A:$I,8,0)","v":"56.00"},{"$f":"VLOOKUP(B4596,[1]Sheet1!$A:$I,9,0)","v":"51.40"},null,{"v":107.4,"d":"107.40"}]
[4595,"5552270509327","潘忠艳","331独山县中医院影山分院","01医技人员",{"$f":"VLOOKUP(B4597,[1]Sheet1!$A:$I,8,0)","v":"56.00"},{"$f":"VLOOKUP(B4597,[1]Sheet1!$A:$I,9,0)","v":"40.80"},{"$f":"VLOOKUP(B4597,[2]少数民族加分!$C$1:$E$65536,3,FALSE)","v":2},{"v":98.8,"d":"98.80"}]
[4596,"5552270504330","杨再丽","331独山县中医院影山分院","01医技人员",{"$f":"VLOOKUP(B4598,[1]Sheet1!$A:$I,8,0)","v":"43.50"},{"$f":"VLOOKUP(B4598,[1]Sheet1!$A:$I,9,0)","v":"51.90"},null,{"v":95.4,"d":"95.40"}]
[4597,"5552270509225","石小稳","331独山县中医院影山分院","01医技人员",{"$f":"VLOOKUP(B4599,[1]Sheet1!$A:$I,8,0)","v":"45.00"},{"$f":"VLOOKUP(B4599,[1]Sheet1!$A:$I,9,0)","v":"44.80"},{"$f":"VLOOKUP(B4599,[2]少数民族加分!$C$1:$E$65536,3,FALSE)","v":2},{"v":91.8,"d":"91.80"}]
[4598,"5552270504306","范普娟","331独山县中医院影山分院","01医技人员",{"$f":"VLOOKUP(B4600,[1]Sheet1!$A:$I,8,0)","v":"0.00"},{"$f":"VLOOKUP(B4600,[1]Sheet1!$A:$I,9,0)","v":"0.00"},{"$f":"VLOOKUP(B4600,[2]少数民族加分!$C$1:$E$65536,3,FALSE)","v":2},"缺考"]
[4599,"5552270504318","尹长敏","331独山县中医院影山分院","01医技人员",{"$f":"VLOOKUP(B4601,[1]Sheet1!$A:$I,8,0)","v":"0.00"},{"$f":"VLOOKUP(B4601,[1]Sheet1!$A:$I,9,0)","v":"0.00"},{"$f":"VLOOKUP(B4601,[2]少数民族加分!$C$1:$E$65536,3,FALSE)","v":2},"缺考"]
[4600,"5552270504321","张天梅","331独山县中医院影山分院","01医技人员",{"$f":"VLOOKUP(B4602,[1]Sheet1!$A:$I,8,0)","v":"0.00"},{"$f":"VLOOKUP(B4602,[1]Sheet1!$A:$I,9,0)","v":"0.00"},null,"缺考"]
[4601,"5552270504411","潘政华","331独山县中医院影山分院","01医技人员",{"$f":"VLOOKUP(B4603,[1]Sheet1!$A:$I,8,0)","v":"0.00"},{"$f":"VLOOKUP(B4603,[1]Sheet1!$A:$I,9,0)","v":"0.00"},{"$f":"VLOOKUP(B4603,[2]少数民族加分!$C$1:$E$65536,3,FALSE)","v":2},"缺考"]
[4602,"5552270504414","韦兴盼","331独山县中医院影山分院","01医技人员",{"$f":"VLOOKUP(B4604,[1]Sheet1!$A:$I,8,0)","v":"0.00"},{"$f":"VLOOKUP(B4604,[1]Sheet1!$A:$I,9,0)","v":"0.00"},{"$f":"VLOOKUP(B4604,[2]少数民族加分!$C$1:$E$65536,3,FALSE)","v":2},"缺考"]
[4603,"5552270504424","周泽霞","331独山县中医院影山分院","01医技人员",{"$f":"VLOOKUP(B4605,[1]Sheet1!$A:$I,8,0)","v":"0.00"},{"$f":"VLOOKUP(B4605,[1]Sheet1!$A:$I,9,0)","v":"0.00"},null,"缺考"]
[4604,"5552270504426","陈艳","331独山县中医院影山分院","01医技人员",{"$f":"VLOOKUP(B4606,[1]Sheet1!$A:$I,8,0)","v":"0.00"},{"$f":"VLOOKUP(B4606,[1]Sheet1!$A:$I,9,0)","v":"0.00"},{"$f":"VLOOKUP(B4606,[2]少数民族加分!$C$1:$E$65536,3,FALSE)","v":2},"缺考"]
[4605,"5552270509222","吴连圆","331独山县中医院影山分院","01医技人员",{"$f":"VLOOKUP(B4607,[1]Sheet1!$A:$I,8,0)","v":"0.00"},{"$f":"VLOOKUP(B4607,[1]Sheet1!$A:$I,9,0)","v":"0.00"},{"$f":"VLOOKUP(B4607,[2]少数民族加分!$C$1:$E$65536,3,FALSE)","v":2},"缺考"]
[4606,"5152270509110","陆芳芳","332独山县中医院分院","02医务人员",{"$f":"VLOOKUP(B4608,[1]Sheet1!$A:$I,8,0)","v":"80.00"},{"$f":"VLOOKUP(B4608,[1]Sheet1!$A:$I,9,0)","v":"73.40"},null,{"v":153.4,"d":"153.40"}]
[4607,"5152270509109","蒙焕静","332独山县中医院分院","02医务人员",{"$f":"VLOOKUP(B4609,[1]Sheet1!$A:$I,8,0)","v":"78.50"},{"$f":"VLOOKUP(B4609,[1]Sheet1!$A:$I,9,0)","v":"68.50"},{"$f":"VLOOKUP(B4609,[2]少数民族加分!$C$1:$E$65536,3,FALSE)","v":2},{"v":149,"d":"149.00"}]
[4608,"5252270502002","廖月逢","332独山县中医院分院","03医务人员",{"$f":"VLOOKUP(B4610,[1]Sheet1!$A:$I,8,0)","v":"76.50"},{"$f":"VLOOKUP(B4610,[1]Sheet1!$A:$I,9,0)","v":"88.90"},{"$f":"VLOOKUP(B4610,[2]少数民族加分!$C$1:$E$65536,3,FALSE)","v":2},{"v":167.4,"d":"167.40"}]
[4609,"5252270501923","刘冠雨","332独山县中医院分院","03医务人员",{"$f":"VLOOKUP(B4611,[1]Sheet1!$A:$I,8,0)","v":"70.50"},{"$f":"VLOOKUP(B4611,[1]Sheet1!$A:$I,9,0)","v":"86.50"},null,{"v":157,"d":"157.00"}]
[4611,"5252270501908","陈婷婷","332独山县中医院分院","03医务人员",{"$f":"VLOOKUP(B4612,[1]Sheet1!$A:$I,8,0)","v":"70.50"},{"$f":"VLOOKUP(B4612,[1]Sheet1!$A:$I,9,0)","v":"72.00"},{"$f":"VLOOKUP(B4612,[2]少数民族加分!$C$1:$E$65536,3,FALSE)","v":2},{"v":144.5,"d":"144.50"}]
[4610,"5252270502009","左再建","332独山县中医院分院","03医务人员",{"$f":"VLOOKUP(B4613,[1]Sheet1!$A:$I,8,0)","v":"64.50"},{"$f":"VLOOKUP(B4613,[1]Sheet1!$A:$I,9,0)","v":"79.60"},null,{"v":144.1,"d":"144.10"}]
[4612,"5252270502019","邹婷","332独山县中医院分院","03医务人员",{"$f":"VLOOKUP(B4614,[1]Sheet1!$A:$I,8,0)","v":"69.00"},{"$f":"VLOOKUP(B4614,[1]Sheet1!$A:$I,9,0)","v":"71.10"},null,{"v":140.1,"d":"140.10"}]
[4613,"5252270502007","陈雪敏","332独山县中医院分院","03医务人员",{"$f":"VLOOKUP(B4615,[1]Sheet1!$A:$I,8,0)","v":"67.00"},{"$f":"VLOOKUP(B4615,[1]Sheet1!$A:$I,9,0)","v":"69.00"},{"$f":"VLOOKUP(B4615,[2]少数民族加分!$C$1:$E$65536,3,FALSE)","v":2},{"v":138,"d":"138.00"}]
[4614,"5252270501928","宋庆梅","332独山县中医院分院","03医务人员",{"$f":"VLOOKUP(B4616,[1]Sheet1!$A:$I,8,0)","v":"55.50"},{"$f":"VLOOKUP(B4616,[1]Sheet1!$A:$I,9,0)","v":"76.80"},{"$f":"VLOOKUP(B4616,[2]少数民族加分!$C$1:$E$65536,3,FALSE)","v":2},{"v":134.3,"d":"134.30"}]
[4615,"5252270501906","陆定焕","332独山县中医院分院","03医务人员",{"$f":"VLOOKUP(B4617,[1]Sheet1!$A:$I,8,0)","v":"69.00"},{"$f":"VLOOKUP(B4617,[1]Sheet1!$A:$I,9,0)","v":"61.90"},{"$f":"VLOOKUP(B4617,[2]少数民族加分!$C$1:$E$65536,3,FALSE)","v":2},{"v":132.9,"d":"132.90"}]
[4616,"5252270501926","艾世梅","332独山县中医院分院","03医务人员",{"$f":"VLOOKUP(B4618,[1]Sheet1!$A:$I,8,0)","v":"61.00"},{"$f":"VLOOKUP(B4618,[1]Sheet1!$A:$I,9,0)","v":"69.40"},{"$f":"VLOOKUP(B4618,[2]少数民族加分!$C$1:$E$65536,3,FALSE)","v":2},{"v":132.4,"d":"132.40"}]
[4617,"5252270501925","陈丽珊","332独山县中医院分院","03医务人员",{"$f":"VLOOKUP(B4619,[1]Sheet1!$A:$I,8,0)","v":"55.00"},{"$f":"VLOOKUP(B4619,[1]Sheet1!$A:$I,9,0)","v":"73.40"},{"$f":"VLOOKUP(B4619,[2]少数民族加分!$C$1:$E$65536,3,FALSE)","v":2},{"v":130.4,"d":"130.40"}]
[4618,"5252270502016","孟远秋","332独山县中医院分院","03医务人员",{"$f":"VLOOKUP(B4620,[1]Sheet1!$A:$I,8,0)","v":"59.50"},{"$f":"VLOOKUP(B4620,[1]Sheet1!$A:$I,9,0)","v":"66.50"},{"$f":"VLOOKUP(B4620,[2]少数民族加分!$C$1:$E$65536,3,FALSE)","v":2},{"v":128,"d":"128.00"}]
[4619,"5252270501904","谭清强","332独山县中医院分院","03医务人员",{"$f":"VLOOKUP(B4621,[1]Sheet1!$A:$I,8,0)","v":"56.50"},{"$f":"VLOOKUP(B4621,[1]Sheet1!$A:$I,9,0)","v":"69.40"},{"$f":"VLOOKUP(B4621,[2]少数民族加分!$C$1:$E$65536,3,FALSE)","v":2},{"v":127.9,"d":"127.90"}]
[4621,"5252270502001","韦慈优","332独山县中医院分院","03医务人员",{"$f":"VLOOKUP(B4622,[1]Sheet1!$A:$I,8,0)","v":"58.50"},{"$f":"VLOOKUP(B4622,[1]Sheet1!$A:$I,9,0)","v":"65.70"},{"$f":"VLOOKUP(B4622,[2]少数民族加分!$C$1:$E$65536,3,FALSE)","v":2},{"v":126.2,"d":"126.20"}]
[4622,"5252270502017","莫夏飞","332独山县中医院分院","03医务人员",{"$f":"VLOOKUP(B4623,[1]Sheet1!$A:$I,8,0)","v":"62.00"},{"$f":"VLOOKUP(B4623,[1]Sheet1!$A:$I,9,0)","v":"61.50"},{"$f":"VLOOKUP(B4623,[2]少数民族加分!$C$1:$E$65536,3,FALSE)","v":2},{"v":125.5,"d":"125.50"}]
[4620,"5252270501912","卢江念","332独山县中医院分院","03医务人员",{"$f":"VLOOKUP(B4624,[1]Sheet1!$A:$I,8,0)","v":"52.00"},{"$f":"VLOOKUP(B4624,[1]Sheet1!$A:$I,9,0)","v":"73.10"},null,{"v":125.1,"d":"125.10"}]
[4623,"5252270502030","罗鸾凤","332独山县中医院分院","03医务人员",{"$f":"VLOOKUP(B4625,[1]Sheet1!$A:$I,8,0)","v":"61.00"},{"$f":"VLOOKUP(B4625,[1]Sheet1!$A:$I,9,0)","v":"62.10"},{"$f":"VLOOKUP(B4625,[2]少数民族加分!$C$1:$E$65536,3,FALSE)","v":2},{"v":125.1,"d":"125.10"}]
[4624,"5252270501915","刘慧","332独山县中医院分院","03医务人员",{"$f":"VLOOKUP(B4626,[1]Sheet1!$A:$I,8,0)","v":"33.50"},{"$f":"VLOOKUP(B4626,[1]Sheet1!$A:$I,9,0)","v":"70.90"},{"$f":"VLOOKUP(B4626,[2]少数民族加分!$C$1:$E$65536,3,FALSE)","v":2},{"v":106.4,"d":"106.40"}]
[4625,"5252270501907","吴谋德","332独山县中医院分院","03医务人员",{"$f":"VLOOKUP(B4627,[1]Sheet1!$A:$I,8,0)","v":"0.00"},{"$f":"VLOOKUP(B4627,[1]Sheet1!$A:$I,9,0)","v":"0.00"},{"$f":"VLOOKUP(B4627,[2]少数民族加分!$C$1:$E$65536,3,FALSE)","v":2},"缺考"]
[4626,"5252270501917","陈菊","332独山县中医院分院","03医务人员",{"$f":"VLOOKUP(B4628,[1]Sheet1!$A:$I,8,0)","v":"0.00"},{"$f":"VLOOKUP(B4628,[1]Sheet1!$A:$I,9,0)","v":"0.00"},{"$f":"VLOOKUP(B4628,[2]少数民族加分!$C$1:$E$65536,3,FALSE)","v":2},"缺考"]
[4627,"5252270501920","潘琼","332独山县中医院分院","03医务人员",{"$f":"VLOOKUP(B4629,[1]Sheet1!$A:$I,8,0)","v":"0.00"},{"$f":"VLOOKUP(B4629,[1]Sheet1!$A:$I,9,0)","v":"0.00"},{"$f":"VLOOKUP(B4629,[2]少数民族加分!$C$1:$E$65536,3,FALSE)","v":2},"缺考"]
[4628,"5452270503625","王友凤","332独山县中医院分院","04医务人员",{"$f":"VLOOKUP(B4630,[1]Sheet1!$A:$I,8,0)","v":"78.50"},{"$f":"VLOOKUP(B4630,[1]Sheet1!$A:$I,9,0)","v":"86.10"},null,{"v":164.6,"d":"164.60"}]
[4629,"5452270503212","吴秋莉","332独山县中医院分院","04医务人员",{"$f":"VLOOKUP(B4631,[1]Sheet1!$A:$I,8,0)","v":"79.50"},{"$f":"VLOOKUP(B4631,[1]Sheet1!$A:$I,9,0)","v":"82.00"},{"$f":"VLOOKUP(B4631,[2]少数民族加分!$C$1:$E$65536,3,FALSE)","v":2},{"v":163.5,"d":"163.50"}]
[4631,"5452270502728","莫凤莲","332独山县中医院分院","04医务人员",{"$f":"VLOOKUP(B4632,[1]Sheet1!$A:$I,8,0)","v":"86.00"},{"$f":"VLOOKUP(B4632,[1]Sheet1!$A:$I,9,0)","v":"73.20"},{"$f":"VLOOKUP(B4632,[2]少数民族加分!$C$1:$E$65536,3,FALSE)","v":2},{"v":161.2,"d":"161.20"}]
[4630,"5452270503603","王尚虹","332独山县中医院分院","04医务人员",{"$f":"VLOOKUP(B4633,[1]Sheet1!$A:$I,8,0)","v":"96.00"},{"$f":"VLOOKUP(B4633,[1]Sheet1!$A:$I,9,0)","v":"64.10"},null,{"v":160.1,"d":"160.10"}]
[4634,"5452270504201","欧阳海欢","332独山县中医院分院","04医务人员",{"$f":"VLOOKUP(B4634,[1]Sheet1!$A:$I,8,0)","v":"83.50"},{"$f":"VLOOKUP(B4634,[1]Sheet1!$A:$I,9,0)","v":"71.10"},{"$f":"VLOOKUP(B4634,[2]少数民族加分!$C$1:$E$65536,3,FALSE)","v":2},{"v":156.6,"d":"156.60"}]
[4635,"5452270504027","蒙爽","332独山县中医院分院","04医务人员",{"$f":"VLOOKUP(B4635,[1]Sheet1!$A:$I,8,0)","v":"85.50"},{"$f":"VLOOKUP(B4635,[1]Sheet1!$A:$I,9,0)","v":"69.00"},{"$f":"VLOOKUP(B4635,[2]少数民族加分!$C$1:$E$65536,3,FALSE)","v":2},{"v":156.5,"d":"156.50"}]
[4636,"5452270503918","杨承票","332独山县中医院分院","04医务人员",{"$f":"VLOOKUP(B4636,[1]Sheet1!$A:$I,8,0)","v":"80.00"},{"$f":"VLOOKUP(B4636,[1]Sheet1!$A:$I,9,0)","v":"74.30"},{"$f":"VLOOKUP(B4636,[2]少数民族加分!$C$1:$E$65536,3,FALSE)","v":2},{"v":156.3,"d":"156.30"}]
[4632,"5452270503721","沈小念","332独山县中医院分院","04医务人员",{"$f":"VLOOKUP(B4637,[1]Sheet1!$A:$I,8,0)","v":"81.00"},{"$f":"VLOOKUP(B4637,[1]Sheet1!$A:$I,9,0)","v":"74.70"},null,{"v":155.7,"d":"155.70"}]
[4633,"5452270503805","陆道美","332独山县中医院分院","04医务人员",{"$f":"VLOOKUP(B4638,[1]Sheet1!$A:$I,8,0)","v":"73.00"},{"$f":"VLOOKUP(B4638,[1]Sheet1!$A:$I,9,0)","v":"81.90"},null,{"v":154.9,"d":"154.90"}]
[4637,"5452270502830","杨金香","332独山县中医院分院","04医务人员",{"$f":"VLOOKUP(B4639,[1]Sheet1!$A:$I,8,0)","v":"83.50"},{"$f":"VLOOKUP(B4639,[1]Sheet1!$A:$I,9,0)","v":"68.60"},{"$f":"VLOOKUP(B4639,[2]少数民族加分!$C$1:$E$65536,3,FALSE)","v":2},{"v":154.1,"d":"154.10"}]
[4638,"5452270502626","冯佳佳","332独山县中医院分院","04医务人员",{"$f":"VLOOKUP(B4640,[1]Sheet1!$A:$I,8,0)","v":"74.50"},{"$f":"VLOOKUP(B4640,[1]Sheet1!$A:$I,9,0)","v":"77.10"},{"$f":"VLOOKUP(B4640,[2]少数民族加分!$C$1:$E$65536,3,FALSE)","v":2},{"v":153.6,"d":"153.60"}]
[4641,"5452270503929","莫芳","332独山县中医院分院","04医务人员",{"$f":"VLOOKUP(B4641,[1]Sheet1!$A:$I,8,0)","v":"72.50"},{"$f":"VLOOKUP(B4641,[1]Sheet1!$A:$I,9,0)","v":"78.50"},{"$f":"VLOOKUP(B4641,[2]少数民族加分!$C$1:$E$65536,3,FALSE)","v":2},{"v":153,"d":"153.00"}]
[4643,"5452270504026","谭忠红","332独山县中医院分院","04医务人员",{"$f":"VLOOKUP(B4642,[1]Sheet1!$A:$I,8,0)","v":"68.00"},{"$f":"VLOOKUP(B4642,[1]Sheet1!$A:$I,9,0)","v":"82.10"},{"$f":"VLOOKUP(B4642,[2]少数民族加分!$C$1:$E$65536,3,FALSE)","v":2},{"v":152.1,"d":"152.10"}]
[4639,"5452270502302","肖哲","332独山县中医院分院","04医务人员",{"$f":"VLOOKUP(B4643,[1]Sheet1!$A:$I,8,0)","v":"86.50"},{"$f":"VLOOKUP(B4643,[1]Sheet1!$A:$I,9,0)","v":"64.50"},null,{"v":151,"d":"151.00"}]
[4640,"5452270503106","刘兴雨","332独山县中医院分院","04医务人员",{"$f":"VLOOKUP(B4644,[1]Sheet1!$A:$I,8,0)","v":"87.00"},{"$f":"VLOOKUP(B4644,[1]Sheet1!$A:$I,9,0)","v":"64.00"},null,{"v":151,"d":"151.00"}]
[4642,"5452270503116","覃德琴","332独山县中医院分院","04医务人员",{"$f":"VLOOKUP(B4645,[1]Sheet1!$A:$I,8,0)","v":"81.00"},{"$f":"VLOOKUP(B4645,[1]Sheet1!$A:$I,9,0)","v":"69.80"},null,{"v":150.8,"d":"150.80"}]
[4644,"5452270502630","覃云凤","332独山县中医院分院","04医务人员",{"$f":"VLOOKUP(B4646,[1]Sheet1!$A:$I,8,0)","v":"82.00"},{"$f":"VLOOKUP(B4646,[1]Sheet1!$A:$I,9,0)","v":"66.40"},{"$f":"VLOOKUP(B4646,[2]少数民族加分!$C$1:$E$65536,3,FALSE)","v":2},{"v":150.4,"d":"150.40"}]
[4645,"5452270502601","文莎","332独山县中医院分院","04医务人员",{"$f":"VLOOKUP(B4647,[1]Sheet1!$A:$I,8,0)","v":"85.00"},{"$f":"VLOOKUP(B4647,[1]Sheet1!$A:$I,9,0)","v":"62.80"},{"$f":"VLOOKUP(B4647,[2]少数民族加分!$C$1:$E$65536,3,FALSE)","v":2},{"v":149.8,"d":"149.80"}]
[4648,"5452270504203","莫凤相","332独山县中医院分院","04医务人员",{"$f":"VLOOKUP(B4648,[1]Sheet1!$A:$I,8,0)","v":"70.50"},{"$f":"VLOOKUP(B4648,[1]Sheet1!$A:$I,9,0)","v":"75.30"},{"$f":"VLOOKUP(B4648,[2]少数民族加分!$C$1:$E$65536,3,FALSE)","v":2},{"v":147.8,"d":"147.80"}]
[4646,"5452270502409","宋颖","332独山县中医院分院","04医务人员",{"$f":"VLOOKUP(B4649,[1]Sheet1!$A:$I,8,0)","v":"83.00"},{"$f":"VLOOKUP(B4649,[1]Sheet1!$A:$I,9,0)","v":"64.60"},null,{"v":147.6,"d":"147.60"}]
[4647,"5452270504230","李双玲","332独山县中医院分院","04医务人员",{"$f":"VLOOKUP(B4650,[1]Sheet1!$A:$I,8,0)","v":"74.50"},{"$f":"VLOOKUP(B4650,[1]Sheet1!$A:$I,9,0)","v":"71.50"},null,{"v":146,"d":"146.00"}]
[4649,"5452270503411","韦莉问","332独山县中医院分院","04医务人员",{"$f":"VLOOKUP(B4651,[1]Sheet1!$A:$I,8,0)","v":"67.00"},{"$f":"VLOOKUP(B4651,[1]Sheet1!$A:$I,9,0)","v":"76.70"},{"$f":"VLOOKUP(B4651,[2]少数民族加分!$C$1:$E$65536,3,FALSE)","v":2},{"v":145.7,"d":"145.70"}]
[4651,"5452270502602","石鹏","332独山县中医院分院","04医务人员",{"$f":"VLOOKUP(B4652,[1]Sheet1!$A:$I,8,0)","v":"69.00"},{"$f":"VLOOKUP(B4652,[1]Sheet1!$A:$I,9,0)","v":"74.00"},{"$f":"VLOOKUP(B4652,[2]少数民族加分!$C$1:$E$65536,3,FALSE)","v":2},{"v":145,"d":"145.00"}]
[4652,"5452270504101","杨希敏","332独山县中医院分院","04医务人员",{"$f":"VLOOKUP(B4653,[1]Sheet1!$A:$I,8,0)","v":"71.00"},{"$f":"VLOOKUP(B4653,[1]Sheet1!$A:$I,9,0)","v":"70.90"},{"$f":"VLOOKUP(B4653,[2]少数民族加分!$C$1:$E$65536,3,FALSE)","v":2},{"v":143.9,"d":"143.90"}]
[4650,"5452270503828","赵丹","332独山县中医院分院","04医务人员",{"$f":"VLOOKUP(B4654,[1]Sheet1!$A:$I,8,0)","v":"77.00"},{"$f":"VLOOKUP(B4654,[1]Sheet1!$A:$I,9,0)","v":"66.20"},null,{"v":143.2,"d":"143.20"}]
[4654,"5452270504118","韦广利","332独山县中医院分院","04医务人员",{"$f":"VLOOKUP(B4655,[1]Sheet1!$A:$I,8,0)","v":"78.00"},{"$f":"VLOOKUP(B4655,[1]Sheet1!$A:$I,9,0)","v":"63.00"},{"$f":"VLOOKUP(B4655,[2]少数民族加分!$C$1:$E$65536,3,FALSE)","v":2},{"v":143,"d":"143.00"}]
[4655,"5452270503716","李芳","332独山县中医院分院","04医务人员",{"$f":"VLOOKUP(B4656,[1]Sheet1!$A:$I,8,0)","v":"71.50"},{"$f":"VLOOKUP(B4656,[1]Sheet1!$A:$I,9,0)","v":"68.00"},{"$f":"VLOOKUP(B4656,[2]少数民族加分!$C$1:$E$65536,3,FALSE)","v":2},{"v":141.5,"d":"141.50"}]
[4656,"5452270503105","石宏群","332独山县中医院分院","04医务人员",{"$f":"VLOOKUP(B4657,[1]Sheet1!$A:$I,8,0)","v":"74.00"},{"$f":"VLOOKUP(B4657,[1]Sheet1!$A:$I,9,0)","v":"65.30"},{"$f":"VLOOKUP(B4657,[2]少数民族加分!$C$1:$E$65536,3,FALSE)","v":2},{"v":141.3,"d":"141.30"}]
[4653,"5452270502715","梁小燕","332独山县中医院分院","04医务人员",{"$f":"VLOOKUP(B4658,[1]Sheet1!$A:$I,8,0)","v":"72.00"},{"$f":"VLOOKUP(B4658,[1]Sheet1!$A:$I,9,0)","v":"69.20"},null,{"v":141.2,"d":"141.20"}]
[4657,"5452270502825","覃荣玉","332独山县中医院分院","04医务人员",{"$f":"VLOOKUP(B4659,[1]Sheet1!$A:$I,8,0)","v":"75.50"},{"$f":"VLOOKUP(B4659,[1]Sheet1!$A:$I,9,0)","v":"63.70"},{"$f":"VLOOKUP(B4659,[2]少数民族加分!$C$1:$E$65536,3,FALSE)","v":2},{"v":141.2,"d":"141.20"}]
[4658,"5452270503813","刘德会","332独山县中医院分院","04医务人员",{"$f":"VLOOKUP(B4660,[1]Sheet1!$A:$I,8,0)","v":"71.00"},{"$f":"VLOOKUP(B4660,[1]Sheet1!$A:$I,9,0)","v":"68.20"},{"$f":"VLOOKUP(B4660,[2]少数民族加分!$C$1:$E$65536,3,FALSE)","v":2},{"v":141.2,"d":"141.20"}]
[4659,"5452270504119","张仁娇","332独山县中医院分院","04医务人员",{"$f":"VLOOKUP(B4661,[1]Sheet1!$A:$I,8,0)","v":"80.00"},{"$f":"VLOOKUP(B4661,[1]Sheet1!$A:$I,9,0)","v":"59.20"},{"$f":"VLOOKUP(B4661,[2]少数民族加分!$C$1:$E$65536,3,FALSE)","v":2},{"v":141.2,"d":"141.20"}]
[4660,"5452270503401","潘洪梅","332独山县中医院分院","04医务人员",{"$f":"VLOOKUP(B4662,[1]Sheet1!$A:$I,8,0)","v":"69.00"},{"$f":"VLOOKUP(B4662,[1]Sheet1!$A:$I,9,0)","v":"69.30"},{"$f":"VLOOKUP(B4662,[2]少数民族加分!$C$1:$E$65536,3,FALSE)","v":2},{"v":140.3,"d":"140.30"}]
[4661,"5452270503117","彭念飘","332独山县中医院分院","04医务人员",{"$f":"VLOOKUP(B4663,[1]Sheet1!$A:$I,8,0)","v":"79.50"},{"$f":"VLOOKUP(B4663,[1]Sheet1!$A:$I,9,0)","v":"58.70"},{"$f":"VLOOKUP(B4663,[2]少数民族加分!$C$1:$E$65536,3,FALSE)","v":2},{"v":140.2,"d":"140.20"}]
[4662,"5452270504028","郭秀菊","332独山县中医院分院","04医务人员",{"$f":"VLOOKUP(B4664,[1]Sheet1!$A:$I,8,0)","v":"68.00"},{"$f":"VLOOKUP(B4664,[1]Sheet1!$A:$I,9,0)","v":"70.00"},{"$f":"VLOOKUP(B4664,[2]少数民族加分!$C$1:$E$65536,3,FALSE)","v":2},{"v":140,"d":"140.00"}]
[4663,"5452270503704","陆维欢","332独山县中医院分院","04医务人员",{"$f":"VLOOKUP(B4665,[1]Sheet1!$A:$I,8,0)","v":"72.50"},{"$f":"VLOOKUP(B4665,[1]Sheet1!$A:$I,9,0)","v":"65.00"},{"$f":"VLOOKUP(B4665,[2]少数民族加分!$C$1:$E$65536,3,FALSE)","v":2},{"v":139.5,"d":"139.50"}]
[4664,"5452270503501","覃柳夏","332独山县中医院分院","04医务人员",{"$f":"VLOOKUP(B4666,[1]Sheet1!$A:$I,8,0)","v":"70.50"},{"$f":"VLOOKUP(B4666,[1]Sheet1!$A:$I,9,0)","v":"66.20"},{"$f":"VLOOKUP(B4666,[2]少数民族加分!$C$1:$E$65536,3,FALSE)","v":2},{"v":138.7,"d":"138.70"}]
[4665,"5452270503430","蒙尖","332独山县中医院分院","04医务人员",{"$f":"VLOOKUP(B4667,[1]Sheet1!$A:$I,8,0)","v":"71.00"},{"$f":"VLOOKUP(B4667,[1]Sheet1!$A:$I,9,0)","v":"65.20"},{"$f":"VLOOKUP(B4667,[2]少数民族加分!$C$1:$E$65536,3,FALSE)","v":2},{"v":138.2,"d":"138.20"}]
[4666,"5452270502420","莫龙爽","332独山县中医院分院","04医务人员",{"$f":"VLOOKUP(B4668,[1]Sheet1!$A:$I,8,0)","v":"77.00"},{"$f":"VLOOKUP(B4668,[1]Sheet1!$A:$I,9,0)","v":"58.60"},{"$f":"VLOOKUP(B4668,[2]少数民族加分!$C$1:$E$65536,3,FALSE)","v":2},{"v":137.6,"d":"137.60"}]
[4667,"5452270503213","韦学召","332独山县中医院分院","04医务人员",{"$f":"VLOOKUP(B4669,[1]Sheet1!$A:$I,8,0)","v":"61.50"},{"$f":"VLOOKUP(B4669,[1]Sheet1!$A:$I,9,0)","v":"74.10"},{"$f":"VLOOKUP(B4669,[2]少数民族加分!$C$1:$E$65536,3,FALSE)","v":2},{"v":137.6,"d":"137.60"}]
[4668,"5452270504123","蔡德香","332独山县中医院分院","04医务人员",{"$f":"VLOOKUP(B4670,[1]Sheet1!$A:$I,8,0)","v":"63.50"},{"$f":"VLOOKUP(B4670,[1]Sheet1!$A:$I,9,0)","v":"72.10"},{"$f":"VLOOKUP(B4670,[2]少数民族加分!$C$1:$E$65536,3,FALSE)","v":2},{"v":137.6,"d":"137.60"}]
[4669,"5452270502522","孟致睿","332独山县中医院分院","04医务人员",{"$f":"VLOOKUP(B4671,[1]Sheet1!$A:$I,8,0)","v":"70.00"},{"$f":"VLOOKUP(B4671,[1]Sheet1!$A:$I,9,0)","v":"65.50"},{"$f":"VLOOKUP(B4671,[2]少数民族加分!$C$1:$E$65536,3,FALSE)","v":2},{"v":137.5,"d":"137.50"}]
[4670,"5452270502815","龙兴秀","332独山县中医院分院","04医务人员",{"$f":"VLOOKUP(B4672,[1]Sheet1!$A:$I,8,0)","v":"65.50"},{"$f":"VLOOKUP(B4672,[1]Sheet1!$A:$I,9,0)","v":"70.00"},{"$f":"VLOOKUP(B4672,[2]少数民族加分!$C$1:$E$65536,3,FALSE)","v":2},{"v":137.5,"d":"137.50"}]
[4671,"5452270503523","桂燕红","332独山县中医院分院","04医务人员",{"$f":"VLOOKUP(B4673,[1]Sheet1!$A:$I,8,0)","v":"56.50"},{"$f":"VLOOKUP(B4673,[1]Sheet1!$A:$I,9,0)","v":"78.90"},{"$f":"VLOOKUP(B4673,[2]少数民族加分!$C$1:$E$65536,3,FALSE)","v":2},{"v":137.4,"d":"137.40"}]
[4672,"5452270503807","杨勋梅","332独山县中医院分院","04医务人员",{"$f":"VLOOKUP(B4674,[1]Sheet1!$A:$I,8,0)","v":"71.50"},{"$f":"VLOOKUP(B4674,[1]Sheet1!$A:$I,9,0)","v":"63.90"},{"$f":"VLOOKUP(B4674,[2]少数民族加分!$C$1:$E$65536,3,FALSE)","v":2},{"v":137.4,"d":"137.40"}]
[4673,"5452270503210","黎训","332独山县中医院分院","04医务人员",{"$f":"VLOOKUP(B4675,[1]Sheet1!$A:$I,8,0)","v":"63.00"},{"$f":"VLOOKUP(B4675,[1]Sheet1!$A:$I,9,0)","v":"71.90"},{"$f":"VLOOKUP(B4675,[2]少数民族加分!$C$1:$E$65536,3,FALSE)","v":2},{"v":136.9,"d":"136.90"}]
[4674,"5452270503624","吴安燕","332独山县中医院分院","04医务人员",{"$f":"VLOOKUP(B4676,[1]Sheet1!$A:$I,8,0)","v":"70.00"},{"$f":"VLOOKUP(B4676,[1]Sheet1!$A:$I,9,0)","v":"64.80"},{"$f":"VLOOKUP(B4676,[2]少数民族加分!$C$1:$E$65536,3,FALSE)","v":2},{"v":136.8,"d":"136.80"}]
[4675,"5452270502424","唐显佳","332独山县中医院分院","04医务人员",{"$f":"VLOOKUP(B4677,[1]Sheet1!$A:$I,8,0)","v":"72.50"},{"$f":"VLOOKUP(B4677,[1]Sheet1!$A:$I,9,0)","v":"62.20"},{"$f":"VLOOKUP(B4677,[2]少数民族加分!$C$1:$E$65536,3,FALSE)","v":2},{"v":136.7,"d":"136.70"}]
[4676,"5452270503708","韦井分","332独山县中医院分院","04医务人员",{"$f":"VLOOKUP(B4678,[1]Sheet1!$A:$I,8,0)","v":"67.50"},{"$f":"VLOOKUP(B4678,[1]Sheet1!$A:$I,9,0)","v":"67.20"},{"$f":"VLOOKUP(B4678,[2]少数民族加分!$C$1:$E$65536,3,FALSE)","v":2},{"v":136.7,"d":"136.70"}]
[4677,"5452270502508","石炳珍","332独山县中医院分院","04医务人员",{"$f":"VLOOKUP(B4679,[1]Sheet1!$A:$I,8,0)","v":"69.00"},{"$f":"VLOOKUP(B4679,[1]Sheet1!$A:$I,9,0)","v":"65.30"},{"$f":"VLOOKUP(B4679,[2]少数民族加分!$C$1:$E$65536,3,FALSE)","v":2},{"v":136.3,"d":"136.30"}]
[4678,"5452270503930","蔡梅芝","332独山县中医院分院","04医务人员",{"$f":"VLOOKUP(B4680,[1]Sheet1!$A:$I,8,0)","v":"68.00"},{"$f":"VLOOKUP(B4680,[1]Sheet1!$A:$I,9,0)","v":"66.30"},{"$f":"VLOOKUP(B4680,[2]少数民族加分!$C$1:$E$65536,3,FALSE)","v":2},{"v":136.3,"d":"136.30"}]
[4679,"5452270503317","蒙泽忍","332独山县中医院分院","04医务人员",{"$f":"VLOOKUP(B4681,[1]Sheet1!$A:$I,8,0)","v":"65.50"},{"$f":"VLOOKUP(B4681,[1]Sheet1!$A:$I,9,0)","v":"68.70"},{"$f":"VLOOKUP(B4681,[2]少数民族加分!$C$1:$E$65536,3,FALSE)","v":2},{"v":136.2,"d":"136.20"}]
[4680,"5452270502920","岑应红","332独山县中医院分院","04医务人员",{"$f":"VLOOKUP(B4682,[1]Sheet1!$A:$I,8,0)","v":"58.00"},{"$f":"VLOOKUP(B4682,[1]Sheet1!$A:$I,9,0)","v":"76.00"},{"$f":"VLOOKUP(B4682,[2]少数民族加分!$C$1:$E$65536,3,FALSE)","v":2},{"v":136,"d":"136.00"}]
[4682,"5452270502618","莫倩","332独山县中医院分院","04医务人员",{"$f":"VLOOKUP(B4683,[1]Sheet1!$A:$I,8,0)","v":"68.00"},{"$f":"VLOOKUP(B4683,[1]Sheet1!$A:$I,9,0)","v":"65.40"},{"$f":"VLOOKUP(B4683,[2]少数民族加分!$C$1:$E$65536,3,FALSE)","v":2},{"v":135.4,"d":"135.40"}]
[4683,"5452270503309","树长维","332独山县中医院分院","04医务人员",{"$f":"VLOOKUP(B4684,[1]Sheet1!$A:$I,8,0)","v":"65.00"},{"$f":"VLOOKUP(B4684,[1]Sheet1!$A:$I,9,0)","v":"68.00"},{"$f":"VLOOKUP(B4684,[2]少数民族加分!$C$1:$E$65536,3,FALSE)","v":2},{"v":135,"d":"135.00"}]
[4684,"5452270503619","李嘉欣","332独山县中医院分院","04医务人员",{"$f":"VLOOKUP(B4685,[1]Sheet1!$A:$I,8,0)","v":"77.00"},{"$f":"VLOOKUP(B4685,[1]Sheet1!$A:$I,9,0)","v":"55.80"},{"$f":"VLOOKUP(B4685,[2]少数民族加分!$C$1:$E$65536,3,FALSE)","v":2},{"v":134.8,"d":"134.80"}]
[4685,"5452270503006","黄雨","332独山县中医院分院","04医务人员",{"$f":"VLOOKUP(B4686,[1]Sheet1!$A:$I,8,0)","v":"66.50"},{"$f":"VLOOKUP(B4686,[1]Sheet1!$A:$I,9,0)","v":"66.10"},{"$f":"VLOOKUP(B4686,[2]少数民族加分!$C$1:$E$65536,3,FALSE)","v":2},{"v":134.6,"d":"134.60"}]
[4686,"5452270509301","韦春利","332独山县中医院分院","04医务人员",{"$f":"VLOOKUP(B4687,[1]Sheet1!$A:$I,8,0)","v":"66.00"},{"$f":"VLOOKUP(B4687,[1]Sheet1!$A:$I,9,0)","v":"66.60"},{"$f":"VLOOKUP(B4687,[2]少数民族加分!$C$1:$E$65536,3,FALSE)","v":2},{"v":134.6,"d":"134.60"}]
[4688,"5452270503629","李璐璐","332独山县中医院分院","04医务人员",{"$f":"VLOOKUP(B4688,[1]Sheet1!$A:$I,8,0)","v":"63.50"},{"$f":"VLOOKUP(B4688,[1]Sheet1!$A:$I,9,0)","v":"68.30"},{"$f":"VLOOKUP(B4688,[2]少数民族加分!$C$1:$E$65536,3,FALSE)","v":2},{"v":133.8,"d":"133.80"}]
[4681,"5452270504021","余苇","332独山县中医院分院","04医务人员",{"$f":"VLOOKUP(B4689,[1]Sheet1!$A:$I,8,0)","v":"64.50"},{"$f":"VLOOKUP(B4689,[1]Sheet1!$A:$I,9,0)","v":"69.10"},null,{"v":133.6,"d":"133.60"}]
[4689,"5452270503605","吴东美","332独山县中医院分院","04医务人员",{"$f":"VLOOKUP(B4690,[1]Sheet1!$A:$I,8,0)","v":"71.00"},{"$f":"VLOOKUP(B4690,[1]Sheet1!$A:$I,9,0)","v":"60.50"},{"$f":"VLOOKUP(B4690,[2]少数民族加分!$C$1:$E$65536,3,FALSE)","v":2},{"v":133.5,"d":"133.50"}]
[4687,"5452270502919","杨梅","332独山县中医院分院","04医务人员",{"$f":"VLOOKUP(B4691,[1]Sheet1!$A:$I,8,0)","v":"68.50"},{"$f":"VLOOKUP(B4691,[1]Sheet1!$A:$I,9,0)","v":"63.90"},null,{"v":132.4,"d":"132.40"}]
[4690,"5452270503823","杨欢欢","332独山县中医院分院","04医务人员",{"$f":"VLOOKUP(B4692,[1]Sheet1!$A:$I,8,0)","v":"71.00"},{"$f":"VLOOKUP(B4692,[1]Sheet1!$A:$I,9,0)","v":"59.30"},{"$f":"VLOOKUP(B4692,[2]少数民族加分!$C$1:$E$65536,3,FALSE)","v":2},{"v":132.3,"d":"132.30"}]
[4691,"5452270502425","韦香桃","332独山县中医院分院","04医务人员",{"$f":"VLOOKUP(B4693,[1]Sheet1!$A:$I,8,0)","v":"58.50"},{"$f":"VLOOKUP(B4693,[1]Sheet1!$A:$I,9,0)","v":"71.60"},{"$f":"VLOOKUP(B4693,[2]少数民族加分!$C$1:$E$65536,3,FALSE)","v":2},{"v":132.1,"d":"132.10"}]
[4692,"5452270502416","韦丽","332独山县中医院分院","04医务人员",{"$f":"VLOOKUP(B4694,[1]Sheet1!$A:$I,8,0)","v":"59.00"},{"$f":"VLOOKUP(B4694,[1]Sheet1!$A:$I,9,0)","v":"70.90"},{"$f":"VLOOKUP(B4694,[2]少数民族加分!$C$1:$E$65536,3,FALSE)","v":2},{"v":131.9,"d":"131.90"}]
[4693,"5452270503522","韦廷敏","332独山县中医院分院","04医务人员",{"$f":"VLOOKUP(B4695,[1]Sheet1!$A:$I,8,0)","v":"66.50"},{"$f":"VLOOKUP(B4695,[1]Sheet1!$A:$I,9,0)","v":"63.20"},{"$f":"VLOOKUP(B4695,[2]少数民族加分!$C$1:$E$65536,3,FALSE)","v":2},{"v":131.7,"d":"131.70"}]
[4694,"5452270504205","吴旗","332独山县中医院分院","04医务人员",{"$f":"VLOOKUP(B4696,[1]Sheet1!$A:$I,8,0)","v":"69.00"},{"$f":"VLOOKUP(B4696,[1]Sheet1!$A:$I,9,0)","v":"60.70"},{"$f":"VLOOKUP(B4696,[2]少数民族加分!$C$1:$E$65536,3,FALSE)","v":2},{"v":131.7,"d":"131.70"}]
[4695,"5452270503205","刘艳","332独山县中医院分院","04医务人员",{"$f":"VLOOKUP(B4697,[1]Sheet1!$A:$I,8,0)","v":"59.00"},{"$f":"VLOOKUP(B4697,[1]Sheet1!$A:$I,9,0)","v":"70.50"},{"$f":"VLOOKUP(B4697,[2]少数民族加分!$C$1:$E$65536,3,FALSE)","v":2},{"v":131.5,"d":"131.50"}]
[4696,"5452270504129","吴志青","332独山县中医院分院","04医务人员",{"$f":"VLOOKUP(B4698,[1]Sheet1!$A:$I,8,0)","v":"69.00"},{"$f":"VLOOKUP(B4698,[1]Sheet1!$A:$I,9,0)","v":"60.40"},{"$f":"VLOOKUP(B4698,[2]少数民族加分!$C$1:$E$65536,3,FALSE)","v":2},{"v":131.4,"d":"131.40"}]
[4697,"5452270502613","龙利琼","332独山县中医院分院","04医务人员",{"$f":"VLOOKUP(B4699,[1]Sheet1!$A:$I,8,0)","v":"59.00"},{"$f":"VLOOKUP(B4699,[1]Sheet1!$A:$I,9,0)","v":"70.20"},{"$f":"VLOOKUP(B4699,[2]少数民族加分!$C$1:$E$65536,3,FALSE)","v":2},{"v":131.2,"d":"131.20"}]
[4698,"5452270503019","陆庭丹","332独山县中医院分院","04医务人员",{"$f":"VLOOKUP(B4700,[1]Sheet1!$A:$I,8,0)","v":"66.00"},{"$f":"VLOOKUP(B4700,[1]Sheet1!$A:$I,9,0)","v":"63.20"},{"$f":"VLOOKUP(B4700,[2]少数民族加分!$C$1:$E$65536,3,FALSE)","v":2},{"v":131.2,"d":"131.20"}]
[4700,"5452270503502","吴芷芸","332独山县中医院分院","04医务人员",{"$f":"VLOOKUP(B4701,[1]Sheet1!$A:$I,8,0)","v":"65.50"},{"$f":"VLOOKUP(B4701,[1]Sheet1!$A:$I,9,0)","v":"63.00"},{"$f":"VLOOKUP(B4701,[2]少数民族加分!$C$1:$E$65536,3,FALSE)","v":2},{"v":130.5,"d":"130.50"}]
[4702,"5452270502422","李佳","332独山县中医院分院","04医务人员",{"$f":"VLOOKUP(B4702,[1]Sheet1!$A:$I,8,0)","v":"55.50"},{"$f":"VLOOKUP(B4702,[1]Sheet1!$A:$I,9,0)","v":"72.70"},{"$f":"VLOOKUP(B4702,[2]少数民族加分!$C$1:$E$65536,3,FALSE)","v":2},{"v":130.2,"d":"130.20"}]
[4703,"5452270503509","黎国森","332独山县中医院分院","04医务人员",{"$f":"VLOOKUP(B4703,[1]Sheet1!$A:$I,8,0)","v":"79.50"},{"$f":"VLOOKUP(B4703,[1]Sheet1!$A:$I,9,0)","v":"48.70"},{"$f":"VLOOKUP(B4703,[2]少数民族加分!$C$1:$E$65536,3,FALSE)","v":2},{"v":130.2,"d":"130.20"}]
[4704,"5452270509317","何颖","332独山县中医院分院","04医务人员",{"$f":"VLOOKUP(B4704,[1]Sheet1!$A:$I,8,0)","v":"75.00"},{"$f":"VLOOKUP(B4704,[1]Sheet1!$A:$I,9,0)","v":"53.20"},{"$f":"VLOOKUP(B4704,[2]少数民族加分!$C$1:$E$65536,3,FALSE)","v":2},{"v":130.2,"d":"130.20"}]
[4705,"5452270502304","罗贞丽","332独山县中医院分院","04医务人员",{"$f":"VLOOKUP(B4705,[1]Sheet1!$A:$I,8,0)","v":"65.00"},{"$f":"VLOOKUP(B4705,[1]Sheet1!$A:$I,9,0)","v":"62.90"},{"$f":"VLOOKUP(B4705,[2]少数民族加分!$C$1:$E$65536,3,FALSE)","v":2},{"v":129.9,"d":"129.90"}]
[4706,"5452270502510","杨忠想","332独山县中医院分院","04医务人员",{"$f":"VLOOKUP(B4706,[1]Sheet1!$A:$I,8,0)","v":"65.50"},{"$f":"VLOOKUP(B4706,[1]Sheet1!$A:$I,9,0)","v":"62.40"},{"$f":"VLOOKUP(B4706,[2]少数民族加分!$C$1:$E$65536,3,FALSE)","v":2},{"v":129.9,"d":"129.90"}]
[4707,"5452270503026","杨留梅","332独山县中医院分院","04医务人员",{"$f":"VLOOKUP(B4707,[1]Sheet1!$A:$I,8,0)","v":"60.00"},{"$f":"VLOOKUP(B4707,[1]Sheet1!$A:$I,9,0)","v":"67.70"},{"$f":"VLOOKUP(B4707,[2]少数民族加分!$C$1:$E$65536,3,FALSE)","v":2},{"v":129.7,"d":"129.70"}]
[4708,"5452270503812","陈育尔","332独山县中医院分院","04医务人员",{"$f":"VLOOKUP(B4708,[1]Sheet1!$A:$I,8,0)","v":"64.50"},{"$f":"VLOOKUP(B4708,[1]Sheet1!$A:$I,9,0)","v":"63.10"},{"$f":"VLOOKUP(B4708,[2]少数民族加分!$C$1:$E$65536,3,FALSE)","v":2},{"v":129.6,"d":"129.60"}]
[4709,"5452270502517","韦秋欢","332独山县中医院分院","04医务人员",{"$f":"VLOOKUP(B4709,[1]Sheet1!$A:$I,8,0)","v":"60.00"},{"$f":"VLOOKUP(B4709,[1]Sheet1!$A:$I,9,0)","v":"67.50"},{"$f":"VLOOKUP(B4709,[2]少数民族加分!$C$1:$E$65536,3,FALSE)","v":2},{"v":129.5,"d":"129.50"}]
[4710,"5452270504016","周婷婷","332独山县中医院分院","04医务人员",{"$f":"VLOOKUP(B4710,[1]Sheet1!$A:$I,8,0)","v":"66.50"},{"$f":"VLOOKUP(B4710,[1]Sheet1!$A:$I,9,0)","v":"60.80"},{"$f":"VLOOKUP(B4710,[2]少数民族加分!$C$1:$E$65536,3,FALSE)","v":2},{"v":129.3,"d":"129.30"}]
[4699,"5452270502908","邹继群","332独山县中医院分院","04医务人员",{"$f":"VLOOKUP(B4711,[1]Sheet1!$A:$I,8,0)","v":"61.50"},{"$f":"VLOOKUP(B4711,[1]Sheet1!$A:$I,9,0)","v":"67.60"},null,{"v":129.1,"d":"129.10"}]
[4712,"5452270502328","李绍美","332独山县中医院分院","04医务人员",{"$f":"VLOOKUP(B4712,[1]Sheet1!$A:$I,8,0)","v":"57.00"},{"$f":"VLOOKUP(B4712,[1]Sheet1!$A:$I,9,0)","v":"70.00"},{"$f":"VLOOKUP(B4712,[2]少数民族加分!$C$1:$E$65536,3,FALSE)","v":2},{"v":129,"d":"129.00"}]
[4713,"5452270504222","蒋先慧","332独山县中医院分院","04医务人员",{"$f":"VLOOKUP(B4713,[1]Sheet1!$A:$I,8,0)","v":"53.50"},{"$f":"VLOOKUP(B4713,[1]Sheet1!$A:$I,9,0)","v":"73.30"},{"$f":"VLOOKUP(B4713,[2]少数民族加分!$C$1:$E$65536,3,FALSE)","v":2},{"v":128.8,"d":"128.80"}]
[4714,"5452270504106","吴朝敏","332独山县中医院分院","04医务人员",{"$f":"VLOOKUP(B4714,[1]Sheet1!$A:$I,8,0)","v":"75.50"},{"$f":"VLOOKUP(B4714,[1]Sheet1!$A:$I,9,0)","v":"51.10"},{"$f":"VLOOKUP(B4714,[2]少数民族加分!$C$1:$E$65536,3,FALSE)","v":2},{"v":128.6,"d":"128.60"}]
[4701,"5452270503923","何立维","332独山县中医院分院","04医务人员",{"$f":"VLOOKUP(B4715,[1]Sheet1!$A:$I,8,0)","v":"62.50"},{"$f":"VLOOKUP(B4715,[1]Sheet1!$A:$I,9,0)","v":"65.90"},null,{"v":128.4,"d":"128.40"}]
[4715,"5452270503418","罗招娟","332独山县中医院分院","04医务人员",{"$f":"VLOOKUP(B4716,[1]Sheet1!$A:$I,8,0)","v":"62.00"},{"$f":"VLOOKUP(B4716,[1]Sheet1!$A:$I,9,0)","v":"64.40"},{"$f":"VLOOKUP(B4716,[2]少数民族加分!$C$1:$E$65536,3,FALSE)","v":2},{"v":128.4,"d":"128.40"}]
[4716,"5452270503014","孔德云","332独山县中医院分院","04医务人员",{"$f":"VLOOKUP(B4717,[1]Sheet1!$A:$I,8,0)","v":"67.50"},{"$f":"VLOOKUP(B4717,[1]Sheet1!$A:$I,9,0)","v":"58.70"},{"$f":"VLOOKUP(B4717,[2]少数民族加分!$C$1:$E$65536,3,FALSE)","v":2},{"v":128.2,"d":"128.20"}]
[4718,"5452270509309","李昕燕","332独山县中医院分院","04医务人员",{"$f":"VLOOKUP(B4718,[1]Sheet1!$A:$I,8,0)","v":"73.50"},{"$f":"VLOOKUP(B4718,[1]Sheet1!$A:$I,9,0)","v":"52.40"},{"$f":"VLOOKUP(B4718,[2]少数民族加分!$C$1:$E$65536,3,FALSE)","v":2},{"v":127.9,"d":"127.90"}]
[4719,"5452270502721","杨丽萍","332独山县中医院分院","04医务人员",{"$f":"VLOOKUP(B4719,[1]Sheet1!$A:$I,8,0)","v":"71.00"},{"$f":"VLOOKUP(B4719,[1]Sheet1!$A:$I,9,0)","v":"54.70"},{"$f":"VLOOKUP(B4719,[2]少数民族加分!$C$1:$E$65536,3,FALSE)","v":2},{"v":127.7,"d":"127.70"}]
[4720,"5452270502808","罗佩","332独山县中医院分院","04医务人员",{"$f":"VLOOKUP(B4720,[1]Sheet1!$A:$I,8,0)","v":"64.50"},{"$f":"VLOOKUP(B4720,[1]Sheet1!$A:$I,9,0)","v":"60.90"},{"$f":"VLOOKUP(B4720,[2]少数民族加分!$C$1:$E$65536,3,FALSE)","v":2},{"v":127.4,"d":"127.40"}]
[4721,"5452270503412","韦小虾","332独山县中医院分院","04医务人员",{"$f":"VLOOKUP(B4721,[1]Sheet1!$A:$I,8,0)","v":"53.00"},{"$f":"VLOOKUP(B4721,[1]Sheet1!$A:$I,9,0)","v":"72.30"},{"$f":"VLOOKUP(B4721,[2]少数民族加分!$C$1:$E$65536,3,FALSE)","v":2},{"v":127.3,"d":"127.30"}]
[4711,"5452270509302","李相红","332独山县中医院分院","04医务人员",{"$f":"VLOOKUP(B4722,[1]Sheet1!$A:$I,8,0)","v":"53.50"},{"$f":"VLOOKUP(B4722,[1]Sheet1!$A:$I,9,0)","v":"73.70"},null,{"v":127.2,"d":"127.20"}]
[4722,"5452270502622","付旗","332独山县中医院分院","04医务人员",{"$f":"VLOOKUP(B4723,[1]Sheet1!$A:$I,8,0)","v":"69.50"},{"$f":"VLOOKUP(B4723,[1]Sheet1!$A:$I,9,0)","v":"55.70"},{"$f":"VLOOKUP(B4723,[2]少数民族加分!$C$1:$E$65536,3,FALSE)","v":2},{"v":127.2,"d":"127.20"}]
[4724,"5452270503701","杨静","332独山县中医院分院","04医务人员",{"$f":"VLOOKUP(B4724,[1]Sheet1!$A:$I,8,0)","v":"66.50"},{"$f":"VLOOKUP(B4724,[1]Sheet1!$A:$I,9,0)","v":"58.00"},{"$f":"VLOOKUP(B4724,[2]少数民族加分!$C$1:$E$65536,3,FALSE)","v":2},{"v":126.5,"d":"126.50"}]
[4725,"5452270502727","蒙霜","332独山县中医院分院","04医务人员",{"$f":"VLOOKUP(B4725,[1]Sheet1!$A:$I,8,0)","v":"75.50"},{"$f":"VLOOKUP(B4725,[1]Sheet1!$A:$I,9,0)","v":"48.90"},{"$f":"VLOOKUP(B4725,[2]少数民族加分!$C$1:$E$65536,3,FALSE)","v":2},{"v":126.4,"d":"126.40"}]
[4717,"5452270504014","姚伦花","332独山县中医院分院","04医务人员",{"$f":"VLOOKUP(B4726,[1]Sheet1!$A:$I,8,0)","v":"75.50"},{"$f":"VLOOKUP(B4726,[1]Sheet1!$A:$I,9,0)","v":"50.70"},null,{"v":126.2,"d":"126.20"}]
[4728,"5452270502509","莫丽华","332独山县中医院分院","04医务人员",{"$f":"VLOOKUP(B4727,[1]Sheet1!$A:$I,8,0)","v":"63.00"},{"$f":"VLOOKUP(B4727,[1]Sheet1!$A:$I,9,0)","v":"60.60"},{"$f":"VLOOKUP(B4727,[2]少数民族加分!$C$1:$E$65536,3,FALSE)","v":2},{"v":125.6,"d":"125.60"}]
[4723,"5452270504228","王锡青","332独山县中医院分院","04医务人员",{"$f":"VLOOKUP(B4728,[1]Sheet1!$A:$I,8,0)","v":"64.00"},{"$f":"VLOOKUP(B4728,[1]Sheet1!$A:$I,9,0)","v":"61.00"},null,{"v":125,"d":"125.00"}]
[4730,"5452270504202","刘凤丹","332独山县中医院分院","04医务人员",{"$f":"VLOOKUP(B4729,[1]Sheet1!$A:$I,8,0)","v":"66.00"},{"$f":"VLOOKUP(B4729,[1]Sheet1!$A:$I,9,0)","v":"56.30"},{"$f":"VLOOKUP(B4729,[2]少数民族加分!$C$1:$E$65536,3,FALSE)","v":2},{"v":124.3,"d":"124.30"}]
[4731,"5452270503520","杨先好","332独山县中医院分院","04医务人员",{"$f":"VLOOKUP(B4730,[1]Sheet1!$A:$I,8,0)","v":"65.50"},{"$f":"VLOOKUP(B4730,[1]Sheet1!$A:$I,9,0)","v":"56.80"},{"$f":"VLOOKUP(B4730,[2]少数民族加分!$C$1:$E$65536,3,FALSE)","v":2},{"v":124.3,"d":"124.30"}]
[4726,"5452270502724","廖金选","332独山县中医院分院","04医务人员",{"$f":"VLOOKUP(B4731,[1]Sheet1!$A:$I,8,0)","v":"61.50"},{"$f":"VLOOKUP(B4731,[1]Sheet1!$A:$I,9,0)","v":"62.70"},null,{"v":124.2,"d":"124.20"}]
[4727,"5452270503303","姚登好","332独山县中医院分院","04医务人员",{"$f":"VLOOKUP(B4732,[1]Sheet1!$A:$I,8,0)","v":"64.00"},{"$f":"VLOOKUP(B4732,[1]Sheet1!$A:$I,9,0)","v":"59.90"},null,{"v":123.9,"d":"123.90"}]
[4732,"5452270503714","鄂君仪","332独山县中医院分院","04医务人员",{"$f":"VLOOKUP(B4733,[1]Sheet1!$A:$I,8,0)","v":"64.50"},{"$f":"VLOOKUP(B4733,[1]Sheet1!$A:$I,9,0)","v":"57.30"},{"$f":"VLOOKUP(B4733,[2]少数民族加分!$C$1:$E$65536,3,FALSE)","v":2},{"v":123.8,"d":"123.80"}]
[4729,"5452270504220","左再敏","332独山县中医院分院","04医务人员",{"$f":"VLOOKUP(B4734,[1]Sheet1!$A:$I,8,0)","v":"65.50"},{"$f":"VLOOKUP(B4734,[1]Sheet1!$A:$I,9,0)","v":"58.10"},null,{"v":123.6,"d":"123.60"}]
[4733,"5452270503221","岑贻慧","332独山县中医院分院","04医务人员",{"$f":"VLOOKUP(B4735,[1]Sheet1!$A:$I,8,0)","v":"59.00"},{"$f":"VLOOKUP(B4735,[1]Sheet1!$A:$I,9,0)","v":"62.30"},{"$f":"VLOOKUP(B4735,[2]少数民族加分!$C$1:$E$65536,3,FALSE)","v":2},{"v":123.3,"d":"123.30"}]
[4734,"5452270503503","冯洁","332独山县中医院分院","04医务人员",{"$f":"VLOOKUP(B4736,[1]Sheet1!$A:$I,8,0)","v":"66.00"},{"$f":"VLOOKUP(B4736,[1]Sheet1!$A:$I,9,0)","v":"55.10"},{"$f":"VLOOKUP(B4736,[2]少数民族加分!$C$1:$E$65536,3,FALSE)","v":2},{"v":123.1,"d":"123.10"}]
[4735,"5452270502929","王蔓","332独山县中医院分院","04医务人员",{"$f":"VLOOKUP(B4737,[1]Sheet1!$A:$I,8,0)","v":"69.00"},{"$f":"VLOOKUP(B4737,[1]Sheet1!$A:$I,9,0)","v":"52.00"},{"$f":"VLOOKUP(B4737,[2]少数民族加分!$C$1:$E$65536,3,FALSE)","v":2},{"v":123,"d":"123.00"}]
[4737,"5452270503330","张楠","332独山县中医院分院","04医务人员",{"$f":"VLOOKUP(B4738,[1]Sheet1!$A:$I,8,0)","v":"56.00"},{"$f":"VLOOKUP(B4738,[1]Sheet1!$A:$I,9,0)","v":"64.90"},{"$f":"VLOOKUP(B4738,[2]少数民族加分!$C$1:$E$65536,3,FALSE)","v":2},{"v":122.9,"d":"122.90"}]
[4738,"5452270503112","刘兰仙","332独山县中医院分院","04医务人员",{"$f":"VLOOKUP(B4739,[1]Sheet1!$A:$I,8,0)","v":"72.50"},{"$f":"VLOOKUP(B4739,[1]Sheet1!$A:$I,9,0)","v":"47.60"},{"$f":"VLOOKUP(B4739,[2]少数民族加分!$C$1:$E$65536,3,FALSE)","v":2},{"v":122.1,"d":"122.10"}]
[4739,"5452270503924","覃岸","332独山县中医院分院","04医务人员",{"$f":"VLOOKUP(B4740,[1]Sheet1!$A:$I,8,0)","v":"72.00"},{"$f":"VLOOKUP(B4740,[1]Sheet1!$A:$I,9,0)","v":"47.90"},{"$f":"VLOOKUP(B4740,[2]少数民族加分!$C$1:$E$65536,3,FALSE)","v":2},{"v":121.9,"d":"121.90"}]
[4740,"5452270504125","李婷婷","332独山县中医院分院","04医务人员",{"$f":"VLOOKUP(B4741,[1]Sheet1!$A:$I,8,0)","v":"64.50"},{"$f":"VLOOKUP(B4741,[1]Sheet1!$A:$I,9,0)","v":"55.30"},{"$f":"VLOOKUP(B4741,[2]少数民族加分!$C$1:$E$65536,3,FALSE)","v":2},{"v":121.8,"d":"121.80"}]
[4741,"5452270504213","彭兴洁","332独山县中医院分院","04医务人员",{"$f":"VLOOKUP(B4742,[1]Sheet1!$A:$I,8,0)","v":"63.50"},{"$f":"VLOOKUP(B4742,[1]Sheet1!$A:$I,9,0)","v":"55.90"},{"$f":"VLOOKUP(B4742,[2]少数民族加分!$C$1:$E$65536,3,FALSE)","v":2},{"v":121.4,"d":"121.40"}]
[4736,"5452270503707","陆远珊","332独山县中医院分院","04医务人员",{"$f":"VLOOKUP(B4743,[1]Sheet1!$A:$I,8,0)","v":"50.50"},{"$f":"VLOOKUP(B4743,[1]Sheet1!$A:$I,9,0)","v":"70.50"},null,{"v":121,"d":"121.00"}]
[4742,"5452270503004","蔡治茜","332独山县中医院分院","04医务人员",{"$f":"VLOOKUP(B4744,[1]Sheet1!$A:$I,8,0)","v":"63.50"},{"$f":"VLOOKUP(B4744,[1]Sheet1!$A:$I,9,0)","v":"55.20"},{"$f":"VLOOKUP(B4744,[2]少数民族加分!$C$1:$E$65536,3,FALSE)","v":2},{"v":120.7,"d":"120.70"}]
[4743,"5452270502904","周德娟","332独山县中医院分院","04医务人员",{"$f":"VLOOKUP(B4745,[1]Sheet1!$A:$I,8,0)","v":"60.50"},{"$f":"VLOOKUP(B4745,[1]Sheet1!$A:$I,9,0)","v":"58.00"},{"$f":"VLOOKUP(B4745,[2]少数民族加分!$C$1:$E$65536,3,FALSE)","v":2},{"v":120.5,"d":"120.50"}]
[4744,"5452270503602","平永花","332独山县中医院分院","04医务人员",{"$f":"VLOOKUP(B4746,[1]Sheet1!$A:$I,8,0)","v":"61.00"},{"$f":"VLOOKUP(B4746,[1]Sheet1!$A:$I,9,0)","v":"57.50"},{"$f":"VLOOKUP(B4746,[2]少数民族加分!$C$1:$E$65536,3,FALSE)","v":2},{"v":120.5,"d":"120.50"}]
[4745,"5452270502312","王美花","332独山县中医院分院","04医务人员",{"$f":"VLOOKUP(B4747,[1]Sheet1!$A:$I,8,0)","v":"61.50"},{"$f":"VLOOKUP(B4747,[1]Sheet1!$A:$I,9,0)","v":"56.80"},{"$f":"VLOOKUP(B4747,[2]少数民族加分!$C$1:$E$65536,3,FALSE)","v":2},{"v":120.3,"d":"120.30"}]
[4746,"5452270503611","韦丽娟","332独山县中医院分院","04医务人员",{"$f":"VLOOKUP(B4748,[1]Sheet1!$A:$I,8,0)","v":"72.00"},{"$f":"VLOOKUP(B4748,[1]Sheet1!$A:$I,9,0)","v":"46.20"},{"$f":"VLOOKUP(B4748,[2]少数民族加分!$C$1:$E$65536,3,FALSE)","v":2},{"v":120.2,"d":"120.20"}]
[4747,"5452270502406","莫倩","332独山县中医院分院","04医务人员",{"$f":"VLOOKUP(B4749,[1]Sheet1!$A:$I,8,0)","v":"63.50"},{"$f":"VLOOKUP(B4749,[1]Sheet1!$A:$I,9,0)","v":"54.60"},{"$f":"VLOOKUP(B4749,[2]少数民族加分!$C$1:$E$65536,3,FALSE)","v":2},{"v":120.1,"d":"120.10"}]
[4748,"5452270502624","罗微","332独山县中医院分院","04医务人员",{"$f":"VLOOKUP(B4750,[1]Sheet1!$A:$I,8,0)","v":"63.50"},{"$f":"VLOOKUP(B4750,[1]Sheet1!$A:$I,9,0)","v":"54.60"},{"$f":"VLOOKUP(B4750,[2]少数民族加分!$C$1:$E$65536,3,FALSE)","v":2},{"v":120.1,"d":"120.10"}]
[4749,"5452270502306","陆律","332独山县中医院分院","04医务人员",{"$f":"VLOOKUP(B4751,[1]Sheet1!$A:$I,8,0)","v":"50.00"},{"$f":"VLOOKUP(B4751,[1]Sheet1!$A:$I,9,0)","v":"67.80"},{"$f":"VLOOKUP(B4751,[2]少数民族加分!$C$1:$E$65536,3,FALSE)","v":2},{"v":119.8,"d":"119.80"}]
[4750,"5452270503125","黎昌倩","332独山县中医院分院","04医务人员",{"$f":"VLOOKUP(B4752,[1]Sheet1!$A:$I,8,0)","v":"59.00"},{"$f":"VLOOKUP(B4752,[1]Sheet1!$A:$I,9,0)","v":"58.80"},{"$f":"VLOOKUP(B4752,[2]少数民族加分!$C$1:$E$65536,3,FALSE)","v":2},{"v":119.8,"d":"119.80"}]
[4751,"5452270503711","潘廷会","332独山县中医院分院","04医务人员",{"$f":"VLOOKUP(B4753,[1]Sheet1!$A:$I,8,0)","v":"56.00"},{"$f":"VLOOKUP(B4753,[1]Sheet1!$A:$I,9,0)","v":"61.80"},{"$f":"VLOOKUP(B4753,[2]少数民族加分!$C$1:$E$65536,3,FALSE)","v":2},{"v":119.8,"d":"119.80"}]
[4753,"5452270503302","姚珊","332独山县中医院分院","04医务人员",{"$f":"VLOOKUP(B4754,[1]Sheet1!$A:$I,8,0)","v":"55.00"},{"$f":"VLOOKUP(B4754,[1]Sheet1!$A:$I,9,0)","v":"62.60"},{"$f":"VLOOKUP(B4754,[2]少数民族加分!$C$1:$E$65536,3,FALSE)","v":2},{"v":119.6,"d":"119.60"}]
[4754,"5452270502506","华丽","332独山县中医院分院","04医务人员",{"$f":"VLOOKUP(B4755,[1]Sheet1!$A:$I,8,0)","v":"73.50"},{"$f":"VLOOKUP(B4755,[1]Sheet1!$A:$I,9,0)","v":"44.00"},{"$f":"VLOOKUP(B4755,[2]少数民族加分!$C$1:$E$65536,3,FALSE)","v":2},{"v":119.5,"d":"119.50"}]
[4755,"5452270503822","杨欢欢","332独山县中医院分院","04医务人员",{"$f":"VLOOKUP(B4756,[1]Sheet1!$A:$I,8,0)","v":"60.00"},{"$f":"VLOOKUP(B4756,[1]Sheet1!$A:$I,9,0)","v":"57.50"},{"$f":"VLOOKUP(B4756,[2]少数民族加分!$C$1:$E$65536,3,FALSE)","v":2},{"v":119.5,"d":"119.50"}]
[4756,"5452270502730","莫丹","332独山县中医院分院","04医务人员",{"$f":"VLOOKUP(B4757,[1]Sheet1!$A:$I,8,0)","v":"55.00"},{"$f":"VLOOKUP(B4757,[1]Sheet1!$A:$I,9,0)","v":"62.40"},{"$f":"VLOOKUP(B4757,[2]少数民族加分!$C$1:$E$65536,3,FALSE)","v":2},{"v":119.4,"d":"119.40"}]
[4757,"5452270503702","潘世燕","332独山县中医院分院","04医务人员",{"$f":"VLOOKUP(B4758,[1]Sheet1!$A:$I,8,0)","v":"62.00"},{"$f":"VLOOKUP(B4758,[1]Sheet1!$A:$I,9,0)","v":"55.30"},{"$f":"VLOOKUP(B4758,[2]少数民族加分!$C$1:$E$65536,3,FALSE)","v":2},{"v":119.3,"d":"119.30"}]
[4759,"5452270502329","艾安绒","332独山县中医院分院","04医务人员",{"$f":"VLOOKUP(B4759,[1]Sheet1!$A:$I,8,0)","v":"64.00"},{"$f":"VLOOKUP(B4759,[1]Sheet1!$A:$I,9,0)","v":"53.10"},{"$f":"VLOOKUP(B4759,[2]少数民族加分!$C$1:$E$65536,3,FALSE)","v":2},{"v":119.1,"d":"119.10"}]
[4760,"5452270509310","潘忠娅","332独山县中医院分院","04医务人员",{"$f":"VLOOKUP(B4760,[1]Sheet1!$A:$I,8,0)","v":"57.50"},{"$f":"VLOOKUP(B4760,[1]Sheet1!$A:$I,9,0)","v":"58.60"},{"$f":"VLOOKUP(B4760,[2]少数民族加分!$C$1:$E$65536,3,FALSE)","v":2},{"v":118.1,"d":"118.10"}]
[4761,"5452270504010","石菊","332独山县中医院分院","04医务人员",{"$f":"VLOOKUP(B4761,[1]Sheet1!$A:$I,8,0)","v":"66.00"},{"$f":"VLOOKUP(B4761,[1]Sheet1!$A:$I,9,0)","v":"50.00"},{"$f":"VLOOKUP(B4761,[2]少数民族加分!$C$1:$E$65536,3,FALSE)","v":2},{"v":118,"d":"118.00"}]
[4752,"5452270509311","蒙焕弟","332独山县中医院分院","04医务人员",{"$f":"VLOOKUP(B4762,[1]Sheet1!$A:$I,8,0)","v":"61.00"},{"$f":"VLOOKUP(B4762,[1]Sheet1!$A:$I,9,0)","v":"56.80"},null,{"v":117.8,"d":"117.80"}]
[4762,"5452270503306","杨胜娟","332独山县中医院分院","04医务人员",{"$f":"VLOOKUP(B4763,[1]Sheet1!$A:$I,8,0)","v":"65.50"},{"$f":"VLOOKUP(B4763,[1]Sheet1!$A:$I,9,0)","v":"50.20"},{"$f":"VLOOKUP(B4763,[2]少数民族加分!$C$1:$E$65536,3,FALSE)","v":2},{"v":117.7,"d":"117.70"}]
[4763,"5452270503407","赵光银","332独山县中医院分院","04医务人员",{"$f":"VLOOKUP(B4764,[1]Sheet1!$A:$I,8,0)","v":"59.50"},{"$f":"VLOOKUP(B4764,[1]Sheet1!$A:$I,9,0)","v":"56.10"},{"$f":"VLOOKUP(B4764,[2]少数民族加分!$C$1:$E$65536,3,FALSE)","v":2},{"v":117.6,"d":"117.60"}]
[4764,"5452270503618","王小优","332独山县中医院分院","04医务人员",{"$f":"VLOOKUP(B4765,[1]Sheet1!$A:$I,8,0)","v":"53.50"},{"$f":"VLOOKUP(B4765,[1]Sheet1!$A:$I,9,0)","v":"62.10"},{"$f":"VLOOKUP(B4765,[2]少数民族加分!$C$1:$E$65536,3,FALSE)","v":2},{"v":117.6,"d":"117.60"}]
[4765,"5452270502405","徐德栩","332独山县中医院分院","04医务人员",{"$f":"VLOOKUP(B4766,[1]Sheet1!$A:$I,8,0)","v":"63.00"},{"$f":"VLOOKUP(B4766,[1]Sheet1!$A:$I,9,0)","v":"52.50"},{"$f":"VLOOKUP(B4766,[2]少数民族加分!$C$1:$E$65536,3,FALSE)","v":2},{"v":117.5,"d":"117.50"}]
[4758,"5452270503516","宋燕飞","332独山县中医院分院","04医务人员",{"$f":"VLOOKUP(B4767,[1]Sheet1!$A:$I,8,0)","v":"46.00"},{"$f":"VLOOKUP(B4767,[1]Sheet1!$A:$I,9,0)","v":"71.20"},null,{"v":117.2,"d":"117.20"}]
[4766,"5452270504212","王梅","332独山县中医院分院","04医务人员",{"$f":"VLOOKUP(B4768,[1]Sheet1!$A:$I,8,0)","v":"57.00"},{"$f":"VLOOKUP(B4768,[1]Sheet1!$A:$I,9,0)","v":"58.20"},{"$f":"VLOOKUP(B4768,[2]少数民族加分!$C$1:$E$65536,3,FALSE)","v":2},{"v":117.2,"d":"117.20"}]
[4767,"5452270502704","王荣文","332独山县中医院分院","04医务人员",{"$f":"VLOOKUP(B4769,[1]Sheet1!$A:$I,8,0)","v":"63.50"},{"$f":"VLOOKUP(B4769,[1]Sheet1!$A:$I,9,0)","v":"51.20"},{"$f":"VLOOKUP(B4769,[2]少数民族加分!$C$1:$E$65536,3,FALSE)","v":2},{"v":116.7,"d":"116.70"}]
[4768,"5452270504117","岑亚南","332独山县中医院分院","04医务人员",{"$f":"VLOOKUP(B4770,[1]Sheet1!$A:$I,8,0)","v":"55.50"},{"$f":"VLOOKUP(B4770,[1]Sheet1!$A:$I,9,0)","v":"59.00"},{"$f":"VLOOKUP(B4770,[2]少数民族加分!$C$1:$E$65536,3,FALSE)","v":2},{"v":116.5,"d":"116.50"}]
[4769,"5452270509318","杨先叶","332独山县中医院分院","04医务人员",{"$f":"VLOOKUP(B4771,[1]Sheet1!$A:$I,8,0)","v":"45.50"},{"$f":"VLOOKUP(B4771,[1]Sheet1!$A:$I,9,0)","v":"69.00"},{"$f":"VLOOKUP(B4771,[2]少数民族加分!$C$1:$E$65536,3,FALSE)","v":2},{"v":116.5,"d":"116.50"}]
[4770,"5452270503201","何祥欢","332独山县中医院分院","04医务人员",{"$f":"VLOOKUP(B4772,[1]Sheet1!$A:$I,8,0)","v":"64.00"},{"$f":"VLOOKUP(B4772,[1]Sheet1!$A:$I,9,0)","v":"50.30"},{"$f":"VLOOKUP(B4772,[2]少数民族加分!$C$1:$E$65536,3,FALSE)","v":2},{"v":116.3,"d":"116.30"}]
[4771,"5452270503913","杨合香","332独山县中医院分院","04医务人员",{"$f":"VLOOKUP(B4773,[1]Sheet1!$A:$I,8,0)","v":"53.50"},{"$f":"VLOOKUP(B4773,[1]Sheet1!$A:$I,9,0)","v":"60.60"},{"$f":"VLOOKUP(B4773,[2]少数民族加分!$C$1:$E$65536,3,FALSE)","v":2},{"v":116.1,"d":"116.10"}]
[4772,"5452270502607","周慧","332独山县中医院分院","04医务人员",{"$f":"VLOOKUP(B4774,[1]Sheet1!$A:$I,8,0)","v":"62.50"},{"$f":"VLOOKUP(B4774,[1]Sheet1!$A:$I,9,0)","v":"51.40"},{"$f":"VLOOKUP(B4774,[2]少数民族加分!$C$1:$E$65536,3,FALSE)","v":2},{"v":115.9,"d":"115.90"}]
[4774,"5452270504206","韦仕考","332独山县中医院分院","04医务人员",{"$f":"VLOOKUP(B4775,[1]Sheet1!$A:$I,8,0)","v":"63.50"},{"$f":"VLOOKUP(B4775,[1]Sheet1!$A:$I,9,0)","v":"50.10"},{"$f":"VLOOKUP(B4775,[2]少数民族加分!$C$1:$E$65536,3,FALSE)","v":2},{"v":115.6,"d":"115.60"}]
[4775,"5452270509322","刘芳芳","332独山县中医院分院","04医务人员",{"$f":"VLOOKUP(B4776,[1]Sheet1!$A:$I,8,0)","v":"59.00"},{"$f":"VLOOKUP(B4776,[1]Sheet1!$A:$I,9,0)","v":"54.60"},{"$f":"VLOOKUP(B4776,[2]少数民族加分!$C$1:$E$65536,3,FALSE)","v":2},{"v":115.6,"d":"115.60"}]
[4777,"5452270503810","岑模丽","332独山县中医院分院","04医务人员",{"$f":"VLOOKUP(B4777,[1]Sheet1!$A:$I,8,0)","v":"66.00"},{"$f":"VLOOKUP(B4777,[1]Sheet1!$A:$I,9,0)","v":"47.00"},{"$f":"VLOOKUP(B4777,[2]少数民族加分!$C$1:$E$65536,3,FALSE)","v":2},{"v":115,"d":"115.00"}]
[4778,"5452270504019","蒙成瑾","332独山县中医院分院","04医务人员",{"$f":"VLOOKUP(B4778,[1]Sheet1!$A:$I,8,0)","v":"64.00"},{"$f":"VLOOKUP(B4778,[1]Sheet1!$A:$I,9,0)","v":"49.00"},{"$f":"VLOOKUP(B4778,[2]少数民族加分!$C$1:$E$65536,3,FALSE)","v":2},{"v":115,"d":"115.00"}]
[4779,"5452270503113","岑朝霞","332独山县中医院分院","04医务人员",{"$f":"VLOOKUP(B4779,[1]Sheet1!$A:$I,8,0)","v":"68.50"},{"$f":"VLOOKUP(B4779,[1]Sheet1!$A:$I,9,0)","v":"44.20"},{"$f":"VLOOKUP(B4779,[2]少数民族加分!$C$1:$E$65536,3,FALSE)","v":2},{"v":114.7,"d":"114.70"}]
[4780,"5452270502720","吴存芬","332独山县中医院分院","04医务人员",{"$f":"VLOOKUP(B4780,[1]Sheet1!$A:$I,8,0)","v":"49.50"},{"$f":"VLOOKUP(B4780,[1]Sheet1!$A:$I,9,0)","v":"62.50"},{"$f":"VLOOKUP(B4780,[2]少数民族加分!$C$1:$E$65536,3,FALSE)","v":2},{"v":114,"d":"114.00"}]
[4781,"5452270503318","何卓夜","332独山县中医院分院","04医务人员",{"$f":"VLOOKUP(B4781,[1]Sheet1!$A:$I,8,0)","v":"46.00"},{"$f":"VLOOKUP(B4781,[1]Sheet1!$A:$I,9,0)","v":"65.90"},{"$f":"VLOOKUP(B4781,[2]少数民族加分!$C$1:$E$65536,3,FALSE)","v":2},{"v":113.9,"d":"113.90"}]
[4782,"5452270504223","许明坚","332独山县中医院分院","04医务人员",{"$f":"VLOOKUP(B4782,[1]Sheet1!$A:$I,8,0)","v":"73.00"},{"$f":"VLOOKUP(B4782,[1]Sheet1!$A:$I,9,0)","v":"38.70"},{"$f":"VLOOKUP(B4782,[2]少数民族加分!$C$1:$E$65536,3,FALSE)","v":2},{"v":113.7,"d":"113.70"}]
[4773,"5452270503228","赵宇","332独山县中医院分院","04医务人员",{"$f":"VLOOKUP(B4783,[1]Sheet1!$A:$I,8,0)","v":"74.50"},{"$f":"VLOOKUP(B4783,[1]Sheet1!$A:$I,9,0)","v":"39.10"},null,{"v":113.6,"d":"113.60"}]
[4776,"5452270503130","李正颖","332独山县中医院分院","04医务人员",{"$f":"VLOOKUP(B4784,[1]Sheet1!$A:$I,8,0)","v":"72.00"},{"$f":"VLOOKUP(B4784,[1]Sheet1!$A:$I,9,0)","v":"41.40"},null,{"v":113.4,"d":"113.40"}]
[4783,"5452270504204","潘海彩","332独山县中医院分院","04医务人员",{"$f":"VLOOKUP(B4785,[1]Sheet1!$A:$I,8,0)","v":"57.00"},{"$f":"VLOOKUP(B4785,[1]Sheet1!$A:$I,9,0)","v":"54.30"},{"$f":"VLOOKUP(B4785,[2]少数民族加分!$C$1:$E$65536,3,FALSE)","v":2},{"v":113.3,"d":"113.30"}]
[4785,"5452270502823","罗雨梅","332独山县中医院分院","04医务人员",{"$f":"VLOOKUP(B4786,[1]Sheet1!$A:$I,8,0)","v":"45.00"},{"$f":"VLOOKUP(B4786,[1]Sheet1!$A:$I,9,0)","v":"65.90"},{"$f":"VLOOKUP(B4786,[2]少数民族加分!$C$1:$E$65536,3,FALSE)","v":2},{"v":112.9,"d":"112.90"}]
[4787,"5452270509303","刘利凡","332独山县中医院分院","04医务人员",{"$f":"VLOOKUP(B4787,[1]Sheet1!$A:$I,8,0)","v":"59.50"},{"$f":"VLOOKUP(B4787,[1]Sheet1!$A:$I,9,0)","v":"51.00"},{"$f":"VLOOKUP(B4787,[2]少数民族加分!$C$1:$E$65536,3,FALSE)","v":2},{"v":112.5,"d":"112.50"}]
[4788,"5452270503705","曾满银","332独山县中医院分院","04医务人员",{"$f":"VLOOKUP(B4788,[1]Sheet1!$A:$I,8,0)","v":"58.50"},{"$f":"VLOOKUP(B4788,[1]Sheet1!$A:$I,9,0)","v":"51.70"},{"$f":"VLOOKUP(B4788,[2]少数民族加分!$C$1:$E$65536,3,FALSE)","v":2},{"v":112.2,"d":"112.20"}]
[4789,"5452270502609","杨先姑","332独山县中医院分院","04医务人员",{"$f":"VLOOKUP(B4789,[1]Sheet1!$A:$I,8,0)","v":"52.00"},{"$f":"VLOOKUP(B4789,[1]Sheet1!$A:$I,9,0)","v":"57.90"},{"$f":"VLOOKUP(B4789,[2]少数民族加分!$C$1:$E$65536,3,FALSE)","v":2},{"v":111.9,"d":"111.90"}]
[4790,"5452270503706","何孟珊","332独山县中医院分院","04医务人员",{"$f":"VLOOKUP(B4790,[1]Sheet1!$A:$I,8,0)","v":"49.50"},{"$f":"VLOOKUP(B4790,[1]Sheet1!$A:$I,9,0)","v":"60.10"},{"$f":"VLOOKUP(B4790,[2]少数民族加分!$C$1:$E$65536,3,FALSE)","v":2},{"v":111.6,"d":"111.60"}]
[4791,"5452270502805","陆维","332独山县中医院分院","04医务人员",{"$f":"VLOOKUP(B4791,[1]Sheet1!$A:$I,8,0)","v":"49.00"},{"$f":"VLOOKUP(B4791,[1]Sheet1!$A:$I,9,0)","v":"60.20"},{"$f":"VLOOKUP(B4791,[2]少数民族加分!$C$1:$E$65536,3,FALSE)","v":2},{"v":111.2,"d":"111.20"}]
[4784,"5452270503118","胡嗣婷","332独山县中医院分院","04医务人员",{"$f":"VLOOKUP(B4792,[1]Sheet1!$A:$I,8,0)","v":"57.50"},{"$f":"VLOOKUP(B4792,[1]Sheet1!$A:$I,9,0)","v":"53.60"},null,{"v":111.1,"d":"111.10"}]
[4792,"5452270504226","潘菊兰","332独山县中医院分院","04医务人员",{"$f":"VLOOKUP(B4793,[1]Sheet1!$A:$I,8,0)","v":"55.00"},{"$f":"VLOOKUP(B4793,[1]Sheet1!$A:$I,9,0)","v":"54.10"},{"$f":"VLOOKUP(B4793,[2]少数民族加分!$C$1:$E$65536,3,FALSE)","v":2},{"v":111.1,"d":"111.10"}]
[4786,"5452270503912","张艳","332独山县中医院分院","04医务人员",{"$f":"VLOOKUP(B4794,[1]Sheet1!$A:$I,8,0)","v":"57.00"},{"$f":"VLOOKUP(B4794,[1]Sheet1!$A:$I,9,0)","v":"53.70"},null,{"v":110.7,"d":"110.70"}]
[4793,"5452270503114","杨开洋","332独山县中医院分院","04医务人员",{"$f":"VLOOKUP(B4795,[1]Sheet1!$A:$I,8,0)","v":"66.50"},{"$f":"VLOOKUP(B4795,[1]Sheet1!$A:$I,9,0)","v":"41.60"},{"$f":"VLOOKUP(B4795,[2]少数民族加分!$C$1:$E$65536,3,FALSE)","v":2},{"v":110.1,"d":"110.10"}]
[4794,"5452270502901","张兴","332独山县中医院分院","04医务人员",{"$f":"VLOOKUP(B4796,[1]Sheet1!$A:$I,8,0)","v":"49.00"},{"$f":"VLOOKUP(B4796,[1]Sheet1!$A:$I,9,0)","v":"58.90"},{"$f":"VLOOKUP(B4796,[2]少数民族加分!$C$1:$E$65536,3,FALSE)","v":2},{"v":109.9,"d":"109.90"}]
[4798,"5452270503604","王先泽","332独山县中医院分院","04医务人员",{"$f":"VLOOKUP(B4797,[1]Sheet1!$A:$I,8,0)","v":"58.50"},{"$f":"VLOOKUP(B4797,[1]Sheet1!$A:$I,9,0)","v":"49.20"},{"$f":"VLOOKUP(B4797,[2]少数民族加分!$C$1:$E$65536,3,FALSE)","v":2},{"v":109.7,"d":"109.70"}]
[4799,"5452270504217","何立瑾","332独山县中医院分院","04医务人员",{"$f":"VLOOKUP(B4798,[1]Sheet1!$A:$I,8,0)","v":"54.00"},{"$f":"VLOOKUP(B4798,[1]Sheet1!$A:$I,9,0)","v":"53.70"},{"$f":"VLOOKUP(B4798,[2]少数民族加分!$C$1:$E$65536,3,FALSE)","v":2},{"v":109.7,"d":"109.70"}]
[4800,"5452270509308","陆维梦","332独山县中医院分院","04医务人员",{"$f":"VLOOKUP(B4799,[1]Sheet1!$A:$I,8,0)","v":"53.50"},{"$f":"VLOOKUP(B4799,[1]Sheet1!$A:$I,9,0)","v":"54.20"},{"$f":"VLOOKUP(B4799,[2]少数民族加分!$C$1:$E$65536,3,FALSE)","v":2},{"v":109.7,"d":"109.70"}]
[4801,"5452270503612","蒙雪","332独山县中医院分院","04医务人员",{"$f":"VLOOKUP(B4800,[1]Sheet1!$A:$I,8,0)","v":"59.50"},{"$f":"VLOOKUP(B4800,[1]Sheet1!$A:$I,9,0)","v":"48.10"},{"$f":"VLOOKUP(B4800,[2]少数民族加分!$C$1:$E$65536,3,FALSE)","v":2},{"v":109.6,"d":"109.60"}]
[4802,"5452270503109","覃再曰","332独山县中医院分院","04医务人员",{"$f":"VLOOKUP(B4801,[1]Sheet1!$A:$I,8,0)","v":"51.00"},{"$f":"VLOOKUP(B4801,[1]Sheet1!$A:$I,9,0)","v":"56.50"},{"$f":"VLOOKUP(B4801,[2]少数民族加分!$C$1:$E$65536,3,FALSE)","v":2},{"v":109.5,"d":"109.50"}]
[4803,"5452270502623","焦邦玉","332独山县中医院分院","04医务人员",{"$f":"VLOOKUP(B4802,[1]Sheet1!$A:$I,8,0)","v":"55.00"},{"$f":"VLOOKUP(B4802,[1]Sheet1!$A:$I,9,0)","v":"52.40"},{"$f":"VLOOKUP(B4802,[2]少数民族加分!$C$1:$E$65536,3,FALSE)","v":2},{"v":109.4,"d":"109.40"}]
[4804,"5452270509315","岑延美","332独山县中医院分院","04医务人员",{"$f":"VLOOKUP(B4803,[1]Sheet1!$A:$I,8,0)","v":"50.50"},{"$f":"VLOOKUP(B4803,[1]Sheet1!$A:$I,9,0)","v":"56.90"},{"$f":"VLOOKUP(B4803,[2]少数民族加分!$C$1:$E$65536,3,FALSE)","v":2},{"v":109.4,"d":"109.40"}]
[4805,"5452270504107","张幺妹","332独山县中医院分院","04医务人员",{"$f":"VLOOKUP(B4804,[1]Sheet1!$A:$I,8,0)","v":"61.50"},{"$f":"VLOOKUP(B4804,[1]Sheet1!$A:$I,9,0)","v":"45.60"},{"$f":"VLOOKUP(B4804,[2]少数民族加分!$C$1:$E$65536,3,FALSE)","v":2},{"v":109.1,"d":"109.10"}]
[4806,"5452270502404","罗杏子","332独山县中医院分院","04医务人员",{"$f":"VLOOKUP(B4805,[1]Sheet1!$A:$I,8,0)","v":"51.50"},{"$f":"VLOOKUP(B4805,[1]Sheet1!$A:$I,9,0)","v":"55.40"},{"$f":"VLOOKUP(B4805,[2]少数民族加分!$C$1:$E$65536,3,FALSE)","v":2},{"v":108.9,"d":"108.90"}]
[4808,"5452270503308","吴煌连","332独山县中医院分院","04医务人员",{"$f":"VLOOKUP(B4806,[1]Sheet1!$A:$I,8,0)","v":"62.50"},{"$f":"VLOOKUP(B4806,[1]Sheet1!$A:$I,9,0)","v":"44.00"},{"$f":"VLOOKUP(B4806,[2]少数民族加分!$C$1:$E$65536,3,FALSE)","v":2},{"v":108.5,"d":"108.50"}]
[4809,"5452270503820","韦玉诗","332独山县中医院分院","04医务人员",{"$f":"VLOOKUP(B4807,[1]Sheet1!$A:$I,8,0)","v":"52.50"},{"$f":"VLOOKUP(B4807,[1]Sheet1!$A:$I,9,0)","v":"54.00"},{"$f":"VLOOKUP(B4807,[2]少数民族加分!$C$1:$E$65536,3,FALSE)","v":2},{"v":108.5,"d":"108.50"}]
[4795,"5452270502412","韦祖月","332独山县中医院分院","04医务人员",{"$f":"VLOOKUP(B4808,[1]Sheet1!$A:$I,8,0)","v":"59.00"},{"$f":"VLOOKUP(B4808,[1]Sheet1!$A:$I,9,0)","v":"48.80"},null,{"v":107.8,"d":"107.80"}]
[4811,"5452270502520","石敏","332独山县中医院分院","04医务人员",{"$f":"VLOOKUP(B4809,[1]Sheet1!$A:$I,8,0)","v":"61.00"},{"$f":"VLOOKUP(B4809,[1]Sheet1!$A:$I,9,0)","v":"44.80"},{"$f":"VLOOKUP(B4809,[2]少数民族加分!$C$1:$E$65536,3,FALSE)","v":2},{"v":107.8,"d":"107.80"}]
[4796,"5452270502418","付英花","332独山县中医院分院","04医务人员",{"$f":"VLOOKUP(B4810,[1]Sheet1!$A:$I,8,0)","v":"61.50"},{"$f":"VLOOKUP(B4810,[1]Sheet1!$A:$I,9,0)","v":"46.20"},null,{"v":107.7,"d":"107.70"}]
[4797,"5452270503513","王大兰","332独山县中医院分院","04医务人员",{"$f":"VLOOKUP(B4811,[1]Sheet1!$A:$I,8,0)","v":"56.50"},{"$f":"VLOOKUP(B4811,[1]Sheet1!$A:$I,9,0)","v":"51.20"},null,{"v":107.7,"d":"107.70"}]
[4812,"5452270503129","吴梦","332独山县中医院分院","04医务人员",{"$f":"VLOOKUP(B4812,[1]Sheet1!$A:$I,8,0)","v":"56.00"},{"$f":"VLOOKUP(B4812,[1]Sheet1!$A:$I,9,0)","v":"49.40"},{"$f":"VLOOKUP(B4812,[2]少数民族加分!$C$1:$E$65536,3,FALSE)","v":2},{"v":107.4,"d":"107.40"}]
[4807,"5452270503011","余江凤","332独山县中医院分院","04医务人员",{"$f":"VLOOKUP(B4813,[1]Sheet1!$A:$I,8,0)","v":"61.00"},{"$f":"VLOOKUP(B4813,[1]Sheet1!$A:$I,9,0)","v":"45.80"},null,{"v":106.8,"d":"106.80"}]
[4813,"5452270502710","罗兴琴","332独山县中医院分院","04医务人员",{"$f":"VLOOKUP(B4814,[1]Sheet1!$A:$I,8,0)","v":"51.50"},{"$f":"VLOOKUP(B4814,[1]Sheet1!$A:$I,9,0)","v":"53.20"},{"$f":"VLOOKUP(B4814,[2]少数民族加分!$C$1:$E$65536,3,FALSE)","v":2},{"v":106.7,"d":"106.70"}]
[4814,"5452270503903","耿明霞","332独山县中医院分院","04医务人员",{"$f":"VLOOKUP(B4815,[1]Sheet1!$A:$I,8,0)","v":"50.00"},{"$f":"VLOOKUP(B4815,[1]Sheet1!$A:$I,9,0)","v":"54.50"},{"$f":"VLOOKUP(B4815,[2]少数民族加分!$C$1:$E$65536,3,FALSE)","v":2},{"v":106.5,"d":"106.50"}]
[4810,"5452270502917","何珊","332独山县中医院分院","04医务人员",{"$f":"VLOOKUP(B4816,[1]Sheet1!$A:$I,8,0)","v":"61.50"},{"$f":"VLOOKUP(B4816,[1]Sheet1!$A:$I,9,0)","v":"44.90"},null,{"v":106.4,"d":"106.40"}]
[4815,"5452270502608","吴耀桃","332独山县中医院分院","04医务人员",{"$f":"VLOOKUP(B4817,[1]Sheet1!$A:$I,8,0)","v":"57.00"},{"$f":"VLOOKUP(B4817,[1]Sheet1!$A:$I,9,0)","v":"47.20"},{"$f":"VLOOKUP(B4817,[2]少数民族加分!$C$1:$E$65536,3,FALSE)","v":2},{"v":106.2,"d":"106.20"}]
[4817,"5452270503015","罗杨花","332独山县中医院分院","04医务人员",{"$f":"VLOOKUP(B4818,[1]Sheet1!$A:$I,8,0)","v":"57.00"},{"$f":"VLOOKUP(B4818,[1]Sheet1!$A:$I,9,0)","v":"45.90"},{"$f":"VLOOKUP(B4818,[2]少数民族加分!$C$1:$E$65536,3,FALSE)","v":2},{"v":104.9,"d":"104.90"}]
[4819,"5452270503322","唐应芬","332独山县中医院分院","04医务人员",{"$f":"VLOOKUP(B4819,[1]Sheet1!$A:$I,8,0)","v":"57.00"},{"$f":"VLOOKUP(B4819,[1]Sheet1!$A:$I,9,0)","v":"45.60"},{"$f":"VLOOKUP(B4819,[2]少数民族加分!$C$1:$E$65536,3,FALSE)","v":2},{"v":104.6,"d":"104.60"}]
[4820,"5452270502702","岑贻萍","332独山县中医院分院","04医务人员",{"$f":"VLOOKUP(B4820,[1]Sheet1!$A:$I,8,0)","v":"41.50"},{"$f":"VLOOKUP(B4820,[1]Sheet1!$A:$I,9,0)","v":"60.50"},{"$f":"VLOOKUP(B4820,[2]少数民族加分!$C$1:$E$65536,3,FALSE)","v":2},{"v":104,"d":"104.00"}]
[4816,"5452270502814","孟瑞敏","332独山县中医院分院","04医务人员",{"$f":"VLOOKUP(B4821,[1]Sheet1!$A:$I,8,0)","v":"54.50"},{"$f":"VLOOKUP(B4821,[1]Sheet1!$A:$I,9,0)","v":"49.20"},null,{"v":103.7,"d":"103.70"}]
[4821,"5452270502816","汪明烨","332独山县中医院分院","04医务人员",{"$f":"VLOOKUP(B4822,[1]Sheet1!$A:$I,8,0)","v":"48.00"},{"$f":"VLOOKUP(B4822,[1]Sheet1!$A:$I,9,0)","v":"53.60"},{"$f":"VLOOKUP(B4822,[2]少数民族加分!$C$1:$E$65536,3,FALSE)","v":2},{"v":103.6,"d":"103.60"}]
[4822,"5452270503614","韦明珠","332独山县中医院分院","04医务人员",{"$f":"VLOOKUP(B4823,[1]Sheet1!$A:$I,8,0)","v":"52.50"},{"$f":"VLOOKUP(B4823,[1]Sheet1!$A:$I,9,0)","v":"48.70"},{"$f":"VLOOKUP(B4823,[2]少数民族加分!$C$1:$E$65536,3,FALSE)","v":2},{"v":103.2,"d":"103.20"}]
[4818,"5452270503528","邝成林","332独山县中医院分院","04医务人员",{"$f":"VLOOKUP(B4824,[1]Sheet1!$A:$I,8,0)","v":"48.50"},{"$f":"VLOOKUP(B4824,[1]Sheet1!$A:$I,9,0)","v":"54.20"},null,{"v":102.7,"d":"102.70"}]
[4824,"5452270503803","沈家雪","332独山县中医院分院","04医务人员",{"$f":"VLOOKUP(B4825,[1]Sheet1!$A:$I,8,0)","v":"44.50"},{"$f":"VLOOKUP(B4825,[1]Sheet1!$A:$I,9,0)","v":"55.00"},{"$f":"VLOOKUP(B4825,[2]少数民族加分!$C$1:$E$65536,3,FALSE)","v":2},{"v":101.5,"d":"101.50"}]
[4826,"5452270503021","潘永面","332独山县中医院分院","04医务人员",{"$f":"VLOOKUP(B4826,[1]Sheet1!$A:$I,8,0)","v":"47.50"},{"$f":"VLOOKUP(B4826,[1]Sheet1!$A:$I,9,0)","v":"51.40"},{"$f":"VLOOKUP(B4826,[2]少数民族加分!$C$1:$E$65536,3,FALSE)","v":2},{"v":100.9,"d":"100.90"}]
[4828,"5452270503325","王春妹","332独山县中医院分院","04医务人员",{"$f":"VLOOKUP(B4827,[1]Sheet1!$A:$I,8,0)","v":"55.50"},{"$f":"VLOOKUP(B4827,[1]Sheet1!$A:$I,9,0)","v":"43.10"},{"$f":"VLOOKUP(B4827,[2]少数民族加分!$C$1:$E$65536,3,FALSE)","v":2},{"v":100.6,"d":"100.60"}]
[4829,"5452270502308","吴永娇","332独山县中医院分院","04医务人员",{"$f":"VLOOKUP(B4828,[1]Sheet1!$A:$I,8,0)","v":"44.00"},{"$f":"VLOOKUP(B4828,[1]Sheet1!$A:$I,9,0)","v":"54.40"},{"$f":"VLOOKUP(B4828,[2]少数民族加分!$C$1:$E$65536,3,FALSE)","v":2},{"v":100.4,"d":"100.40"}]
[4823,"5452270502812","朱晓丽","332独山县中医院分院","04医务人员",{"$f":"VLOOKUP(B4829,[1]Sheet1!$A:$I,8,0)","v":"58.00"},{"$f":"VLOOKUP(B4829,[1]Sheet1!$A:$I,9,0)","v":"41.80"},null,{"v":99.8,"d":"99.80"}]
[4825,"5452270503519","刘湘","332独山县中医院分院","04医务人员",{"$f":"VLOOKUP(B4830,[1]Sheet1!$A:$I,8,0)","v":"64.00"},{"$f":"VLOOKUP(B4830,[1]Sheet1!$A:$I,9,0)","v":"35.10"},null,{"v":99.1,"d":"99.10"}]
[4827,"5452270503725","周禹梅","332独山县中医院分院","04医务人员",{"$f":"VLOOKUP(B4831,[1]Sheet1!$A:$I,8,0)","v":"48.00"},{"$f":"VLOOKUP(B4831,[1]Sheet1!$A:$I,9,0)","v":"50.80"},null,{"v":98.8,"d":"98.80"}]
[4830,"5452270502330","蒙绪桃","332独山县中医院分院","04医务人员",{"$f":"VLOOKUP(B4832,[1]Sheet1!$A:$I,8,0)","v":"55.00"},{"$f":"VLOOKUP(B4832,[1]Sheet1!$A:$I,9,0)","v":"43.00"},null,{"v":98,"d":"98.00"}]
[4831,"5452270503402","张菊","332独山县中医院分院","04医务人员",{"$f":"VLOOKUP(B4833,[1]Sheet1!$A:$I,8,0)","v":"51.50"},{"$f":"VLOOKUP(B4833,[1]Sheet1!$A:$I,9,0)","v":"41.90"},{"$f":"VLOOKUP(B4833,[2]少数民族加分!$C$1:$E$65536,3,FALSE)","v":2},{"v":95.4,"d":"95.40"}]
[4832,"5452270502927","李维","332独山县中医院分院","04医务人员",{"$f":"VLOOKUP(B4834,[1]Sheet1!$A:$I,8,0)","v":"45.50"},{"$f":"VLOOKUP(B4834,[1]Sheet1!$A:$I,9,0)","v":"46.60"},{"$f":"VLOOKUP(B4834,[2]少数民族加分!$C$1:$E$65536,3,FALSE)","v":2},{"v":94.1,"d":"94.10"}]
[4833,"5452270504116","姚婉怡","332独山县中医院分院","04医务人员",{"$f":"VLOOKUP(B4835,[1]Sheet1!$A:$I,8,0)","v":"47.50"},{"$f":"VLOOKUP(B4835,[1]Sheet1!$A:$I,9,0)","v":"44.20"},{"$f":"VLOOKUP(B4835,[2]少数民族加分!$C$1:$E$65536,3,FALSE)","v":2},{"v":93.7,"d":"93.70"}]
[4834,"5452270503510","黎传苇","332独山县中医院分院","04医务人员",{"$f":"VLOOKUP(B4836,[1]Sheet1!$A:$I,8,0)","v":"51.00"},{"$f":"VLOOKUP(B4836,[1]Sheet1!$A:$I,9,0)","v":"38.70"},{"$f":"VLOOKUP(B4836,[2]少数民族加分!$C$1:$E$65536,3,FALSE)","v":2},{"v":91.7,"d":"91.70"}]
[4835,"5452270504103","周琪琪","332独山县中医院分院","04医务人员",{"$f":"VLOOKUP(B4837,[1]Sheet1!$A:$I,8,0)","v":"50.50"},{"$f":"VLOOKUP(B4837,[1]Sheet1!$A:$I,9,0)","v":"39.00"},{"$f":"VLOOKUP(B4837,[2]少数民族加分!$C$1:$E$65536,3,FALSE)","v":2},{"v":91.5,"d":"91.50"}]
[4836,"5452270502729","姚登婷","332独山县中医院分院","04医务人员",{"$f":"VLOOKUP(B4838,[1]Sheet1!$A:$I,8,0)","v":"40.00"},{"$f":"VLOOKUP(B4838,[1]Sheet1!$A:$I,9,0)","v":"48.10"},{"$f":"VLOOKUP(B4838,[2]少数民族加分!$C$1:$E$65536,3,FALSE)","v":2},{"v":90.1,"d":"90.10"}]
[4837,"5452270504030","潘晓留","332独山县中医院分院","04医务人员",{"$f":"VLOOKUP(B4839,[1]Sheet1!$A:$I,8,0)","v":"48.50"},{"$f":"VLOOKUP(B4839,[1]Sheet1!$A:$I,9,0)","v":"39.30"},{"$f":"VLOOKUP(B4839,[2]少数民族加分!$C$1:$E$65536,3,FALSE)","v":2},{"v":89.8,"d":"89.80"}]
[4838,"5452270502819","韦娟","332独山县中医院分院","04医务人员",{"$f":"VLOOKUP(B4840,[1]Sheet1!$A:$I,8,0)","v":"46.50"},{"$f":"VLOOKUP(B4840,[1]Sheet1!$A:$I,9,0)","v":"41.10"},{"$f":"VLOOKUP(B4840,[2]少数民族加分!$C$1:$E$65536,3,FALSE)","v":2},{"v":89.6,"d":"89.60"}]
[4840,"5452270502906","吴新丽","332独山县中医院分院","04医务人员",{"$f":"VLOOKUP(B4841,[1]Sheet1!$A:$I,8,0)","v":"30.50"},{"$f":"VLOOKUP(B4841,[1]Sheet1!$A:$I,9,0)","v":"56.60"},{"$f":"VLOOKUP(B4841,[2]少数民族加分!$C$1:$E$65536,3,FALSE)","v":2},{"v":89.1,"d":"89.10"}]
[4839,"5452270502909","石慧云","332独山县中医院分院","04医务人员",{"$f":"VLOOKUP(B4842,[1]Sheet1!$A:$I,8,0)","v":"50.50"},{"$f":"VLOOKUP(B4842,[1]Sheet1!$A:$I,9,0)","v":"36.90"},null,{"v":87.4,"d":"87.40"}]
[4841,"5452270503921","黎君","332独山县中医院分院","04医务人员",{"$f":"VLOOKUP(B4843,[1]Sheet1!$A:$I,8,0)","v":"54.00"},{"$f":"VLOOKUP(B4843,[1]Sheet1!$A:$I,9,0)","v":"30.50"},{"$f":"VLOOKUP(B4843,[2]少数民族加分!$C$1:$E$65536,3,FALSE)","v":2},{"v":86.5,"d":"86.50"}]
[4842,"5452270503313","杨文凤","332独山县中医院分院","04医务人员",{"$f":"VLOOKUP(B4844,[1]Sheet1!$A:$I,8,0)","v":"31.00"},{"$f":"VLOOKUP(B4844,[1]Sheet1!$A:$I,9,0)","v":"52.50"},{"$f":"VLOOKUP(B4844,[2]少数民族加分!$C$1:$E$65536,3,FALSE)","v":2},{"v":85.5,"d":"85.50"}]
[4843,"5452270503826","陆晓云","332独山县中医院分院","04医务人员",{"$f":"VLOOKUP(B4845,[1]Sheet1!$A:$I,8,0)","v":"34.00"},{"$f":"VLOOKUP(B4845,[1]Sheet1!$A:$I,9,0)","v":"49.20"},{"$f":"VLOOKUP(B4845,[2]少数民族加分!$C$1:$E$65536,3,FALSE)","v":2},{"v":85.2,"d":"85.20"}]
[4844,"5452270503722","吴琳芳","332独山县中医院分院","04医务人员",{"$f":"VLOOKUP(B4846,[1]Sheet1!$A:$I,8,0)","v":"33.50"},{"$f":"VLOOKUP(B4846,[1]Sheet1!$A:$I,9,0)","v":"48.90"},{"$f":"VLOOKUP(B4846,[2]少数民族加分!$C$1:$E$65536,3,FALSE)","v":2},{"v":84.4,"d":"84.40"}]
[4845,"5452270503906","杨艳芳","332独山县中医院分院","04医务人员",{"$f":"VLOOKUP(B4847,[1]Sheet1!$A:$I,8,0)","v":"34.50"},{"$f":"VLOOKUP(B4847,[1]Sheet1!$A:$I,9,0)","v":"47.70"},{"$f":"VLOOKUP(B4847,[2]少数民族加分!$C$1:$E$65536,3,FALSE)","v":2},{"v":84.2,"d":"84.20"}]
[4846,"5452270503920","刘婷婷","332独山县中医院分院","04医务人员",{"$f":"VLOOKUP(B4848,[1]Sheet1!$A:$I,8,0)","v":"42.50"},{"$f":"VLOOKUP(B4848,[1]Sheet1!$A:$I,9,0)","v":"38.70"},{"$f":"VLOOKUP(B4848,[2]少数民族加分!$C$1:$E$65536,3,FALSE)","v":2},{"v":83.2,"d":"83.20"}]
[4847,"5452270503729","张小建","332独山县中医院分院","04医务人员",{"$f":"VLOOKUP(B4849,[1]Sheet1!$A:$I,8,0)","v":"42.00"},{"$f":"VLOOKUP(B4849,[1]Sheet1!$A:$I,9,0)","v":"37.20"},{"$f":"VLOOKUP(B4849,[2]少数民族加分!$C$1:$E$65536,3,FALSE)","v":2},{"v":81.2,"d":"81.20"}]
[4848,"5452270503304","艾安梦","332独山县中医院分院","04医务人员",{"$f":"VLOOKUP(B4850,[1]Sheet1!$A:$I,8,0)","v":"20.00"},{"$f":"VLOOKUP(B4850,[1]Sheet1!$A:$I,9,0)","v":"53.60"},{"$f":"VLOOKUP(B4850,[2]少数民族加分!$C$1:$E$65536,3,FALSE)","v":2},{"v":75.6,"d":"75.60"}]
[4849,"5452270502708","陆雪巡","332独山县中医院分院","04医务人员",{"$f":"VLOOKUP(B4851,[1]Sheet1!$A:$I,8,0)","v":"49.50"},{"$f":"VLOOKUP(B4851,[1]Sheet1!$A:$I,9,0)","v":"23.10"},{"$f":"VLOOKUP(B4851,[2]少数民族加分!$C$1:$E$65536,3,FALSE)","v":2},{"v":74.6,"d":"74.60"}]
[4850,"5452270502315","田茂莲","332独山县中医院分院","04医务人员",{"$f":"VLOOKUP(B4852,[1]Sheet1!$A:$I,8,0)","v":"0.00"},{"$f":"VLOOKUP(B4852,[1]Sheet1!$A:$I,9,0)","v":"0.00"},{"$f":"VLOOKUP(B4852,[2]少数民族加分!$C$1:$E$65536,3,FALSE)","v":2},"缺考"]
[4851,"5452270502421","姜艳梅","332独山县中医院分院","04医务人员",{"$f":"VLOOKUP(B4853,[1]Sheet1!$A:$I,8,0)","v":"0.00"},{"$f":"VLOOKUP(B4853,[1]Sheet1!$A:$I,9,0)","v":"0.00"},{"$f":"VLOOKUP(B4853,[2]少数民族加分!$C$1:$E$65536,3,FALSE)","v":2},"缺考"]
[4852,"5452270502716","杨宗群","332独山县中医院分院","04医务人员",{"$f":"VLOOKUP(B4854,[1]Sheet1!$A:$I,8,0)","v":"0.00"},{"$f":"VLOOKUP(B4854,[1]Sheet1!$A:$I,9,0)","v":"0.00"},{"$f":"VLOOKUP(B4854,[2]少数民族加分!$C$1:$E$65536,3,FALSE)","v":2},"缺考"]
[4853,"5452270502804","李映琼","332独山县中医院分院","04医务人员",{"$f":"VLOOKUP(B4855,[1]Sheet1!$A:$I,8,0)","v":"0.00"},{"$f":"VLOOKUP(B4855,[1]Sheet1!$A:$I,9,0)","v":"0.00"},null,"缺考"]
[4854,"5452270503027","吴华兰","332独山县中医院分院","04医务人员",{"$f":"VLOOKUP(B4856,[1]Sheet1!$A:$I,8,0)","v":"0.00"},{"$f":"VLOOKUP(B4856,[1]Sheet1!$A:$I,9,0)","v":"0.00"},{"$f":"VLOOKUP(B4856,[2]少数民族加分!$C$1:$E$65536,3,FALSE)","v":2},"缺考"]
[4855,"5452270503208","杨梅梅","332独山县中医院分院","04医务人员",{"$f":"VLOOKUP(B4857,[1]Sheet1!$A:$I,8,0)","v":"0.00"},{"$f":"VLOOKUP(B4857,[1]Sheet1!$A:$I,9,0)","v":"0.00"},null,"缺考"]
[4856,"5452270503217","潘柳凤","332独山县中医院分院","04医务人员",{"$f":"VLOOKUP(B4858,[1]Sheet1!$A:$I,8,0)","v":"0.00"},{"$f":"VLOOKUP(B4858,[1]Sheet1!$A:$I,9,0)","v":"0.00"},{"$f":"VLOOKUP(B4858,[2]少数民族加分!$C$1:$E$65536,3,FALSE)","v":2},"缺考"]
[4857,"5452270503314","吴邦芝","332独山县中医院分院","04医务人员",{"$f":"VLOOKUP(B4859,[1]Sheet1!$A:$I,8,0)","v":"0.00"},{"$f":"VLOOKUP(B4859,[1]Sheet1!$A:$I,9,0)","v":"0.00"},{"$f":"VLOOKUP(B4859,[2]少数民族加分!$C$1:$E$65536,3,FALSE)","v":2},"缺考"]
[4858,"5452270503323","姚春香","332独山县中医院分院","04医务人员",{"$f":"VLOOKUP(B4860,[1]Sheet1!$A:$I,8,0)","v":"0.00"},{"$f":"VLOOKUP(B4860,[1]Sheet1!$A:$I,9,0)","v":"0.00"},null,"缺考"]
[4859,"5452270503405","杨润","332独山县中医院分院","04医务人员",{"$f":"VLOOKUP(B4861,[1]Sheet1!$A:$I,8,0)","v":"0.00"},{"$f":"VLOOKUP(B4861,[1]Sheet1!$A:$I,9,0)","v":"0.00"},{"$f":"VLOOKUP(B4861,[2]少数民族加分!$C$1:$E$65536,3,FALSE)","v":2},"缺考"]
[4860,"5452270503414","张金晶","332独山县中医院分院","04医务人员",{"$f":"VLOOKUP(B4862,[1]Sheet1!$A:$I,8,0)","v":"0.00"},{"$f":"VLOOKUP(B4862,[1]Sheet1!$A:$I,9,0)","v":"0.00"},null,"缺考"]
[4861,"5452270503424","莫大倩","332独山县中医院分院","04医务人员",{"$f":"VLOOKUP(B4863,[1]Sheet1!$A:$I,8,0)","v":"0.00"},{"$f":"VLOOKUP(B4863,[1]Sheet1!$A:$I,9,0)","v":"0.00"},null,"缺考"]
[4862,"5452270503504","杨金成","332独山县中医院分院","04医务人员",{"$f":"VLOOKUP(B4864,[1]Sheet1!$A:$I,8,0)","v":"0.00"},{"$f":"VLOOKUP(B4864,[1]Sheet1!$A:$I,9,0)","v":"0.00"},{"$f":"VLOOKUP(B4864,[2]少数民族加分!$C$1:$E$65536,3,FALSE)","v":2},"缺考"]
[4863,"5452270503626","蒙光云","332独山县中医院分院","04医务人员",{"$f":"VLOOKUP(B4865,[1]Sheet1!$A:$I,8,0)","v":"0.00"},{"$f":"VLOOKUP(B4865,[1]Sheet1!$A:$I,9,0)","v":"0.00"},{"$f":"VLOOKUP(B4865,[2]少数民族加分!$C$1:$E$65536,3,FALSE)","v":2},"缺考"]
[4864,"5452270503730","罗啟香","332独山县中医院分院","04医务人员",{"$f":"VLOOKUP(B4866,[1]Sheet1!$A:$I,8,0)","v":"0.00"},{"$f":"VLOOKUP(B4866,[1]Sheet1!$A:$I,9,0)","v":"0.00"},{"$f":"VLOOKUP(B4866,[2]少数民族加分!$C$1:$E$65536,3,FALSE)","v":2},"缺考"]
[4865,"5452270503806","鲁碧玲","332独山县中医院分院","04医务人员",{"$f":"VLOOKUP(B4867,[1]Sheet1!$A:$I,8,0)","v":"0.00"},{"$f":"VLOOKUP(B4867,[1]Sheet1!$A:$I,9,0)","v":"0.00"},{"$f":"VLOOKUP(B4867,[2]少数民族加分!$C$1:$E$65536,3,FALSE)","v":2},"缺考"]
[4866,"5452270503830","瞿秀云","332独山县中医院分院","04医务人员",{"$f":"VLOOKUP(B4868,[1]Sheet1!$A:$I,8,0)","v":"0.00"},{"$f":"VLOOKUP(B4868,[1]Sheet1!$A:$I,9,0)","v":"0.00"},null,"缺考"]
[4867,"5452270504029","张敏","332独山县中医院分院","04医务人员",{"$f":"VLOOKUP(B4869,[1]Sheet1!$A:$I,8,0)","v":"0.00"},{"$f":"VLOOKUP(B4869,[1]Sheet1!$A:$I,9,0)","v":"0.00"},{"$f":"VLOOKUP(B4869,[2]少数民族加分!$C$1:$E$65536,3,FALSE)","v":2},"缺考"]
[4868,"5452270504225","卢敏","332独山县中医院分院","04医务人员",{"$f":"VLOOKUP(B4870,[1]Sheet1!$A:$I,8,0)","v":"0.00"},{"$f":"VLOOKUP(B4870,[1]Sheet1!$A:$I,9,0)","v":"0.00"},null,"缺考"]
[4869,"5552270504305","高艳","332独山县中医院分院","05医技人员",{"$f":"VLOOKUP(B4871,[1]Sheet1!$A:$I,8,0)","v":"89.50"},{"$f":"VLOOKUP(B4871,[1]Sheet1!$A:$I,9,0)","v":"76.40"},null,{"v":165.9,"d":"165.90"}]
[4870,"5552270504402","刘士芳","332独山县中医院分院","05医技人员",{"$f":"VLOOKUP(B4872,[1]Sheet1!$A:$I,8,0)","v":"71.00"},{"$f":"VLOOKUP(B4872,[1]Sheet1!$A:$I,9,0)","v":"69.90"},null,{"v":140.9,"d":"140.90"}]
[4871,"5552270509325","李策","332独山县中医院分院","05医技人员",{"$f":"VLOOKUP(B4873,[1]Sheet1!$A:$I,8,0)","v":"61.00"},{"$f":"VLOOKUP(B4873,[1]Sheet1!$A:$I,9,0)","v":"74.70"},{"$f":"VLOOKUP(B4873,[2]少数民族加分!$C$1:$E$65536,3,FALSE)","v":2},{"v":137.7,"d":"137.70"}]
[4872,"5552270504329","李清成","332独山县中医院分院","05医技人员",{"$f":"VLOOKUP(B4874,[1]Sheet1!$A:$I,8,0)","v":"57.50"},{"$f":"VLOOKUP(B4874,[1]Sheet1!$A:$I,9,0)","v":"74.80"},{"$f":"VLOOKUP(B4874,[2]少数民族加分!$C$1:$E$65536,3,FALSE)","v":2},{"v":134.3,"d":"134.30"}]
[4873,"5552270504413","梁建芳","332独山县中医院分院","05医技人员",{"$f":"VLOOKUP(B4875,[1]Sheet1!$A:$I,8,0)","v":"66.50"},{"$f":"VLOOKUP(B4875,[1]Sheet1!$A:$I,9,0)","v":"64.90"},{"$f":"VLOOKUP(B4875,[2]少数民族加分!$C$1:$E$65536,3,FALSE)","v":2},{"v":133.4,"d":"133.40"}]
[4874,"5552270504420","韦力力","332独山县中医院分院","05医技人员",{"$f":"VLOOKUP(B4876,[1]Sheet1!$A:$I,8,0)","v":"74.00"},{"$f":"VLOOKUP(B4876,[1]Sheet1!$A:$I,9,0)","v":"49.80"},{"$f":"VLOOKUP(B4876,[2]少数民族加分!$C$1:$E$65536,3,FALSE)","v":2},{"v":125.8,"d":"125.80"}]
[4875,"5552270504428","何睿","332独山县中医院分院","05医技人员",{"$f":"VLOOKUP(B4877,[1]Sheet1!$A:$I,8,0)","v":"52.50"},{"$f":"VLOOKUP(B4877,[1]Sheet1!$A:$I,9,0)","v":"68.20"},null,{"v":120.7,"d":"120.70"}]
[4876,"5552270504423","唐华龙","332独山县中医院分院","05医技人员",{"$f":"VLOOKUP(B4878,[1]Sheet1!$A:$I,8,0)","v":"52.00"},{"$f":"VLOOKUP(B4878,[1]Sheet1!$A:$I,9,0)","v":"66.70"},null,{"v":118.7,"d":"118.70"}]
[4877,"5552270504328","周健棚","332独山县中医院分院","05医技人员",{"$f":"VLOOKUP(B4879,[1]Sheet1!$A:$I,8,0)","v":"59.50"},{"$f":"VLOOKUP(B4879,[1]Sheet1!$A:$I,9,0)","v":"54.90"},{"$f":"VLOOKUP(B4879,[2]少数民族加分!$C$1:$E$65536,3,FALSE)","v":2},{"v":116.4,"d":"116.40"}]
[4878,"5552270504326","刘明让","332独山县中医院分院","05医技人员",{"$f":"VLOOKUP(B4880,[1]Sheet1!$A:$I,8,0)","v":"64.00"},{"$f":"VLOOKUP(B4880,[1]Sheet1!$A:$I,9,0)","v":"46.60"},{"$f":"VLOOKUP(B4880,[2]少数民族加分!$C$1:$E$65536,3,FALSE)","v":2},{"v":112.6,"d":"112.60"}]
[4879,"5552270504311","龙越","332独山县中医院分院","05医技人员",{"$f":"VLOOKUP(B4881,[1]Sheet1!$A:$I,8,0)","v":"58.00"},{"$f":"VLOOKUP(B4881,[1]Sheet1!$A:$I,9,0)","v":"47.60"},{"$f":"VLOOKUP(B4881,[2]少数民族加分!$C$1:$E$65536,3,FALSE)","v":2},{"v":107.6,"d":"107.60"}]
[4880,"5552270504427","王菜娟","332独山县中医院分院","05医技人员",{"$f":"VLOOKUP(B4882,[1]Sheet1!$A:$I,8,0)","v":"50.50"},{"$f":"VLOOKUP(B4882,[1]Sheet1!$A:$I,9,0)","v":"55.00"},null,{"v":105.5,"d":"105.50"}]
[4881,"5552270504425","刘啟娇","332独山县中医院分院","05医技人员",{"$f":"VLOOKUP(B4883,[1]Sheet1!$A:$I,8,0)","v":"41.50"},{"$f":"VLOOKUP(B4883,[1]Sheet1!$A:$I,9,0)","v":"50.30"},{"$f":"VLOOKUP(B4883,[2]少数民族加分!$C$1:$E$65536,3,FALSE)","v":2},{"v":93.8,"d":"93.80"}]
[4882,"5552270504404","高斌","332独山县中医院分院","05医技人员",{"$f":"VLOOKUP(B4884,[1]Sheet1!$A:$I,8,0)","v":"0.00"},{"$f":"VLOOKUP(B4884,[1]Sheet1!$A:$I,9,0)","v":"0.00"},null,"缺考"]
[4883,"1152270600522","王航菲","333独山县妇幼保健院","01财务人员",{"$f":"VLOOKUP(B4885,[1]Sheet1!$A:$I,8,0)","v":"89.00"},{"$f":"VLOOKUP(B4885,[1]Sheet1!$A:$I,9,0)","v":"93.00"},{"$f":"VLOOKUP(B4885,[2]少数民族加分!$C$1:$E$65536,3,FALSE)","v":2},{"v":184,"d":"184.00"}]
[4884,"1152270601909","谢治秋","333独山县妇幼保健院","01财务人员",{"$f":"VLOOKUP(B4886,[1]Sheet1!$A:$I,8,0)","v":"81.50"},{"$f":"VLOOKUP(B4886,[1]Sheet1!$A:$I,9,0)","v":"91.00"},null,{"v":172.5,"d":"172.50"}]
[4885,"1152270501306","杨帆","333独山县妇幼保健院","01财务人员",{"$f":"VLOOKUP(B4887,[1]Sheet1!$A:$I,8,0)","v":"87.50"},{"$f":"VLOOKUP(B4887,[1]Sheet1!$A:$I,9,0)","v":"80.50"},{"$f":"VLOOKUP(B4887,[2]少数民族加分!$C$1:$E$65536,3,FALSE)","v":2},{"v":170,"d":"170.00"}]
[4886,"1152270600302","苏红红","333独山县妇幼保健院","01财务人员",{"$f":"VLOOKUP(B4888,[1]Sheet1!$A:$I,8,0)","v":"81.00"},{"$f":"VLOOKUP(B4888,[1]Sheet1!$A:$I,9,0)","v":"83.50"},null,{"v":164.5,"d":"164.50"}]
[4888,"1152270501225","杨菲","333独山县妇幼保健院","01财务人员",{"$f":"VLOOKUP(B4889,[1]Sheet1!$A:$I,8,0)","v":"72.00"},{"$f":"VLOOKUP(B4889,[1]Sheet1!$A:$I,9,0)","v":"90.00"},{"$f":"VLOOKUP(B4889,[2]少数民族加分!$C$1:$E$65536,3,FALSE)","v":2},{"v":164,"d":"164.00"}]
[4887,"1152270600926","刘定娟","333独山县妇幼保健院","01财务人员",{"$f":"VLOOKUP(B4890,[1]Sheet1!$A:$I,8,0)","v":"73.00"},{"$f":"VLOOKUP(B4890,[1]Sheet1!$A:$I,9,0)","v":"90.00"},null,{"v":163,"d":"163.00"}]
[4889,"1152270600518","杨厚键","333独山县妇幼保健院","01财务人员",{"$f":"VLOOKUP(B4891,[1]Sheet1!$A:$I,8,0)","v":"77.50"},{"$f":"VLOOKUP(B4891,[1]Sheet1!$A:$I,9,0)","v":"83.50"},{"$f":"VLOOKUP(B4891,[2]少数民族加分!$C$1:$E$65536,3,FALSE)","v":2},{"v":163,"d":"163.00"}]
[4890,"1152270601820","吴汉霞","333独山县妇幼保健院","01财务人员",{"$f":"VLOOKUP(B4892,[1]Sheet1!$A:$I,8,0)","v":"67.00"},{"$f":"VLOOKUP(B4892,[1]Sheet1!$A:$I,9,0)","v":"92.00"},{"$f":"VLOOKUP(B4892,[2]少数民族加分!$C$1:$E$65536,3,FALSE)","v":2},{"v":161,"d":"161.00"}]
[4891,"1152270501218","熊仁凯","333独山县妇幼保健院","01财务人员",{"$f":"VLOOKUP(B4893,[1]Sheet1!$A:$I,8,0)","v":"76.50"},{"$f":"VLOOKUP(B4893,[1]Sheet1!$A:$I,9,0)","v":"81.50"},{"$f":"VLOOKUP(B4893,[2]少数民族加分!$C$1:$E$65536,3,FALSE)","v":2},{"v":160,"d":"160.00"}]
[4892,"1152270600218","马燕","333独山县妇幼保健院","01财务人员",{"$f":"VLOOKUP(B4894,[1]Sheet1!$A:$I,8,0)","v":"75.50"},{"$f":"VLOOKUP(B4894,[1]Sheet1!$A:$I,9,0)","v":"78.00"},{"$f":"VLOOKUP(B4894,[2]少数民族加分!$C$1:$E$65536,3,FALSE)","v":2},{"v":155.5,"d":"155.50"}]
[4894,"1152270500810","舒燕平","333独山县妇幼保健院","01财务人员",{"$f":"VLOOKUP(B4895,[1]Sheet1!$A:$I,8,0)","v":"62.50"},{"$f":"VLOOKUP(B4895,[1]Sheet1!$A:$I,9,0)","v":"87.00"},{"$f":"VLOOKUP(B4895,[2]少数民族加分!$C$1:$E$65536,3,FALSE)","v":2},{"v":151.5,"d":"151.50"}]
[4893,"1152270602430","蒋婉宸","333独山县妇幼保健院","01财务人员",{"$f":"VLOOKUP(B4896,[1]Sheet1!$A:$I,8,0)","v":"70.00"},{"$f":"VLOOKUP(B4896,[1]Sheet1!$A:$I,9,0)","v":"81.00"},null,{"v":151,"d":"151.00"}]
[4895,"1152270600724","赵佳丽","333独山县妇幼保健院","01财务人员",{"$f":"VLOOKUP(B4897,[1]Sheet1!$A:$I,8,0)","v":"67.50"},{"$f":"VLOOKUP(B4897,[1]Sheet1!$A:$I,9,0)","v":"81.00"},{"$f":"VLOOKUP(B4897,[2]少数民族加分!$C$1:$E$65536,3,FALSE)","v":2},{"v":150.5,"d":"150.50"}]
[4896,"1152270600401","吴定情","333独山县妇幼保健院","01财务人员",{"$f":"VLOOKUP(B4898,[1]Sheet1!$A:$I,8,0)","v":"79.50"},{"$f":"VLOOKUP(B4898,[1]Sheet1!$A:$I,9,0)","v":"68.00"},{"$f":"VLOOKUP(B4898,[2]少数民族加分!$C$1:$E$65536,3,FALSE)","v":2},{"v":149.5,"d":"149.50"}]
[4897,"1152270501406","李选香","333独山县妇幼保健院","01财务人员",{"$f":"VLOOKUP(B4899,[1]Sheet1!$A:$I,8,0)","v":"74.50"},{"$f":"VLOOKUP(B4899,[1]Sheet1!$A:$I,9,0)","v":"72.50"},null,{"v":147,"d":"147.00"}]
[4898,"1152270500507","罗光霞","333独山县妇幼保健院","01财务人员",{"$f":"VLOOKUP(B4900,[1]Sheet1!$A:$I,8,0)","v":"66.50"},{"$f":"VLOOKUP(B4900,[1]Sheet1!$A:$I,9,0)","v":"78.00"},{"$f":"VLOOKUP(B4900,[2]少数民族加分!$C$1:$E$65536,3,FALSE)","v":2},{"v":146.5,"d":"146.50"}]
[4899,"1152270501228","常福慧","333独山县妇幼保健院","01财务人员",{"$f":"VLOOKUP(B4901,[1]Sheet1!$A:$I,8,0)","v":"72.50"},{"$f":"VLOOKUP(B4901,[1]Sheet1!$A:$I,9,0)","v":"72.00"},null,{"v":144.5,"d":"144.50"}]
[4900,"1152270600627","霍荣敏","333独山县妇幼保健院","01财务人员",{"$f":"VLOOKUP(B4902,[1]Sheet1!$A:$I,8,0)","v":"73.00"},{"$f":"VLOOKUP(B4902,[1]Sheet1!$A:$I,9,0)","v":"66.00"},{"$f":"VLOOKUP(B4902,[2]少数民族加分!$C$1:$E$65536,3,FALSE)","v":2},{"v":141,"d":"141.00"}]
[4901,"1152270501526","卢玮","333独山县妇幼保健院","01财务人员",{"$f":"VLOOKUP(B4903,[1]Sheet1!$A:$I,8,0)","v":"52.50"},{"$f":"VLOOKUP(B4903,[1]Sheet1!$A:$I,9,0)","v":"85.00"},{"$f":"VLOOKUP(B4903,[2]少数民族加分!$C$1:$E$65536,3,FALSE)","v":2},{"v":139.5,"d":"139.50"}]
[4902,"1152270500915","莫金玉","333独山县妇幼保健院","01财务人员",{"$f":"VLOOKUP(B4904,[1]Sheet1!$A:$I,8,0)","v":"63.00"},{"$f":"VLOOKUP(B4904,[1]Sheet1!$A:$I,9,0)","v":"60.00"},{"$f":"VLOOKUP(B4904,[2]少数民族加分!$C$1:$E$65536,3,FALSE)","v":2},{"v":125,"d":"125.00"}]
[4903,"1152270600721","陆义芬","333独山县妇幼保健院","01财务人员",{"$f":"VLOOKUP(B4905,[1]Sheet1!$A:$I,8,0)","v":"61.50"},{"$f":"VLOOKUP(B4905,[1]Sheet1!$A:$I,9,0)","v":"60.00"},{"$f":"VLOOKUP(B4905,[2]少数民族加分!$C$1:$E$65536,3,FALSE)","v":2},{"v":123.5,"d":"123.50"}]
[4904,"1152270500613","岑华露","333独山县妇幼保健院","01财务人员",{"$f":"VLOOKUP(B4906,[1]Sheet1!$A:$I,8,0)","v":"0.00"},{"$f":"VLOOKUP(B4906,[1]Sheet1!$A:$I,9,0)","v":"0.00"},{"$f":"VLOOKUP(B4906,[2]少数民族加分!$C$1:$E$65536,3,FALSE)","v":2},"缺考"]
[4905,"1152270500830","廖承兰","333独山县妇幼保健院","01财务人员",{"$f":"VLOOKUP(B4907,[1]Sheet1!$A:$I,8,0)","v":"0.00"},{"$f":"VLOOKUP(B4907,[1]Sheet1!$A:$I,9,0)","v":"0.00"},{"$f":"VLOOKUP(B4907,[2]少数民族加分!$C$1:$E$65536,3,FALSE)","v":2},"缺考"]
[4906,"1152270501018","赵亮辉","333独山县妇幼保健院","01财务人员",{"$f":"VLOOKUP(B4908,[1]Sheet1!$A:$I,8,0)","v":"0.00"},{"$f":"VLOOKUP(B4908,[1]Sheet1!$A:$I,9,0)","v":"0.00"},{"$f":"VLOOKUP(B4908,[2]少数民族加分!$C$1:$E$65536,3,FALSE)","v":2},"缺考"]
[4907,"1152270501513","罗利讲","333独山县妇幼保健院","01财务人员",{"$f":"VLOOKUP(B4909,[1]Sheet1!$A:$I,8,0)","v":"0.00"},{"$f":"VLOOKUP(B4909,[1]Sheet1!$A:$I,9,0)","v":"0.00"},{"$f":"VLOOKUP(B4909,[2]少数民族加分!$C$1:$E$65536,3,FALSE)","v":2},"缺考"]
[4908,"1152270600307","白晓敏","333独山县妇幼保健院","01财务人员",{"$f":"VLOOKUP(B4910,[1]Sheet1!$A:$I,8,0)","v":"0.00"},{"$f":"VLOOKUP(B4910,[1]Sheet1!$A:$I,9,0)","v":"0.00"},{"$f":"VLOOKUP(B4910,[2]少数民族加分!$C$1:$E$65536,3,FALSE)","v":2},"缺考"]
[4909,"1152270600415","杨欣","333独山县妇幼保健院","01财务人员",{"$f":"VLOOKUP(B4911,[1]Sheet1!$A:$I,8,0)","v":"0.00"},{"$f":"VLOOKUP(B4911,[1]Sheet1!$A:$I,9,0)","v":"0.00"},null,"缺考"]
[4910,"1152270600821","姜玲","333独山县妇幼保健院","01财务人员",{"$f":"VLOOKUP(B4912,[1]Sheet1!$A:$I,8,0)","v":"0.00"},{"$f":"VLOOKUP(B4912,[1]Sheet1!$A:$I,9,0)","v":"0.00"},null,"缺考"]
[4911,"1152270601130","罗雍","333独山县妇幼保健院","01财务人员",{"$f":"VLOOKUP(B4913,[1]Sheet1!$A:$I,8,0)","v":"0.00"},{"$f":"VLOOKUP(B4913,[1]Sheet1!$A:$I,9,0)","v":"0.00"},null,"缺考"]
[4912,"1152270602216","石俊夫","333独山县妇幼保健院","02工作人员",{"$f":"VLOOKUP(B4914,[1]Sheet1!$A:$I,8,0)","v":"97.00"},{"$f":"VLOOKUP(B4914,[1]Sheet1!$A:$I,9,0)","v":"96.00"},{"$f":"VLOOKUP(B4914,[2]少数民族加分!$C$1:$E$65536,3,FALSE)","v":2},{"v":195,"d":"195.00"}]
[4913,"1152270600709","杨仁杰","333独山县妇幼保健院","02工作人员",{"$f":"VLOOKUP(B4915,[1]Sheet1!$A:$I,8,0)","v":"94.00"},{"$f":"VLOOKUP(B4915,[1]Sheet1!$A:$I,9,0)","v":"94.00"},{"$f":"VLOOKUP(B4915,[2]少数民族加分!$C$1:$E$65536,3,FALSE)","v":2},{"v":190,"d":"190.00"}]
[4914,"1152270601104","刘明豪","333独山县妇幼保健院","02工作人员",{"$f":"VLOOKUP(B4916,[1]Sheet1!$A:$I,8,0)","v":"100.00"},{"$f":"VLOOKUP(B4916,[1]Sheet1!$A:$I,9,0)","v":"82.50"},null,{"v":182.5,"d":"182.50"}]
[4916,"1152270602310","潘雪晴","333独山县妇幼保健院","02工作人员",{"$f":"VLOOKUP(B4917,[1]Sheet1!$A:$I,8,0)","v":"96.50"},{"$f":"VLOOKUP(B4917,[1]Sheet1!$A:$I,9,0)","v":"83.00"},{"$f":"VLOOKUP(B4917,[2]少数民族加分!$C$1:$E$65536,3,FALSE)","v":2},{"v":181.5,"d":"181.50"}]
[4915,"1152270601327","彭莉","333独山县妇幼保健院","02工作人员",{"$f":"VLOOKUP(B4918,[1]Sheet1!$A:$I,8,0)","v":"95.50"},{"$f":"VLOOKUP(B4918,[1]Sheet1!$A:$I,9,0)","v":"85.50"},null,{"v":181,"d":"181.00"}]
[4917,"1152270602426","陆刚勇","333独山县妇幼保健院","02工作人员",{"$f":"VLOOKUP(B4919,[1]Sheet1!$A:$I,8,0)","v":"93.00"},{"$f":"VLOOKUP(B4919,[1]Sheet1!$A:$I,9,0)","v":"85.50"},{"$f":"VLOOKUP(B4919,[2]少数民族加分!$C$1:$E$65536,3,FALSE)","v":2},{"v":180.5,"d":"180.50"}]
[4918,"1152270500130","代乾铖","333独山县妇幼保健院","02工作人员",{"$f":"VLOOKUP(B4920,[1]Sheet1!$A:$I,8,0)","v":"87.50"},{"$f":"VLOOKUP(B4920,[1]Sheet1!$A:$I,9,0)","v":"88.00"},{"$f":"VLOOKUP(B4920,[2]少数民族加分!$C$1:$E$65536,3,FALSE)","v":2},{"v":177.5,"d":"177.50"}]
[4920,"1152270500713","陆庭庚","333独山县妇幼保健院","02工作人员",{"$f":"VLOOKUP(B4921,[1]Sheet1!$A:$I,8,0)","v":"80.00"},{"$f":"VLOOKUP(B4921,[1]Sheet1!$A:$I,9,0)","v":"94.50"},{"$f":"VLOOKUP(B4921,[2]少数民族加分!$C$1:$E$65536,3,FALSE)","v":2},{"v":176.5,"d":"176.50"}]
[4919,"1152270602417","张仁淞","333独山县妇幼保健院","02工作人员",{"$f":"VLOOKUP(B4922,[1]Sheet1!$A:$I,8,0)","v":"83.50"},{"$f":"VLOOKUP(B4922,[1]Sheet1!$A:$I,9,0)","v":"91.50"},null,{"v":175,"d":"175.00"}]
[4922,"1152270601822","杨英","333独山县妇幼保健院","02工作人员",{"$f":"VLOOKUP(B4923,[1]Sheet1!$A:$I,8,0)","v":"69.50"},{"$f":"VLOOKUP(B4923,[1]Sheet1!$A:$I,9,0)","v":"102.00"},{"$f":"VLOOKUP(B4923,[2]少数民族加分!$C$1:$E$65536,3,FALSE)","v":2},{"v":173.5,"d":"173.50"}]
[4923,"1152270601703","蒙谦","333独山县妇幼保健院","02工作人员",{"$f":"VLOOKUP(B4924,[1]Sheet1!$A:$I,8,0)","v":"86.50"},{"$f":"VLOOKUP(B4924,[1]Sheet1!$A:$I,9,0)","v":"84.50"},{"$f":"VLOOKUP(B4924,[2]少数民族加分!$C$1:$E$65536,3,FALSE)","v":2},{"v":173,"d":"173.00"}]
[4921,"1152270601418","廖松","333独山县妇幼保健院","02工作人员",{"$f":"VLOOKUP(B4925,[1]Sheet1!$A:$I,8,0)","v":"89.50"},{"$f":"VLOOKUP(B4925,[1]Sheet1!$A:$I,9,0)","v":"83.00"},null,{"v":172.5,"d":"172.50"}]
[4924,"1152270600625","彭家敏","333独山县妇幼保健院","02工作人员",{"$f":"VLOOKUP(B4926,[1]Sheet1!$A:$I,8,0)","v":"79.50"},{"$f":"VLOOKUP(B4926,[1]Sheet1!$A:$I,9,0)","v":"91.00"},{"$f":"VLOOKUP(B4926,[2]少数民族加分!$C$1:$E$65536,3,FALSE)","v":2},{"v":172.5,"d":"172.50"}]
[4926,"1152270600129","杨秀兰","333独山县妇幼保健院","02工作人员",{"$f":"VLOOKUP(B4927,[1]Sheet1!$A:$I,8,0)","v":"86.50"},{"$f":"VLOOKUP(B4927,[1]Sheet1!$A:$I,9,0)","v":"81.50"},{"$f":"VLOOKUP(B4927,[2]少数民族加分!$C$1:$E$65536,3,FALSE)","v":2},{"v":170,"d":"170.00"}]
[4927,"1152270600828","韦雨柔","333独山县妇幼保健院","02工作人员",{"$f":"VLOOKUP(B4928,[1]Sheet1!$A:$I,8,0)","v":"74.00"},{"$f":"VLOOKUP(B4928,[1]Sheet1!$A:$I,9,0)","v":"94.00"},{"$f":"VLOOKUP(B4928,[2]少数民族加分!$C$1:$E$65536,3,FALSE)","v":2},{"v":170,"d":"170.00"}]
[4925,"1152270601430","肖垒","333独山县妇幼保健院","02工作人员",{"$f":"VLOOKUP(B4929,[1]Sheet1!$A:$I,8,0)","v":"92.50"},{"$f":"VLOOKUP(B4929,[1]Sheet1!$A:$I,9,0)","v":"76.00"},null,{"v":168.5,"d":"168.50"}]
[4929,"1152270601922","韦白玲","333独山县妇幼保健院","02工作人员",{"$f":"VLOOKUP(B4930,[1]Sheet1!$A:$I,8,0)","v":"76.00"},{"$f":"VLOOKUP(B4930,[1]Sheet1!$A:$I,9,0)","v":"89.50"},{"$f":"VLOOKUP(B4930,[2]少数民族加分!$C$1:$E$65536,3,FALSE)","v":2},{"v":167.5,"d":"167.50"}]
[4930,"1152270601524","马亚威","333独山县妇幼保健院","02工作人员",{"$f":"VLOOKUP(B4931,[1]Sheet1!$A:$I,8,0)","v":"74.00"},{"$f":"VLOOKUP(B4931,[1]Sheet1!$A:$I,9,0)","v":"90.50"},{"$f":"VLOOKUP(B4931,[2]少数民族加分!$C$1:$E$65536,3,FALSE)","v":2},{"v":166.5,"d":"166.50"}]
[4928,"1152270601709","颜学珍","333独山县妇幼保健院","02工作人员",{"$f":"VLOOKUP(B4932,[1]Sheet1!$A:$I,8,0)","v":"88.00"},{"$f":"VLOOKUP(B4932,[1]Sheet1!$A:$I,9,0)","v":"77.50"},null,{"v":165.5,"d":"165.50"}]
[4933,"1152270501511","何昌明","333独山县妇幼保健院","02工作人员",{"$f":"VLOOKUP(B4933,[1]Sheet1!$A:$I,8,0)","v":"79.00"},{"$f":"VLOOKUP(B4933,[1]Sheet1!$A:$I,9,0)","v":"84.50"},{"$f":"VLOOKUP(B4933,[2]少数民族加分!$C$1:$E$65536,3,FALSE)","v":2},{"v":165.5,"d":"165.50"}]
[4934,"1152270501804","黎献章","333独山县妇幼保健院","02工作人员",{"$f":"VLOOKUP(B4934,[1]Sheet1!$A:$I,8,0)","v":"81.50"},{"$f":"VLOOKUP(B4934,[1]Sheet1!$A:$I,9,0)","v":"81.50"},{"$f":"VLOOKUP(B4934,[2]少数民族加分!$C$1:$E$65536,3,FALSE)","v":2},{"v":165,"d":"165.00"}]
[4935,"1152270601502","石昭涛","333独山县妇幼保健院","02工作人员",{"$f":"VLOOKUP(B4935,[1]Sheet1!$A:$I,8,0)","v":"86.00"},{"$f":"VLOOKUP(B4935,[1]Sheet1!$A:$I,9,0)","v":"76.50"},{"$f":"VLOOKUP(B4935,[2]少数民族加分!$C$1:$E$65536,3,FALSE)","v":2},{"v":164.5,"d":"164.50"}]
[4931,"1152270601719","李博","333独山县妇幼保健院","02工作人员",{"$f":"VLOOKUP(B4936,[1]Sheet1!$A:$I,8,0)","v":"81.50"},{"$f":"VLOOKUP(B4936,[1]Sheet1!$A:$I,9,0)","v":"82.50"},null,{"v":164,"d":"164.00"}]
[4932,"1152270600921","卢传涛","333独山县妇幼保健院","02工作人员",{"$f":"VLOOKUP(B4937,[1]Sheet1!$A:$I,8,0)","v":"88.00"},{"$f":"VLOOKUP(B4937,[1]Sheet1!$A:$I,9,0)","v":"76.00"},null,{"v":164,"d":"164.00"}]
[4936,"1152270601518","高赞","333独山县妇幼保健院","02工作人员",{"$f":"VLOOKUP(B4938,[1]Sheet1!$A:$I,8,0)","v":"80.50"},{"$f":"VLOOKUP(B4938,[1]Sheet1!$A:$I,9,0)","v":"81.50"},null,{"v":162,"d":"162.00"}]
[4937,"1152270601414","徐瑞叶","333独山县妇幼保健院","02工作人员",{"$f":"VLOOKUP(B4939,[1]Sheet1!$A:$I,8,0)","v":"74.50"},{"$f":"VLOOKUP(B4939,[1]Sheet1!$A:$I,9,0)","v":"84.50"},{"$f":"VLOOKUP(B4939,[2]少数民族加分!$C$1:$E$65536,3,FALSE)","v":2},{"v":161,"d":"161.00"}]
[4938,"1152270601508","陆薪丞","333独山县妇幼保健院","02工作人员",{"$f":"VLOOKUP(B4940,[1]Sheet1!$A:$I,8,0)","v":"74.50"},{"$f":"VLOOKUP(B4940,[1]Sheet1!$A:$I,9,0)","v":"84.50"},{"$f":"VLOOKUP(B4940,[2]少数民族加分!$C$1:$E$65536,3,FALSE)","v":2},{"v":161,"d":"161.00"}]
[4939,"1152270501615","陈健","333独山县妇幼保健院","02工作人员",{"$f":"VLOOKUP(B4941,[1]Sheet1!$A:$I,8,0)","v":"77.50"},{"$f":"VLOOKUP(B4941,[1]Sheet1!$A:$I,9,0)","v":"80.00"},{"$f":"VLOOKUP(B4941,[2]少数民族加分!$C$1:$E$65536,3,FALSE)","v":2},{"v":159.5,"d":"159.50"}]
[4940,"1152270601804","徐星","333独山县妇幼保健院","02工作人员",{"$f":"VLOOKUP(B4942,[1]Sheet1!$A:$I,8,0)","v":"66.50"},{"$f":"VLOOKUP(B4942,[1]Sheet1!$A:$I,9,0)","v":"90.00"},{"$f":"VLOOKUP(B4942,[2]少数民族加分!$C$1:$E$65536,3,FALSE)","v":2},{"v":158.5,"d":"158.50"}]
[4941,"1152270601803","龙俊锟","333独山县妇幼保健院","02工作人员",{"$f":"VLOOKUP(B4943,[1]Sheet1!$A:$I,8,0)","v":"88.00"},{"$f":"VLOOKUP(B4943,[1]Sheet1!$A:$I,9,0)","v":"67.00"},{"$f":"VLOOKUP(B4943,[2]少数民族加分!$C$1:$E$65536,3,FALSE)","v":2},{"v":157,"d":"157.00"}]
[4942,"1152270600423","苏仕兴","333独山县妇幼保健院","02工作人员",{"$f":"VLOOKUP(B4944,[1]Sheet1!$A:$I,8,0)","v":"81.00"},{"$f":"VLOOKUP(B4944,[1]Sheet1!$A:$I,9,0)","v":"74.00"},{"$f":"VLOOKUP(B4944,[2]少数民族加分!$C$1:$E$65536,3,FALSE)","v":2},{"v":157,"d":"157.00"}]
[4943,"1152270500512","胡燕","333独山县妇幼保健院","02工作人员",{"$f":"VLOOKUP(B4945,[1]Sheet1!$A:$I,8,0)","v":"73.00"},{"$f":"VLOOKUP(B4945,[1]Sheet1!$A:$I,9,0)","v":"81.50"},{"$f":"VLOOKUP(B4945,[2]少数民族加分!$C$1:$E$65536,3,FALSE)","v":2},{"v":156.5,"d":"156.50"}]
[4944,"1152270600925","杨胜飞","333独山县妇幼保健院","02工作人员",{"$f":"VLOOKUP(B4946,[1]Sheet1!$A:$I,8,0)","v":"66.50"},{"$f":"VLOOKUP(B4946,[1]Sheet1!$A:$I,9,0)","v":"88.00"},{"$f":"VLOOKUP(B4946,[2]少数民族加分!$C$1:$E$65536,3,FALSE)","v":2},{"v":156.5,"d":"156.50"}]
[4945,"1152270500111","杨秀厅","333独山县妇幼保健院","02工作人员",{"$f":"VLOOKUP(B4947,[1]Sheet1!$A:$I,8,0)","v":"65.00"},{"$f":"VLOOKUP(B4947,[1]Sheet1!$A:$I,9,0)","v":"89.00"},{"$f":"VLOOKUP(B4947,[2]少数民族加分!$C$1:$E$65536,3,FALSE)","v":2},{"v":156,"d":"156.00"}]
[4947,"1152270602109","陈茂龙","333独山县妇幼保健院","02工作人员",{"$f":"VLOOKUP(B4948,[1]Sheet1!$A:$I,8,0)","v":"74.50"},{"$f":"VLOOKUP(B4948,[1]Sheet1!$A:$I,9,0)","v":"77.00"},{"$f":"VLOOKUP(B4948,[2]少数民族加分!$C$1:$E$65536,3,FALSE)","v":2},{"v":153.5,"d":"153.50"}]
[4946,"1152270601629","万伟","333独山县妇幼保健院","02工作人员",{"$f":"VLOOKUP(B4949,[1]Sheet1!$A:$I,8,0)","v":"83.00"},{"$f":"VLOOKUP(B4949,[1]Sheet1!$A:$I,9,0)","v":"70.00"},null,{"v":153,"d":"153.00"}]
[4948,"1152270500413","陈元吉","333独山县妇幼保健院","02工作人员",{"$f":"VLOOKUP(B4950,[1]Sheet1!$A:$I,8,0)","v":"69.00"},{"$f":"VLOOKUP(B4950,[1]Sheet1!$A:$I,9,0)","v":"81.00"},{"$f":"VLOOKUP(B4950,[2]少数民族加分!$C$1:$E$65536,3,FALSE)","v":2},{"v":152,"d":"152.00"}]
[4951,"1152270600727","蒙正涛","333独山县妇幼保健院","02工作人员",{"$f":"VLOOKUP(B4951,[1]Sheet1!$A:$I,8,0)","v":"85.00"},{"$f":"VLOOKUP(B4951,[1]Sheet1!$A:$I,9,0)","v":"63.50"},{"$f":"VLOOKUP(B4951,[2]少数民族加分!$C$1:$E$65536,3,FALSE)","v":2},{"v":150.5,"d":"150.50"}]
[4949,"1152270600410","蒋皓","333独山县妇幼保健院","02工作人员",{"$f":"VLOOKUP(B4952,[1]Sheet1!$A:$I,8,0)","v":"73.50"},{"$f":"VLOOKUP(B4952,[1]Sheet1!$A:$I,9,0)","v":"76.00"},null,{"v":149.5,"d":"149.50"}]
[4954,"1152270602218","潘梦英","333独山县妇幼保健院","02工作人员",{"$f":"VLOOKUP(B4953,[1]Sheet1!$A:$I,8,0)","v":"75.50"},{"$f":"VLOOKUP(B4953,[1]Sheet1!$A:$I,9,0)","v":"72.00"},{"$f":"VLOOKUP(B4953,[2]少数民族加分!$C$1:$E$65536,3,FALSE)","v":2},{"v":149.5,"d":"149.50"}]
[4950,"1152270601609","黄锡杨","333独山县妇幼保健院","02工作人员",{"$f":"VLOOKUP(B4954,[1]Sheet1!$A:$I,8,0)","v":"76.50"},{"$f":"VLOOKUP(B4954,[1]Sheet1!$A:$I,9,0)","v":"72.50"},null,{"v":149,"d":"149.00"}]
[4952,"1152270600916","陈奇秀","333独山县妇幼保健院","02工作人员",{"$f":"VLOOKUP(B4955,[1]Sheet1!$A:$I,8,0)","v":"77.50"},{"$f":"VLOOKUP(B4955,[1]Sheet1!$A:$I,9,0)","v":"71.00"},null,{"v":148.5,"d":"148.50"}]
[4953,"1152270600408","刘炜","333独山县妇幼保健院","02工作人员",{"$f":"VLOOKUP(B4956,[1]Sheet1!$A:$I,8,0)","v":"81.00"},{"$f":"VLOOKUP(B4956,[1]Sheet1!$A:$I,9,0)","v":"67.00"},null,{"v":148,"d":"148.00"}]
[4955,"1152270600512","吴千武","333独山县妇幼保健院","02工作人员",{"$f":"VLOOKUP(B4957,[1]Sheet1!$A:$I,8,0)","v":"76.50"},{"$f":"VLOOKUP(B4957,[1]Sheet1!$A:$I,9,0)","v":"69.50"},{"$f":"VLOOKUP(B4957,[2]少数民族加分!$C$1:$E$65536,3,FALSE)","v":2},{"v":148,"d":"148.00"}]
[4956,"1152270602202","肖世锡","333独山县妇幼保健院","02工作人员",{"$f":"VLOOKUP(B4958,[1]Sheet1!$A:$I,8,0)","v":"68.50"},{"$f":"VLOOKUP(B4958,[1]Sheet1!$A:$I,9,0)","v":"77.00"},{"$f":"VLOOKUP(B4958,[2]少数民族加分!$C$1:$E$65536,3,FALSE)","v":2},{"v":147.5,"d":"147.50"}]
[4957,"1152270501729","吴昌慧","333独山县妇幼保健院","02工作人员",{"$f":"VLOOKUP(B4959,[1]Sheet1!$A:$I,8,0)","v":"72.50"},{"$f":"VLOOKUP(B4959,[1]Sheet1!$A:$I,9,0)","v":"72.00"},{"$f":"VLOOKUP(B4959,[2]少数民族加分!$C$1:$E$65536,3,FALSE)","v":2},{"v":146.5,"d":"146.50"}]
[4958,"1152270601114","吴经田","333独山县妇幼保健院","02工作人员",{"$f":"VLOOKUP(B4960,[1]Sheet1!$A:$I,8,0)","v":"60.00"},{"$f":"VLOOKUP(B4960,[1]Sheet1!$A:$I,9,0)","v":"84.00"},{"$f":"VLOOKUP(B4960,[2]少数民族加分!$C$1:$E$65536,3,FALSE)","v":2},{"v":146,"d":"146.00"}]
[4960,"1152270602527","莫魁健","333独山县妇幼保健院","02工作人员",{"$f":"VLOOKUP(B4961,[1]Sheet1!$A:$I,8,0)","v":"81.50"},{"$f":"VLOOKUP(B4961,[1]Sheet1!$A:$I,9,0)","v":"61.50"},{"$f":"VLOOKUP(B4961,[2]少数民族加分!$C$1:$E$65536,3,FALSE)","v":2},{"v":145,"d":"145.00"}]
[4961,"1152270501305","罗凤洁","333独山县妇幼保健院","02工作人员",{"$f":"VLOOKUP(B4962,[1]Sheet1!$A:$I,8,0)","v":"68.50"},{"$f":"VLOOKUP(B4962,[1]Sheet1!$A:$I,9,0)","v":"74.00"},{"$f":"VLOOKUP(B4962,[2]少数民族加分!$C$1:$E$65536,3,FALSE)","v":2},{"v":144.5,"d":"144.50"}]
[4962,"1152270501123","王道翠","333独山县妇幼保健院","02工作人员",{"$f":"VLOOKUP(B4963,[1]Sheet1!$A:$I,8,0)","v":"70.00"},{"$f":"VLOOKUP(B4963,[1]Sheet1!$A:$I,9,0)","v":"72.00"},{"$f":"VLOOKUP(B4963,[2]少数民族加分!$C$1:$E$65536,3,FALSE)","v":2},{"v":144,"d":"144.00"}]
[4959,"1152270501419","项文","333独山县妇幼保健院","02工作人员",{"$f":"VLOOKUP(B4964,[1]Sheet1!$A:$I,8,0)","v":"85.50"},{"$f":"VLOOKUP(B4964,[1]Sheet1!$A:$I,9,0)","v":"58.00"},null,{"v":143.5,"d":"143.50"}]
[4964,"1152270600517","文志明","333独山县妇幼保健院","02工作人员",{"$f":"VLOOKUP(B4965,[1]Sheet1!$A:$I,8,0)","v":"68.50"},{"$f":"VLOOKUP(B4965,[1]Sheet1!$A:$I,9,0)","v":"73.00"},{"$f":"VLOOKUP(B4965,[2]少数民族加分!$C$1:$E$65536,3,FALSE)","v":2},{"v":143.5,"d":"143.50"}]
[4965,"1152270601222","郭宇翔","333独山县妇幼保健院","02工作人员",{"$f":"VLOOKUP(B4966,[1]Sheet1!$A:$I,8,0)","v":"74.50"},{"$f":"VLOOKUP(B4966,[1]Sheet1!$A:$I,9,0)","v":"67.00"},{"$f":"VLOOKUP(B4966,[2]少数民族加分!$C$1:$E$65536,3,FALSE)","v":2},{"v":143.5,"d":"143.50"}]
[4967,"1152270601827","王天虎","333独山县妇幼保健院","02工作人员",{"$f":"VLOOKUP(B4967,[1]Sheet1!$A:$I,8,0)","v":"74.00"},{"$f":"VLOOKUP(B4967,[1]Sheet1!$A:$I,9,0)","v":"66.50"},{"$f":"VLOOKUP(B4967,[2]少数民族加分!$C$1:$E$65536,3,FALSE)","v":2},{"v":142.5,"d":"142.50"}]
[4968,"1152270501411","刘晗","333独山县妇幼保健院","02工作人员",{"$f":"VLOOKUP(B4968,[1]Sheet1!$A:$I,8,0)","v":"71.50"},{"$f":"VLOOKUP(B4968,[1]Sheet1!$A:$I,9,0)","v":"69.00"},{"$f":"VLOOKUP(B4968,[2]少数民族加分!$C$1:$E$65536,3,FALSE)","v":2},{"v":142.5,"d":"142.50"}]
[4969,"1152270501413","吴东志","333独山县妇幼保健院","02工作人员",{"$f":"VLOOKUP(B4969,[1]Sheet1!$A:$I,8,0)","v":"66.00"},{"$f":"VLOOKUP(B4969,[1]Sheet1!$A:$I,9,0)","v":"74.00"},{"$f":"VLOOKUP(B4969,[2]少数民族加分!$C$1:$E$65536,3,FALSE)","v":2},{"v":142,"d":"142.00"}]
[4970,"1152270501711","刘福绣","333独山县妇幼保健院","02工作人员",{"$f":"VLOOKUP(B4970,[1]Sheet1!$A:$I,8,0)","v":"75.00"},{"$f":"VLOOKUP(B4970,[1]Sheet1!$A:$I,9,0)","v":"65.00"},{"$f":"VLOOKUP(B4970,[2]少数民族加分!$C$1:$E$65536,3,FALSE)","v":2},{"v":142,"d":"142.00"}]
[4963,"1152270501227","蔡明甸","333独山县妇幼保健院","02工作人员",{"$f":"VLOOKUP(B4971,[1]Sheet1!$A:$I,8,0)","v":"71.50"},{"$f":"VLOOKUP(B4971,[1]Sheet1!$A:$I,9,0)","v":"70.00"},null,{"v":141.5,"d":"141.50"}]
[4966,"1152270602120","曹贵川","333独山县妇幼保健院","02工作人员",{"$f":"VLOOKUP(B4972,[1]Sheet1!$A:$I,8,0)","v":"66.50"},{"$f":"VLOOKUP(B4972,[1]Sheet1!$A:$I,9,0)","v":"75.00"},null,{"v":141.5,"d":"141.50"}]
[4971,"1152270601501","郭飞","333独山县妇幼保健院","02工作人员",{"$f":"VLOOKUP(B4973,[1]Sheet1!$A:$I,8,0)","v":"80.50"},{"$f":"VLOOKUP(B4973,[1]Sheet1!$A:$I,9,0)","v":"59.00"},null,{"v":139.5,"d":"139.50"}]
[4974,"1152270600303","王金华","333独山县妇幼保健院","02工作人员",{"$f":"VLOOKUP(B4974,[1]Sheet1!$A:$I,8,0)","v":"77.50"},{"$f":"VLOOKUP(B4974,[1]Sheet1!$A:$I,9,0)","v":"60.00"},{"$f":"VLOOKUP(B4974,[2]少数民族加分!$C$1:$E$65536,3,FALSE)","v":2},{"v":139.5,"d":"139.50"}]
[4972,"1152270601105","李念","333独山县妇幼保健院","02工作人员",{"$f":"VLOOKUP(B4975,[1]Sheet1!$A:$I,8,0)","v":"84.00"},{"$f":"VLOOKUP(B4975,[1]Sheet1!$A:$I,9,0)","v":"55.00"},null,{"v":139,"d":"139.00"}]
[4973,"1152270500816","梅瀚文","333独山县妇幼保健院","02工作人员",{"$f":"VLOOKUP(B4976,[1]Sheet1!$A:$I,8,0)","v":"69.50"},{"$f":"VLOOKUP(B4976,[1]Sheet1!$A:$I,9,0)","v":"69.00"},null,{"v":138.5,"d":"138.50"}]
[4977,"1152270600206","莫让定","333独山县妇幼保健院","02工作人员",{"$f":"VLOOKUP(B4977,[1]Sheet1!$A:$I,8,0)","v":"79.50"},{"$f":"VLOOKUP(B4977,[1]Sheet1!$A:$I,9,0)","v":"56.50"},{"$f":"VLOOKUP(B4977,[2]少数民族加分!$C$1:$E$65536,3,FALSE)","v":2},{"v":138,"d":"138.00"}]
[4975,"1152270600830","林正鹏","333独山县妇幼保健院","02工作人员",{"$f":"VLOOKUP(B4978,[1]Sheet1!$A:$I,8,0)","v":"68.50"},{"$f":"VLOOKUP(B4978,[1]Sheet1!$A:$I,9,0)","v":"69.00"},null,{"v":137.5,"d":"137.50"}]
[4978,"1152270501117","莫家顺","333独山县妇幼保健院","02工作人员",{"$f":"VLOOKUP(B4979,[1]Sheet1!$A:$I,8,0)","v":"65.50"},{"$f":"VLOOKUP(B4979,[1]Sheet1!$A:$I,9,0)","v":"70.00"},{"$f":"VLOOKUP(B4979,[2]少数民族加分!$C$1:$E$65536,3,FALSE)","v":2},{"v":137.5,"d":"137.50"}]
[4976,"1152270600728","陈伟","333独山县妇幼保健院","02工作人员",{"$f":"VLOOKUP(B4980,[1]Sheet1!$A:$I,8,0)","v":"69.00"},{"$f":"VLOOKUP(B4980,[1]Sheet1!$A:$I,9,0)","v":"68.00"},null,{"v":137,"d":"137.00"}]
[4979,"1152270601929","蒙明桂","333独山县妇幼保健院","02工作人员",{"$f":"VLOOKUP(B4981,[1]Sheet1!$A:$I,8,0)","v":"72.00"},{"$f":"VLOOKUP(B4981,[1]Sheet1!$A:$I,9,0)","v":"63.00"},{"$f":"VLOOKUP(B4981,[2]少数民族加分!$C$1:$E$65536,3,FALSE)","v":2},{"v":137,"d":"137.00"}]
[4980,"1152270601715","余忠洋","333独山县妇幼保健院","02工作人员",{"$f":"VLOOKUP(B4982,[1]Sheet1!$A:$I,8,0)","v":"69.50"},{"$f":"VLOOKUP(B4982,[1]Sheet1!$A:$I,9,0)","v":"65.00"},{"$f":"VLOOKUP(B4982,[2]少数民族加分!$C$1:$E$65536,3,FALSE)","v":2},{"v":136.5,"d":"136.50"}]
[4981,"1152270500911","潘朝南","333独山县妇幼保健院","02工作人员",{"$f":"VLOOKUP(B4983,[1]Sheet1!$A:$I,8,0)","v":"80.00"},{"$f":"VLOOKUP(B4983,[1]Sheet1!$A:$I,9,0)","v":"54.50"},{"$f":"VLOOKUP(B4983,[2]少数民族加分!$C$1:$E$65536,3,FALSE)","v":2},{"v":136.5,"d":"136.50"}]
[4982,"1152270600914","黎祖江","333独山县妇幼保健院","02工作人员",{"$f":"VLOOKUP(B4984,[1]Sheet1!$A:$I,8,0)","v":"61.50"},{"$f":"VLOOKUP(B4984,[1]Sheet1!$A:$I,9,0)","v":"72.00"},{"$f":"VLOOKUP(B4984,[2]少数民族加分!$C$1:$E$65536,3,FALSE)","v":2},{"v":135.5,"d":"135.50"}]
[4983,"1152270600208","赵明波","333独山县妇幼保健院","02工作人员",{"$f":"VLOOKUP(B4985,[1]Sheet1!$A:$I,8,0)","v":"57.00"},{"$f":"VLOOKUP(B4985,[1]Sheet1!$A:$I,9,0)","v":"76.00"},{"$f":"VLOOKUP(B4985,[2]少数民族加分!$C$1:$E$65536,3,FALSE)","v":2},{"v":135,"d":"135.00"}]
[4984,"1152270602027","周彰滨","333独山县妇幼保健院","02工作人员",{"$f":"VLOOKUP(B4986,[1]Sheet1!$A:$I,8,0)","v":"63.00"},{"$f":"VLOOKUP(B4986,[1]Sheet1!$A:$I,9,0)","v":"70.00"},{"$f":"VLOOKUP(B4986,[2]少数民族加分!$C$1:$E$65536,3,FALSE)","v":2},{"v":135,"d":"135.00"}]
[4985,"1152270602211","徐进","333独山县妇幼保健院","02工作人员",{"$f":"VLOOKUP(B4987,[1]Sheet1!$A:$I,8,0)","v":"69.00"},{"$f":"VLOOKUP(B4987,[1]Sheet1!$A:$I,9,0)","v":"64.00"},{"$f":"VLOOKUP(B4987,[2]少数民族加分!$C$1:$E$65536,3,FALSE)","v":2},{"v":135,"d":"135.00"}]
[4986,"1152270500814","杨昌宏","333独山县妇幼保健院","02工作人员",{"$f":"VLOOKUP(B4988,[1]Sheet1!$A:$I,8,0)","v":"56.50"},{"$f":"VLOOKUP(B4988,[1]Sheet1!$A:$I,9,0)","v":"75.00"},{"$f":"VLOOKUP(B4988,[2]少数民族加分!$C$1:$E$65536,3,FALSE)","v":2},{"v":133.5,"d":"133.50"}]
[4987,"1152270600601","吴文祥","333独山县妇幼保健院","02工作人员",{"$f":"VLOOKUP(B4989,[1]Sheet1!$A:$I,8,0)","v":"63.00"},{"$f":"VLOOKUP(B4989,[1]Sheet1!$A:$I,9,0)","v":"68.00"},{"$f":"VLOOKUP(B4989,[2]少数民族加分!$C$1:$E$65536,3,FALSE)","v":2},{"v":133,"d":"133.00"}]
[4988,"1152270602427","李明坤","333独山县妇幼保健院","02工作人员",{"$f":"VLOOKUP(B4990,[1]Sheet1!$A:$I,8,0)","v":"60.50"},{"$f":"VLOOKUP(B4990,[1]Sheet1!$A:$I,9,0)","v":"70.00"},{"$f":"VLOOKUP(B4990,[2]少数民族加分!$C$1:$E$65536,3,FALSE)","v":2},{"v":132.5,"d":"132.50"}]
[4989,"1152270601823","莫明优","333独山县妇幼保健院","02工作人员",{"$f":"VLOOKUP(B4991,[1]Sheet1!$A:$I,8,0)","v":"76.50"},{"$f":"VLOOKUP(B4991,[1]Sheet1!$A:$I,9,0)","v":"52.00"},{"$f":"VLOOKUP(B4991,[2]少数民族加分!$C$1:$E$65536,3,FALSE)","v":2},{"v":130.5,"d":"130.50"}]
[4990,"1152270601221","王友福","333独山县妇幼保健院","02工作人员",{"$f":"VLOOKUP(B4992,[1]Sheet1!$A:$I,8,0)","v":"68.00"},{"$f":"VLOOKUP(B4992,[1]Sheet1!$A:$I,9,0)","v":"60.00"},{"$f":"VLOOKUP(B4992,[2]少数民族加分!$C$1:$E$65536,3,FALSE)","v":2},{"v":130,"d":"130.00"}]
[4991,"1152270500728","潘雪梦","333独山县妇幼保健院","02工作人员",{"$f":"VLOOKUP(B4993,[1]Sheet1!$A:$I,8,0)","v":"51.00"},{"$f":"VLOOKUP(B4993,[1]Sheet1!$A:$I,9,0)","v":"77.00"},{"$f":"VLOOKUP(B4993,[2]少数民族加分!$C$1:$E$65536,3,FALSE)","v":2},{"v":130,"d":"130.00"}]
[4992,"1152270601917","罗传学","333独山县妇幼保健院","02工作人员",{"$f":"VLOOKUP(B4994,[1]Sheet1!$A:$I,8,0)","v":"56.50"},{"$f":"VLOOKUP(B4994,[1]Sheet1!$A:$I,9,0)","v":"70.00"},{"$f":"VLOOKUP(B4994,[2]少数民族加分!$C$1:$E$65536,3,FALSE)","v":2},{"v":128.5,"d":"128.50"}]
[4994,"1152270501328","韦忠富","333独山县妇幼保健院","02工作人员",{"$f":"VLOOKUP(B4995,[1]Sheet1!$A:$I,8,0)","v":"73.00"},{"$f":"VLOOKUP(B4995,[1]Sheet1!$A:$I,9,0)","v":"51.50"},{"$f":"VLOOKUP(B4995,[2]少数民族加分!$C$1:$E$65536,3,FALSE)","v":2},{"v":126.5,"d":"126.50"}]
[4995,"1152270501612","田琨","333独山县妇幼保健院","02工作人员",{"$f":"VLOOKUP(B4996,[1]Sheet1!$A:$I,8,0)","v":"69.50"},{"$f":"VLOOKUP(B4996,[1]Sheet1!$A:$I,9,0)","v":"55.00"},{"$f":"VLOOKUP(B4996,[2]少数民族加分!$C$1:$E$65536,3,FALSE)","v":2},{"v":126.5,"d":"126.50"}]
[4996,"1152270501322","莫逢波","333独山县妇幼保健院","02工作人员",{"$f":"VLOOKUP(B4997,[1]Sheet1!$A:$I,8,0)","v":"65.00"},{"$f":"VLOOKUP(B4997,[1]Sheet1!$A:$I,9,0)","v":"59.00"},{"$f":"VLOOKUP(B4997,[2]少数民族加分!$C$1:$E$65536,3,FALSE)","v":2},{"v":126,"d":"126.00"}]
[4993,"1152270601512","张福","333独山县妇幼保健院","02工作人员",{"$f":"VLOOKUP(B4998,[1]Sheet1!$A:$I,8,0)","v":"52.50"},{"$f":"VLOOKUP(B4998,[1]Sheet1!$A:$I,9,0)","v":"72.00"},null,{"v":124.5,"d":"124.50"}]
[4997,"1152270600807","杨荣龙","333独山县妇幼保健院","02工作人员",{"$f":"VLOOKUP(B4999,[1]Sheet1!$A:$I,8,0)","v":"67.50"},{"$f":"VLOOKUP(B4999,[1]Sheet1!$A:$I,9,0)","v":"55.00"},{"$f":"VLOOKUP(B4999,[2]少数民族加分!$C$1:$E$65536,3,FALSE)","v":2},{"v":124.5,"d":"124.50"}]
[4998,"1152270601520","杨秀立","333独山县妇幼保健院","02工作人员",{"$f":"VLOOKUP(B5000,[1]Sheet1!$A:$I,8,0)","v":"56.50"},{"$f":"VLOOKUP(B5000,[1]Sheet1!$A:$I,9,0)","v":"65.00"},{"$f":"VLOOKUP(B5000,[2]少数民族加分!$C$1:$E$65536,3,FALSE)","v":2},{"v":123.5,"d":"123.50"}]
[4999,"1152270601019","石加柳","333独山县妇幼保健院","02工作人员",{"$f":"VLOOKUP(B5001,[1]Sheet1!$A:$I,8,0)","v":"57.00"},{"$f":"VLOOKUP(B5001,[1]Sheet1!$A:$I,9,0)","v":"64.00"},{"$f":"VLOOKUP(B5001,[2]少数民族加分!$C$1:$E$65536,3,FALSE)","v":2},{"v":123,"d":"123.00"}]
[5000,"1152270501703","陈四猛","333独山县妇幼保健院","02工作人员",{"$f":"VLOOKUP(B5002,[1]Sheet1!$A:$I,8,0)","v":"56.00"},{"$f":"VLOOKUP(B5002,[1]Sheet1!$A:$I,9,0)","v":"63.00"},{"$f":"VLOOKUP(B5002,[2]少数民族加分!$C$1:$E$65536,3,FALSE)","v":2},{"v":121,"d":"121.00"}]
[5001,"1152270600528","吴成睿","333独山县妇幼保健院","02工作人员",{"$f":"VLOOKUP(B5003,[1]Sheet1!$A:$I,8,0)","v":"60.50"},{"$f":"VLOOKUP(B5003,[1]Sheet1!$A:$I,9,0)","v":"56.00"},{"$f":"VLOOKUP(B5003,[2]少数民族加分!$C$1:$E$65536,3,FALSE)","v":2},{"v":118.5,"d":"118.50"}]
[5003,"1152270601918","杨万妮","333独山县妇幼保健院","02工作人员",{"$f":"VLOOKUP(B5004,[1]Sheet1!$A:$I,8,0)","v":"64.00"},{"$f":"VLOOKUP(B5004,[1]Sheet1!$A:$I,9,0)","v":"52.00"},{"$f":"VLOOKUP(B5004,[2]少数民族加分!$C$1:$E$65536,3,FALSE)","v":2},{"v":118,"d":"118.00"}]
[5002,"1152270500927","秦显杨","333独山县妇幼保健院","02工作人员",{"$f":"VLOOKUP(B5005,[1]Sheet1!$A:$I,8,0)","v":"63.00"},{"$f":"VLOOKUP(B5005,[1]Sheet1!$A:$I,9,0)","v":"53.00"},null,{"v":116,"d":"116.00"}]
[5004,"1152270500306","韦钊","333独山县妇幼保健院","02工作人员",{"$f":"VLOOKUP(B5006,[1]Sheet1!$A:$I,8,0)","v":"57.00"},{"$f":"VLOOKUP(B5006,[1]Sheet1!$A:$I,9,0)","v":"57.00"},{"$f":"VLOOKUP(B5006,[2]少数民族加分!$C$1:$E$65536,3,FALSE)","v":2},{"v":116,"d":"116.00"}]
[5005,"1152270600817","潘华芝","333独山县妇幼保健院","02工作人员",{"$f":"VLOOKUP(B5007,[1]Sheet1!$A:$I,8,0)","v":"57.50"},{"$f":"VLOOKUP(B5007,[1]Sheet1!$A:$I,9,0)","v":"56.00"},{"$f":"VLOOKUP(B5007,[2]少数民族加分!$C$1:$E$65536,3,FALSE)","v":2},{"v":115.5,"d":"115.50"}]
[5006,"1152270600928","李泉","333独山县妇幼保健院","02工作人员",{"$f":"VLOOKUP(B5008,[1]Sheet1!$A:$I,8,0)","v":"67.00"},{"$f":"VLOOKUP(B5008,[1]Sheet1!$A:$I,9,0)","v":"46.00"},{"$f":"VLOOKUP(B5008,[2]少数民族加分!$C$1:$E$65536,3,FALSE)","v":2},{"v":115,"d":"115.00"}]
[5007,"1152270601727","李永健","333独山县妇幼保健院","02工作人员",{"$f":"VLOOKUP(B5009,[1]Sheet1!$A:$I,8,0)","v":"56.00"},{"$f":"VLOOKUP(B5009,[1]Sheet1!$A:$I,9,0)","v":"57.00"},null,{"v":113,"d":"113.00"}]
[5008,"1152270501125","杨石米","333独山县妇幼保健院","02工作人员",{"$f":"VLOOKUP(B5010,[1]Sheet1!$A:$I,8,0)","v":"52.50"},{"$f":"VLOOKUP(B5010,[1]Sheet1!$A:$I,9,0)","v":"56.00"},{"$f":"VLOOKUP(B5010,[2]少数民族加分!$C$1:$E$65536,3,FALSE)","v":2},{"v":110.5,"d":"110.50"}]
[5010,"1152270600822","游名来","333独山县妇幼保健院","02工作人员",{"$f":"VLOOKUP(B5011,[1]Sheet1!$A:$I,8,0)","v":"48.50"},{"$f":"VLOOKUP(B5011,[1]Sheet1!$A:$I,9,0)","v":"58.00"},{"$f":"VLOOKUP(B5011,[2]少数民族加分!$C$1:$E$65536,3,FALSE)","v":2},{"v":108.5,"d":"108.50"}]
[5009,"1152270501515","卢城涛","333独山县妇幼保健院","02工作人员",{"$f":"VLOOKUP(B5012,[1]Sheet1!$A:$I,8,0)","v":"57.50"},{"$f":"VLOOKUP(B5012,[1]Sheet1!$A:$I,9,0)","v":"50.00"},null,{"v":107.5,"d":"107.50"}]
[5011,"1152270601410","刘富学","333独山县妇幼保健院","02工作人员",{"$f":"VLOOKUP(B5013,[1]Sheet1!$A:$I,8,0)","v":"58.50"},{"$f":"VLOOKUP(B5013,[1]Sheet1!$A:$I,9,0)","v":"45.00"},{"$f":"VLOOKUP(B5013,[2]少数民族加分!$C$1:$E$65536,3,FALSE)","v":2},{"v":105.5,"d":"105.50"}]
[5012,"1152270501107","陈沫","333独山县妇幼保健院","02工作人员",{"$f":"VLOOKUP(B5014,[1]Sheet1!$A:$I,8,0)","v":"45.50"},{"$f":"VLOOKUP(B5014,[1]Sheet1!$A:$I,9,0)","v":"56.00"},{"$f":"VLOOKUP(B5014,[2]少数民族加分!$C$1:$E$65536,3,FALSE)","v":2},{"v":103.5,"d":"103.50"}]
[5013,"1152270500505","杨坤","333独山县妇幼保健院","02工作人员",{"$f":"VLOOKUP(B5015,[1]Sheet1!$A:$I,8,0)","v":"44.50"},{"$f":"VLOOKUP(B5015,[1]Sheet1!$A:$I,9,0)","v":"55.00"},{"$f":"VLOOKUP(B5015,[2]少数民族加分!$C$1:$E$65536,3,FALSE)","v":2},{"v":101.5,"d":"101.50"}]
[5014,"1152270500829","卢元胜","333独山县妇幼保健院","02工作人员",{"$f":"VLOOKUP(B5016,[1]Sheet1!$A:$I,8,0)","v":"56.50"},{"$f":"VLOOKUP(B5016,[1]Sheet1!$A:$I,9,0)","v":"42.00"},{"$f":"VLOOKUP(B5016,[2]少数民族加分!$C$1:$E$65536,3,FALSE)","v":2},{"v":100.5,"d":"100.50"}]
[5015,"1152270600929","韦秀园","333独山县妇幼保健院","02工作人员",{"$f":"VLOOKUP(B5017,[1]Sheet1!$A:$I,8,0)","v":"40.00"},{"$f":"VLOOKUP(B5017,[1]Sheet1!$A:$I,9,0)","v":"50.00"},{"$f":"VLOOKUP(B5017,[2]少数民族加分!$C$1:$E$65536,3,FALSE)","v":2},{"v":92,"d":"92.00"}]
[5016,"1152270601726","谈福进","333独山县妇幼保健院","02工作人员",{"$f":"VLOOKUP(B5018,[1]Sheet1!$A:$I,8,0)","v":"45.00"},{"$f":"VLOOKUP(B5018,[1]Sheet1!$A:$I,9,0)","v":"33.00"},{"$f":"VLOOKUP(B5018,[2]少数民族加分!$C$1:$E$65536,3,FALSE)","v":2},{"v":80,"d":"80.00"}]
[5017,"1152270601203","蒙祖雪","333独山县妇幼保健院","02工作人员",{"$f":"VLOOKUP(B5019,[1]Sheet1!$A:$I,8,0)","v":"0.00"},{"$f":"VLOOKUP(B5019,[1]Sheet1!$A:$I,9,0)","v":"0.00"},{"$f":"VLOOKUP(B5019,[2]少数民族加分!$C$1:$E$65536,3,FALSE)","v":2},"缺考"]
[5018,"1152270601205","何文清","333独山县妇幼保健院","02工作人员",{"$f":"VLOOKUP(B5020,[1]Sheet1!$A:$I,8,0)","v":"0.00"},{"$f":"VLOOKUP(B5020,[1]Sheet1!$A:$I,9,0)","v":"0.00"},{"$f":"VLOOKUP(B5020,[2]少数民族加分!$C$1:$E$65536,3,FALSE)","v":2},"缺考"]
[5019,"1152270601211","何亚勉","333独山县妇幼保健院","02工作人员",{"$f":"VLOOKUP(B5021,[1]Sheet1!$A:$I,8,0)","v":"0.00"},{"$f":"VLOOKUP(B5021,[1]Sheet1!$A:$I,9,0)","v":"0.00"},{"$f":"VLOOKUP(B5021,[2]少数民族加分!$C$1:$E$65536,3,FALSE)","v":2},"缺考"]
[5020,"1152270601303","石本杰","333独山县妇幼保健院","02工作人员",{"$f":"VLOOKUP(B5022,[1]Sheet1!$A:$I,8,0)","v":"0.00"},{"$f":"VLOOKUP(B5022,[1]Sheet1!$A:$I,9,0)","v":"0.00"},{"$f":"VLOOKUP(B5022,[2]少数民族加分!$C$1:$E$65536,3,FALSE)","v":2},"缺考"]
[5021,"1152270601329","张斯琪","333独山县妇幼保健院","02工作人员",{"$f":"VLOOKUP(B5023,[1]Sheet1!$A:$I,8,0)","v":"0.00"},{"$f":"VLOOKUP(B5023,[1]Sheet1!$A:$I,9,0)","v":"0.00"},{"$f":"VLOOKUP(B5023,[2]少数民族加分!$C$1:$E$65536,3,FALSE)","v":2},"缺考"]
[5022,"1152270601404","龙柏村","333独山县妇幼保健院","02工作人员",{"$f":"VLOOKUP(B5024,[1]Sheet1!$A:$I,8,0)","v":"0.00"},{"$f":"VLOOKUP(B5024,[1]Sheet1!$A:$I,9,0)","v":"0.00"},{"$f":"VLOOKUP(B5024,[2]少数民族加分!$C$1:$E$65536,3,FALSE)","v":2},"缺考"]
[5023,"1152270601528","姚温梅","333独山县妇幼保健院","02工作人员",{"$f":"VLOOKUP(B5025,[1]Sheet1!$A:$I,8,0)","v":"0.00"},{"$f":"VLOOKUP(B5025,[1]Sheet1!$A:$I,9,0)","v":"0.00"},{"$f":"VLOOKUP(B5025,[2]少数民族加分!$C$1:$E$65536,3,FALSE)","v":2},"缺考"]
[5024,"1152270601627","莫元辉","333独山县妇幼保健院","02工作人员",{"$f":"VLOOKUP(B5026,[1]Sheet1!$A:$I,8,0)","v":"0.00"},{"$f":"VLOOKUP(B5026,[1]Sheet1!$A:$I,9,0)","v":"0.00"},{"$f":"VLOOKUP(B5026,[2]少数民族加分!$C$1:$E$65536,3,FALSE)","v":2},"缺考"]
[5025,"1152270601807","阮旋","333独山县妇幼保健院","02工作人员",{"$f":"VLOOKUP(B5027,[1]Sheet1!$A:$I,8,0)","v":"0.00"},{"$f":"VLOOKUP(B5027,[1]Sheet1!$A:$I,9,0)","v":"0.00"},null,"缺考"]
[5026,"1152270601926","张家玉","333独山县妇幼保健院","02工作人员",{"$f":"VLOOKUP(B5028,[1]Sheet1!$A:$I,8,0)","v":"0.00"},{"$f":"VLOOKUP(B5028,[1]Sheet1!$A:$I,9,0)","v":"0.00"},{"$f":"VLOOKUP(B5028,[2]少数民族加分!$C$1:$E$65536,3,FALSE)","v":2},"缺考"]
[5027,"1152270601930","龙有祥","333独山县妇幼保健院","02工作人员",{"$f":"VLOOKUP(B5029,[1]Sheet1!$A:$I,8,0)","v":"0.00"},{"$f":"VLOOKUP(B5029,[1]Sheet1!$A:$I,9,0)","v":"0.00"},{"$f":"VLOOKUP(B5029,[2]少数民族加分!$C$1:$E$65536,3,FALSE)","v":2},"缺考"]
[5028,"1152270602122","何谊曼","333独山县妇幼保健院","02工作人员",{"$f":"VLOOKUP(B5030,[1]Sheet1!$A:$I,8,0)","v":"0.00"},{"$f":"VLOOKUP(B5030,[1]Sheet1!$A:$I,9,0)","v":"0.00"},{"$f":"VLOOKUP(B5030,[2]少数民族加分!$C$1:$E$65536,3,FALSE)","v":2},"缺考"]
[5029,"1152270602225","石倩","333独山县妇幼保健院","02工作人员",{"$f":"VLOOKUP(B5031,[1]Sheet1!$A:$I,8,0)","v":"0.00"},{"$f":"VLOOKUP(B5031,[1]Sheet1!$A:$I,9,0)","v":"0.00"},{"$f":"VLOOKUP(B5031,[2]少数民族加分!$C$1:$E$65536,3,FALSE)","v":2},"缺考"]
[5030,"1152270602410","罗方琴","333独山县妇幼保健院","02工作人员",{"$f":"VLOOKUP(B5032,[1]Sheet1!$A:$I,8,0)","v":"0.00"},{"$f":"VLOOKUP(B5032,[1]Sheet1!$A:$I,9,0)","v":"0.00"},{"$f":"VLOOKUP(B5032,[2]少数民族加分!$C$1:$E$65536,3,FALSE)","v":2},"缺考"]
[5031,"1152270602416","杨通斌","333独山县妇幼保健院","02工作人员",{"$f":"VLOOKUP(B5033,[1]Sheet1!$A:$I,8,0)","v":"0.00"},{"$f":"VLOOKUP(B5033,[1]Sheet1!$A:$I,9,0)","v":"0.00"},{"$f":"VLOOKUP(B5033,[2]少数民族加分!$C$1:$E$65536,3,FALSE)","v":2},"缺考"]
[5032,"1152270500107","覃波龙","333独山县妇幼保健院","02工作人员",{"$f":"VLOOKUP(B5034,[1]Sheet1!$A:$I,8,0)","v":"0.00"},{"$f":"VLOOKUP(B5034,[1]Sheet1!$A:$I,9,0)","v":"0.00"},{"$f":"VLOOKUP(B5034,[2]少数民族加分!$C$1:$E$65536,3,FALSE)","v":2},"缺考"]
[5033,"1152270500109","潘军","333独山县妇幼保健院","02工作人员",{"$f":"VLOOKUP(B5035,[1]Sheet1!$A:$I,8,0)","v":"0.00"},{"$f":"VLOOKUP(B5035,[1]Sheet1!$A:$I,9,0)","v":"0.00"},{"$f":"VLOOKUP(B5035,[2]少数民族加分!$C$1:$E$65536,3,FALSE)","v":2},"缺考"]
[5034,"1152270500304","杨再冰","333独山县妇幼保健院","02工作人员",{"$f":"VLOOKUP(B5036,[1]Sheet1!$A:$I,8,0)","v":"0.00"},{"$f":"VLOOKUP(B5036,[1]Sheet1!$A:$I,9,0)","v":"0.00"},{"$f":"VLOOKUP(B5036,[2]少数民族加分!$C$1:$E$65536,3,FALSE)","v":2},"缺考"]
[5035,"1152270500309","兰中义","333独山县妇幼保健院","02工作人员",{"$f":"VLOOKUP(B5037,[1]Sheet1!$A:$I,8,0)","v":"0.00"},{"$f":"VLOOKUP(B5037,[1]Sheet1!$A:$I,9,0)","v":"0.00"},{"$f":"VLOOKUP(B5037,[2]少数民族加分!$C$1:$E$65536,3,FALSE)","v":2},"缺考"]
[5036,"1152270500324","李长春","333独山县妇幼保健院","02工作人员",{"$f":"VLOOKUP(B5038,[1]Sheet1!$A:$I,8,0)","v":"0.00"},{"$f":"VLOOKUP(B5038,[1]Sheet1!$A:$I,9,0)","v":"0.00"},{"$f":"VLOOKUP(B5038,[2]少数民族加分!$C$1:$E$65536,3,FALSE)","v":2},"缺考"]
[5037,"1152270500719","邓会金","333独山县妇幼保健院","02工作人员",{"$f":"VLOOKUP(B5039,[1]Sheet1!$A:$I,8,0)","v":"0.00"},{"$f":"VLOOKUP(B5039,[1]Sheet1!$A:$I,9,0)","v":"0.00"},{"$f":"VLOOKUP(B5039,[2]少数民族加分!$C$1:$E$65536,3,FALSE)","v":2},"缺考"]
[5038,"1152270500825","杨树刚","333独山县妇幼保健院","02工作人员",{"$f":"VLOOKUP(B5040,[1]Sheet1!$A:$I,8,0)","v":"0.00"},{"$f":"VLOOKUP(B5040,[1]Sheet1!$A:$I,9,0)","v":"0.00"},{"$f":"VLOOKUP(B5040,[2]少数民族加分!$C$1:$E$65536,3,FALSE)","v":2},"缺考"]
[5039,"1152270501315","张选林","333独山县妇幼保健院","02工作人员",{"$f":"VLOOKUP(B5041,[1]Sheet1!$A:$I,8,0)","v":"0.00"},{"$f":"VLOOKUP(B5041,[1]Sheet1!$A:$I,9,0)","v":"0.00"},null,"缺考"]
[5040,"1152270501414","孔练","333独山县妇幼保健院","02工作人员",{"$f":"VLOOKUP(B5042,[1]Sheet1!$A:$I,8,0)","v":"0.00"},{"$f":"VLOOKUP(B5042,[1]Sheet1!$A:$I,9,0)","v":"0.00"},null,"缺考"]
[5041,"1152270501421","曾华胜","333独山县妇幼保健院","02工作人员",{"$f":"VLOOKUP(B5043,[1]Sheet1!$A:$I,8,0)","v":"0.00"},{"$f":"VLOOKUP(B5043,[1]Sheet1!$A:$I,9,0)","v":"0.00"},{"$f":"VLOOKUP(B5043,[2]少数民族加分!$C$1:$E$65536,3,FALSE)","v":2},"缺考"]
[5042,"1152270501422","罗鹏","333独山县妇幼保健院","02工作人员",{"$f":"VLOOKUP(B5044,[1]Sheet1!$A:$I,8,0)","v":"0.00"},{"$f":"VLOOKUP(B5044,[1]Sheet1!$A:$I,9,0)","v":"0.00"},{"$f":"VLOOKUP(B5044,[2]少数民族加分!$C$1:$E$65536,3,FALSE)","v":2},"缺考"]
[5043,"1152270501424","牟军","333独山县妇幼保健院","02工作人员",{"$f":"VLOOKUP(B5045,[1]Sheet1!$A:$I,8,0)","v":"0.00"},{"$f":"VLOOKUP(B5045,[1]Sheet1!$A:$I,9,0)","v":"0.00"},{"$f":"VLOOKUP(B5045,[2]少数民族加分!$C$1:$E$65536,3,FALSE)","v":2},"缺考"]
[5044,"1152270501503","吴学妮","333独山县妇幼保健院","02工作人员",{"$f":"VLOOKUP(B5046,[1]Sheet1!$A:$I,8,0)","v":"0.00"},{"$f":"VLOOKUP(B5046,[1]Sheet1!$A:$I,9,0)","v":"0.00"},{"$f":"VLOOKUP(B5046,[2]少数民族加分!$C$1:$E$65536,3,FALSE)","v":2},"缺考"]
[5045,"1152270501509","林田波","333独山县妇幼保健院","02工作人员",{"$f":"VLOOKUP(B5047,[1]Sheet1!$A:$I,8,0)","v":"0.00"},{"$f":"VLOOKUP(B5047,[1]Sheet1!$A:$I,9,0)","v":"0.00"},{"$f":"VLOOKUP(B5047,[2]少数民族加分!$C$1:$E$65536,3,FALSE)","v":2},"缺考"]
[5046,"1152270501517","石开良","333独山县妇幼保健院","02工作人员",{"$f":"VLOOKUP(B5048,[1]Sheet1!$A:$I,8,0)","v":"0.00"},{"$f":"VLOOKUP(B5048,[1]Sheet1!$A:$I,9,0)","v":"0.00"},{"$f":"VLOOKUP(B5048,[2]少数民族加分!$C$1:$E$65536,3,FALSE)","v":2},"缺考"]
[5047,"1152270501728","丁红武","333独山县妇幼保健院","02工作人员",{"$f":"VLOOKUP(B5049,[1]Sheet1!$A:$I,8,0)","v":"0.00"},{"$f":"VLOOKUP(B5049,[1]Sheet1!$A:$I,9,0)","v":"0.00"},null,"缺考"]
[5048,"1152270501802","庄园","333独山县妇幼保健院","02工作人员",{"$f":"VLOOKUP(B5050,[1]Sheet1!$A:$I,8,0)","v":"0.00"},{"$f":"VLOOKUP(B5050,[1]Sheet1!$A:$I,9,0)","v":"0.00"},{"$f":"VLOOKUP(B5050,[2]少数民族加分!$C$1:$E$65536,3,FALSE)","v":2},"缺考"]
[5049,"1152270600205","马寻","333独山县妇幼保健院","02工作人员",{"$f":"VLOOKUP(B5051,[1]Sheet1!$A:$I,8,0)","v":"0.00"},{"$f":"VLOOKUP(B5051,[1]Sheet1!$A:$I,9,0)","v":"0.00"},{"$f":"VLOOKUP(B5051,[2]少数民族加分!$C$1:$E$65536,3,FALSE)","v":2},"缺考"]
[5050,"1152270600225","王仁英","333独山县妇幼保健院","02工作人员",{"$f":"VLOOKUP(B5052,[1]Sheet1!$A:$I,8,0)","v":"0.00"},{"$f":"VLOOKUP(B5052,[1]Sheet1!$A:$I,9,0)","v":"0.00"},{"$f":"VLOOKUP(B5052,[2]少数民族加分!$C$1:$E$65536,3,FALSE)","v":2},"缺考"]
[5051,"1152270600229","刘晓易","333独山县妇幼保健院","02工作人员",{"$f":"VLOOKUP(B5053,[1]Sheet1!$A:$I,8,0)","v":"0.00"},{"$f":"VLOOKUP(B5053,[1]Sheet1!$A:$I,9,0)","v":"0.00"},{"$f":"VLOOKUP(B5053,[2]少数民族加分!$C$1:$E$65536,3,FALSE)","v":2},"缺考"]
[5052,"1152270600513","刘宸娴","333独山县妇幼保健院","02工作人员",{"$f":"VLOOKUP(B5054,[1]Sheet1!$A:$I,8,0)","v":"0.00"},{"$f":"VLOOKUP(B5054,[1]Sheet1!$A:$I,9,0)","v":"0.00"},null,"缺考"]
[5053,"1152270600613","全赵婕","333独山县妇幼保健院","02工作人员",{"$f":"VLOOKUP(B5055,[1]Sheet1!$A:$I,8,0)","v":"0.00"},{"$f":"VLOOKUP(B5055,[1]Sheet1!$A:$I,9,0)","v":"0.00"},{"$f":"VLOOKUP(B5055,[2]少数民族加分!$C$1:$E$65536,3,FALSE)","v":2},"缺考"]
[5054,"1152270600812","岑荣含","333独山县妇幼保健院","02工作人员",{"$f":"VLOOKUP(B5056,[1]Sheet1!$A:$I,8,0)","v":"0.00"},{"$f":"VLOOKUP(B5056,[1]Sheet1!$A:$I,9,0)","v":"0.00"},{"$f":"VLOOKUP(B5056,[2]少数民族加分!$C$1:$E$65536,3,FALSE)","v":2},"缺考"]
[5055,"1152270601001","陈远宏","333独山县妇幼保健院","02工作人员",{"$f":"VLOOKUP(B5057,[1]Sheet1!$A:$I,8,0)","v":"0.00"},{"$f":"VLOOKUP(B5057,[1]Sheet1!$A:$I,9,0)","v":"0.00"},null,"缺考"]
[5056,"5652270509118","朱志碧","334独山县疾病预防控制中心","01医务人员",{"$f":"VLOOKUP(B5058,[1]Sheet1!$A:$I,8,0)","v":"89.50"},{"$f":"VLOOKUP(B5058,[1]Sheet1!$A:$I,9,0)","v":"73.70"},{"$f":"VLOOKUP(B5058,[2]少数民族加分!$C$1:$E$65536,3,FALSE)","v":2},{"v":165.2,"d":"165.20"}]
[5057,"5652270509124","王艳","334独山县疾病预防控制中心","01医务人员",{"$f":"VLOOKUP(B5059,[1]Sheet1!$A:$I,8,0)","v":"76.50"},{"$f":"VLOOKUP(B5059,[1]Sheet1!$A:$I,9,0)","v":"77.60"},{"$f":"VLOOKUP(B5059,[2]少数民族加分!$C$1:$E$65536,3,FALSE)","v":2},{"v":156.1,"d":"156.10"}]
[5058,"5652270509116","张洁","334独山县疾病预防控制中心","01医务人员",{"$f":"VLOOKUP(B5060,[1]Sheet1!$A:$I,8,0)","v":"79.00"},{"$f":"VLOOKUP(B5060,[1]Sheet1!$A:$I,9,0)","v":"73.80"},null,{"v":152.8,"d":"152.80"}]
[5059,"5652270509125","韦仕灿","334独山县疾病预防控制中心","01医务人员",{"$f":"VLOOKUP(B5061,[1]Sheet1!$A:$I,8,0)","v":"77.50"},{"$f":"VLOOKUP(B5061,[1]Sheet1!$A:$I,9,0)","v":"72.30"},{"$f":"VLOOKUP(B5061,[2]少数民族加分!$C$1:$E$65536,3,FALSE)","v":2},{"v":151.8,"d":"151.80"}]
[5061,"5652270509114","滕艳","334独山县疾病预防控制中心","01医务人员",{"$f":"VLOOKUP(B5062,[1]Sheet1!$A:$I,8,0)","v":"84.50"},{"$f":"VLOOKUP(B5062,[1]Sheet1!$A:$I,9,0)","v":"49.90"},{"$f":"VLOOKUP(B5062,[2]少数民族加分!$C$1:$E$65536,3,FALSE)","v":2},{"v":136.4,"d":"136.40"}]
[5060,"5652270509123","唐秋红","334独山县疾病预防控制中心","01医务人员",{"$f":"VLOOKUP(B5063,[1]Sheet1!$A:$I,8,0)","v":"83.50"},{"$f":"VLOOKUP(B5063,[1]Sheet1!$A:$I,9,0)","v":"51.20"},null,{"v":134.7,"d":"134.70"}]
[5062,"5652270509126","石章静","334独山县疾病预防控制中心","01医务人员",{"$f":"VLOOKUP(B5064,[1]Sheet1!$A:$I,8,0)","v":"82.00"},{"$f":"VLOOKUP(B5064,[1]Sheet1!$A:$I,9,0)","v":"45.90"},{"$f":"VLOOKUP(B5064,[2]少数民族加分!$C$1:$E$65536,3,FALSE)","v":2},{"v":129.9,"d":"129.90"}]
[5063,"5652270509120","杨秀敏","334独山县疾病预防控制中心","01医务人员",{"$f":"VLOOKUP(B5065,[1]Sheet1!$A:$I,8,0)","v":"66.00"},{"$f":"VLOOKUP(B5065,[1]Sheet1!$A:$I,9,0)","v":"43.80"},{"$f":"VLOOKUP(B5065,[2]少数民族加分!$C$1:$E$65536,3,FALSE)","v":2},{"v":111.8,"d":"111.80"}]
[5064,"5652270509115","李秋英","334独山县疾病预防控制中心","01医务人员",{"$f":"VLOOKUP(B5066,[1]Sheet1!$A:$I,8,0)","v":"0.00"},{"$f":"VLOOKUP(B5066,[1]Sheet1!$A:$I,9,0)","v":"0.00"},{"$f":"VLOOKUP(B5066,[2]少数民族加分!$C$1:$E$65536,3,FALSE)","v":2},"缺考"]