{"text_format":"3","workbook":"xlsx","n_sheets":1,"sheets":["Sheet4 (2)"],"not_rendered":{"external_links":1,"defined_names":2},"read":"whole","date_system":"1900"}

{"sheet":"Sheet4 (2)","index":0,"n_rows":15,"n_cols":8,"rows_kept":15,"merged":[[0,0,0,7]]}
["北京师范大学黔南龙溪实验学校招聘员额制教师面试成绩及进入综合面试人员名单"]
["序号","姓名","报考岗位","面试准考证号","笔试成绩","面试成绩","笔试面试折算后成绩","是否进入综合面试"]
[1,"赵杰",{"$f":"VLOOKUP(B3,[1]Sheet1!$A:$N,14,FALSE)","v":"小学体育教育教学"},"111101011602",{"$f":"VLOOKUP(B3,[1]Sheet1!$A:$D,4,FALSE)","v":60},82.21,{"$f":"VLOOKUP(B3,[1]Sheet1!$A:$G,7,FALSE)","v":{"v":50.884,"d":"50.88"}},"是"]
[2,"杨光明",{"$f":"VLOOKUP(B4,[1]Sheet1!$A:$N,14,FALSE)","v":"小学体育教育教学"},"111101031602",{"$f":"VLOOKUP(B4,[1]Sheet1!$A:$D,4,FALSE)","v":73},0,{"$f":"VLOOKUP(B4,[1]Sheet1!$A:$G,7,FALSE)","v":{"v":21.9,"d":"21.90"}},"否"]
[3,"叶家巧",{"$f":"VLOOKUP(B5,[1]Sheet1!$A:$N,14,FALSE)","v":"小学语文教育教学"},"111101180202",{"$f":"VLOOKUP(B5,[1]Sheet1!$A:$D,4,FALSE)","v":64},0,{"$f":"VLOOKUP(B5,[1]Sheet1!$A:$G,7,FALSE)","v":{"v":19.2,"d":"19.20"}},"否"]
[4,"施丽平",{"$f":"VLOOKUP(B6,[1]Sheet1!$A:$N,14,FALSE)","v":"初中信息科技/技术教育教学"},"111102011803",{"$f":"VLOOKUP(B6,[1]Sheet1!$A:$D,4,FALSE)","v":67},72,{"$f":"VLOOKUP(B6,[1]Sheet1!$A:$G,7,FALSE)","v":{"v":48.9,"d":"48.90"}},"否"]
[5,"张荣荣",{"$f":"VLOOKUP(B7,[1]Sheet1!$A:$N,14,FALSE)","v":"初中数学教育教学"},"111102030303",{"$f":"VLOOKUP(B7,[1]Sheet1!$A:$D,4,FALSE)","v":72},73.71,{"$f":"VLOOKUP(B7,[1]Sheet1!$A:$G,7,FALSE)","v":{"v":51.084,"d":"51.08"}},"否"]
[6,"吴娴",{"$f":"VLOOKUP(B8,[1]Sheet1!$A:$N,14,FALSE)","v":"初中生物教育教学"},"111102050703",{"$f":"VLOOKUP(B8,[1]Sheet1!$A:$D,4,FALSE)","v":62},80.06,{"$f":"VLOOKUP(B8,[1]Sheet1!$A:$G,7,FALSE)","v":{"v":50.624,"d":"50.62"}},"是"]
[7,"张西亚",{"$f":"VLOOKUP(B9,[1]Sheet1!$A:$N,14,FALSE)","v":"初中生物教育教学"},"111102080703",{"$f":"VLOOKUP(B9,[1]Sheet1!$A:$D,4,FALSE)","v":61},82.99,{"$f":"VLOOKUP(B9,[1]Sheet1!$A:$G,7,FALSE)","v":{"v":51.496,"d":"51.50"}},"是"]
[8,"田芳",{"$f":"VLOOKUP(B10,[1]Sheet1!$A:$N,14,FALSE)","v":"初中英语教育教学"},"111102120403",{"$f":"VLOOKUP(B10,[1]Sheet1!$A:$D,4,FALSE)","v":76.5},80.9,{"$f":"VLOOKUP(B10,[1]Sheet1!$A:$G,7,FALSE)","v":55.31},"是"]
[9,"付照兰",{"$f":"VLOOKUP(B11,[1]Sheet1!$A:$N,14,FALSE)","v":"初中英语教育教学"},"111102130403",{"$f":"VLOOKUP(B11,[1]Sheet1!$A:$D,4,FALSE)","v":75.5},{"v":0,"d":"0.00"},{"$f":"VLOOKUP(B11,[1]Sheet1!$A:$G,7,FALSE)","v":22.65},"否"]
[10,"王乾美",{"$f":"VLOOKUP(B12,[1]Sheet1!$A:$N,14,FALSE)","v":"初中英语教育教学"},"111102140403",{"$f":"VLOOKUP(B12,[1]Sheet1!$A:$D,4,FALSE)","v":80.5},78.94,{"$f":"VLOOKUP(B12,[1]Sheet1!$A:$G,7,FALSE)","v":{"v":55.726,"d":"55.73"}},"是"]
[11,"李旺",{"$f":"VLOOKUP(B13,[1]Sheet1!$A:$N,14,FALSE)","v":"高中体育与健康教育教学"},"111101071604",{"$f":"VLOOKUP(B13,[1]Sheet1!$A:$D,4,FALSE)","v":70},0,{"$f":"VLOOKUP(B13,[1]Sheet1!$A:$G,7,FALSE)","v":{"v":21,"d":"21.00"}},"否"]
[12,"梁健靓",{"$f":"VLOOKUP(B14,[1]Sheet1!$A:$N,14,FALSE)","v":"高中体育与健康教育教学"},"111101081604",{"$f":"VLOOKUP(B14,[1]Sheet1!$A:$D,4,FALSE)","v":70},87.44,{"$f":"VLOOKUP(B14,[1]Sheet1!$A:$G,7,FALSE)","v":{"v":55.976,"d":"55.98"}},"是"]
[13,"熊林",{"$f":"VLOOKUP(B15,[1]Sheet1!$A:$N,14,FALSE)","v":"高中体育与健康教育教学"},"111101101604",{"$f":"VLOOKUP(B15,[1]Sheet1!$A:$D,4,FALSE)","v":75},79.86,{"$f":"VLOOKUP(B15,[1]Sheet1!$A:$G,7,FALSE)","v":{"v":54.444,"d":"54.44"}},"是"]