{"text_format":"3","workbook":"xlsx","n_sheets":1,"sheets":["Sheet1"],"not_rendered":{"external_links":3,"defined_names":3},"read":"whole","date_system":"1900"}

{"sheet":"Sheet1","index":0,"n_rows":126,"n_cols":8,"rows_kept":126,"merged":[[1,0,1,7]]}
["附件二"]
["仁怀市2019年公开招聘事业单位和公立医院编制备案制工作人员招聘计划调整情况表"]
["职位编码","招聘计划数","复审人数","复审合格人数","复审合格人数与招聘计划数的比例","调减或取消的招聘计划数","调减后或取消后的招聘计划数","备注"]
[10101,{"$f":"VLOOKUP(A4,'[1]Sheet1 (3)'!$E$1:$I$65536,5,FALSE)","v":1},{"$f":"VLOOKUP(A4,[3]汇总!$C:$G,5,FALSE)","v":3},{"$f":"VLOOKUP(A4,'[3]汇总 (2)'!$C:$G,5,FALSE)","v":3},{"$f":"D4/B4","v":{"v":3,"d":"3.00"}},null,1]
[10201,{"$f":"VLOOKUP(A5,'[1]Sheet1 (3)'!$E$1:$I$65536,5,FALSE)","v":2},{"$f":"VLOOKUP(A5,[3]汇总!$C:$G,5,FALSE)","v":7},{"$f":"VLOOKUP(A5,'[3]汇总 (2)'!$C:$G,5,FALSE)","v":5},{"$f":"D5/B5","v":{"v":2.5,"d":"2.50"}},null,2]
[10202,{"$f":"VLOOKUP(A6,'[1]Sheet1 (3)'!$E$1:$I$65536,5,FALSE)","v":1},{"$f":"VLOOKUP(A6,[3]汇总!$C:$G,5,FALSE)","v":3},{"$f":"VLOOKUP(A6,'[3]汇总 (2)'!$C:$G,5,FALSE)","v":3},{"v":3,"d":"3.00"},null,1]
[20101,{"$f":"VLOOKUP(A7,'[1]Sheet1 (3)'!$E$1:$I$65536,5,FALSE)","v":6},{"$f":"VLOOKUP(A7,[3]汇总!$C:$G,5,FALSE)","v":20},{"$f":"VLOOKUP(A7,'[3]汇总 (2)'!$C:$G,5,FALSE)","v":18},{"v":3,"d":"3.00"},null,6]
[20102,{"$f":"VLOOKUP(A8,'[1]Sheet1 (3)'!$E$1:$I$65536,5,FALSE)","v":3},{"$f":"VLOOKUP(A8,[3]汇总!$C:$G,5,FALSE)","v":10},{"$f":"VLOOKUP(A8,'[3]汇总 (2)'!$C:$G,5,FALSE)","v":8},{"v":2.66666666666667,"d":"2.67"},null,3]
[20201,{"$f":"VLOOKUP(A9,'[1]Sheet1 (3)'!$E$1:$I$65536,5,FALSE)","v":3},{"$f":"VLOOKUP(A9,[3]汇总!$C:$G,5,FALSE)","v":10},{"$f":"VLOOKUP(A9,'[3]汇总 (2)'!$C:$G,5,FALSE)","v":10},{"v":3.33333333333333,"d":"3.33"},null,3]
[20301,{"$f":"VLOOKUP(A10,'[1]Sheet1 (3)'!$E$1:$I$65536,5,FALSE)","v":2},{"$f":"VLOOKUP(A10,[3]汇总!$C:$G,5,FALSE)","v":7},{"$f":"VLOOKUP(A10,'[3]汇总 (2)'!$C:$G,5,FALSE)","v":6},{"v":3,"d":"3.00"},null,2]
[20302,{"$f":"VLOOKUP(A11,'[1]Sheet1 (3)'!$E$1:$I$65536,5,FALSE)","v":1},{"$f":"VLOOKUP(A11,[3]汇总!$C:$G,5,FALSE)","v":5},{"$f":"VLOOKUP(A11,'[3]汇总 (2)'!$C:$G,5,FALSE)","v":3},{"v":3,"d":"3.00"},null,1]
[20401,{"$f":"VLOOKUP(A12,'[1]Sheet1 (3)'!$E$1:$I$65536,5,FALSE)","v":1},{"$f":"VLOOKUP(A12,[3]汇总!$C:$G,5,FALSE)","v":4},{"$f":"VLOOKUP(A12,'[3]汇总 (2)'!$C:$G,5,FALSE)","v":3},{"v":3,"d":"3.00"},null,1]
[20402,{"$f":"VLOOKUP(A13,'[1]Sheet1 (3)'!$E$1:$I$65536,5,FALSE)","v":1},{"$f":"VLOOKUP(A13,[3]汇总!$C:$G,5,FALSE)","v":3},{"$f":"VLOOKUP(A13,'[3]汇总 (2)'!$C:$G,5,FALSE)","v":3},{"v":3,"d":"3.00"},null,1]
[20403,{"$f":"VLOOKUP(A14,'[1]Sheet1 (3)'!$E$1:$I$65536,5,FALSE)","v":1},{"$f":"VLOOKUP(A14,[3]汇总!$C:$G,5,FALSE)","v":6},{"$f":"VLOOKUP(A14,'[3]汇总 (2)'!$C:$G,5,FALSE)","v":4},{"v":4,"d":"4.00"},null,1]
["205O1",{"$f":"VLOOKUP(A15,'[1]Sheet1 (3)'!$E$1:$I$65536,5,FALSE)","v":1},3,3,{"v":3,"d":"3.00"},null,1]
[20601,{"$f":"VLOOKUP(A16,'[1]Sheet1 (3)'!$E$1:$I$65536,5,FALSE)","v":2},{"$f":"VLOOKUP(A16,[3]汇总!$C:$G,5,FALSE)","v":7},{"$f":"VLOOKUP(A16,'[3]汇总 (2)'!$C:$G,5,FALSE)","v":6},{"v":3,"d":"3.00"},null,2]
[20701,{"$f":"VLOOKUP(A17,'[1]Sheet1 (3)'!$E$1:$I$65536,5,FALSE)","v":8},{"$f":"VLOOKUP(A17,[3]汇总!$C:$G,5,FALSE)","v":30},{"$f":"VLOOKUP(A17,'[3]汇总 (2)'!$C:$G,5,FALSE)","v":24},{"v":3,"d":"3.00"},null,8]
[20702,{"$f":"VLOOKUP(A18,'[1]Sheet1 (3)'!$E$1:$I$65536,5,FALSE)","v":8},{"$f":"VLOOKUP(A18,[3]汇总!$C:$G,5,FALSE)","v":31},{"$f":"VLOOKUP(A18,'[3]汇总 (2)'!$C:$G,5,FALSE)","v":23},{"v":2.875,"d":"2.88"},null,8]
[20703,{"$f":"VLOOKUP(A19,'[1]Sheet1 (3)'!$E$1:$I$65536,5,FALSE)","v":8},{"$f":"VLOOKUP(A19,[3]汇总!$C:$G,5,FALSE)","v":27},{"$f":"VLOOKUP(A19,'[3]汇总 (2)'!$C:$G,5,FALSE)","v":24},{"v":3,"d":"3.00"},null,8]
[20704,{"$f":"VLOOKUP(A20,'[1]Sheet1 (3)'!$E$1:$I$65536,5,FALSE)","v":9},{"$f":"VLOOKUP(A20,[3]汇总!$C:$G,5,FALSE)","v":36},{"$f":"VLOOKUP(A20,'[3]汇总 (2)'!$C:$G,5,FALSE)","v":20},{"v":2.22222222222222,"d":"2.22"},null,9]
[20705,{"$f":"VLOOKUP(A21,'[1]Sheet1 (3)'!$E$1:$I$65536,5,FALSE)","v":9},{"$f":"VLOOKUP(A21,[3]汇总!$C:$G,5,FALSE)","v":37},{"$f":"VLOOKUP(A21,'[3]汇总 (2)'!$C:$G,5,FALSE)","v":24},{"v":2.66666666666667,"d":"2.67"},null,9]
[20706,{"$f":"VLOOKUP(A22,'[1]Sheet1 (3)'!$E$1:$I$65536,5,FALSE)","v":6},{"$f":"VLOOKUP(A22,[3]汇总!$C:$G,5,FALSE)","v":20},{"$f":"VLOOKUP(A22,'[3]汇总 (2)'!$C:$G,5,FALSE)","v":19},{"v":3.16666666666667,"d":"3.17"},null,6]
[20707,{"$f":"VLOOKUP(A23,'[1]Sheet1 (3)'!$E$1:$I$65536,5,FALSE)","v":5},{"$f":"VLOOKUP(A23,[3]汇总!$C:$G,5,FALSE)","v":18},{"$f":"VLOOKUP(A23,'[3]汇总 (2)'!$C:$G,5,FALSE)","v":13},{"v":2.6,"d":"2.60"},null,5]
[20708,{"$f":"VLOOKUP(A24,'[1]Sheet1 (3)'!$E$1:$I$65536,5,FALSE)","v":5},{"$f":"VLOOKUP(A24,[3]汇总!$C:$G,5,FALSE)","v":23},{"$f":"VLOOKUP(A24,'[3]汇总 (2)'!$C:$G,5,FALSE)","v":17},{"v":3.4,"d":"3.40"},null,5]
[20709,{"$f":"VLOOKUP(A25,'[1]Sheet1 (3)'!$E$1:$I$65536,5,FALSE)","v":2},{"$f":"VLOOKUP(A25,[3]汇总!$C:$G,5,FALSE)","v":11},{"$f":"VLOOKUP(A25,'[3]汇总 (2)'!$C:$G,5,FALSE)","v":6},{"v":3,"d":"3.00"},null,2]
[20710,{"$f":"VLOOKUP(A26,'[1]Sheet1 (3)'!$E$1:$I$65536,5,FALSE)","v":10},{"$f":"VLOOKUP(A26,[3]汇总!$C:$G,5,FALSE)","v":38},{"$f":"VLOOKUP(A26,'[3]汇总 (2)'!$C:$G,5,FALSE)","v":30},{"v":3,"d":"3.00"},null,10]
[20711,{"$f":"VLOOKUP(A27,'[1]Sheet1 (3)'!$E$1:$I$65536,5,FALSE)","v":10},{"$f":"VLOOKUP(A27,[3]汇总!$C:$G,5,FALSE)","v":35},{"$f":"VLOOKUP(A27,'[3]汇总 (2)'!$C:$G,5,FALSE)","v":31},{"v":3.1,"d":"3.10"},null,10]
[20712,{"$f":"VLOOKUP(A28,'[1]Sheet1 (3)'!$E$1:$I$65536,5,FALSE)","v":10},{"$f":"VLOOKUP(A28,[3]汇总!$C:$G,5,FALSE)","v":33},{"$f":"VLOOKUP(A28,'[3]汇总 (2)'!$C:$G,5,FALSE)","v":31},{"v":3.1,"d":"3.10"},null,10]
[20713,{"$f":"VLOOKUP(A29,'[1]Sheet1 (3)'!$E$1:$I$65536,5,FALSE)","v":1},{"$f":"VLOOKUP(A29,[3]汇总!$C:$G,5,FALSE)","v":4},{"$f":"VLOOKUP(A29,'[3]汇总 (2)'!$C:$G,5,FALSE)","v":2},{"v":2,"d":"2.00"},null,1]
[20714,{"$f":"VLOOKUP(A30,'[1]Sheet1 (3)'!$E$1:$I$65536,5,FALSE)","v":1},{"$f":"VLOOKUP(A30,[3]汇总!$C:$G,5,FALSE)","v":3},{"$f":"VLOOKUP(A30,'[3]汇总 (2)'!$C:$G,5,FALSE)","v":3},{"v":3,"d":"3.00"},null,1]
[20715,{"$f":"VLOOKUP(A31,'[1]Sheet1 (3)'!$E$1:$I$65536,5,FALSE)","v":1},{"$f":"VLOOKUP(A31,[3]汇总!$C:$G,5,FALSE)","v":5},{"$f":"VLOOKUP(A31,'[3]汇总 (2)'!$C:$G,5,FALSE)","v":3},{"v":3,"d":"3.00"},null,1]
[20716,{"$f":"VLOOKUP(A32,'[1]Sheet1 (3)'!$E$1:$I$65536,5,FALSE)","v":1},{"$f":"VLOOKUP(A32,[3]汇总!$C:$G,5,FALSE)","v":3},{"$f":"VLOOKUP(A32,'[3]汇总 (2)'!$C:$G,5,FALSE)","v":3},{"v":3,"d":"3.00"},null,1]
[20717,{"$f":"VLOOKUP(A33,'[1]Sheet1 (3)'!$E$1:$I$65536,5,FALSE)","v":1},{"$f":"VLOOKUP(A33,[3]汇总!$C:$G,5,FALSE)","v":4},{"$f":"VLOOKUP(A33,'[3]汇总 (2)'!$C:$G,5,FALSE)","v":3},{"v":3,"d":"3.00"},null,1]
[20718,{"$f":"VLOOKUP(A34,'[1]Sheet1 (3)'!$E$1:$I$65536,5,FALSE)","v":6},{"$f":"VLOOKUP(A34,[3]汇总!$C:$G,5,FALSE)","v":21},{"$f":"VLOOKUP(A34,'[3]汇总 (2)'!$C:$G,5,FALSE)","v":18},{"v":3,"d":"3.00"},null,6]
[20719,{"$f":"VLOOKUP(A35,'[1]Sheet1 (3)'!$E$1:$I$65536,5,FALSE)","v":1},{"$f":"VLOOKUP(A35,[3]汇总!$C:$G,5,FALSE)","v":3},{"$f":"VLOOKUP(A35,'[3]汇总 (2)'!$C:$G,5,FALSE)","v":3},{"v":3,"d":"3.00"},null,1]
[20720,{"$f":"VLOOKUP(A36,'[1]Sheet1 (3)'!$E$1:$I$65536,5,FALSE)","v":1},{"$f":"VLOOKUP(A36,[3]汇总!$C:$G,5,FALSE)","v":3},{"$f":"VLOOKUP(A36,'[3]汇总 (2)'!$C:$G,5,FALSE)","v":3},{"v":3,"d":"3.00"},null,1]
[20801,{"$f":"VLOOKUP(A37,'[1]Sheet1 (3)'!$E$1:$I$65536,5,FALSE)","v":2},{"$f":"VLOOKUP(A37,[3]汇总!$C:$G,5,FALSE)","v":8},{"$f":"VLOOKUP(A37,'[3]汇总 (2)'!$C:$G,5,FALSE)","v":6},{"$f":"D37/B37","v":{"v":3,"d":"3.00"}},null,2]
[20802,{"$f":"VLOOKUP(A38,'[1]Sheet1 (3)'!$E$1:$I$65536,5,FALSE)","v":1},{"$f":"VLOOKUP(A38,[3]汇总!$C:$G,5,FALSE)","v":4},{"$f":"VLOOKUP(A38,'[3]汇总 (2)'!$C:$G,5,FALSE)","v":4},{"v":4,"d":"4.00"},null,1]
[20803,{"$f":"VLOOKUP(A39,'[1]Sheet1 (3)'!$E$1:$I$65536,5,FALSE)","v":2},{"$f":"VLOOKUP(A39,[3]汇总!$C:$G,5,FALSE)","v":8},{"$f":"VLOOKUP(A39,'[3]汇总 (2)'!$C:$G,5,FALSE)","v":5},{"v":2.5,"d":"2.50"},null,2]
[20804,{"$f":"VLOOKUP(A40,'[1]Sheet1 (3)'!$E$1:$I$65536,5,FALSE)","v":1},{"$f":"VLOOKUP(A40,[3]汇总!$C:$G,5,FALSE)","v":4},{"$f":"VLOOKUP(A40,'[3]汇总 (2)'!$C:$G,5,FALSE)","v":3},{"v":3,"d":"3.00"},null,1]
[20805,{"$f":"VLOOKUP(A41,'[1]Sheet1 (3)'!$E$1:$I$65536,5,FALSE)","v":2},{"$f":"VLOOKUP(A41,[3]汇总!$C:$G,5,FALSE)","v":6},{"$f":"VLOOKUP(A41,'[3]汇总 (2)'!$C:$G,5,FALSE)","v":4},{"v":2,"d":"2.00"},null,2]
[20806,{"$f":"VLOOKUP(A42,'[1]Sheet1 (3)'!$E$1:$I$65536,5,FALSE)","v":1},{"$f":"VLOOKUP(A42,[3]汇总!$C:$G,5,FALSE)","v":3},{"$f":"VLOOKUP(A42,'[3]汇总 (2)'!$C:$G,5,FALSE)","v":3},{"v":3,"d":"3.00"},null,1]
[20807,{"$f":"VLOOKUP(A43,'[1]Sheet1 (3)'!$E$1:$I$65536,5,FALSE)","v":1},{"$f":"VLOOKUP(A43,[3]汇总!$C:$G,5,FALSE)","v":3},{"$f":"VLOOKUP(A43,'[3]汇总 (2)'!$C:$G,5,FALSE)","v":3},{"v":3,"d":"3.00"},null,1]
[20808,{"$f":"VLOOKUP(A44,'[1]Sheet1 (3)'!$E$1:$I$65536,5,FALSE)","v":1},{"$f":"VLOOKUP(A44,[3]汇总!$C:$G,5,FALSE)","v":4},{"$f":"VLOOKUP(A44,'[3]汇总 (2)'!$C:$G,5,FALSE)","v":2},{"v":2,"d":"2.00"},null,1]
[20809,{"$f":"VLOOKUP(A45,'[1]Sheet1 (3)'!$E$1:$I$65536,5,FALSE)","v":1},{"$f":"VLOOKUP(A45,[3]汇总!$C:$G,5,FALSE)","v":3},{"$f":"VLOOKUP(A45,'[3]汇总 (2)'!$C:$G,5,FALSE)","v":3},{"v":3,"d":"3.00"},null,1]
[20810,{"$f":"VLOOKUP(A46,'[1]Sheet1 (3)'!$E$1:$I$65536,5,FALSE)","v":1},{"$f":"VLOOKUP(A46,[3]汇总!$C:$G,5,FALSE)","v":3},{"$f":"VLOOKUP(A46,'[3]汇总 (2)'!$C:$G,5,FALSE)","v":3},{"v":3,"d":"3.00"},null,1]
[20811,{"$f":"VLOOKUP(A47,'[1]Sheet1 (3)'!$E$1:$I$65536,5,FALSE)","v":1},0,0,{"v":0,"d":"0.00"},1,0]
[20812,{"$f":"VLOOKUP(A48,'[1]Sheet1 (3)'!$E$1:$I$65536,5,FALSE)","v":1},{"$f":"VLOOKUP(A48,[3]汇总!$C:$G,5,FALSE)","v":3},{"$f":"VLOOKUP(A48,'[3]汇总 (2)'!$C:$G,5,FALSE)","v":3},{"v":3,"d":"3.00"},null,1]
[20813,{"$f":"VLOOKUP(A49,'[1]Sheet1 (3)'!$E$1:$I$65536,5,FALSE)","v":1},{"$f":"VLOOKUP(A49,[3]汇总!$C:$G,5,FALSE)","v":3},{"$f":"VLOOKUP(A49,'[3]汇总 (2)'!$C:$G,5,FALSE)","v":3},{"v":3,"d":"3.00"},null,1]
[20814,{"$f":"VLOOKUP(A50,'[1]Sheet1 (3)'!$E$1:$I$65536,5,FALSE)","v":2},{"$f":"VLOOKUP(A50,[3]汇总!$C:$G,5,FALSE)","v":7},{"$f":"VLOOKUP(A50,'[3]汇总 (2)'!$C:$G,5,FALSE)","v":4},{"v":2,"d":"2.00"},null,2]
[20815,{"$f":"VLOOKUP(A51,'[1]Sheet1 (3)'!$E$1:$I$65536,5,FALSE)","v":1},{"$f":"VLOOKUP(A51,[3]汇总!$C:$G,5,FALSE)","v":4},{"$f":"VLOOKUP(A51,'[3]汇总 (2)'!$C:$G,5,FALSE)","v":4},{"v":4,"d":"4.00"},null,1]
[20816,{"$f":"VLOOKUP(A52,'[1]Sheet1 (3)'!$E$1:$I$65536,5,FALSE)","v":2},{"$f":"VLOOKUP(A52,[3]汇总!$C:$G,5,FALSE)","v":6},{"$f":"VLOOKUP(A52,'[3]汇总 (2)'!$C:$G,5,FALSE)","v":6},{"v":3,"d":"3.00"},null,2]
[20817,{"$f":"VLOOKUP(A53,'[1]Sheet1 (3)'!$E$1:$I$65536,5,FALSE)","v":1},{"$f":"VLOOKUP(A53,[3]汇总!$C:$G,5,FALSE)","v":3},{"$f":"VLOOKUP(A53,'[3]汇总 (2)'!$C:$G,5,FALSE)","v":3},{"v":3,"d":"3.00"},null,1]
[20818,{"$f":"VLOOKUP(A54,'[1]Sheet1 (3)'!$E$1:$I$65536,5,FALSE)","v":1},{"$f":"VLOOKUP(A54,[3]汇总!$C:$G,5,FALSE)","v":3},{"$f":"VLOOKUP(A54,'[3]汇总 (2)'!$C:$G,5,FALSE)","v":3},{"v":3,"d":"3.00"},null,1]
[20819,{"$f":"VLOOKUP(A55,'[1]Sheet1 (3)'!$E$1:$I$65536,5,FALSE)","v":2},{"$f":"VLOOKUP(A55,[3]汇总!$C:$G,5,FALSE)","v":5},{"$f":"VLOOKUP(A55,'[3]汇总 (2)'!$C:$G,5,FALSE)","v":5},{"v":2.5,"d":"2.50"},null,2]
[20820,{"$f":"VLOOKUP(A56,'[1]Sheet1 (3)'!$E$1:$I$65536,5,FALSE)","v":1},{"$f":"VLOOKUP(A56,[3]汇总!$C:$G,5,FALSE)","v":3},{"$f":"VLOOKUP(A56,'[3]汇总 (2)'!$C:$G,5,FALSE)","v":3},{"v":3,"d":"3.00"},null,1]
[20821,{"$f":"VLOOKUP(A57,'[1]Sheet1 (3)'!$E$1:$I$65536,5,FALSE)","v":1},{"$f":"VLOOKUP(A57,[3]汇总!$C:$G,5,FALSE)","v":4},{"$f":"VLOOKUP(A57,'[3]汇总 (2)'!$C:$G,5,FALSE)","v":4},{"v":4,"d":"4.00"},null,1]
[20822,{"$f":"VLOOKUP(A58,'[1]Sheet1 (3)'!$E$1:$I$65536,5,FALSE)","v":1},{"$f":"VLOOKUP(A58,[3]汇总!$C:$G,5,FALSE)","v":3},{"$f":"VLOOKUP(A58,'[3]汇总 (2)'!$C:$G,5,FALSE)","v":3},{"v":3,"d":"3.00"},null,1]
[20823,{"$f":"VLOOKUP(A59,'[1]Sheet1 (3)'!$E$1:$I$65536,5,FALSE)","v":1},{"$f":"VLOOKUP(A59,[3]汇总!$C:$G,5,FALSE)","v":4},{"$f":"VLOOKUP(A59,'[3]汇总 (2)'!$C:$G,5,FALSE)","v":3},{"v":3,"d":"3.00"},null,1]
[20824,{"$f":"VLOOKUP(A60,'[1]Sheet1 (3)'!$E$1:$I$65536,5,FALSE)","v":1},{"$f":"VLOOKUP(A60,[3]汇总!$C:$G,5,FALSE)","v":4},{"$f":"VLOOKUP(A60,'[3]汇总 (2)'!$C:$G,5,FALSE)","v":2},{"v":2,"d":"2.00"},null,1]
[20825,{"$f":"VLOOKUP(A61,'[1]Sheet1 (3)'!$E$1:$I$65536,5,FALSE)","v":1},{"$f":"VLOOKUP(A61,[3]汇总!$C:$G,5,FALSE)","v":4},{"$f":"VLOOKUP(A61,'[3]汇总 (2)'!$C:$G,5,FALSE)","v":2},{"v":2,"d":"2.00"},null,1]
[20826,{"$f":"VLOOKUP(A62,'[1]Sheet1 (3)'!$E$1:$I$65536,5,FALSE)","v":1},{"$f":"VLOOKUP(A62,[3]汇总!$C:$G,5,FALSE)","v":3},{"$f":"VLOOKUP(A62,'[3]汇总 (2)'!$C:$G,5,FALSE)","v":2},{"v":2,"d":"2.00"},null,1]
[20827,{"$f":"VLOOKUP(A63,'[1]Sheet1 (3)'!$E$1:$I$65536,5,FALSE)","v":1},{"$f":"VLOOKUP(A63,[3]汇总!$C:$G,5,FALSE)","v":3},{"$f":"VLOOKUP(A63,'[3]汇总 (2)'!$C:$G,5,FALSE)","v":3},{"v":3,"d":"3.00"},null,1]
[20828,{"$f":"VLOOKUP(A64,'[1]Sheet1 (3)'!$E$1:$I$65536,5,FALSE)","v":1},{"$f":"VLOOKUP(A64,[3]汇总!$C:$G,5,FALSE)","v":3},{"$f":"VLOOKUP(A64,'[3]汇总 (2)'!$C:$G,5,FALSE)","v":3},{"v":3,"d":"3.00"},null,1]
[20829,{"$f":"VLOOKUP(A65,'[1]Sheet1 (3)'!$E$1:$I$65536,5,FALSE)","v":1},{"$f":"VLOOKUP(A65,[3]汇总!$C:$G,5,FALSE)","v":4},{"$f":"VLOOKUP(A65,'[3]汇总 (2)'!$C:$G,5,FALSE)","v":3},{"v":3,"d":"3.00"},null,1]
[20831,{"$f":"VLOOKUP(A66,'[1]Sheet1 (3)'!$E$1:$I$65536,5,FALSE)","v":1},{"$f":"VLOOKUP(A66,[3]汇总!$C:$G,5,FALSE)","v":3},{"$f":"VLOOKUP(A66,'[3]汇总 (2)'!$C:$G,5,FALSE)","v":3},{"v":3,"d":"3.00"},null,1]
[20832,{"$f":"VLOOKUP(A67,'[1]Sheet1 (3)'!$E$1:$I$65536,5,FALSE)","v":1},{"$f":"VLOOKUP(A67,[3]汇总!$C:$G,5,FALSE)","v":3},{"$f":"VLOOKUP(A67,'[3]汇总 (2)'!$C:$G,5,FALSE)","v":3},{"v":3,"d":"3.00"},null,1]
[20833,{"$f":"VLOOKUP(A68,'[1]Sheet1 (3)'!$E$1:$I$65536,5,FALSE)","v":1},{"$f":"VLOOKUP(A68,[3]汇总!$C:$G,5,FALSE)","v":3},{"$f":"VLOOKUP(A68,'[3]汇总 (2)'!$C:$G,5,FALSE)","v":3},{"v":3,"d":"3.00"},null,1]
[20834,{"$f":"VLOOKUP(A69,'[1]Sheet1 (3)'!$E$1:$I$65536,5,FALSE)","v":1},{"$f":"VLOOKUP(A69,[3]汇总!$C:$G,5,FALSE)","v":3},{"$f":"VLOOKUP(A69,'[3]汇总 (2)'!$C:$G,5,FALSE)","v":3},{"$f":"D69/B69","v":{"v":3,"d":"3.00"}},null,1]
[20835,{"$f":"VLOOKUP(A70,'[1]Sheet1 (3)'!$E$1:$I$65536,5,FALSE)","v":1},{"$f":"VLOOKUP(A70,[3]汇总!$C:$G,5,FALSE)","v":3},{"$f":"VLOOKUP(A70,'[3]汇总 (2)'!$C:$G,5,FALSE)","v":3},{"v":3,"d":"3.00"},null,1]
[20836,{"$f":"VLOOKUP(A71,'[1]Sheet1 (3)'!$E$1:$I$65536,5,FALSE)","v":1},{"$f":"VLOOKUP(A71,[3]汇总!$C:$G,5,FALSE)","v":3},{"$f":"VLOOKUP(A71,'[3]汇总 (2)'!$C:$G,5,FALSE)","v":2},{"v":2,"d":"2.00"},null,1]
[30101,{"$f":"VLOOKUP(A72,'[1]Sheet1 (3)'!$E$1:$I$65536,5,FALSE)","v":1},{"$f":"VLOOKUP(A72,[3]汇总!$C:$G,5,FALSE)","v":3},{"$f":"VLOOKUP(A72,'[3]汇总 (2)'!$C:$G,5,FALSE)","v":3},{"v":3,"d":"3.00"},null,1]
[30201,{"$f":"VLOOKUP(A73,'[1]Sheet1 (3)'!$E$1:$I$65536,5,FALSE)","v":1},{"$f":"VLOOKUP(A73,[3]汇总!$C:$G,5,FALSE)","v":3},{"$f":"VLOOKUP(A73,'[3]汇总 (2)'!$C:$G,5,FALSE)","v":3},{"v":3,"d":"3.00"},null,1]
[30301,{"$f":"VLOOKUP(A74,'[1]Sheet1 (3)'!$E$1:$I$65536,5,FALSE)","v":2},{"$f":"VLOOKUP(A74,[3]汇总!$C:$G,5,FALSE)","v":7},{"$f":"VLOOKUP(A74,'[3]汇总 (2)'!$C:$G,5,FALSE)","v":5},{"v":2.5,"d":"2.50"},null,2]
[30302,{"$f":"VLOOKUP(A75,'[1]Sheet1 (3)'!$E$1:$I$65536,5,FALSE)","v":1},{"$f":"VLOOKUP(A75,[3]汇总!$C:$G,5,FALSE)","v":3},{"$f":"VLOOKUP(A75,'[3]汇总 (2)'!$C:$G,5,FALSE)","v":3},{"v":3,"d":"3.00"},null,1]
[30401,{"$f":"VLOOKUP(A76,'[1]Sheet1 (3)'!$E$1:$I$65536,5,FALSE)","v":1},{"$f":"VLOOKUP(A76,[3]汇总!$C:$G,5,FALSE)","v":4},{"$f":"VLOOKUP(A76,'[3]汇总 (2)'!$C:$G,5,FALSE)","v":2},{"v":2,"d":"2.00"},null,1]
[30501,{"$f":"VLOOKUP(A77,'[1]Sheet1 (3)'!$E$1:$I$65536,5,FALSE)","v":1},{"$f":"VLOOKUP(A77,[3]汇总!$C:$G,5,FALSE)","v":4},{"$f":"VLOOKUP(A77,'[3]汇总 (2)'!$C:$G,5,FALSE)","v":3},{"v":3,"d":"3.00"},null,1]
[30601,{"$f":"VLOOKUP(A78,'[1]Sheet1 (3)'!$E$1:$I$65536,5,FALSE)","v":1},{"$f":"VLOOKUP(A78,[3]汇总!$C:$G,5,FALSE)","v":3},{"$f":"VLOOKUP(A78,'[3]汇总 (2)'!$C:$G,5,FALSE)","v":3},{"v":3,"d":"3.00"},null,1]
[30701,1,{"$f":"VLOOKUP(A79,[3]汇总!$C:$G,5,FALSE)","v":3},{"$f":"VLOOKUP(A79,'[3]汇总 (2)'!$C:$G,5,FALSE)","v":1},{"v":1,"d":"1.00"},null,1]
[30702,{"$f":"VLOOKUP(A80,'[1]Sheet1 (3)'!$E$1:$I$65536,5,FALSE)","v":2},{"$f":"VLOOKUP(A80,[3]汇总!$C:$G,5,FALSE)","v":6},{"$f":"VLOOKUP(A80,'[3]汇总 (2)'!$C:$G,5,FALSE)","v":6},{"v":3,"d":"3.00"},null,2]
[30703,{"$f":"VLOOKUP(A81,'[1]Sheet1 (3)'!$E$1:$I$65536,5,FALSE)","v":2},{"$f":"VLOOKUP(A81,[3]汇总!$C:$G,5,FALSE)","v":7},{"$f":"VLOOKUP(A81,'[3]汇总 (2)'!$C:$G,5,FALSE)","v":7},{"v":3.5,"d":"3.50"},null,2]
[30704,{"$f":"VLOOKUP(A82,'[1]Sheet1 (3)'!$E$1:$I$65536,5,FALSE)","v":2},{"$f":"VLOOKUP(A82,[3]汇总!$C:$G,5,FALSE)","v":6},{"$f":"VLOOKUP(A82,'[3]汇总 (2)'!$C:$G,5,FALSE)","v":5},{"v":2.5,"d":"2.50"},null,2]
[30705,{"$f":"VLOOKUP(A83,'[1]Sheet1 (3)'!$E$1:$I$65536,5,FALSE)","v":2},{"$f":"VLOOKUP(A83,[3]汇总!$C:$G,5,FALSE)","v":6},{"$f":"VLOOKUP(A83,'[3]汇总 (2)'!$C:$G,5,FALSE)","v":5},{"v":2.5,"d":"2.50"},null,2]
[30706,{"$f":"VLOOKUP(A84,'[1]Sheet1 (3)'!$E$1:$I$65536,5,FALSE)","v":4},{"$f":"VLOOKUP(A84,[3]汇总!$C:$G,5,FALSE)","v":17},{"$f":"VLOOKUP(A84,'[3]汇总 (2)'!$C:$G,5,FALSE)","v":13},3.25,null,4]
[40101,{"$f":"VLOOKUP(A85,'[2]Sheet1 (3)'!$G$1:$J$65536,4,FALSE)","v":10},{"$f":"VLOOKUP(A85,[3]汇总!$C:$G,5,FALSE)","v":9},{"$f":"VLOOKUP(A85,'[3]汇总 (2)'!$C:$G,5,FALSE)","v":6},{"v":0.6,"d":"0.60"},4,6]
[40102,{"$f":"VLOOKUP(A86,'[2]Sheet1 (3)'!$G$1:$J$65536,4,FALSE)","v":10},{"$f":"VLOOKUP(A86,[3]汇总!$C:$G,5,FALSE)","v":15},{"$f":"VLOOKUP(A86,'[3]汇总 (2)'!$C:$G,5,FALSE)","v":12},{"v":1.2,"d":"1.20"},null,10]
[40103,{"$f":"VLOOKUP(A87,'[2]Sheet1 (3)'!$G$1:$J$65536,4,FALSE)","v":3},{"$f":"VLOOKUP(A87,[3]汇总!$C:$G,5,FALSE)","v":3},{"$f":"VLOOKUP(A87,'[3]汇总 (2)'!$C:$G,5,FALSE)","v":3},{"v":1,"d":"1.00"},null,3]
[40104,{"$f":"VLOOKUP(A88,'[2]Sheet1 (3)'!$G$1:$J$65536,4,FALSE)","v":10},{"$f":"VLOOKUP(A88,[3]汇总!$C:$G,5,FALSE)","v":10},{"$f":"VLOOKUP(A88,'[3]汇总 (2)'!$C:$G,5,FALSE)","v":7},{"v":0.7,"d":"0.70"},3,7]
[40105,{"$f":"VLOOKUP(A89,'[2]Sheet1 (3)'!$G$1:$J$65536,4,FALSE)","v":10},{"$f":"VLOOKUP(A89,[3]汇总!$C:$G,5,FALSE)","v":10},{"$f":"VLOOKUP(A89,'[3]汇总 (2)'!$C:$G,5,FALSE)","v":10},{"v":1,"d":"1.00"},null,10]
[40106,{"$f":"VLOOKUP(A90,'[2]Sheet1 (3)'!$G$1:$J$65536,4,FALSE)","v":4},{"$f":"VLOOKUP(A90,[3]汇总!$C:$G,5,FALSE)","v":4},{"$f":"VLOOKUP(A90,'[3]汇总 (2)'!$C:$G,5,FALSE)","v":3},0.75,1,3]
[40107,{"$f":"VLOOKUP(A91,'[2]Sheet1 (3)'!$G$1:$J$65536,4,FALSE)","v":4},{"$f":"VLOOKUP(A91,[3]汇总!$C:$G,5,FALSE)","v":16},{"$f":"VLOOKUP(A91,'[3]汇总 (2)'!$C:$G,5,FALSE)","v":11},2.75,null,4]
[40108,{"$f":"VLOOKUP(A92,'[2]Sheet1 (3)'!$G$1:$J$65536,4,FALSE)","v":1},{"$f":"VLOOKUP(A92,[3]汇总!$C:$G,5,FALSE)","v":1},{"$f":"VLOOKUP(A92,'[3]汇总 (2)'!$C:$G,5,FALSE)","v":1},{"v":1,"d":"1.00"},null,1]
[40109,{"$f":"VLOOKUP(A93,'[2]Sheet1 (3)'!$G$1:$J$65536,4,FALSE)","v":2},{"$f":"VLOOKUP(A93,[3]汇总!$C:$G,5,FALSE)","v":1},{"$f":"VLOOKUP(A93,'[3]汇总 (2)'!$C:$G,5,FALSE)","v":1},{"v":0.5,"d":"0.50"},1,1]
[40110,{"$f":"VLOOKUP(A94,'[2]Sheet1 (3)'!$G$1:$J$65536,4,FALSE)","v":5},{"$f":"VLOOKUP(A94,[3]汇总!$C:$G,5,FALSE)","v":4},{"$f":"VLOOKUP(A94,'[3]汇总 (2)'!$C:$G,5,FALSE)","v":2},{"v":0.4,"d":"0.40"},3,2]
[40111,{"$f":"VLOOKUP(A95,'[2]Sheet1 (3)'!$G$1:$J$65536,4,FALSE)","v":5},{"$f":"VLOOKUP(A95,[3]汇总!$C:$G,5,FALSE)","v":4},{"$f":"VLOOKUP(A95,'[3]汇总 (2)'!$C:$G,5,FALSE)","v":4},{"v":0.8,"d":"0.80"},1,4]
[40112,{"$f":"VLOOKUP(A96,'[2]Sheet1 (3)'!$G$1:$J$65536,4,FALSE)","v":3},{"$f":"VLOOKUP(A96,[3]汇总!$C:$G,5,FALSE)","v":4},{"$f":"VLOOKUP(A96,'[3]汇总 (2)'!$C:$G,5,FALSE)","v":2},{"v":0.666666666666667,"d":"0.67"},1,2]
[40113,{"$f":"VLOOKUP(A97,'[2]Sheet1 (3)'!$G$1:$J$65536,4,FALSE)","v":6},{"$f":"VLOOKUP(A97,[3]汇总!$C:$G,5,FALSE)","v":25},{"$f":"VLOOKUP(A97,'[3]汇总 (2)'!$C:$G,5,FALSE)","v":16},{"v":2.66666666666667,"d":"2.67"},null,6]
[40114,{"$f":"VLOOKUP(A98,'[2]Sheet1 (3)'!$G$1:$J$65536,4,FALSE)","v":1},{"$f":"VLOOKUP(A98,[3]汇总!$C:$G,5,FALSE)","v":3},{"$f":"VLOOKUP(A98,'[3]汇总 (2)'!$C:$G,5,FALSE)","v":3},{"v":3,"d":"3.00"},null,1]
[40115,{"$f":"VLOOKUP(A99,'[2]Sheet1 (3)'!$G$1:$J$65536,4,FALSE)","v":1},{"$f":"VLOOKUP(A99,[3]汇总!$C:$G,5,FALSE)","v":4},{"$f":"VLOOKUP(A99,'[3]汇总 (2)'!$C:$G,5,FALSE)","v":3},{"v":3,"d":"3.00"},null,1]
[40116,{"$f":"VLOOKUP(A100,'[2]Sheet1 (3)'!$G$1:$J$65536,4,FALSE)","v":5},{"$f":"VLOOKUP(A100,[3]汇总!$C:$G,5,FALSE)","v":16},{"$f":"VLOOKUP(A100,'[3]汇总 (2)'!$C:$G,5,FALSE)","v":15},{"v":3,"d":"3.00"},null,5]
[40117,{"$f":"VLOOKUP(A101,'[2]Sheet1 (3)'!$G$1:$J$65536,4,FALSE)","v":5},{"$f":"VLOOKUP(A101,[3]汇总!$C:$G,5,FALSE)","v":5},{"$f":"VLOOKUP(A101,'[3]汇总 (2)'!$C:$G,5,FALSE)","v":4},{"$f":"D101/B101","v":{"v":0.8,"d":"0.80"}},1,4]
[40118,{"$f":"VLOOKUP(A102,'[2]Sheet1 (3)'!$G$1:$J$65536,4,FALSE)","v":10},{"$f":"VLOOKUP(A102,[3]汇总!$C:$G,5,FALSE)","v":24},{"$f":"VLOOKUP(A102,'[3]汇总 (2)'!$C:$G,5,FALSE)","v":21},{"v":2.1,"d":"2.10"},null,10]
[40119,{"$f":"VLOOKUP(A103,'[2]Sheet1 (3)'!$G$1:$J$65536,4,FALSE)","v":10},{"$f":"VLOOKUP(A103,[3]汇总!$C:$G,5,FALSE)","v":36},{"$f":"VLOOKUP(A103,'[3]汇总 (2)'!$C:$G,5,FALSE)","v":30},{"v":3,"d":"3.00"},null,10]
[40120,{"$f":"VLOOKUP(A104,'[2]Sheet1 (3)'!$G$1:$J$65536,4,FALSE)","v":10},{"$f":"VLOOKUP(A104,[3]汇总!$C:$G,5,FALSE)","v":39},{"$f":"VLOOKUP(A104,'[3]汇总 (2)'!$C:$G,5,FALSE)","v":33},{"v":3.3,"d":"3.30"},null,10]
[40121,{"$f":"VLOOKUP(A105,'[2]Sheet1 (3)'!$G$1:$J$65536,4,FALSE)","v":10},{"$f":"VLOOKUP(A105,[3]汇总!$C:$G,5,FALSE)","v":24},{"$f":"VLOOKUP(A105,'[3]汇总 (2)'!$C:$G,5,FALSE)","v":18},{"v":1.8,"d":"1.80"},null,10]
[40122,{"$f":"VLOOKUP(A106,'[2]Sheet1 (3)'!$G$1:$J$65536,4,FALSE)","v":2},{"$f":"VLOOKUP(A106,[3]汇总!$C:$G,5,FALSE)","v":6},{"$f":"VLOOKUP(A106,'[3]汇总 (2)'!$C:$G,5,FALSE)","v":6},{"v":3,"d":"3.00"},null,2]
[40123,{"$f":"VLOOKUP(A107,'[2]Sheet1 (3)'!$G$1:$J$65536,4,FALSE)","v":1},{"$f":"VLOOKUP(A107,[3]汇总!$C:$G,5,FALSE)","v":4},{"$f":"VLOOKUP(A107,'[3]汇总 (2)'!$C:$G,5,FALSE)","v":3},{"v":3,"d":"3.00"},null,1]
[40124,{"$f":"VLOOKUP(A108,'[2]Sheet1 (3)'!$G$1:$J$65536,4,FALSE)","v":1},{"$f":"VLOOKUP(A108,[3]汇总!$C:$G,5,FALSE)","v":3},{"$f":"VLOOKUP(A108,'[3]汇总 (2)'!$C:$G,5,FALSE)","v":3},{"v":3,"d":"3.00"},null,1]
[40125,{"$f":"VLOOKUP(A109,'[2]Sheet1 (3)'!$G$1:$J$65536,4,FALSE)","v":1},{"$f":"VLOOKUP(A109,[3]汇总!$C:$G,5,FALSE)","v":4},{"$f":"VLOOKUP(A109,'[3]汇总 (2)'!$C:$G,5,FALSE)","v":4},{"v":4,"d":"4.00"},null,1]
[40126,{"$f":"VLOOKUP(A110,'[2]Sheet1 (3)'!$G$1:$J$65536,4,FALSE)","v":7},{"$f":"VLOOKUP(A110,[3]汇总!$C:$G,5,FALSE)","v":7},{"$f":"VLOOKUP(A110,'[3]汇总 (2)'!$C:$G,5,FALSE)","v":7},{"v":1,"d":"1.00"},null,7]
[40127,{"$f":"VLOOKUP(A111,'[2]Sheet1 (3)'!$G$1:$J$65536,4,FALSE)","v":4},{"$f":"VLOOKUP(A111,[3]汇总!$C:$G,5,FALSE)","v":4},{"$f":"VLOOKUP(A111,'[3]汇总 (2)'!$C:$G,5,FALSE)","v":3},0.75,1,3]
[40128,{"$f":"VLOOKUP(A112,'[2]Sheet1 (3)'!$G$1:$J$65536,4,FALSE)","v":4},{"$f":"VLOOKUP(A112,[3]汇总!$C:$G,5,FALSE)","v":5},{"$f":"VLOOKUP(A112,'[3]汇总 (2)'!$C:$G,5,FALSE)","v":5},1.25,null,4]
[40129,{"$f":"VLOOKUP(A113,'[2]Sheet1 (3)'!$G$1:$J$65536,4,FALSE)","v":9},{"$f":"VLOOKUP(A113,[3]汇总!$C:$G,5,FALSE)","v":17},{"$f":"VLOOKUP(A113,'[3]汇总 (2)'!$C:$G,5,FALSE)","v":13},{"v":1.44444444444444,"d":"1.44"},null,9]
[40131,{"$f":"VLOOKUP(A114,'[2]Sheet1 (3)'!$G$1:$J$65536,4,FALSE)","v":10},{"$f":"VLOOKUP(A114,[3]汇总!$C:$G,5,FALSE)","v":11},{"$f":"VLOOKUP(A114,'[3]汇总 (2)'!$C:$G,5,FALSE)","v":7},{"v":0.7,"d":"0.70"},3,7]
[40132,{"$f":"VLOOKUP(A115,'[2]Sheet1 (3)'!$G$1:$J$65536,4,FALSE)","v":3},{"$f":"VLOOKUP(A115,[3]汇总!$C:$G,5,FALSE)","v":3},{"$f":"VLOOKUP(A115,'[3]汇总 (2)'!$C:$G,5,FALSE)","v":3},{"v":1,"d":"1.00"},null,3]
[40133,{"$f":"VLOOKUP(A116,'[2]Sheet1 (3)'!$G$1:$J$65536,4,FALSE)","v":10},{"$f":"VLOOKUP(A116,[3]汇总!$C:$G,5,FALSE)","v":30},{"$f":"VLOOKUP(A116,'[3]汇总 (2)'!$C:$G,5,FALSE)","v":30},{"v":3,"d":"3.00"},null,10]
[40134,{"$f":"VLOOKUP(A117,'[2]Sheet1 (3)'!$G$1:$J$65536,4,FALSE)","v":3},{"$f":"VLOOKUP(A117,[3]汇总!$C:$G,5,FALSE)","v":4},{"$f":"VLOOKUP(A117,'[3]汇总 (2)'!$C:$G,5,FALSE)","v":4},{"v":1.33333333333333,"d":"1.33"},null,3]
[40136,{"$f":"VLOOKUP(A118,'[2]Sheet1 (3)'!$G$1:$J$65536,4,FALSE)","v":1},{"$f":"VLOOKUP(A118,[3]汇总!$C:$G,5,FALSE)","v":4},{"$f":"VLOOKUP(A118,'[3]汇总 (2)'!$C:$G,5,FALSE)","v":3},{"v":3,"d":"3.00"},null,1]
[40137,{"$f":"VLOOKUP(A119,'[2]Sheet1 (3)'!$G$1:$J$65536,4,FALSE)","v":1},{"$f":"VLOOKUP(A119,[3]汇总!$C:$G,5,FALSE)","v":3},{"$f":"VLOOKUP(A119,'[3]汇总 (2)'!$C:$G,5,FALSE)","v":3},{"v":3,"d":"3.00"},null,1]
[40138,{"$f":"VLOOKUP(A120,'[2]Sheet1 (3)'!$G$1:$J$65536,4,FALSE)","v":1},{"$f":"VLOOKUP(A120,[3]汇总!$C:$G,5,FALSE)","v":1},{"$f":"VLOOKUP(A120,'[3]汇总 (2)'!$C:$G,5,FALSE)","v":1},{"v":1,"d":"1.00"},null,1]
[40139,{"$f":"VLOOKUP(A121,'[2]Sheet1 (3)'!$G$1:$J$65536,4,FALSE)","v":2},{"$f":"VLOOKUP(A121,[3]汇总!$C:$G,5,FALSE)","v":8},{"$f":"VLOOKUP(A121,'[3]汇总 (2)'!$C:$G,5,FALSE)","v":5},{"v":2.5,"d":"2.50"},null,2]
[40140,{"$f":"VLOOKUP(A122,'[2]Sheet1 (3)'!$G$1:$J$65536,4,FALSE)","v":1},{"$f":"VLOOKUP(A122,[3]汇总!$C:$G,5,FALSE)","v":3},{"$f":"VLOOKUP(A122,'[3]汇总 (2)'!$C:$G,5,FALSE)","v":3},{"v":3,"d":"3.00"},null,1]
[40141,{"$f":"VLOOKUP(A123,'[2]Sheet1 (3)'!$G$1:$J$65536,4,FALSE)","v":1},{"$f":"VLOOKUP(A123,[3]汇总!$C:$G,5,FALSE)","v":4},{"$f":"VLOOKUP(A123,'[3]汇总 (2)'!$C:$G,5,FALSE)","v":3},{"v":3,"d":"3.00"},null,1]
[40142,{"$f":"VLOOKUP(A124,'[2]Sheet1 (3)'!$G$1:$J$65536,4,FALSE)","v":1},{"$f":"VLOOKUP(A124,[3]汇总!$C:$G,5,FALSE)","v":3},{"$f":"VLOOKUP(A124,'[3]汇总 (2)'!$C:$G,5,FALSE)","v":3},{"v":3,"d":"3.00"},null,1]
[40143,{"$f":"VLOOKUP(A125,'[2]Sheet1 (3)'!$G$1:$J$65536,4,FALSE)","v":1},{"$f":"VLOOKUP(A125,[3]汇总!$C:$G,5,FALSE)","v":4},{"$f":"VLOOKUP(A125,'[3]汇总 (2)'!$C:$G,5,FALSE)","v":3},{"v":3,"d":"3.00"},null,1]
["合计",379,1063,863,null,20,{"$f":"SUM(G4:G125)","v":359}]